{"text_format":"1","workbook":"xlsx","n_sheets":16,"sheets":["a_Contents","b_Guidelines and conditions","A_Operator&Inst.ID","B_InstallationDescription","C_SourceStreams","D_MeasurementBasedApproaches","E_Fall-backApproach","F_PFC","G_DataGaps","H_AdditionalInformation","I_Summary","J_Accounting","EUwideConstants","MSParameters","Translations","VersionDocumentation"],"not_rendered":{"charts":0,"images":0,"macros":0,"external_links":0,"defined_names":228,"comments":4,"pivot_tables":0},"unopened":[],"bounds":{"document_bytes":16777216,"sheet_cells":100000,"rows_first":2000,"rows_last":500,"rows_between":2000,"halvings":0,"cell_chars":16384,"cell_head_chars":4096},"cells_cut":0,"cells_raw":0,"read":"whole","date_system":"1900"}

{"sheet":"a_Contents","index":0,"n_rows":64,"n_cols":6,"rows_kept":64,"cut":false,"hidden":false,"merged":[[55,5,55,8],[40,1,40,8],[30,1,30,8],[13,2,13,8],[14,2,14,8],[32,1,32,8],[29,2,29,8],[38,1,38,8],[35,2,35,8],[36,2,36,8],[25,2,25,8],[26,1,26,8],[28,1,28,8],[33,2,33,8],[9,1,9,8],[22,1,22,8],[24,1,24,8],[10,2,10,8],[11,2,11,8],[21,2,21,8],[23,2,23,8],[12,2,12,8],[15,2,15,8],[19,2,19,8],[6,1,6,8],[7,1,7,8],[63,1,63,4],[47,1,48,8],[55,1,55,3],[60,1,60,4],[61,1,61,4],[62,1,62,4],[54,1,54,3],[8,1,8,8],[17,2,17,8],[18,2,18,8],[20,2,20,8],[16,1,16,8],[34,2,34,8],[27,2,27,8]]}
[null,{"$f":"Translations!$B$490","v":"METINIŲ IŠMETAMŲJŲ ŠESD KIEKIO ATASKAITŲ TEIKIMAS"}]
[]
[null,{"$f":"Translations!$B$24","v":"Turinys"}]
[]
[null,{"$f":"Translations!$B$2","v":"Lapų pavadinimai yra pusjuodžiu, o skirsnių pavadinimai – įprastu šriftu."}]
[]
[null,{"$f":"Translations!$B$3","v":"a_Contents"}]
[null,{"$f":"Translations!$B$4","v":"b_Guidelines and conditions"}]
[]
[null,{"$f":"Translations!$B$491","v":"A. Veiklos vykdytojų ir įrenginių tapatybė"}]
[null,null,{"$f":"Translations!$B$492","v":"Ataskaitiniai metai"}]
[null,null,{"$f":"Translations!$B$493","v":"Informacija apie veiklos vykdytoją"}]
[null,null,{"$f":"Translations!$B$494","v":"Informacija apie įrenginį"}]
[null,null,{"$f":"Translations!$B$6","v":"Kontaktiniai duomenys "}]
[null,null,{"$f":"Translations!$B$495","v":"Vertintojo kontaktiniai duomenys"}]
[]
[null,{"$f":"Translations!$B$496","v":"B. Įrenginio aprašas"}]
[null,null,{"$f":"Translations!$B$497","v":"I priede nurodyta veikla"}]
[null,null,{"$f":"Translations!$B$96","v":"Stebėsenos metodai"}]
[null,null,{"$f":"Translations!$B$98","v":"Sukėlikliai"}]
[null,null,{"$f":"Translations!$B$97","v":"Matavimo taškai"}]
[]
[null,{"$f":"Translations!$B$498","v":"C. Sukėlikliai"}]
[]
[null,{"$f":"Translations!$B$499","v":"D. Matavimu grindžiami metodai"}]
[]
[null,{"$f":"Translations!$B$500","v":"E. Alternatyvus metodas"}]
[]
[null,{"$f":"Translations!$B$501","v":"F. Gaminant pirminį aliuminį išmetamo PFC kiekio nustatymas"}]
[]
[null,{"$f":"Translations!$B$502","v":"G. Duomenų spragos"}]
[]
[null,{"$f":"Translations!$B$503","v":"H. Papildoma informacija"}]
[null,null,{"$f":"Translations!$B$504","v":"Išsami informacija apie gamybą"}]
[null,null,{"$f":"Translations!$B$505","v":"Apibrėžtys ir santrumpos"}]
[null,null,{"$f":"Translations!$B$10","v":"Papildoma informacija"}]
[null,null,{"$f":"Translations!$B$11","v":"Pastabos"}]
[]
[null,{"$f":"Translations!$B$506","v":"I. Santrauka"}]
[]
[null,{"$f":"Translations!$B$507","v":"J. Apskaita"}]
[]
[null,{"$f":"Translations!$B$12","v":"Informacija apie šią rinkmeną"}]
[null,{"$f":"Translations!$B$508","v":"Šią metinę išmetamųjų ŠESD kiekio ataskaitą pateikė:"},null,null,null,{"$f":"IF(ISBLANK('A_Operator&Inst.ID'!$I$26),\"\",'A_Operator&Inst.ID'!$I$26)","v":"UAB “UTENOS ŠILUMOS TINKLAI”"}]
[null,{"$f":"Translations!$B$13","v":"Įrenginio pavadinimas"},null,null,null,{"$f":"IF(ISBLANK('A_Operator&Inst.ID'!$I$43),\"\",'A_Operator&Inst.ID'!$I$43)","v":"Utenos rajoninė katilinė"}]
[null,{"$f":"Translations!$B$14","v":"Unikalus įrenginio kodas"},null,null,null,{"$f":"IF(ISBLANK('A_Operator&Inst.ID'!$I$45),\"\",'A_Operator&Inst.ID'!$I$45)","v":"LT000000000000057"}]
[]
[null,{"$f":"Translations!$B$509","v":"Jeigu Jūsų kompetentinga institucija reikalauja, kad Jūs pateiktumėte pasirašytą popierinę metinės išmetamųjų ŠESD kiekio ataskaitos kopiją, ją pasirašykite žemiau paliktoje vietoje:"}]
[]
[]
[]
[]
[]
[]
[]
[null,{"$f":"Translations!$B$15","v":"Data"},null,null,null,{"$f":"Translations!$B$16","v":"Teisiškai atsakingo asmens asmenvardis ir parašas"}]
[]
[]
[]
[null,{"$f":"Translations!$B$17","v":"Informacija apie šablono versiją"}]
[null,{"$f":"Translations!$B$18","v":"Šabloną pateikė"},null,null,null,{"$f":"VersionDocumentation!B4","v":"European Commission"}]
[null,{"$f":"Translations!$B$19","v":"Paskelbimo data"},null,null,null,{"$f":"VersionDocumentation!B3","v":"2013-10-09"}]
[null,{"$f":"Translations!$B$20","v":"Kalba"},null,null,null,{"$f":"VersionDocumentation!B5","v":"Lithuanian"}]
[null,{"$f":"Translations!$B$21","v":"Failo pavadinimas"},null,null,null,{"$f":"VersionDocumentation!C3","v":"P3 Inst AER_COM_lt_091013.xls"}]

{"sheet":"b_Guidelines and conditions","index":1,"n_rows":113,"n_cols":9,"rows_kept":113,"cut":false,"hidden":false,"merged":[[109,1,109,11],[101,1,101,11],[102,1,102,11],[103,1,103,11],[104,1,104,11],[107,1,107,11],[108,1,108,11],[105,1,105,11],[81,1,81,11],[106,1,106,11],[98,1,98,11],[99,1,99,11],[100,1,100,11],[87,1,87,11],[95,1,95,11],[96,1,96,11],[97,1,97,11],[93,1,93,11],[94,1,94,11],[83,1,83,11],[82,1,82,10],[92,1,92,11],[88,1,88,11],[91,1,91,11],[90,1,90,11],[89,1,89,11],[85,1,85,11],[75,4,75,11],[78,1,78,11],[79,1,79,11],[75,2,75,3],[76,2,76,3],[76,4,76,11],[71,2,71,3],[71,4,71,11],[74,2,74,3],[74,4,74,11],[80,1,80,11],[67,1,67,11],[57,1,57,11],[59,1,59,11],[60,1,60,11],[62,1,62,11],[69,4,69,11],[70,2,70,3],[73,4,73,11],[64,1,64,11],[68,1,68,11],[69,2,69,3],[70,4,70,11],[72,2,72,3],[72,4,72,11],[73,2,73,3],[46,1,46,11],[56,1,56,11],[65,1,65,11],[47,1,47,11],[49,1,49,11],[51,3,51,8],[54,3,54,8],[52,3,52,8],[66,1,66,11],[20,1,20,11],[27,2,27,11],[28,2,28,11],[23,1,23,11],[37,4,44,7],[35,1,35,11],[33,1,33,11],[6,1,6,11],[9,2,9,11],[10,2,10,11],[25,1,25,11],[26,1,26,11],[21,1,21,11],[22,1,22,11],[0,0,2,1],[2,8,2,9],[2,10,2,11],[2,4,2,5],[2,6,2,7],[2,2,2,3],[1,10,1,11],[0,2,0,3],[112,3,112,9],[0,8,0,9],[0,10,0,11],[1,2,1,3],[1,4,1,5],[1,6,1,7],[1,8,1,9],[0,4,0,5],[0,6,0,7],[4,1,4,9],[32,1,32,11],[30,1,30,11],[31,1,31,11],[24,1,24,11],[17,1,17,11],[18,1,18,11],[5,1,5,11],[12,1,12,11],[19,1,19,11],[11,1,11,11],[16,1,16,11],[13,1,13,11],[15,1,15,11],[8,2,8,11],[7,2,7,11]]}
[{"$f":"Translations!$B$22","v":"b.\nGuide-lines"},null,{"$f":"Translations!$B$23","v":"Naršymo laukas"},null,{"$f":"Translations!$B$24","v":"Turinys"},null,{"$f":"Translations!$B$25","v":"Ankstesnis lapas"},null,{"$f":"Translations!$B$26","v":"Kitas lapas"}]
[null,null,{"$f":"Translations!$B$27","v":"Lapo viršus"}]
[null,null,{"$f":"Translations!$B$28","v":"Lapo galas"}]
[]
[null,{"$f":"Translations!$B$29","v":"GAIRĖS IR SĄLYGOS"}]
[]
[1,{"$f":"Translations!$B$38","v":"Prieš pradėdami naudotis šiuo failu, atlikite tokius veiksmus:"}]
[null,"(a)",{"$f":"Translations!$B$39","v":"Atidžiai perskaitykite šablono pildymo instrukcijas."}]
[null,"(b)",{"$f":"Translations!$B$40","v":"Išsiaiškinkite, kuri kompetentinga institucija (KI) yra atsakinga už jūsų įrenginį toje valstybėje narėje, kur yra jūsų įrenginys (vienoje valstybėje narėje gali būti daugiau negu viena KI). Atkreipkite dėmesį, kad „valstybė narė“ čia reiškia visas ATLPS valstybes, ne tik ES valstybes nares."}]
[null,"(c)",{"$f":"Translations!$B$41","v":"Patikrinkite KI tinklalapyje arba tiesiogiai susisiekite su KI ir sužinokite, ar turite reikiamą šablono versiją. Šablono versija (ypač failo pavadinimas) yra aiškiai nurodyta šio failo tituliniame puslapyje."}]
[null,"(d)",{"$f":"Translations!$B$42","v":"Kai kurios valstybės narės gali reikalauti, kad naudotumėte kitą sistemą, pavyzdžiui, internete esančias formas, o ne elektronines lenteles. Pasitikrinkite, kokius reikalavimus kelia jūsų valstybė narė. Apie tai išsamesnės informacijos jums suteiks KI."}]
[2,{"$f":"Translations!$B$510","v":"Direktyvoje 2003/87/EB (ATLPS direktyva) reikalaujama, kad įrenginių, įtrauktų į Sąjungos šiltnamio efektą sukeliančių dujų apyvartinių taršos leidimų prekybos sistemą (ES ŠESD ATLPS), veiklos vykdytojai turėtų galiojantį atitinkamos kompetentingos institucijos išduotą leidimą išmesti ŠESD, stebėtų savo išmetamą ŠESD kiekį ir teiktų apie jį ataskaitas, kurios turėtų būti patikrintos pagal ES ATLPS direktyvos 15 straipsnį ir tame straipsnyje nurodytą reglamentą."}]
[null,{"$f":"Translations!$B$30","v":"Direktyvos tekstą galima atsisiųsti iš"}]
[null,{"$f":"Translations!$B$31","v":"http://eur-lex.europa.eu/LexUriServ/LexUriServ.do?uri=CONSLEG:2003L0087:20090625:LT:PDF"}]
[]
[3,{"$f":"Translations!$B$32","v":"Stebėsenos ir ataskaitų reglamente (2012 m. birželio 21 d. Komisijos reglamentas (ES) Nr. 601/2012) (toliau – „SAR“) išsamiau nustatyti stebėsenos ir atskaitų teikimo reikalavimai. SAR tekstą galima atsisiųsti iš"}]
[null,{"$f":"Translations!$B$33","v":"http://eur-lex.europa.eu/LexUriServ/LexUriServ.do?uri=OJ:L:2012:181:0030:0104:LT:PDF"}]
[null,{"$f":"Translations!$B$511","v":"Stebėsenos ir ataskaitų reglamento (SAR) 67 straipsnio 3 dalyje reikalaujama:"}]
[null,{"$f":"Translations!$B$512","v":"„Metinėse išmetamųjų ŠESD kiekio ataskaitose ir tonkilometrių duomenų ataskaitose pateikiama bent X priede nurodyta informacija.“"}]
[null,{"$f":"Translations!$B$513","v":"X priede nustatytas būtinasis metinių išmetamųjų ŠESD kiekio ataskaitų turinys."}]
[null,{"$f":"Translations!$B$34","v":"Be to, 74 str. 1 dalyje teigiama:"}]
[null,{"$f":"Translations!$B$35","v":"Valstybės narės gali reikalauti, kad pateikdamas stebėsenos planus ir stebėsenos plano keitimus bei metines išmetamųjų ŠESD kiekio ataskaitas, tonkilometrių duomenų ataskaitas, patikros ataskaitas bei patobulinimo ataskaitas veiklos vykdytojas ir orlaivio naudotojas naudotų elektroninius šablonus ar tam tikrus failų formatus. \nTokie valstybių narių nustatomi šablonai arba failų formatų specifikacijos apima bent tą informaciją, kuri numatyta Komisijos skelbiamuose elektroniniuose šablonuose arba failų formatų specifikacijose."}]
[4,{"$f":"Translations!$B$514","v":"Ši rinkmena yra minėtasis Komisijos tarnybų parengtas ataskaitos šablonas, skirtas įrenginiams. Jis parengtas atsižvelgiant į X priede nustatytus reikalavimus ir kitus reikalavimus, kuriais siekiama padėti veiklos vykdytojui įrodyti, kad jis laikosi SAR. Tam tikromis toliau išdėstytomis sąlygomis valstybės narės kompetentinga institucija gali šiek tiek pakeisti šį šabloną. "}]
[null,{"$f":"Translations!$B$515","v":"Ataskaitos šablonas turi būti parengtas neperžengiant SAR reikalavimų. Todėl reikėtų atsižvelgti ir į toliau pateiktame šablone naudojamą spalvinį žymėjimą."}]
[null,{"$f":"Translations!$B$516","v":"Šis ataskaitos šablonas parengtas atsižvelgiant į Komisijos tarnybų nuomonę, išreikštą paskelbimo metu. "}]
[]
[5,{"$f":"Translations!$B$517","v":"Užpildžius metinės išmetamųjų ŠESD kiekio ataskaitos šabloną, būtina atlikti šiuos veiksmus:"}]
[null,"(a)",{"$f":"Translations!$B$518","v":"perduoti šabloną vertintojui, kad šis jį patikrintų pagal SAR 67 straipsnio 1 dalį;"}]
[null,"(b)",{"$f":"Translations!$B$519","v":"vertintojo pagal Reglamentą (ES) Nr. 600/2012 patikrinta versija pateikiama kompetentingai institucijai iki kiekvienų metų kovo 31 d., jeigu ta institucija nepareikalauja pateikti patikrintą išmetamųjų ŠESD kiekio ataskaitą anksčiau."}]
[]
[null,{"$f":"Translations!$B$520","v":"Tai galutinė įrenginiams skirto išmetamųjų ŠESD kiekio ataskaitos šablono versija, Klimato kaitos komiteto patvirtinta 2013 m. balandžio 18 d. posėdyje."}]
[]
[6,{"$f":"Translations!$B$36","v":"Visi Komisijos rekomendaciniai dokumentai dėl SAR pateikiami"}]
[null,{"$f":"Translations!$B$521","v":"http://ec.europa.eu/clima/policies/ets/monitoring/documentation_en.htm"}]
[]
[7,{"$f":"Translations!$B$522","v":"Šis ataskaitos šablonas turi būti pateiktas Jūsų kompetentingai institucijai šiuo adresu:"}]
[]
[null,null,null,null,{"$f":"Translations!$B$43","v":"Išsamų adresą pateikia valstybė narė."}]
[]
[]
[]
[]
[]
[]
[]
[]
[8,{"$f":"Translations!$B$523","v":"Jeigu Jums reikia pagalbos rengiant metinę ataskaitą, kreipkitės į savo kompetentingą instituciją. Kai kurios valstybės narės yra parengusios rekomendacinius dokumentus, kurie Jums gali būti naudingi kaip papildantys pirmiau minėtas Komisijos gaires."}]
[9,{"$f":"Translations!$B$524","v":"Pareiškimas dėl konfidencialumo. Šioje ataskaitoje pateiktai informacijai gali būti taikomi viešinimo reikalavimai, įskaitant nustatytąjį Direktyva 2003/4/EB dėl visuomenės galimybės susipažinti su informacija apie aplinką. Jeigu manote, kad kokia nors informacija, kurią teikiate savo ataskaitoje, turėtų būti laikoma konfidencialia komercine informacija, apie tai praneškite savo kompetentingai institucijai. Reikėtų žinoti, kad pagal Direktyvos 2003/4/EB nuostatas kompetentinga institucija gali būti įpareigota atskleisti informaciją net ir tuo atveju, kai pareiškėjas prašo, kad ji būtų saugoma kaip konfidenciali."}]
[]
[10,{"$f":"Translations!$B$44","v":"Informacijos šaltiniai:"}]
[null,{"$f":"Translations!$B$45","v":"ES tinklalapiai:"}]
[null,{"$f":"Translations!$B$46","v":"ES teisės aktai:"},null,{"$f":"Translations!$B$47","v":"http://eur-lex.europa.eu/en/index.htm"}]
[null,{"$f":"Translations!$B$48","v":"Bendroji informacija apie ES ATLPS"},null,{"$f":"Translations!$B$49","v":"http://ec.europa.eu/clima/policies/ets/index_en.htm"}]
[null,{"$f":"Translations!$B$50","v":"Stebėsena ir ataskaitų teikimas pagal ES ATLPS "}]
[null,null,null,{"$f":"Translations!$B$37","v":"http://ec.europa.eu/clima/policies/ets/monitoring/index_en.htm"}]
[null,{"$f":"Translations!$B$51","v":"Kitos interneto svetainės"}]
[null,{"$f":"Translations!$B$52","v":"<pateikia valstybės narės>"}]
[]
[null,{"$f":"Translations!$B$53","v":"Pagalbos tarnyba"}]
[null,{"$f":"Translations!$B$54","v":"<jei taikoma, nurodo valstybės narės>"}]
[]
[]
[11,{"$f":"Translations!$B$55","v":"Kaip naudotis šiuo failu"}]
[]
[null,{"$f":"Translations!$B$66","v":"Siekiant, kad formulės netyčia nepasikeistų (dėl to dažniausiai jų rezultatai tampa neteisingi), \nlabai svarbu NENAUDOTI funkcijų IŠKIRPTI ir ĮKLIJUOTI.\nJei norite perkelti duomenis, pirmiau juos NUKOPIJUOKITE ir ĮKLIJUOKITE, o tik po to ištrinkite duomenis senoje (netinkamoje) vietoje."}]
[null,{"$f":"Translations!$B$525","v":"Šis šablonas parengtas taip, kad apimtų būtinąjį pagal SAR privalomą metinės išmetamųjų ŠESD kiekio ataskaitos turinį. Todėl veiklos vykdytojai, pildydami šį šabloną, turėtų vadovautis SAR ir papildomais valstybių narių reikalavimais (jeigu tokių yra)."}]
[null,{"$f":"Translations!$B$56","v":"Rekomenduojame pildyti failą nuo pradžios. Yra kelios pildyti formą padėsiančios funkcijos, kurios priklauso nuo to, kas buvo įrašyta pirmiau, pavyzdžiui, laukelių spalva pasikeis, jei į juos nieko nereikia įrašyti (žr. spalvų kodus toliau)."}]
[null,{"$f":"Translations!$B$57","v":"Keliuose laukeliuose duomenis galite pasirinkti iš jau nustatytų duomenų. Norėdami pasirinkti iš tokio išskleidžiamojo sąrašo, spustelėkite pelės mygtuku dešiniajame laukelio krašte arba pasirinkite laukelį ir laikydami paspaudę klavišą „Alt“ slinkite žymikliu žemyn. Į kai kuriuos laukelius galėsite įrašyti savo tekstą, net jei ir yra toks išskleidžiamasis sąrašas. Tai galima padaryti tada, kai išskleidžiamajame sąraše yra tuščių vietų."}]
[null,{"$f":"Translations!$B$58","v":"Spalvų kodai ir šriftai"}]
[null,null,{"$f":"Translations!$B$59","v":"Juodas paryškintas tekstas."},null,{"$f":"Translations!$B$60","v":"Toks tekstas – tai Komisijos šablono tekstas. Jis turi likti toks, koks yra."}]
[null,null,{"$f":"Translations!$B$61","v":"Smulkesnis  tekstas pasviruoju šriftu:"},null,{"$f":"Translations!$B$62","v":"Tokio šrifto tekstu pateikiama daugiau paaiškinimų. Valstybės narės gali įrašyti daugiau paaiškinimų savo šablono versijose."}]
[null,null,null,null,{"$f":"Translations!$B$526","v":"Geltona spalva pažymėti laukai, kuriuos privaloma užpildyti. Tačiau, jeigu dalykas įrenginiui neaktualus, nereikia nieko įvesti. Be to, pateikus informaciją pirmesnėse dalyse, kai kurios dalys gali tapti neaktualios arba neprivalomos. Tokiais atvejais laukas bus žymimas kitokia spalva."}]
[null,null,null,null,{"$f":"Translations!$B$63","v":"Šviesiai geltonų laukelių pildyti neprivaloma."}]
[null,null,null,null,{"$f":"Translations!$B$527","v":"Žaliuose laukeliuose pateikiami automatiškai apskaičiuoti rezultatai. Raudonu tekstu pateikiami pranešimai apie klaidas (trūksta duomenų ir kt.)."}]
[null,null,null,null,{"$f":"Translations!$B$528","v":"Patamsinti laukeliai reiškia, kad dėl įrašo kitame laukelyje čia nieko įrašyti nebereikia."}]
[null,null,null,null,{"$f":"Translations!$B$529","v":"Valstybės narės, prieš paskelbdamos individualizuotą šablono versiją, turėtų užpildyti pilka spalva patamsintus laukus."}]
[null,null,null,null,{"$f":"Translations!$B$64","v":"Šviesiai pilkos vietos skirtos naršyti ir hipersaitams nurodyti."}]
[]
[12,{"$f":"Translations!$B$530","v":"Kiekvieno lapo viršuje yra naršymo juostos, kuriose pateiktos sparčiosios nuorodos į atskiras duomenų įvedimo dalis. Pirmoji eilutė („Turinys“, „Pirmesnis lapas“, „Kitas lapas“) ir nuorodos „Lapo viršus“ ir „Lapo apačia“ yra vienodos visuose lapuose. Atsižvelgiant į konkretų lapą, įterpiamas atitinkamas papildomas meniu."}]
[13,{"$f":"Translations!$B$65","v":"Šis šablonas yra apsaugotas taip, kad duomenis būtų galima įrašyti tik į geltonus laukelius. Tačiau siekiant skaidrumo nenustatyta jokio slaptažodžio. Todėl galima matyti visas formules. Naudojant šį failą duomenims rinkti, patariama apsaugą palikti. Apsauga turėtų būti panaikinama tik siekiant patikrinti, ar veikia formulės. Patariama tai daryti atskirame faile."}]
[14,{"$f":"Translations!$B$67","v":"Duomenų laukai nebuvo optimizuoti konkretiems skaitmeniniams ir kitiems formatams. Tačiau lapų apsauga yra ribota, kad galėtumėte naudotis savo formatais. Visų pirma, galite patys nuspręsti, kiek dešimtainių trupmenų skaitmenų norite matyti. Iš esmės skaičiavimo tikslumas nepriklauso nuo skaitmenų po kablelio skaičiaus. MS Excel pasirinktis „Precision as displayed“ (Rodomų duomenų tikslumu) iš esmės turėtų būti neaktyvi. Daugiau informacijos apie tai rasite paspaudę MS Excel „Help“ funkciją."}]
[15,{"$f":"Translations!$B$531","v":"Svarbu! Nuoseklumo sumetimais visus duomenis (pvz., sukėliklių identifikatorius) įveskite tokia pat eilės tvarka, kaip pateikta Jūsų naujausiame patvirtintame stebėsenos plane (tokia pat eilės tvarka ir naudodami tokius pat identifikatorius)."}]
[]
[16,{"$f":"Translations!$B$68","v":"ATSAKOMYBĖS APRIBOJIMAS. Visos formulės yra parengtos atidžiai ir kruopščiai. Tačiau klaidos tikimybės visiškai atmesti negalima.\nKaip paaiškinta pirmiau, yra visos galimybės patikrinti skaičiavimų teisingumą. Nei šios rinkmenos kūrėjai, nei Europos Komisija neatsako už galimą žalą, padarytą dėl neteisingų ar klaidinančių pateiktų skaičiavimų rezultatų. \nVisa atsakomybė už kompetentingai institucijai pateikiamų duomenų teisingumą tenka šio failo naudotojui (t. y. ATLPS įrenginio veiklos vykdytojui)."}]
[]
[17,{"$f":"Translations!$B$69","v":"Kompetentinga institucija gali nustatyti failų formato apribojimus. Naudokite tik standartinius raštinės failų tipus, kaip antai doc, xls, pdf. Dėl kitų priimtinų failų formatų atsiklauskite kompetentingos institucijos arba paieškokite informacijos jos interneto svetainėje."}]
[]
[18,{"$f":"Translations!$B$70","v":"Čia išvardijamos konkrečios valstybės narės gairės:"}]
[]
[]
[]
[]
[]
[]
[]
[]
[]
[]
[]
[]
[]
[]
[]
[]
[]
[]
[]
[]
[]
[]
[]
[]
[null,null,null,{"$f":"EUconst_MsgNextSheet","v":"<<< Į kitą lapą pereisite paspaudę čia >>> "}]

{"sheet":"A_Operator&Inst.ID","index":2,"n_rows":134,"n_cols":17,"rows_kept":134,"cut":false,"hidden":false,"merged":[[133,5,133,11],[128,4,128,13],[126,4,126,13],[116,8,116,13],[114,8,114,13],[92,8,92,13],[1,6,1,7],[1,10,1,11],[3,6,3,7],[24,4,24,13],[3,4,3,5],[3,8,3,9],[77,4,77,13],[58,4,58,9],[1,8,1,9],[3,10,3,11],[2,12,2,13],[1,4,1,5],[2,8,2,9],[2,4,2,5],[1,12,1,13],[2,6,2,7],[2,10,2,11],[23,4,23,13],[8,9,8,10],[17,4,17,7],[3,12,3,13],[17,8,17,13],[11,3,11,13],[5,2,5,13],[21,8,21,9],[19,4,19,7],[12,3,12,13],[13,3,13,13],[19,8,19,13],[1,1,3,3],[8,3,8,7],[15,3,15,13],[21,10,21,13],[21,4,21,7],[79,8,79,13],[25,8,25,13],[26,8,26,13],[28,8,28,13],[43,4,43,7],[29,8,29,13],[30,8,30,13],[27,8,27,13],[43,8,43,13],[46,4,46,9],[29,4,29,7],[25,4,25,7],[26,4,26,7],[27,4,27,7],[28,4,28,7],[31,4,31,7],[32,4,32,7],[30,4,30,7],[32,8,32,13],[31,8,31,13],[36,3,36,13],[42,4,42,7],[44,8,44,13],[38,4,38,13],[106,8,106,13],[107,4,107,7],[109,3,109,13],[107,8,107,13],[49,8,49,13],[33,4,33,7],[33,8,33,13],[48,8,48,13],[44,4,44,7],[42,8,42,13],[49,4,49,7],[106,4,106,7],[87,4,87,13],[91,8,91,13],[95,8,95,13],[90,8,90,13],[90,4,90,7],[89,4,89,13],[82,8,82,13],[80,8,80,13],[81,8,81,13],[91,4,91,7],[83,8,83,13],[85,3,85,13],[105,8,105,13],[97,4,97,7],[93,8,93,13],[102,4,102,7],[103,8,103,13],[105,4,105,7],[97,8,97,13],[99,4,99,13],[96,4,96,7],[102,8,102,13],[94,8,94,13],[96,8,96,13],[122,4,122,7],[127,4,127,13],[129,8,129,13],[123,8,123,13],[118,4,118,13],[120,4,120,7],[121,4,121,7],[122,8,122,13],[111,4,111,13],[87,1,107,1],[104,8,104,13],[115,4,115,7],[114,4,114,7],[112,8,112,13],[113,8,113,13],[113,4,113,7],[95,4,95,7],[100,4,100,7],[103,4,103,7],[100,8,100,13],[101,8,101,13],[110,1,130,1],[130,4,130,7],[120,8,120,13],[123,4,123,7],[130,8,130,13],[116,4,116,7],[125,4,125,13],[119,4,119,13],[115,8,115,13],[129,4,129,7],[121,8,121,13],[112,4,112,7],[78,4,78,13],[70,4,70,7],[62,4,62,7],[76,4,76,13],[64,8,64,13],[66,8,66,13],[67,8,67,13],[68,8,68,13],[74,4,74,7],[65,4,65,7],[62,8,62,13],[64,4,64,7],[48,4,48,7],[60,4,60,7],[72,4,72,7],[72,8,72,13],[70,8,70,13],[53,4,53,7],[56,4,56,13],[65,8,65,13],[53,8,53,13],[52,4,52,7],[50,4,50,7],[52,8,52,13],[51,4,51,7],[50,8,50,13],[51,8,51,13],[55,8,55,11],[55,4,55,7]]}
["ausblenden",null,null,null,null,null,null,null,null,null,null,null,null,null,null,null,"ausblenden"]
[null,{"$f":"Translations!$B$532","v":"A.\nOperatorInst ID (Veiklos vykd. / įreng. tapatybė)"},null,null,{"$f":"Translations!$B$23","v":"Naršymo laukas"},null,{"$f":"Translations!$B$24","v":"Turinys"},null,{"$f":"Translations!$B$25","v":"Ankstesnis lapas"},null,{"$f":"Translations!$B$26","v":"Kitas lapas"}]
[null,null,null,null,{"$f":"Translations!$B$27","v":"Lapo viršus"},null,{"$f":"Translations!$B$492","v":"Ataskaitiniai metai"},null,{"$f":"Translations!$B$74","v":"Veiklos vykdytojas"},null,{"$f":"Translations!$B$75","v":"Įrenginys"}]
[null,null,null,null,{"$f":"Translations!$B$28","v":"Lapo galas"},null,{"$f":"Translations!$B$6","v":"Kontaktiniai duomenys "},null,{"$f":"Translations!$B$533","v":"Išsami informacija apie vertintoją"}]
[]
[null,null,{"$f":"Translations!$B$534","v":"A. Veiklos vykdytojo, įrenginio ir vertintojo tapatybės duomenys"}]
[]
[]
[null,null,1,{"$f":"Translations!$B$492","v":"Ataskaitiniai metai"},null,null,null,null,null,2014]
[]
[]
[null,null,null,{"$f":"Translations!$B$535","v":"Atkreipkite dėmesį, kad, atsižvelgiant į valstybėje narėje nusistovėjusią administracinę tvarką, pagal ES ATLPS direktyvos 7 straipsnį kompetentingai institucijai turi būti oficialiai pranešama apie veiklos vykdytojo pavadinimo ar tapatybės, įrenginio pavadinimo ir kitos informacijos, kuri yra svarbi suteikiant leidimą, pasikeitimus."}]
[null,null,null,{"$f":"Translations!$B$536","v":"Paprastai neužteks pranešti apie tokius pakeitimus šiame lape. Tačiau čia turi būti pateikti naujausi duomenys."}]
[null,null,null,{"$f":"Translations!$B$537","v":"Pateikti su konkrečia valstybe nare susijusias rekomendacijas."}]
[]
[null,null,2,{"$f":"Translations!$B$5","v":"Apie veiklos vykdytoją"}]
[]
[null,null,null,"(a)",{"$f":"Translations!$B$538","v":"Kompetentinga institucija ataskaitų teikimo klausimams"},null,null,null,"Lietuvos Respublikos Aplinkos ministerija, Utenos RAAD"]
[]
[null,null,null,"(b)",{"$f":"Translations!$B$76","v":"Valstybė narė"},null,null,null,"Lietuva"]
[]
[null,null,null,"(c)",{"$f":"Translations!$B$77","v":"Leidimo prekiauti taršos leidimais numeris"},null,null,null,{"$f":"Translations!$B$78","v":"Valstybė narė / KI prefiksas"},null,"LT-8-EN22"]
[]
[null,null,null,"(d)",{"$f":"Translations!$B$539","v":"Veiklos vykdytojo duomenys:"}]
[null,null,null,null,{"$f":"Translations!$B$540","v":"Veiklos vykdytojas yra [fizinis arba juridinis] asmuo, eksploatuojantis arba valdantis įrenginį, arba, jeigu tai numatyta nacionalinės teisės aktais, asmuo, kuriam suteikti įgaliojimai priimti ekonominius sprendimus, susijusius su įrenginio techniniu veikimu."}]
[null,null,null,"i.",{"$f":"Translations!$B$541","v":"Veiklos vykdytojo pavadinimas:"},null,null,null,"UAB “UTENOS ŠILUMOS TINKLAI”"]
[null,null,null,"ii.",{"$f":"Translations!$B$542","v":"Gatvė, numeris:"},null,null,null,"Pramonės g. 11"]
[null,null,null,"iii.",{"$f":"Translations!$B$543","v":"Pašto kodas:"},null,null,null,"LT-28216 "]
[null,null,null,"iv.",{"$f":"Translations!$B$86","v":"Miestas:"},null,null,null,"Utena"]
[null,null,null,"v.",{"$f":"Translations!$B$88","v":"Šalis"},null,null,null,"Lietuva"]
[null,null,null,"vi.",{"$f":"Translations!$B$544","v":"Įgaliotojo atstovo pavadinimas (vardas, pavardė):"}]
[null,null,null,"vii.",{"$f":"Translations!$B$545","v":"El. paštas:"}]
[null,null,null,"viii.",{"$f":"Translations!$B$546","v":"Telefonas:"}]
[null,null,null,"ix.",{"$f":"Translations!$B$547","v":"Faksas:"}]
[]
[]
[null,null,3,{"$f":"Translations!$B$548","v":"Informacija apie Jūsų įrenginį ir stebėsenos planą"}]
[]
[null,null,null,null,{"$f":"Translations!$B$82","v":"Čia pateikite konkrečias valstybės narės gaires dėl įrenginių pavadinimų."}]
[]
[null,null,null,"(a)",{"$f":"Translations!$B$80","v":"Įrenginio pavadinimas ir jo teritorijos pavadinimas"}]
[]
[null,null,null,"i.",{"$f":"Translations!$B$13","v":"Įrenginio pavadinimas"},null,null,null,"Utenos rajoninė katilinė"]
[null,null,null,"ii.",{"$f":"Translations!$B$81","v":"Teritorijos pavadinimas"},null,null,null,"Utena"]
[null,null,null,"iii.",{"$f":"Translations!$B$549","v":"Unikalus įrenginio identifikatorius:"},null,null,null,"LT000000000000057"]
[]
[null,null,null,"(b)",{"$f":"Translations!$B$83","v":"Įrenginio adresas arba jo buvimo vieta"}]
[]
[null,null,null,"i.",{"$f":"Translations!$B$84","v":"1 adreso eilutė"},null,null,null,"Pramonės g. 11"]
[null,null,null,"ii.",{"$f":"Translations!$B$85","v":"2 adreso eilutė"}]
[null,null,null,"iii.",{"$f":"Translations!$B$86","v":"Miestas:"},null,null,null,"Utena"]
[null,null,null,"iv.",{"$f":"Translations!$B$87","v":"Valstybė / provincija / regionas"}]
[null,null,null,"v.",{"$f":"Translations!$B$543","v":"Pašto kodas:"},null,null,null,"LT-28216 "]
[null,null,null,"vi.",{"$f":"Translations!$B$88","v":"Šalis"},null,null,null,"Lietuva"]
[]
[null,null,null,"vii.",{"$f":"Translations!$B$550","v":"Pagrindinio patekimo į objektą geografinės koordinatės:"}]
[null,null,null,null,{"$f":"Translations!$B$89","v":"Čia pateikite konkrečias valstybės narės gaires dėl koordinačių nuorodų teikimo."}]
[]
[null,null,null,"(c)",{"$f":"Translations!$B$551","v":"Ataskaitų teikimas pagal Reglamentą (EB) Nr. 166/2006 (EIPTR):"}]
[]
[null,null,null,"i.",{"$f":"Translations!$B$552","v":"Įrenginys privalo teikti ataskaitas pagal reglamentą dėl EIPTR:"},null,null,null,true]
[]
[null,null,null,"ii.",{"$f":"Translations!$B$553","v":"EIPTR identifikatorius:"},null,null,null,null,null,null,null,null,null,null,null,{"$f":"AND(I61<>\"\",I61=FALSE)","v":false}]
[]
[null,null,null,"iii.",{"$f":"Translations!$B$554","v":"Pagrindinė veikla pagal reglamento dėl EIPTR I priedą:"},null,null,null,"1. c) Šiluminės elektrinės ir kiti deginimo įrenginiai",null,null,null,null,null,null,null,{"$f":"Q63","v":false}]
[null,null,null,"iv.",{"$f":"Translations!$B$555","v":"Kita veikla pagal reglamento dėl EIPTR I priedą:"},null,null,null,null,null,null,null,null,null,null,null,{"$f":"Q65","v":false}]
[null,null,null,null,null,null,null,null,null,null,null,null,null,null,null,null,{"$f":"Q66","v":false}]
[null,null,null,null,null,null,null,null,null,null,null,null,null,null,null,null,{"$f":"Q67","v":false}]
[null,null,null,null,null,null,null,null,null,null,null,null,null,null,null,null,{"$f":"Q68","v":false}]
[]
[null,null,null,"(d)",{"$f":"Translations!$B$556","v":"Kompetentinga institucija leidimų suteikimo klausimams"},null,null,null,"Lietuvos Respublikos Aplinkos ministerija, Utenos RAAD"]
[]
[null,null,null,"(e) ",{"$f":"Translations!$B$557","v":"Naujausios patvirtintos stebėsenos plano versijos numeris"},null,null,null,"Versija Nr. 2, 2013.02.18"]
[]
[null,null,null,"(f)",{"$f":"Translations!$B$558","v":"Ar padaryta stebėsenos plano pakeitimų, palyginti su ankstesniais metais?"},null,null,null,false]
[]
[null,null,null,"(g)",{"$f":"Translations!$B$160","v":"Pastabos:"}]
[null,null,null,null,{"$f":"Translations!$B$559","v":"Jeigu ataskaitiniu laikotarpiu įvyko svarbių įrenginio veiklos pasikeitimų arba kompetentingos institucijos patvirtinto stebėsenos plano pakeitimų arba laikinų nuokrypių, įskaitant laikinus arba ilgalaikius pakopų pasikeitimus, apibūdinkite šiuos pasikeitimus ir pateikite jų priežastis, nurodykite pasikeitimų pradžios datas ir laikinųjų pasikeitimų pradžios bei pabaigos datas."}]
[null,null,null,null,{"$f":"Translations!$B$560","v":"Atkreipkite dėmesį, kad dėl pasikeitimų pateiktos pastabos šiuo atveju negali būti laikomos oficialia stebėsenos plano pakeitimo paraiška. Apie visus čia nurodytus pasikeitimus ir nuokrypius kompetentingai institucijai turi būti pranešta pagal įprastas procedūras."}]
[]
[]
[]
[]
[]
[]
[null,null,4,{"$f":"Translations!$B$6","v":"Kontaktiniai duomenys "}]
[]
[null,null,null,null,{"$f":"Translations!$B$561","v":"Šiam reikalui paskirkite asmenis, į kuriuos kompetentinga institucija galėtų kreiptis kilus klausimų dėl šios ataskaitos. Jūsų paskirtas asmuo turėtų būti įgaliotas atstovauti veiklos vykdytojui. "}]
[]
[null,null,null,"(a)",{"$f":"Translations!$B$562","v":"Pagrindinis kontaktinis asmuo techniniams klausimams dėl įrenginio duomenų:"}]
[null,null,null,"i.",{"$f":"Translations!$B$90","v":"Pareigos:"}]
[null,null,null,"ii.",{"$f":"Translations!$B$563","v":"Vardas"},null,null,null,"Ramūnas"]
[null,null,null,"iii.",{"$f":"Translations!$B$91","v":"Pavardė:"},null,null,null,"Drazdauskas"]
[null,null,null,"iv.",{"$f":"Translations!$B$92","v":"Pareigos"},null,null,null,"Katilinių tarnybos viršininkas"]
[null,null,null,"v.",{"$f":"Translations!$B$93","v":"Organizacijos pavadinimas (jei kita nei veiklos vykdytojas)"}]
[null,null,null,"vi.",{"$f":"Translations!$B$545","v":"El. paštas:"},null,null,null,"ramunas@ust.lt"]
[null,null,null,"vii.",{"$f":"Translations!$B$546","v":"Telefonas:"},null,null,null,"+370 389 63649"]
[null,null,null,"viii.",{"$f":"Translations!$B$547","v":"Faksas:"}]
[null,null,null,null,null,null,null," "]
[null,null,null,"(b)",{"$f":"Translations!$B$564","v":"Pakaitinis kontaktinis asmuo:"}]
[null,null,null,"i.",{"$f":"Translations!$B$90","v":"Pareigos:"}]
[null,null,null,"ii.",{"$f":"Translations!$B$563","v":"Vardas"}]
[null,null,null,"iii.",{"$f":"Translations!$B$91","v":"Pavardė:"}]
[null,null,null,"iv.",{"$f":"Translations!$B$92","v":"Pareigos"}]
[null,null,null,"v.",{"$f":"Translations!$B$93","v":"Organizacijos pavadinimas (jei kita nei veiklos vykdytojas)"}]
[null,null,null,"vi.",{"$f":"Translations!$B$545","v":"El. paštas:"}]
[null,null,null,"vii.",{"$f":"Translations!$B$546","v":"Telefonas:"}]
[null,null,null,"viii.",{"$f":"Translations!$B$547","v":"Faksas:"}]
[]
[null,null,5,{"$f":"Translations!$B$565","v":"Vertintojo kontaktiniai duomenys"}]
[]
[null,null,null,"(a)",{"$f":"Translations!$B$566","v":"Vertintojo vardas, pavardė ir adresas:"}]
[null,null,null,"i.",{"$f":"Translations!$B$567","v":"Įmonės pavadinimas:"},null,null,null,"UAB Det Norske Veritas"]
[null,null,null,"ii.",{"$f":"Translations!$B$542","v":"Gatvė, numeris:"},null,null,null,"Vežėjų g. 2"]
[null,null,null,"iii.",{"$f":"Translations!$B$86","v":"Miestas:"},null,null,null,"Klaipėda"]
[null,null,null,"iv.",{"$f":"Translations!$B$543","v":"Pašto kodas:"},null,null,null,"LT-91246"]
[null,null,null,"v.",{"$f":"Translations!$B$88","v":"Šalis"},null,null,null,"Lietuva"]
[]
[null,null,null,"(b)",{"$f":"Translations!$B$568","v":"Vertintojo kontaktinis asmuo:"}]
[null,null,null,null,{"$f":"Translations!$B$569","v":"Paskirtasis asmuo turėtų būti susipažinęs su šia ataskaita. Šis asmuo turi būti ES ATLPS vyriausiasis auditorius."}]
[null,null,null,"i.",{"$f":"Translations!$B$570","v":"Vardas ir pavardė:"},null,null,null,"Audrius Šileika"]
[null,null,null,"ii.",{"$f":"Translations!$B$95","v":"El. paštas"},null,null,null,"audrius.sileika@dnv.lt"]
[null,null,null,"iii.",{"$f":"Translations!$B$94","v":"Telefono numeris"},null,null,null,"+370 687 71651"]
[null,null,null,"iv.",{"$f":"Translations!$B$547","v":"Faksas:"},null,null,null,"8 37 229517"]
[]
[null,null,null,"(c)",{"$f":"Translations!$B$571","v":"Informacija apie vertintojo akreditavimą arba sertifikavimą:"}]
[null,null,null,null,{"$f":"Translations!$B$572","v":"Atkreipkite dėmesį, kad pagal Akreditavimo ir patikros reglamento (Reglamentas (ES) Nr. 600/2012) 54 straipsnio 2 dalį valstybė narė gali nuspręsti pavesti fizinių asmenų, kaip vertintojų, sertifikavimą nacionalinei valdžios institucijai, kuri nėra nacionalinė akreditavimo įstaiga."}]
[null,null,null,null,{"$f":"Translations!$B$573","v":"Tokiais atvejais akreditavimas turėtų būti suprantamas kaip sertifikavimas, o akreditavimo įstaiga turėtų būti laikoma nacionaline valdžios institucija."}]
[null,null,null,null,{"$f":"Translations!$B$574","v":"Tai, ar yra tokios registravimo informacijos, gali priklausyti nuo administruojančios valstybės narės taikomos vertintojų akreditavimo tvarkos."}]
[null,null,null,"i.",{"$f":"Translations!$B$575","v":"Akreditacijos valstybė narė:"},null,null,null,"Suomija"]
[null,null,null,"ii.",{"$f":"Translations!$B$576","v":"Akreditacijos įstaigos suteiktas registracijos numeris:"},null,null,null,"FINAS VB01"]
[]
[]
[null,null,null,null,null,{"$f":"EUconst_MsgNextSheet","v":"<<< Į kitą lapą pereisite paspaudę čia >>> "}]

{"sheet":"B_InstallationDescription","index":3,"n_rows":218,"n_cols":28,"rows_kept":218,"cut":false,"hidden":false,"merged":[[136,4,136,7],[136,8,136,10],[137,4,137,7],[137,8,137,10],[138,4,138,7],[138,8,138,10],[131,4,131,7],[131,8,131,10],[132,4,132,7],[132,8,132,10],[133,4,133,7],[133,8,133,10],[134,4,134,7],[134,8,134,10],[135,4,135,7],[135,8,135,10],[126,4,126,7],[126,8,126,10],[127,4,127,7],[127,8,127,10],[128,4,128,7],[128,8,128,10],[129,4,129,7],[129,8,129,10],[130,4,130,7],[130,8,130,10],[121,4,121,7],[121,8,121,10],[122,4,122,7],[122,8,122,10],[123,4,123,7],[123,8,123,10],[124,4,124,7],[124,8,124,10],[125,4,125,7],[125,8,125,10],[113,4,113,7],[113,8,113,10],[114,4,114,7],[114,8,114,10],[115,4,115,7],[115,8,115,10],[116,4,116,7],[116,8,116,10],[120,4,120,7],[120,8,120,10],[108,4,108,7],[108,8,108,10],[109,4,109,7],[109,8,109,10],[110,4,110,7],[110,8,110,10],[111,4,111,7],[111,8,111,10],[112,4,112,7],[112,8,112,10],[103,4,103,7],[103,8,103,10],[104,4,104,7],[104,8,104,10],[105,4,105,7],[105,8,105,10],[106,4,106,7],[106,8,106,10],[107,4,107,7],[107,8,107,10],[98,4,98,7],[98,8,98,10],[99,4,99,7],[99,8,99,10],[100,4,100,7],[100,8,100,10],[101,4,101,7],[101,8,101,10],[102,4,102,7],[102,8,102,10],[93,4,93,7],[93,8,93,10],[94,4,94,7],[94,8,94,10],[95,4,95,7],[95,8,95,10],[96,4,96,7],[96,8,96,10],[97,4,97,7],[97,8,97,10],[88,4,88,7],[88,8,88,10],[89,4,89,7],[89,8,89,10],[90,4,90,7],[90,8,90,10],[91,4,91,7],[91,8,91,10],[92,4,92,7],[92,8,92,10],[83,4,83,7],[83,8,83,10],[84,4,84,7],[84,8,84,10],[85,4,85,7],[85,8,85,10],[86,4,86,7],[86,8,86,10],[87,4,87,7],[87,8,87,10],[78,4,78,7],[78,8,78,10],[79,4,79,7],[79,8,79,10],[80,4,80,7],[80,8,80,10],[81,4,81,7],[81,8,81,10],[82,4,82,7],[82,8,82,10],[73,4,73,7],[73,8,73,10],[74,4,74,7],[74,8,74,10],[75,4,75,7],[75,8,75,10],[76,4,76,7],[76,8,76,10],[77,4,77,7],[77,8,77,10],[68,4,68,7],[68,8,68,10],[69,4,69,7],[69,8,69,10],[70,4,70,7],[70,8,70,10],[71,4,71,7],[71,8,71,10],[72,4,72,7],[72,8,72,10],[63,8,63,10],[63,4,63,7],[64,8,64,10],[64,4,64,7],[65,4,65,7],[65,8,65,10],[66,4,66,7],[66,8,66,10],[67,4,67,7],[67,8,67,10],[136,11,136,12],[137,11,137,12],[138,11,138,12],[63,11,63,12],[130,11,130,12],[131,11,131,12],[121,11,121,12],[132,11,132,12],[133,11,133,12],[134,11,134,12],[135,11,135,12],[122,11,122,12],[123,11,123,12],[124,11,124,12],[125,11,125,12],[128,11,128,12],[129,11,129,12],[112,11,112,12],[113,11,113,12],[114,11,114,12],[115,11,115,12],[116,11,116,12],[117,11,117,12],[118,11,118,12],[119,11,119,12],[120,11,120,12],[103,11,103,12],[104,11,104,12],[105,11,105,12],[106,11,106,12],[107,11,107,12],[108,11,108,12],[109,11,109,12],[110,11,110,12],[111,11,111,12],[94,11,94,12],[95,11,95,12],[96,11,96,12],[97,11,97,12],[98,11,98,12],[99,11,99,12],[100,11,100,12],[101,11,101,12],[102,11,102,12],[85,11,85,12],[86,11,86,12],[87,11,87,12],[88,11,88,12],[89,11,89,12],[90,11,90,12],[91,11,91,12],[92,11,92,12],[93,11,93,12],[76,11,76,12],[77,11,77,12],[78,11,78,12],[79,11,79,12],[80,11,80,12],[81,11,81,12],[82,11,82,12],[83,11,83,12],[84,11,84,12],[49,4,49,13],[54,5,54,13],[55,5,55,13],[57,5,57,13],[56,5,56,13],[66,11,66,12],[67,11,67,12],[19,4,19,13],[145,4,145,13],[58,5,58,13],[61,4,61,13],[126,11,126,12],[127,11,127,12],[118,4,118,7],[118,8,118,10],[119,4,119,7],[119,8,119,10],[68,11,68,12],[69,11,69,12],[70,11,70,12],[71,11,71,12],[72,11,72,12],[73,11,73,12],[74,11,74,12],[164,4,164,8],[162,5,162,11],[151,5,151,11],[140,4,140,10],[158,5,158,11],[59,5,59,13],[60,5,60,13],[147,12,147,13],[148,12,148,13],[149,5,149,11],[153,12,153,13],[153,5,153,11],[152,5,152,11],[143,4,143,13],[152,12,152,13],[147,5,147,11],[148,5,148,11],[151,12,151,13],[141,10,141,13],[64,11,64,12],[65,11,65,12],[117,4,117,7],[117,8,117,10],[75,11,75,12],[1,1,3,3],[2,10,2,11],[1,4,1,5],[1,10,1,11],[2,4,2,5],[36,4,36,13],[24,9,24,10],[7,3,7,13],[14,4,14,13],[31,4,31,13],[1,6,1,7],[3,8,3,9],[2,12,2,13],[3,12,3,13],[16,4,16,13],[34,4,34,13],[25,9,25,10],[29,3,29,13],[33,4,33,13],[5,2,5,13],[26,9,26,10],[35,4,35,13],[10,4,10,13],[11,4,11,13],[158,12,158,13],[154,5,154,11],[154,12,154,13],[155,5,155,11],[155,12,155,13],[156,5,156,11],[1,8,1,9],[3,4,3,5],[2,8,2,9],[3,6,3,7],[2,6,2,7],[43,9,43,13],[12,5,12,13],[15,4,15,13],[13,5,13,13],[1,12,1,13],[43,4,43,7],[37,4,37,13],[46,4,46,10],[39,9,39,13],[39,4,39,7],[40,9,40,13],[46,11,46,13],[53,5,53,13],[156,12,156,13],[157,5,157,11],[157,12,157,13],[150,12,150,13],[150,5,150,11],[27,9,27,10],[149,12,149,13],[140,11,140,13],[3,10,3,11],[23,9,23,10],[9,4,9,13],[144,4,144,13],[50,4,50,13],[51,5,51,13],[42,9,42,13],[44,4,44,7],[42,4,42,7],[40,4,40,7],[41,9,41,13],[41,4,41,7],[47,10,47,13],[44,9,44,13],[17,4,17,13],[52,5,52,13],[24,4,24,6],[25,4,25,6],[26,4,26,6],[20,4,20,13],[26,7,26,8],[27,7,27,8],[22,9,22,10],[27,4,27,6],[22,4,22,6],[23,4,23,6],[22,7,22,8],[23,7,23,8],[24,7,24,8],[25,7,25,8]]}
["ausblenden",null,null,null,null,null,null,null,null,null,null,null,null,null,null,"ausblenden","ausblenden","ausblenden","ausblenden","ausblenden","ausblenden","ausblenden","ausblenden","ausblenden","ausblenden","ausblenden","ausblenden","ausblenden"]
[null,{"$f":"Translations!$B$577","v":"B.\nInstallation Description (Įrenginio aprašas)"},null,null,{"$f":"Translations!$B$23","v":"Naršymo laukas"},null,{"$f":"Translations!$B$24","v":"Turinys"},null,{"$f":"Translations!$B$25","v":"Ankstesnis lapas"},null,{"$f":"Translations!$B$26","v":"Kitas lapas"}]
[null,null,null,null,{"$f":"Translations!$B$27","v":"Lapo viršus"},null,{"$f":"Translations!$B$578","v":"Veiklos sritys"},null,{"$f":"Translations!$B$579","v":"Stebėsenos metodas"},null,{"$f":"Translations!$B$580","v":"Sukėlikliai"}]
[null,null,null,null,{"$f":"Translations!$B$28","v":"Lapo galas"},null,{"$f":"Translations!$B$97","v":"Matavimo taškai"}]
[]
[null,null,{"$f":"Translations!$B$496","v":"B. Įrenginio aprašas"}]
[]
[null,null,6,{"$f":"Translations!$B$581","v":"Veiklos sritys pagal ES ATLPS direktyvos I priedą"}]
[]
[null,null,null,null,{"$f":"Translations!$B$99","v":"Apie kiekvieną jūsų įrenginyje vykdomą į ES ATLPS direktyvos I priedą įtrauktą veiklos rūšį pateikite šias technines detales."}]
[null,null,null,null,{"$f":"Translations!$B$100","v":"Taip pat nurodykite kiekvienos jūsų įrenginyje vykdomos į I priedą įtrauktos veiklos pajėgumą."}]
[null,null,null,null,{"$f":"Translations!$B$101","v":"Atkreipkite dėmesį, kad šiame kontekste „pajėgumas“ reiškia:"}]
[null,null,null,null,"-",{"$f":"Translations!$B$102","v":"Nominalus šiluminis našumas (tuo atveju, jei ATLPS taikymo veiklai slenkstinė riba yra 20MW), kuris yra sparta, kuria gali būti deginamas kuras įrenginiui nuolat dirbant didžiausiu pajėgumu, padauginta iš kuro šilumingumo vertės ir išreikšta šilumos megavatais. "}]
[null,null,null,null,"-",{"$f":"Translations!$B$103","v":"Gamybos pajėgumas tų I priede nurodytų veiklos rūšių atveju, kai ATLPS taikymas priklauso nuo gamybos pajėgumo. "}]
[null,null,null,null,{"$f":"Translations!$B$104","v":"Įrenginio ribas prašome nurodyti  teisingai ir taip, kad jos atitiktų ES ATLPS direktyvos I priedą. Daugiau informacijos rasite Komisijos gairių dėl I priedo aiškinimo atitinkamuose skirsniuose. Tas dokumentas pateikiamas adresu"}]
[null,null,null,null,{"$f":"Translations!$B$105","v":"http://ec.europa.eu/clima/policies/ets/docs/guidance_interpretation_en.pdf "}]
[null,null,null,null,{"$f":"Translations!$B$106","v":"Čia įrašytas sąrašas toliau lentelėse, kuriose aprašant įrenginį reikia pateikti veiklos nuorodą, bus pateiktas kaip išskleidžiamasis sąrašas."}]
[null,null,null,null,{"$f":"Translations!$B$582","v":"Atkreipkite dėmesį, kad, atsižvelgiant į čia padarytus įrašus, tam tikrais atvejais gali būti pateikiami iš 7 dalies b punkto iškleidžiamojo sąrašo paimti veiklai būdingi sukėliklių tipai."}]
[]
[null,null,null,null,{"$f":"Translations!$B$583","v":"Atminkite, kad, teikiant ataskaitas pagal BAF kategorijas, gali reikėti nurodyti su energija susijusį (1 kategorija) išmetamųjų ŠESD kiekį ir su procesu susijusį (pvz., karbonatų skilimas, 2 kategorija) išmetamųjų ŠESD kiekį."}]
[null,null,null,null,{"$f":"Translations!$B$537","v":"Pateikti su konkrečia valstybe nare susijusias rekomendacijas."}]
[]
[null,null,null,{"$f":"Translations!$B$584","v":"Nr."},{"$f":"Translations!$B$107","v":"I priedo veikla"},null,null,{"$f":"Translations!$B$585","v":"BAF 1 kategorija (energija)"},null,{"$f":"Translations!$B$586","v":"BAF 2 kategorija (proceso metu išsiskiriančios ŠESD)"},null,{"$f":"Translations!$B$108","v":"Bendras veiklos pajėgumas "},{"$f":"Translations!$B$109","v":"Pajėgumo vienetai"},{"$f":"Translations!$B$110","v":"Išmestos ŠESD"},null,null,null,null,null,null,"Sorting","Sorting","Sorting","Sorting","Sorting"]
[null,null,null,"A1","Kuro deginimas",null,null,"1A1a – Energija – Valstybinė elektros energijos ir šilumos gamyba",null,null,null,103,"MW (šil ir el.)",{"$f":"IF(ISBLANK(E24),\"\",INDEX(EUConst_AnnexIListGHG,MATCH(E24,AnnexIActivities,0)))","v":"CO2"},null,null,null,null,null,1,{"$f":"IF(ISBLANK(E24),\"\",D24)","v":"A1"},{"$f":"IF(ISBLANK(E24),\"\",E24)","v":"Kuro deginimas"},{"$f":"IF(V24=\"\",\"\",MAX(#REF!)+1)","v":{"$error":"#REF!"}},{"$f":"IF(COUNTIF($W$24:$W$28,T24)=1,INDEX($U$24:$U$28,MATCH(T24,$W$24:$W$28,0)) & \": \" & INDEX($V$24:$V$28,MATCH(T24,$W$24:$W$28,0)),EUconst_NA)","v":"netaik."},{"$f":"IF(COUNTIF($W$24:$W$28,T24)=1,INDEX($V$24:$V$28,MATCH(T24,$W$24:$W$28,0)),EUconst_NA)","v":"netaik."},{"$f":"IF(E24=\"\",\"\",MATCH(E24,AnnexIActivities,0))","v":1},null,{"$f":"MSPara_CRFMandatory","v":false}]
[null,null,null,"A2",null,null,null,null,null,null,null,null,null,"",null,null,null,null,null,2,{"$f":"IF(ISBLANK(E25),\"\",D25)","v":""},{"$f":"IF(ISBLANK(E25),\"\",E25)","v":""},{"$f":"IF(V25=\"\",\"\",MAX(W$24:W24)+1)","v":""},{"$f":"IF(COUNTIF($W$24:$W$28,T25)=1,INDEX($U$24:$U$28,MATCH(T25,$W$24:$W$28,0)) & \": \" & INDEX($V$24:$V$28,MATCH(T25,$W$24:$W$28,0)),EUconst_NA)","v":"netaik."},{"$f":"IF(COUNTIF($W$24:$W$28,T25)=1,INDEX($V$24:$V$28,MATCH(T25,$W$24:$W$28,0)),EUconst_NA)","v":"netaik."},{"$f":"IF(E25=\"\",\"\",MATCH(E25,AnnexIActivities,0))","v":""},null,{"$f":"AB24","v":false}]
[null,null,null,"A3",null,null,null,null,null,null,null,null,null,"",null,null,null,null,null,3,{"$f":"IF(ISBLANK(E26),\"\",D26)","v":""},{"$f":"IF(ISBLANK(E26),\"\",E26)","v":""},{"$f":"IF(V26=\"\",\"\",MAX(W$24:W25)+1)","v":""},{"$f":"IF(COUNTIF($W$24:$W$28,T26)=1,INDEX($U$24:$U$28,MATCH(T26,$W$24:$W$28,0)) & \": \" & INDEX($V$24:$V$28,MATCH(T26,$W$24:$W$28,0)),EUconst_NA)","v":"netaik."},{"$f":"IF(COUNTIF($W$24:$W$28,T26)=1,INDEX($V$24:$V$28,MATCH(T26,$W$24:$W$28,0)),EUconst_NA)","v":"netaik."},{"$f":"IF(E26=\"\",\"\",MATCH(E26,AnnexIActivities,0))","v":""},null,{"$f":"AB25","v":false}]
[null,null,null,"A4",null,null,null,null,null,null,null,null,null,"",null,null,null,null,null,4,{"$f":"IF(ISBLANK(E27),\"\",D27)","v":""},{"$f":"IF(ISBLANK(E27),\"\",E27)","v":""},{"$f":"IF(V27=\"\",\"\",MAX(W$24:W26)+1)","v":""},{"$f":"IF(COUNTIF($W$24:$W$28,T27)=1,INDEX($U$24:$U$28,MATCH(T27,$W$24:$W$28,0)) & \": \" & INDEX($V$24:$V$28,MATCH(T27,$W$24:$W$28,0)),EUconst_NA)","v":"netaik."},{"$f":"IF(COUNTIF($W$24:$W$28,T27)=1,INDEX($V$24:$V$28,MATCH(T27,$W$24:$W$28,0)),EUconst_NA)","v":"netaik."},{"$f":"IF(E27=\"\",\"\",MATCH(E27,AnnexIActivities,0))","v":""},null,{"$f":"AB26","v":false}]
[null,null,null,"A5",null,null,null,null,null,null,null,null,null,"",null,null,null,null,null,5,{"$f":"IF(ISBLANK(E28),\"\",D28)","v":""},{"$f":"IF(ISBLANK(E28),\"\",E28)","v":""},{"$f":"IF(V28=\"\",\"\",MAX(W$24:W27)+1)","v":""},{"$f":"IF(COUNTIF($W$24:$W$28,T28)=1,INDEX($U$24:$U$28,MATCH(T28,$W$24:$W$28,0)) & \": \" & INDEX($V$24:$V$28,MATCH(T28,$W$24:$W$28,0)),EUconst_NA)","v":"netaik."},{"$f":"IF(COUNTIF($W$24:$W$28,T28)=1,INDEX($V$24:$V$28,MATCH(T28,$W$24:$W$28,0)),EUconst_NA)","v":"netaik."},{"$f":"IF(E28=\"\",\"\",MATCH(E28,AnnexIActivities,0))","v":""},null,{"$f":"AB27","v":false}]
[]
[null,null,7,{"$f":"Translations!$B$7","v":"Apie įrenginio išmetamąsias ŠESD"}]
[]
[null,null,null,"(a)",{"$f":"Translations!$B$590","v":"Stebėsenos metodai:"}]
[]
[null,null,null,null,{"$f":"Translations!$B$591","v":"Patvirtinkite, kurie iš toliau nurodytų stebėsenos metodų yra taikomi:"}]
[null,null,null,null,{"$f":"Translations!$B$115","v":"Remiantis 21 str., išmetamųjų ŠESD kiekis gali būti nustatomas skaičiavimu grindžiama metodika (skaičiavimas) arba matavimu grindžiama metodika (matavimas), išskyrus atvejus, kai SAR nustatyta, kurią metodiką privaloma taikyti."}]
[null,null,null,null,{"$f":"Translations!$B$592","v":"Svarbu! Šioje dalyje Jūsų padaryti įrašai padės Jums nustatyti, kurios ataskaitos dalys yra aktualios Jūsų įrenginiui. Remiantis šiais įrašais bus vykdomas sąlyginis formatavimas, padėsiantis Jums visose dokumento dalyse. Jokiu būdu nepalikite šių laukų tuščių. Kad galėtumėte pereiti į kitas šio šablono dalis, privalote užpildyti visus aktualius punktus."}]
[null,null,null,null,{"$f":"Translations!$B$593","v":"Jeigu dėl kurio nors kitų dalių punkto negalėsite užpildyti dalies, kurią, Jūsų įsitikinimu, privaloma užpildyti atsižvelgiant į Jūsų veiklą, dar kartą patikrinkite, ar išsamiai užpildyta 7 dalis."}]
[null,null,null,null,{"$f":"Translations!$B$594","v":"Atminkite, kad čia daromi įrašai turi derėti su atitinkamomis Jūsų naujausio patvirtinto stebėsenos plano dalimis."}]
[]
[null,null,null,null,{"$f":"Translations!$B$116","v":"CO2 skaičiavimo metodas:"},null,null,null,true,{"$f":"IF(CNTR_InstHasCalculation=TRUE,EUConst_RelSectionCalc,\"\")","v":"Aktualūs skirsniai: 7 skirsnio b punktas, 8 skirsnis."}]
[null,null,null,null,{"$f":"Translations!$B$117","v":"CO2 matavimo metodas:"},null,null,null,false,{"$f":"IF(CNTR_InstHasMeasurement=TRUE,EUConst_RelSectionMeasure,\"\")","v":""}]
[null,null,null,null,{"$f":"Translations!$B$118","v":"Alternatyvus metodas (22 str.):"},null,null,null,false,{"$f":"IF(CNTR_InstHasFallBack=TRUE,EUConst_RelSectionFallback,\"\")","v":""}]
[null,null,null,null,{"$f":"Translations!$B$119","v":"Išmetamųjų N2O stebėsena"},null,null,null,false,{"$f":"IF(CNTR_InstHasN2O=TRUE,EUConst_RelSectionN2O,\"\")","v":""}]
[null,null,null,null,{"$f":"Translations!$B$120","v":"Išmetamųjų PFC stebėsena"},null,null,null,false,{"$f":"IF(CNTR_InstHasPFC=TRUE,EUConst_RelSectionPFC,\"\")","v":""}]
[null,null,null,null,{"$f":"Translations!$B$121","v":"Perduoto / būdingojo CO2 ir CCS stebėsena"},null,null,null,false,{"$f":"IF(CNTR_InstHasTransferredCO2=TRUE,EUConst_RelSectionCCS,\"\")","v":""}]
[]
[null,null,null,"(b)",{"$f":"Translations!$B$595","v":"Aktualūs sukėlikliai:"},null,null,null,null,null,null,{"$f":"IF(OR(CNTR_InstHasCalculation=TRUE,CNTR_InstHasPFC=TRUE),EUconst_Relevant,IF(COUNTA(CNTR_ListRelevantSections)>0,EUconst_NotRelevant,EUconst_Relevant))","v":"svarbu"}]
[null,null,null,null,null,null,null,null,null,null,{"$f":"IF(L47=EUconst_NotRelevant,HYPERLINK(R48,EUconst_MsgGoOn),HYPERLINK(\"\",EUconst_MsgEnterThisSection))","v":"Įvesti duomenis į šį skirsnį"},null,null,null,null,null,"Jump Address:",{"$f":"\"#\"&ADDRESS(ROW(JUMP_6d),COLUMN(JUMP_6d))","v":"#$D$141"}]
[]
[null,null,null,null,{"$f":"Translations!$B$596","v":"Čia nurodykite visus sukėliklius (kuro rūšis, medžiagas, produktus ir kt.), kurie stebimi Jūsų įrenginyje taikant skaičiavimu grindžiamus metodus (t. y. standartinę arba masės balanso metodiką). Sukėliklio sąvoka apibrėžta rekomendaciniame dokumente Nr. 1 („Bendrosios įrenginių gairės“)."}]
[null,null,null,null,{"$f":"Translations!$B$597","v":"Kiekvienas sukėliklis turėtų būti identifikuojamas atliekant šiuos veiksmus:"}]
[null,null,null,null,"1.",{"$f":"Translations!$B$598","v":"Iš išskleidžiamojo sąrašo pasirinkite sukėliklio tipą."}]
[null,null,null,null,null,{"$f":"Translations!$B$128","v":"Sukėliklio tipas – tai tam tikrų pagal SAR taikytinų taisyklių rinkinys. Šia klasifikacija paremti tolesni įpareigojimai, pvz., taikytinos pakopos."}]
[null,null,null,null,null,{"$f":"Translations!$B$599","v":"Išskleidžiamasis sąrašas, iš kurio pasirenkamas sukėliklio tipas, grindžiamas veiklos rūšimis, jau pasirinktomis 6 dalyje."}]
[null,null,null,null,null,{"$f":"Translations!$B$600","v":"Atminkite, kad, remiantis 6 dalyje įrašytomis veiklos rūšimis, paimtomis iš I priede pateikto veiklos rūšių sąrašo, gali tapti aktualūs tam tikri veiklai būdingi sukėliklių tipai, kurie bus pateikti išskleidžiamajame sąraše „Sukėliklio tipas“."}]
[null,null,null,null,null,{"$f":"Translations!$B$601","v":"Šie veiklai būdingi sukėliklių tipai gali būti susiję su proceso metu išsiskiriančiomis ŠESD arba – tam tikrais atvejais – su taikytinais masės balanso metodais."}]
[null,null,null,null,"2.",{"$f":"Translations!$B$602","v":"Iš išskleidžiamojo sąrašo pasirinkite sukėliklio kategoriją."}]
[null,null,null,null,null,{"$f":"Translations!$B$603","v":"Sukėliklio kategorija priklauso nuo pasirinkto sukėliklio tipo ir gali būti, pvz., „dujinis – gamtinės dujos“, „skystasis – sunkusis mazutas“, „medžiaginis – žaliavinis mišinys“ ir t. t."}]
[null,null,null,null,null,{"$f":"Translations!$B$604","v":"Svarbu! Atkreipkite dėmesį, kad išskleidžiamajame sąraše visada bus galima pasirinkti „kitą“ kuro rūšį arba medžiagą. Nuoseklumo sumetimais pasirūpinkite, kad „kita“ būtų pasirenkama tik tada, kai išskleidžiamajame sąraše tikrai nėra tinkamos kuro rūšies arba medžiagos."}]
[null,null,null,null,"3.",{"$f":"Translations!$B$605","v":"Jeigu taikytina, įveskite sukėliklio pavadinimą."}]
[null,null,null,null,null,{"$f":"Translations!$B$606","v":"Jeigu sukėliklio kategorija vis dar rodo sudėtinių kuro rūšių arba medžiagų klasę, galite tiksliau apibūdinti sukėliklį įvesdami jo pavadinimą. Atsižvelgiant į sukėliklio kategoriją, šis duomenų įvedimo laukas gali būti privalomas arba neprivalomas."}]
[null,null,null,null,{"$f":"Translations!$B$607","v":"Svarbu! Nuoseklumo sumetimais sukėliklius įveskite tokia pat eilės tvarka, kaip pateikta Jūsų naujausiame patvirtintame stebėsenos plane (tokia pat eilės tvarka ir naudodami tokius pat identifikatorius)."}]
[]
[null,null,null,{"$f":"Translations!$B$608","v":"Identifikatorius"},{"$f":"Translations!$B$130","v":"Sukėliklio tipas"},null,null,null,{"$f":"Translations!$B$609","v":"Sukėliklio kategorija"},null,null,{"$f":"Translations!$B$129","v":"Sukėliklio pavadinimas"},null,{"$f":"Translations!$B$610","v":"klaida"}]
[null,null,null,"F1","Degimas: Kitas dujinis ir skystasis kuras",null,null,null,"Dujinis – Gamtinės dujos",null,null,null,null,{"$f":"IF(R65=TRUE,EUconst_ERR_Inconsistent,IF(E65=\"\",\"\",IF(OR(AND($V65=FALSE,COUNTA(E65:M65)<3),AND($V65=TRUE,COUNTA(E65:K65)<2)),EUconst_ERR_Incomplete,\"\")))","v":""},null,null,null,{"$f":"IF(E65=\"\",FALSE,COUNTIF($I$176:$I$217,E65)=0)","v":false},{"$f":"EUconst_CNTR_SourceStreamName&I65","v":"SourceStreamName_Dujinis – Gamtinės dujos"},{"$f":"EUconst_CNTR_SourceStreamClass&E65","v":"SourceStreamClass_Degimas: Kitas dujinis ir skystasis kuras"},null,{"$f":"IF(OR(COUNTA(E65:J65)<2,COUNTIF(MSPara_SourceStreamCategory,I65)=0),FALSE,INDEX(MSPara_NameOptional,MATCH(I65,MSPara_SourceStreamCategory,0)))","v":true},{"$f":"IF(COUNTIF(EUConst_TierActivityListNames,E65)=0,\"\",INDEX(MSPara_CategoryAddress,MATCH(E65,EUConst_TierActivityListNames,0)))","v":"MSParameters!$G$19:$AU$19"},{"$f":"IF(ISBLANK(E65),\"\",E65& IF(ISBLANK(I65),\"\",\"; \" &I65) & IF(ISBLANK(L65),\"\",\"; \" &L65))","v":"Degimas: Kitas dujinis ir skystasis kuras; Dujinis – Gamtinės dujos"},{"$f":"IF(ISBLANK(I65),EUconst_NA,D65&\". \"&I65 &IF(ISBLANK(L65),\"\",\"; \" & L65))","v":"F1. Dujinis – Gamtinės dujos"},{"$f":"IF(E65=\"\",\"\",IF(MATCH(E65,EUConst_TierActivityListNames,0)>40,MAX(#REF!)+1,\"\"))","v":""},null,{"$f":"L47=EUconst_NotRelevant","v":false}]
[null,null,null,"F2","Degimas: Kitas dujinis ir skystasis kuras",null,null,null,"Skystasis – Sunkusis mazutas",null,null,"Mazutas",null,"",null,null,null,false,"SourceStreamName_Skystasis – Sunkusis mazutas","SourceStreamClass_Degimas: Kitas dujinis ir skystasis kuras",null,false,"MSParameters!$G$19:$AU$19","Degimas: Kitas dujinis ir skystasis kuras; Skystasis – Sunkusis mazutas; Mazutas","F2. Skystasis – Sunkusis mazutas; Mazutas",{"$f":"IF(E66=\"\",\"\",IF(MATCH(E66,EUConst_TierActivityListNames,0)>40,MAX(Z$65:Z65)+1,\"\"))","v":""},null,{"$f":"AB65","v":false}]
[null,null,null,"F3","Degimas: Kietasis kuras",null,null,null,"Kietasis – Mediena (ne atliekos)",null,null,"Mediena",null,"",null,null,null,false,"SourceStreamName_Kietasis – Mediena (ne atliekos)","SourceStreamClass_Degimas: Kietasis kuras",null,false,"MSParameters!$G$20:$AG$20","Degimas: Kietasis kuras; Kietasis – Mediena (ne atliekos); Mediena","F3. Kietasis – Mediena (ne atliekos); Mediena",{"$f":"IF(E67=\"\",\"\",IF(MATCH(E67,EUConst_TierActivityListNames,0)>40,MAX(Z$65:Z66)+1,\"\"))","v":""},null,{"$f":"AB66","v":false}]
[null,null,null,"F4",null,null,null,null,null,null,null,null,null,"",null,null,null,false,"SourceStreamName_","SourceStreamClass_",null,false,"","","netaik.",{"$f":"IF(E68=\"\",\"\",IF(MATCH(E68,EUConst_TierActivityListNames,0)>40,MAX(Z$65:Z67)+1,\"\"))","v":""},null,false]
[null,null,null,"F5",null,null,null,null,null,null,null,null,null,"",null,null,null,false,"SourceStreamName_","SourceStreamClass_",null,false,"","","netaik.",{"$f":"IF(E69=\"\",\"\",IF(MATCH(E69,EUConst_TierActivityListNames,0)>40,MAX(Z$65:Z68)+1,\"\"))","v":""},null,false]
[null,null,null,"F6",null,null,null,null,null,null,null,null,null,"",null,null,null,false,"SourceStreamName_","SourceStreamClass_",null,false,"","","netaik.",{"$f":"IF(E70=\"\",\"\",IF(MATCH(E70,EUConst_TierActivityListNames,0)>40,MAX(Z$65:Z69)+1,\"\"))","v":""},null,false]
[null,null,null,"F7",null,null,null,null,null,null,null,null,null,"",null,null,null,false,"SourceStreamName_","SourceStreamClass_",null,false,"","","netaik.",{"$f":"IF(E71=\"\",\"\",IF(MATCH(E71,EUConst_TierActivityListNames,0)>40,MAX(Z$65:Z70)+1,\"\"))","v":""},null,false]
[null,null,null,"F8",null,null,null,null,null,null,null,null,null,"",null,null,null,false,"SourceStreamName_","SourceStreamClass_",null,false,"","","netaik.",{"$f":"IF(E72=\"\",\"\",IF(MATCH(E72,EUConst_TierActivityListNames,0)>40,MAX(Z$65:Z71)+1,\"\"))","v":""},null,false]
[null,null,null,"F9",null,null,null,null,null,null,null,null,null,"",null,null,null,false,"SourceStreamName_","SourceStreamClass_",null,false,"","","netaik.",{"$f":"IF(E73=\"\",\"\",IF(MATCH(E73,EUConst_TierActivityListNames,0)>40,MAX(Z$65:Z72)+1,\"\"))","v":""},null,false]
[null,null,null,"F10",null,null,null,null,null,null,null,null,null,"",null,null,null,false,"SourceStreamName_","SourceStreamClass_",null,false,"","","netaik.",{"$f":"IF(E74=\"\",\"\",IF(MATCH(E74,EUConst_TierActivityListNames,0)>40,MAX(Z$65:Z73)+1,\"\"))","v":""},null,false]
[null,null,null,"F11",null,null,null,null,null,null,null,null,null,"",null,null,null,false,"SourceStreamName_","SourceStreamClass_",null,false,"","","netaik.",{"$f":"IF(E75=\"\",\"\",IF(MATCH(E75,EUConst_TierActivityListNames,0)>40,MAX(Z$65:Z74)+1,\"\"))","v":""},null,false]
[null,null,null,"F12",null,null,null,null,null,null,null,null,null,"",null,null,null,false,"SourceStreamName_","SourceStreamClass_",null,false,"","","netaik.",{"$f":"IF(E76=\"\",\"\",IF(MATCH(E76,EUConst_TierActivityListNames,0)>40,MAX(Z$65:Z75)+1,\"\"))","v":""},null,false]
[null,null,null,"F13",null,null,null,null,null,null,null,null,null,"",null,null,null,false,"SourceStreamName_","SourceStreamClass_",null,false,"","","netaik.",{"$f":"IF(E77=\"\",\"\",IF(MATCH(E77,EUConst_TierActivityListNames,0)>40,MAX(Z$65:Z76)+1,\"\"))","v":""},null,false]
[null,null,null,"F14",null,null,null,null,null,null,null,null,null,"",null,null,null,false,"SourceStreamName_","SourceStreamClass_",null,false,"","","netaik.",{"$f":"IF(E78=\"\",\"\",IF(MATCH(E78,EUConst_TierActivityListNames,0)>40,MAX(Z$65:Z77)+1,\"\"))","v":""},null,false]
[null,null,null,"F15",null,null,null,null,null,null,null,null,null,"",null,null,null,false,"SourceStreamName_","SourceStreamClass_",null,false,"","","netaik.",{"$f":"IF(E79=\"\",\"\",IF(MATCH(E79,EUConst_TierActivityListNames,0)>40,MAX(Z$65:Z78)+1,\"\"))","v":""},null,false]
[null,null,null,"F16",null,null,null,null,null,null,null,null,null,"",null,null,null,false,"SourceStreamName_","SourceStreamClass_",null,false,"","","netaik.",{"$f":"IF(E80=\"\",\"\",IF(MATCH(E80,EUConst_TierActivityListNames,0)>40,MAX(Z$65:Z79)+1,\"\"))","v":""},null,false]
[null,null,null,"F17",null,null,null,null,null,null,null,null,null,"",null,null,null,false,"SourceStreamName_","SourceStreamClass_",null,false,"","","netaik.",{"$f":"IF(E81=\"\",\"\",IF(MATCH(E81,EUConst_TierActivityListNames,0)>40,MAX(Z$65:Z80)+1,\"\"))","v":""},null,false]
[null,null,null,"F18",null,null,null,null,null,null,null,null,null,"",null,null,null,false,"SourceStreamName_","SourceStreamClass_",null,false,"","","netaik.",{"$f":"IF(E82=\"\",\"\",IF(MATCH(E82,EUConst_TierActivityListNames,0)>40,MAX(Z$65:Z81)+1,\"\"))","v":""},null,false]
[null,null,null,"F19",null,null,null,null,null,null,null,null,null,"",null,null,null,false,"SourceStreamName_","SourceStreamClass_",null,false,"","","netaik.",{"$f":"IF(E83=\"\",\"\",IF(MATCH(E83,EUConst_TierActivityListNames,0)>40,MAX(Z$65:Z82)+1,\"\"))","v":""},null,false]
[null,null,null,"F20",null,null,null,null,null,null,null,null,null,"",null,null,null,false,"SourceStreamName_","SourceStreamClass_",null,false,"","","netaik.",{"$f":"IF(E84=\"\",\"\",IF(MATCH(E84,EUConst_TierActivityListNames,0)>40,MAX(Z$65:Z83)+1,\"\"))","v":""},null,false]
[null,null,null,"F21",null,null,null,null,null,null,null,null,null,"",null,null,null,false,"SourceStreamName_","SourceStreamClass_",null,false,"","","netaik.",{"$f":"IF(E85=\"\",\"\",IF(MATCH(E85,EUConst_TierActivityListNames,0)>40,MAX(Z$65:Z84)+1,\"\"))","v":""},null,false]
[null,null,null,"F22",null,null,null,null,null,null,null,null,null,"",null,null,null,false,"SourceStreamName_","SourceStreamClass_",null,false,"","","netaik.",{"$f":"IF(E86=\"\",\"\",IF(MATCH(E86,EUConst_TierActivityListNames,0)>40,MAX(Z$65:Z85)+1,\"\"))","v":""},null,false]
[null,null,null,"F23",null,null,null,null,null,null,null,null,null,"",null,null,null,false,"SourceStreamName_","SourceStreamClass_",null,false,"","","netaik.",{"$f":"IF(E87=\"\",\"\",IF(MATCH(E87,EUConst_TierActivityListNames,0)>40,MAX(Z$65:Z86)+1,\"\"))","v":""},null,false]
[null,null,null,"F24",null,null,null,null,null,null,null,null,null,"",null,null,null,false,"SourceStreamName_","SourceStreamClass_",null,false,"","","netaik.",{"$f":"IF(E88=\"\",\"\",IF(MATCH(E88,EUConst_TierActivityListNames,0)>40,MAX(Z$65:Z87)+1,\"\"))","v":""},null,false]
[null,null,null,"F25",null,null,null,null,null,null,null,null,null,"",null,null,null,false,"SourceStreamName_","SourceStreamClass_",null,false,"","","netaik.",{"$f":"IF(E89=\"\",\"\",IF(MATCH(E89,EUConst_TierActivityListNames,0)>40,MAX(Z$65:Z88)+1,\"\"))","v":""},null,false]
[null,null,null,"F26",null,null,null,null,null,null,null,null,null,"",null,null,null,false,"SourceStreamName_","SourceStreamClass_",null,false,"","","netaik.",{"$f":"IF(E90=\"\",\"\",IF(MATCH(E90,EUConst_TierActivityListNames,0)>40,MAX(Z$65:Z89)+1,\"\"))","v":""},null,false]
[null,null,null,"F27",null,null,null,null,null,null,null,null,null,"",null,null,null,false,"SourceStreamName_","SourceStreamClass_",null,false,"","","netaik.",{"$f":"IF(E91=\"\",\"\",IF(MATCH(E91,EUConst_TierActivityListNames,0)>40,MAX(Z$65:Z90)+1,\"\"))","v":""},null,false]
[null,null,null,"F28",null,null,null,null,null,null,null,null,null,"",null,null,null,false,"SourceStreamName_","SourceStreamClass_",null,false,"","","netaik.",{"$f":"IF(E92=\"\",\"\",IF(MATCH(E92,EUConst_TierActivityListNames,0)>40,MAX(Z$65:Z91)+1,\"\"))","v":""},null,false]
[null,null,null,"F29",null,null,null,null,null,null,null,null,null,"",null,null,null,false,"SourceStreamName_","SourceStreamClass_",null,false,"","","netaik.",{"$f":"IF(E93=\"\",\"\",IF(MATCH(E93,EUConst_TierActivityListNames,0)>40,MAX(Z$65:Z92)+1,\"\"))","v":""},null,false]
[null,null,null,"F30",null,null,null,null,null,null,null,null,null,"",null,null,null,false,"SourceStreamName_","SourceStreamClass_",null,false,"","","netaik.",{"$f":"IF(E94=\"\",\"\",IF(MATCH(E94,EUConst_TierActivityListNames,0)>40,MAX(Z$65:Z93)+1,\"\"))","v":""},null,false]
[null,null,null,"F31",null,null,null,null,null,null,null,null,null,"",null,null,null,false,"SourceStreamName_","SourceStreamClass_",null,false,"","","netaik.",{"$f":"IF(E95=\"\",\"\",IF(MATCH(E95,EUConst_TierActivityListNames,0)>40,MAX(Z$65:Z94)+1,\"\"))","v":""},null,false]
[null,null,null,"F32",null,null,null,null,null,null,null,null,null,"",null,null,null,false,"SourceStreamName_","SourceStreamClass_",null,false,"","","netaik.",{"$f":"IF(E96=\"\",\"\",IF(MATCH(E96,EUConst_TierActivityListNames,0)>40,MAX(Z$65:Z95)+1,\"\"))","v":""},null,false]
[null,null,null,"F33",null,null,null,null,null,null,null,null,null,{"$f":"IF(R97=TRUE,EUconst_ERR_Inconsistent,IF(E97=\"\",\"\",IF(OR(AND($V97=FALSE,COUNTA(E97:M97)<3),AND($V97=TRUE,COUNTA(E97:K97)<2)),EUconst_ERR_Incomplete,\"\")))","v":""},null,null,null,{"$f":"IF(E97=\"\",FALSE,COUNTIF($I$176:$I$217,E97)=0)","v":false},{"$f":"EUconst_CNTR_SourceStreamName&I97","v":"SourceStreamName_"},{"$f":"EUconst_CNTR_SourceStreamClass&E97","v":"SourceStreamClass_"},null,{"$f":"IF(OR(COUNTA(E97:J97)<2,COUNTIF(MSPara_SourceStreamCategory,I97)=0),FALSE,INDEX(MSPara_NameOptional,MATCH(I97,MSPara_SourceStreamCategory,0)))","v":false},{"$f":"IF(COUNTIF(EUConst_TierActivityListNames,E97)=0,\"\",INDEX(MSPara_CategoryAddress,MATCH(E97,EUConst_TierActivityListNames,0)))","v":""},{"$f":"IF(ISBLANK(E97),\"\",E97& IF(ISBLANK(I97),\"\",\"; \" &I97) & IF(ISBLANK(L97),\"\",\"; \" &L97))","v":""},{"$f":"IF(ISBLANK(I97),EUconst_NA,D97&\". \"&I97 &IF(ISBLANK(L97),\"\",\"; \" & L97))","v":"netaik."},{"$f":"IF(E97=\"\",\"\",IF(MATCH(E97,EUConst_TierActivityListNames,0)>40,MAX(Z$65:Z96)+1,\"\"))","v":""},null,false]
[null,null,null,"F34",null,null,null,null,null,null,null,null,null,"",null,null,null,false,"SourceStreamName_","SourceStreamClass_",null,false,"","","netaik.",{"$f":"IF(E98=\"\",\"\",IF(MATCH(E98,EUConst_TierActivityListNames,0)>40,MAX(Z$65:Z97)+1,\"\"))","v":""},null,false]
[null,null,null,"F35",null,null,null,null,null,null,null,null,null,"",null,null,null,false,"SourceStreamName_","SourceStreamClass_",null,false,"","","netaik.",{"$f":"IF(E99=\"\",\"\",IF(MATCH(E99,EUConst_TierActivityListNames,0)>40,MAX(Z$65:Z98)+1,\"\"))","v":""},null,false]
[null,null,null,"F36",null,null,null,null,null,null,null,null,null,"",null,null,null,false,"SourceStreamName_","SourceStreamClass_",null,false,"","","netaik.",{"$f":"IF(E100=\"\",\"\",IF(MATCH(E100,EUConst_TierActivityListNames,0)>40,MAX(Z$65:Z99)+1,\"\"))","v":""},null,false]
[null,null,null,"F37",null,null,null,null,null,null,null,null,null,"",null,null,null,false,"SourceStreamName_","SourceStreamClass_",null,false,"","","netaik.",{"$f":"IF(E101=\"\",\"\",IF(MATCH(E101,EUConst_TierActivityListNames,0)>40,MAX(Z$65:Z100)+1,\"\"))","v":""},null,false]
[null,null,null,"F38",null,null,null,null,null,null,null,null,null,"",null,null,null,false,"SourceStreamName_","SourceStreamClass_",null,false,"","","netaik.",{"$f":"IF(E102=\"\",\"\",IF(MATCH(E102,EUConst_TierActivityListNames,0)>40,MAX(Z$65:Z101)+1,\"\"))","v":""},null,false]
[null,null,null,"F39",null,null,null,null,null,null,null,null,null,"",null,null,null,false,"SourceStreamName_","SourceStreamClass_",null,false,"","","netaik.",{"$f":"IF(E103=\"\",\"\",IF(MATCH(E103,EUConst_TierActivityListNames,0)>40,MAX(Z$65:Z102)+1,\"\"))","v":""},null,false]
[null,null,null,"F40",null,null,null,null,null,null,null,null,null,"",null,null,null,false,"SourceStreamName_","SourceStreamClass_",null,false,"","","netaik.",{"$f":"IF(E104=\"\",\"\",IF(MATCH(E104,EUConst_TierActivityListNames,0)>40,MAX(Z$65:Z103)+1,\"\"))","v":""},null,false]
[null,null,null,"F41",null,null,null,null,null,null,null,null,null,"",null,null,null,false,"SourceStreamName_","SourceStreamClass_",null,false,"","","netaik.",{"$f":"IF(E105=\"\",\"\",IF(MATCH(E105,EUConst_TierActivityListNames,0)>40,MAX(Z$65:Z104)+1,\"\"))","v":""},null,false]
[null,null,null,"F42",null,null,null,null,null,null,null,null,null,"",null,null,null,false,"SourceStreamName_","SourceStreamClass_",null,false,"","","netaik.",{"$f":"IF(E106=\"\",\"\",IF(MATCH(E106,EUConst_TierActivityListNames,0)>40,MAX(Z$65:Z105)+1,\"\"))","v":""},null,false]
[null,null,null,"F43",null,null,null,null,null,null,null,null,null,"",null,null,null,false,"SourceStreamName_","SourceStreamClass_",null,false,"","","netaik.",{"$f":"IF(E107=\"\",\"\",IF(MATCH(E107,EUConst_TierActivityListNames,0)>40,MAX(Z$65:Z106)+1,\"\"))","v":""},null,false]
[null,null,null,"F44",null,null,null,null,null,null,null,null,null,"",null,null,null,false,"SourceStreamName_","SourceStreamClass_",null,false,"","","netaik.",{"$f":"IF(E108=\"\",\"\",IF(MATCH(E108,EUConst_TierActivityListNames,0)>40,MAX(Z$65:Z107)+1,\"\"))","v":""},null,false]
[null,null,null,"F45",null,null,null,null,null,null,null,null,null,"",null,null,null,false,"SourceStreamName_","SourceStreamClass_",null,false,"","","netaik.",{"$f":"IF(E109=\"\",\"\",IF(MATCH(E109,EUConst_TierActivityListNames,0)>40,MAX(Z$65:Z108)+1,\"\"))","v":""},null,false]
[null,null,null,"F46",null,null,null,null,null,null,null,null,null,"",null,null,null,false,"SourceStreamName_","SourceStreamClass_",null,false,"","","netaik.",{"$f":"IF(E110=\"\",\"\",IF(MATCH(E110,EUConst_TierActivityListNames,0)>40,MAX(Z$65:Z109)+1,\"\"))","v":""},null,false]
[null,null,null,"F47",null,null,null,null,null,null,null,null,null,"",null,null,null,false,"SourceStreamName_","SourceStreamClass_",null,false,"","","netaik.",{"$f":"IF(E111=\"\",\"\",IF(MATCH(E111,EUConst_TierActivityListNames,0)>40,MAX(Z$65:Z110)+1,\"\"))","v":""},null,false]
[null,null,null,"F48",null,null,null,null,null,null,null,null,null,"",null,null,null,false,"SourceStreamName_","SourceStreamClass_",null,false,"","","netaik.",{"$f":"IF(E112=\"\",\"\",IF(MATCH(E112,EUConst_TierActivityListNames,0)>40,MAX(Z$65:Z111)+1,\"\"))","v":""},null,false]
[null,null,null,"F49",null,null,null,null,null,null,null,null,null,"",null,null,null,false,"SourceStreamName_","SourceStreamClass_",null,false,"","","netaik.",{"$f":"IF(E113=\"\",\"\",IF(MATCH(E113,EUConst_TierActivityListNames,0)>40,MAX(Z$65:Z112)+1,\"\"))","v":""},null,false]
[null,null,null,"F50",null,null,null,null,null,null,null,null,null,"",null,null,null,false,"SourceStreamName_","SourceStreamClass_",null,false,"","","netaik.",{"$f":"IF(E114=\"\",\"\",IF(MATCH(E114,EUConst_TierActivityListNames,0)>40,MAX(Z$65:Z113)+1,\"\"))","v":""},null,{"$f":"AB113","v":false}]
[null,null,null,"F51",null,null,null,null,null,null,null,null,null,"",null,null,null,false,"SourceStreamName_","SourceStreamClass_",null,false,"","","netaik.",{"$f":"IF(E115=\"\",\"\",IF(MATCH(E115,EUConst_TierActivityListNames,0)>40,MAX(Z$65:Z114)+1,\"\"))","v":""},null,false]
[null,null,null,"F52",null,null,null,null,null,null,null,null,null,"",null,null,null,false,"SourceStreamName_","SourceStreamClass_",null,false,"","","netaik.",{"$f":"IF(E116=\"\",\"\",IF(MATCH(E116,EUConst_TierActivityListNames,0)>40,MAX(Z$65:Z115)+1,\"\"))","v":""},null,false]
[null,null,null,"F53",null,null,null,null,null,null,null,null,null,"",null,null,null,false,"SourceStreamName_","SourceStreamClass_",null,false,"","","netaik.",{"$f":"IF(E117=\"\",\"\",IF(MATCH(E117,EUConst_TierActivityListNames,0)>40,MAX(Z$65:Z116)+1,\"\"))","v":""},null,false]
[null,null,null,"F54",null,null,null,null,null,null,null,null,null,"",null,null,null,false,"SourceStreamName_","SourceStreamClass_",null,false,"","","netaik.",{"$f":"IF(E118=\"\",\"\",IF(MATCH(E118,EUConst_TierActivityListNames,0)>40,MAX(Z$65:Z117)+1,\"\"))","v":""},null,false]
[null,null,null,"F55",null,null,null,null,null,null,null,null,null,"",null,null,null,false,"SourceStreamName_","SourceStreamClass_",null,false,"","","netaik.",{"$f":"IF(E119=\"\",\"\",IF(MATCH(E119,EUConst_TierActivityListNames,0)>40,MAX(Z$65:Z118)+1,\"\"))","v":""},null,false]
[null,null,null,"F56",null,null,null,null,null,null,null,null,null,"",null,null,null,false,"SourceStreamName_","SourceStreamClass_",null,false,"","","netaik.",{"$f":"IF(E120=\"\",\"\",IF(MATCH(E120,EUConst_TierActivityListNames,0)>40,MAX(Z$65:Z119)+1,\"\"))","v":""},null,false]
[null,null,null,"F57",null,null,null,null,null,null,null,null,null,"",null,null,null,false,"SourceStreamName_","SourceStreamClass_",null,false,"","","netaik.",{"$f":"IF(E121=\"\",\"\",IF(MATCH(E121,EUConst_TierActivityListNames,0)>40,MAX(Z$65:Z120)+1,\"\"))","v":""},null,false]
[null,null,null,"F58",null,null,null,null,null,null,null,null,null,"",null,null,null,false,"SourceStreamName_","SourceStreamClass_",null,false,"","","netaik.",{"$f":"IF(E122=\"\",\"\",IF(MATCH(E122,EUConst_TierActivityListNames,0)>40,MAX(Z$65:Z121)+1,\"\"))","v":""},null,false]
[null,null,null,"F59",null,null,null,null,null,null,null,null,null,"",null,null,null,false,"SourceStreamName_","SourceStreamClass_",null,false,"","","netaik.",{"$f":"IF(E123=\"\",\"\",IF(MATCH(E123,EUConst_TierActivityListNames,0)>40,MAX(Z$65:Z122)+1,\"\"))","v":""},null,false]
[null,null,null,"F60",null,null,null,null,null,null,null,null,null,"",null,null,null,false,"SourceStreamName_","SourceStreamClass_",null,false,"","","netaik.",{"$f":"IF(E124=\"\",\"\",IF(MATCH(E124,EUConst_TierActivityListNames,0)>40,MAX(Z$65:Z123)+1,\"\"))","v":""},null,false]
[null,null,null,"F61",null,null,null,null,null,null,null,null,null,"",null,null,null,false,"SourceStreamName_","SourceStreamClass_",null,false,"","","netaik.",{"$f":"IF(E125=\"\",\"\",IF(MATCH(E125,EUConst_TierActivityListNames,0)>40,MAX(Z$65:Z124)+1,\"\"))","v":""},null,false]
[null,null,null,"F62",null,null,null,null,null,null,null,null,null,"",null,null,null,false,"SourceStreamName_","SourceStreamClass_",null,false,"","","netaik.",{"$f":"IF(E126=\"\",\"\",IF(MATCH(E126,EUConst_TierActivityListNames,0)>40,MAX(Z$65:Z125)+1,\"\"))","v":""},null,false]
[null,null,null,"F63",null,null,null,null,null,null,null,null,null,"",null,null,null,false,"SourceStreamName_","SourceStreamClass_",null,false,"","","netaik.",{"$f":"IF(E127=\"\",\"\",IF(MATCH(E127,EUConst_TierActivityListNames,0)>40,MAX(Z$65:Z126)+1,\"\"))","v":""},null,false]
[null,null,null,"F64",null,null,null,null,null,null,null,null,null,"",null,null,null,false,"SourceStreamName_","SourceStreamClass_",null,false,"","","netaik.",{"$f":"IF(E128=\"\",\"\",IF(MATCH(E128,EUConst_TierActivityListNames,0)>40,MAX(Z$65:Z127)+1,\"\"))","v":""},null,false]
[null,null,null,"F65",null,null,null,null,null,null,null,null,null,{"$f":"IF(R129=TRUE,EUconst_ERR_Inconsistent,IF(E129=\"\",\"\",IF(OR(AND($V129=FALSE,COUNTA(E129:M129)<3),AND($V129=TRUE,COUNTA(E129:K129)<2)),EUconst_ERR_Incomplete,\"\")))","v":""},null,null,null,{"$f":"IF(E129=\"\",FALSE,COUNTIF($I$176:$I$217,E129)=0)","v":false},{"$f":"EUconst_CNTR_SourceStreamName&I129","v":"SourceStreamName_"},{"$f":"EUconst_CNTR_SourceStreamClass&E129","v":"SourceStreamClass_"},null,{"$f":"IF(OR(COUNTA(E129:J129)<2,COUNTIF(MSPara_SourceStreamCategory,I129)=0),FALSE,INDEX(MSPara_NameOptional,MATCH(I129,MSPara_SourceStreamCategory,0)))","v":false},{"$f":"IF(COUNTIF(EUConst_TierActivityListNames,E129)=0,\"\",INDEX(MSPara_CategoryAddress,MATCH(E129,EUConst_TierActivityListNames,0)))","v":""},{"$f":"IF(ISBLANK(E129),\"\",E129& IF(ISBLANK(I129),\"\",\"; \" &I129) & IF(ISBLANK(L129),\"\",\"; \" &L129))","v":""},{"$f":"IF(ISBLANK(I129),EUconst_NA,D129&\". \"&I129 &IF(ISBLANK(L129),\"\",\"; \" & L129))","v":"netaik."},{"$f":"IF(E129=\"\",\"\",IF(MATCH(E129,EUConst_TierActivityListNames,0)>40,MAX(Z$65:Z128)+1,\"\"))","v":""},null,false]
[null,null,null,"F66",null,null,null,null,null,null,null,null,null,"",null,null,null,false,"SourceStreamName_","SourceStreamClass_",null,false,"","","netaik.",{"$f":"IF(E130=\"\",\"\",IF(MATCH(E130,EUConst_TierActivityListNames,0)>40,MAX(Z$65:Z129)+1,\"\"))","v":""},null,false]
[null,null,null,"F67",null,null,null,null,null,null,null,null,null,"",null,null,null,false,"SourceStreamName_","SourceStreamClass_",null,false,"","","netaik.",{"$f":"IF(E131=\"\",\"\",IF(MATCH(E131,EUConst_TierActivityListNames,0)>40,MAX(Z$65:Z130)+1,\"\"))","v":""},null,false]
[null,null,null,"F68",null,null,null,null,null,null,null,null,null,"",null,null,null,false,"SourceStreamName_","SourceStreamClass_",null,false,"","","netaik.",{"$f":"IF(E132=\"\",\"\",IF(MATCH(E132,EUConst_TierActivityListNames,0)>40,MAX(Z$65:Z131)+1,\"\"))","v":""},null,false]
[null,null,null,"F69",null,null,null,null,null,null,null,null,null,"",null,null,null,false,"SourceStreamName_","SourceStreamClass_",null,false,"","","netaik.",{"$f":"IF(E133=\"\",\"\",IF(MATCH(E133,EUConst_TierActivityListNames,0)>40,MAX(Z$65:Z132)+1,\"\"))","v":""},null,false]
[null,null,null,"F70",null,null,null,null,null,null,null,null,null,"",null,null,null,false,"SourceStreamName_","SourceStreamClass_",null,false,"","","netaik.",{"$f":"IF(E134=\"\",\"\",IF(MATCH(E134,EUConst_TierActivityListNames,0)>40,MAX(Z$65:Z133)+1,\"\"))","v":""},null,false]
[null,null,null,"F71",null,null,null,null,null,null,null,null,null,"",null,null,null,false,"SourceStreamName_","SourceStreamClass_",null,false,"","","netaik.",{"$f":"IF(E135=\"\",\"\",IF(MATCH(E135,EUConst_TierActivityListNames,0)>40,MAX(Z$65:Z134)+1,\"\"))","v":""},null,false]
[null,null,null,"F72",null,null,null,null,null,null,null,null,null,"",null,null,null,false,"SourceStreamName_","SourceStreamClass_",null,false,"","","netaik.",{"$f":"IF(E136=\"\",\"\",IF(MATCH(E136,EUConst_TierActivityListNames,0)>40,MAX(Z$65:Z135)+1,\"\"))","v":""},null,false]
[null,null,null,"F73",null,null,null,null,null,null,null,null,null,"",null,null,null,false,"SourceStreamName_","SourceStreamClass_",null,false,"","","netaik.",{"$f":"IF(E137=\"\",\"\",IF(MATCH(E137,EUConst_TierActivityListNames,0)>40,MAX(Z$65:Z136)+1,\"\"))","v":""},null,false]
[null,null,null,"F74",null,null,null,null,null,null,null,null,null,"",null,null,null,false,"SourceStreamName_","SourceStreamClass_",null,false,"","","netaik.",{"$f":"IF(E138=\"\",\"\",IF(MATCH(E138,EUConst_TierActivityListNames,0)>40,MAX(Z$65:Z137)+1,\"\"))","v":""},null,false]
[null,null,null,"F75",null,null,null,null,null,null,null,null,null,"",null,null,null,false,"SourceStreamName_","SourceStreamClass_",null,false,"","","netaik.",{"$f":"IF(E139=\"\",\"\",IF(MATCH(E139,EUConst_TierActivityListNames,0)>40,MAX(Z$65:Z138)+1,\"\"))","v":""},null,{"$f":"AB113","v":false}]
["ADD_SourceStream"]
[null,null,null,"(c) ",{"$f":"Translations!$B$122","v":"Matavimo taškai, kuriuose įrengtos nuolatinio matavimo sistemos:"},null,null,null,null,null,null,{"$f":"IF(OR(CNTR_InstHasMeasurement=TRUE,CNTR_InstHasN2O=TRUE,CNTR_InstHasTransferredCO2=TRUE),EUconst_Relevant,IF(COUNTA(CNTR_ListRelevantSections)>0,EUconst_NotRelevant,EUconst_Relevant))","v":"nesvarbu"}]
[null,null,null,null,null,null,null,null,null,null,{"$f":"IF(L141=EUconst_NotRelevant,HYPERLINK(R142,EUconst_MsgGoOn),HYPERLINK(\"\",EUconst_MsgEnterThisSection))","v":"Prašome pildyti tolesnius punktus"},null,null,null,null,null,"Jump Address:",{"$f":"\"#\"&ADDRESS(ROW(F163),COLUMN(F163))","v":"#$F$163"}]
[]
[null,null,null,null,{"$f":"Translations!$B$123","v":"Išvardykite ir apibūdinkite visus matavimo taškus, kuriuose ŠESD matuojamos nuolatinio išmetamųjų ŠESD kiekio matavimo sistemomis (CEMS). Tai apima matavimo taškus vamzdynuose, naudojamuose CO2 transportui į geologinio saugojimo vietą."}]
[null,null,null,null,{"$f":"Translations!$B$615","v":"Jeigu pirmiau esate nurodę, kad netaikoma jokių matavimu grindžiamų metodų, nieko įrašyti nereikia."}]
[null,null,null,null,{"$f":"Translations!$B$616","v":"Svarbu! Nuoseklumo sumetimais matavimo taškus įveskite tokia pat eilės tvarka, kaip pateikta Jūsų naujausiame patvirtintame stebėsenos plane (tokia pat eilės tvarka ir naudodami tokius pat identifikatorius)."}]
[]
[null,null,null,null,{"$f":"Translations!$B$124","v":"matavimo taško nuoroda M1, M2,..."},{"$f":"Translations!$B$125","v":"Apibūdinimas"},null,null,null,null,null,null,{"$f":"Translations!$B$126","v":"Išmatuotas ŠESD kiekis"},null,null,null,null,null,null,null,null,null,null,null,"CNTR_MeasurementPoints",null,null,"make grey?"]
["HIDE_Example",null,null,null,{"$f":"Translations!$B$617","v":"Pavyzdys M01"},{"$f":"Translations!$B$127","v":"Anglimis kūrenamo katilo kaminas, A matavimo platforma"},null,null,null,null,null,null,"CO2"]
[null,null,null,null,"M1",null,null,null,null,null,null,null,null,null,null,null,{"$f":"EUconst_CNTR_SourceCategory&E150","v":"SourceCategory_M1"},null,null,null,null,null,null,null,{"$f":"IF(COUNTA(F150:N150)=0,EUconst_NA,E150&\". \"&F150)","v":"netaik."},null,null,{"$f":"L141=EUconst_NotRelevant","v":true}]
[null,null,null,null,"M2",null,null,null,null,null,null,null,null,null,null,null,"SourceCategory_M2",null,null,null,null,null,null,null,"netaik.",null,null,{"$f":"AB150","v":true}]
[null,null,null,null,"M3",null,null,null,null,null,null,null,null,null,null,null,"SourceCategory_M3",null,null,null,null,null,null,null,"netaik.",null,null,true]
[null,null,null,null,"M4",null,null,null,null,null,null,null,null,null,null,null,"SourceCategory_M4",null,null,null,null,null,null,null,"netaik.",null,null,true]
[null,null,null,null,"M5",null,null,null,null,null,null,null,null,null,null,null,"SourceCategory_M5",null,null,null,null,null,null,null,"netaik.",null,null,true]
[null,null,null,null,"M6",null,null,null,null,null,null,null,null,null,null,null,"SourceCategory_M6",null,null,null,null,null,null,null,"netaik.",null,null,true]
[null,null,null,null,"M7",null,null,null,null,null,null,null,null,null,null,null,"SourceCategory_M7",null,null,null,null,null,null,null,"netaik.",null,null,true]
[null,null,null,null,"M8",null,null,null,null,null,null,null,null,null,null,null,"SourceCategory_M8",null,null,null,null,null,null,null,"netaik.",null,null,true]
[null,null,null,null,"M9",null,null,null,null,null,null,null,null,null,null,null,"SourceCategory_M9",null,null,null,null,null,null,null,"netaik.",null,null,true]
[null,null,null,null,"M10",null,null,null,null,null,null,null,null,null,null,null,"SourceCategory_M10",null,null,null,null,null,null,null,"netaik.",null,null,true]
["ADD_MeasurementPoint"]
[]
[]
[null,null,null,null,null,{"$f":"EUconst_MsgNextSheet","v":"<<< Į kitą lapą pereisite paspaudę čia >>> "}]
[]
[null,null,null,null,null,10]
["ausblenden","End","End","End","End","End","End","End","End","End","End","End","End","End",null,"End","End","End","End","End","End","End","End","End","End","End","End","End"]
["ausblenden"]
["ausblenden"]
["ausblenden",null,null,null,null,{"$f":"IF(ISBLANK(E24),\"\",E24)","v":"Kuro deginimas"},{"$f":"IF($F169=\"\",\"\",INDEX(EUwideConstants!E$274:E$301,MATCH($F169,AnnexIActivities,0)))","v":0},{"$f":"IF($F169=\"\",\"\",INDEX(EUwideConstants!F$274:F$301,MATCH($F169,AnnexIActivities,0)))","v":0},{"$f":"IF($F169=\"\",\"\",INDEX(EUwideConstants!G$274:G$301,MATCH($F169,AnnexIActivities,0)))","v":0},{"$f":"IF($F169=\"\",\"\",INDEX(EUwideConstants!H$274:H$301,MATCH($F169,AnnexIActivities,0)))","v":0}]
["ausblenden",null,null,null,null,{"$f":"IF(ISBLANK(E25),\"\",E25)","v":""},{"$f":"IF($F170=\"\",\"\",INDEX(EUwideConstants!E$274:E$301,MATCH($F170,AnnexIActivities,0)))","v":""},{"$f":"IF($F170=\"\",\"\",INDEX(EUwideConstants!F$274:F$301,MATCH($F170,AnnexIActivities,0)))","v":""},{"$f":"IF($F170=\"\",\"\",INDEX(EUwideConstants!G$274:G$301,MATCH($F170,AnnexIActivities,0)))","v":""},{"$f":"IF($F170=\"\",\"\",INDEX(EUwideConstants!H$274:H$301,MATCH($F170,AnnexIActivities,0)))","v":""}]
["ausblenden",null,null,null,null,{"$f":"IF(ISBLANK(E26),\"\",E26)","v":""},{"$f":"IF($F171=\"\",\"\",INDEX(EUwideConstants!E$274:E$301,MATCH($F171,AnnexIActivities,0)))","v":""},{"$f":"IF($F171=\"\",\"\",INDEX(EUwideConstants!F$274:F$301,MATCH($F171,AnnexIActivities,0)))","v":""},{"$f":"IF($F171=\"\",\"\",INDEX(EUwideConstants!G$274:G$301,MATCH($F171,AnnexIActivities,0)))","v":""},{"$f":"IF($F171=\"\",\"\",INDEX(EUwideConstants!H$274:H$301,MATCH($F171,AnnexIActivities,0)))","v":""}]
["ausblenden",null,null,null,null,{"$f":"IF(ISBLANK(E27),\"\",E27)","v":""},{"$f":"IF($F172=\"\",\"\",INDEX(EUwideConstants!E$274:E$301,MATCH($F172,AnnexIActivities,0)))","v":""},{"$f":"IF($F172=\"\",\"\",INDEX(EUwideConstants!F$274:F$301,MATCH($F172,AnnexIActivities,0)))","v":""},{"$f":"IF($F172=\"\",\"\",INDEX(EUwideConstants!G$274:G$301,MATCH($F172,AnnexIActivities,0)))","v":""},{"$f":"IF($F172=\"\",\"\",INDEX(EUwideConstants!H$274:H$301,MATCH($F172,AnnexIActivities,0)))","v":""}]
["ausblenden",null,null,null,null,{"$f":"IF(ISBLANK(E28),\"\",E28)","v":""},{"$f":"IF($F173=\"\",\"\",INDEX(EUwideConstants!E$274:E$301,MATCH($F173,AnnexIActivities,0)))","v":""},{"$f":"IF($F173=\"\",\"\",INDEX(EUwideConstants!F$274:F$301,MATCH($F173,AnnexIActivities,0)))","v":""},{"$f":"IF($F173=\"\",\"\",INDEX(EUwideConstants!G$274:G$301,MATCH($F173,AnnexIActivities,0)))","v":""},{"$f":"IF($F173=\"\",\"\",INDEX(EUwideConstants!H$274:H$301,MATCH($F173,AnnexIActivities,0)))","v":""}]
["ausblenden"]
["ausblenden",null,null,null,null,null,null,null,"source stream type",null,"source stream name",null,"Range"]
["ausblenden",null,null,null,null,1,{"$f":"INDEX(EUConst_TierActivityListNames,F176)","v":"Degimas: Komercinis standartinių rūšių kuras"},{"$f":"F176","v":1},{"$f":"IF(ISERROR(INDEX(EUConst_TierActivityListNames,MATCH(F176,$H$176:$H$217,0))),\"\",INDEX(EUConst_TierActivityListNames,MATCH(F176,$H$176:$H$217,0)))","v":"Degimas: Komercinis standartinių rūšių kuras"},null,null,null,{"$f":"\"$i$\" & ROW($I$176) & \":$i$\" & ROW($I$176)-1+MAX($H$176:$H$217)","v":"$i$176:$i$182"}]
["ausblenden",null,null,null,null,2,{"$f":"INDEX(EUConst_TierActivityListNames,F177)","v":"Degimas: Kitas dujinis ir skystasis kuras"},2,{"$f":"IF(ISERROR(INDEX(EUConst_TierActivityListNames,MATCH(F177,$H$176:$H$217,0))),\"\",INDEX(EUConst_TierActivityListNames,MATCH(F177,$H$176:$H$217,0)))","v":"Degimas: Kitas dujinis ir skystasis kuras"}]
["ausblenden",null,null,null,null,3,"Degimas: Kietasis kuras",3,{"$f":"IF(ISERROR(INDEX(EUConst_TierActivityListNames,MATCH(F178,$H$176:$H$217,0))),\"\",INDEX(EUConst_TierActivityListNames,MATCH(F178,$H$176:$H$217,0)))","v":"Degimas: Kietasis kuras"}]
["ausblenden",null,null,null,null,4,"Degimas: Dujų perdirbimo terminalai",4,"Degimas: Dujų perdirbimo terminalai"]
["ausblenden",null,null,null,null,5,"Degimas: Fakelai",5,"Degimas: Fakelai"]
["ausblenden",null,null,null,null,6,"Degimas: Dujų plovimas (karbonatai)",6,"Degimas: Dujų plovimas (karbonatai)"]
["ausblenden",null,null,null,null,7,"Degimas: Dujų plovimas (gipsas)",7,"Degimas: Dujų plovimas (gipsas)"]
["ausblenden",null,null,null,null,8,"Naftos perdirbimo įrenginiai: Masės balansas",{"$f":"IF(COUNTIF($G$169:$J$173,G183)>0,MAX(H$182:H182)+1,\"\")","v":""},""]
["ausblenden",null,null,null,null,9,{"$f":"INDEX(EUConst_TierActivityListNames,F184)","v":"Naftos perdirbimo įrenginiai: Regeneravimas katalizinio krekingo įrenginiu"},{"$f":"IF(COUNTIF($G$169:$J$173,G184)>0,MAX(H$182:H183)+1,\"\")","v":""},{"$f":"IF(ISERROR(INDEX(EUConst_TierActivityListNames,MATCH(F184,$H$176:$H$217,0))),\"\",INDEX(EUConst_TierActivityListNames,MATCH(F184,$H$176:$H$217,0)))","v":""}]
["ausblenden",null,null,null,null,10,"Naftos perdirbimo įrenginiai: Vandenilio gamyba",{"$f":"IF(COUNTIF($G$169:$J$173,G185)>0,MAX(H$182:H184)+1,\"\")","v":""},""]
["ausblenden",null,null,null,null,11,"Koksas: Kuras kaip proceso žaliava",{"$f":"IF(COUNTIF($G$169:$J$173,G186)>0,MAX(H$182:H185)+1,\"\")","v":""},""]
["ausblenden",null,null,null,null,12,"Koksas: Karbonatų sąnaudos (A metodas)",{"$f":"IF(COUNTIF($G$169:$J$173,G187)>0,MAX(H$182:H186)+1,\"\")","v":""},""]
["ausblenden",null,null,null,null,13,"Koksas: Oksido išeiga (B metodas)",{"$f":"IF(COUNTIF($G$169:$J$173,G188)>0,MAX(H$182:H187)+1,\"\")","v":""},""]
["ausblenden",null,null,null,null,14,"Koksas: Masės balansas",{"$f":"IF(COUNTIF($G$169:$J$173,G189)>0,MAX(H$182:H188)+1,\"\")","v":""},""]
["ausblenden",null,null,null,null,15,"Metalų rūda: Karbonatų sąnaudos",{"$f":"IF(COUNTIF($G$169:$J$173,G190)>0,MAX(H$182:H189)+1,\"\")","v":""},""]
["ausblenden",null,null,null,null,16,"Metalų rūda: Masės balansas",{"$f":"IF(COUNTIF($G$169:$J$173,G191)>0,MAX(H$182:H190)+1,\"\")","v":""},""]
["ausblenden",null,null,null,null,17,"Geležis ir plienas: Kuras kaip proceso žaliava",{"$f":"IF(COUNTIF($G$169:$J$173,G192)>0,MAX(H$182:H191)+1,\"\")","v":""},""]
["ausblenden",null,null,null,null,18,"Geležis ir plienas: Karbonatų sąnaudos",{"$f":"IF(COUNTIF($G$169:$J$173,G193)>0,MAX(H$182:H192)+1,\"\")","v":""},""]
["ausblenden",null,null,null,null,19,"Geležis ir plienas: Masės balansas",{"$f":"IF(COUNTIF($G$169:$J$173,G194)>0,MAX(H$182:H193)+1,\"\")","v":""},""]
["ausblenden",null,null,null,null,20,"Cemento klinkeriai: Grindžiamas krosnies žaliava (A metodas)",{"$f":"IF(COUNTIF($G$169:$J$173,G195)>0,MAX(H$182:H194)+1,\"\")","v":""},""]
["ausblenden",null,null,null,null,21,"Cemento klinkeriai: Klinkerio išeiga (B metodas)",{"$f":"IF(COUNTIF($G$169:$J$173,G196)>0,MAX(H$182:H195)+1,\"\")","v":""},""]
["ausblenden",null,null,null,null,22,"Cemento klinkeriai: Cemento degimo krosnių dulkės",{"$f":"IF(COUNTIF($G$169:$J$173,G197)>0,MAX(H$182:H196)+1,\"\")","v":""},""]
["ausblenden",null,null,null,null,23,"Cemento klinkeriai: Nekarbonatinė anglis",{"$f":"IF(COUNTIF($G$169:$J$173,G198)>0,MAX(H$182:H197)+1,\"\")","v":""},""]
["ausblenden",null,null,null,null,24,"Kalkės, dolomitas, magnezitas: Karbonatai (A metodas)",{"$f":"IF(COUNTIF($G$169:$J$173,G199)>0,MAX(H$182:H198)+1,\"\")","v":""},""]
["ausblenden",null,null,null,null,25,"Kalkės, dolomitas, magnezitas: Šarminių žemių metalų oksidas (B metodas)",{"$f":"IF(COUNTIF($G$169:$J$173,G200)>0,MAX(H$182:H199)+1,\"\")","v":""},""]
["ausblenden",null,null,null,null,26,"Kalkės, dolomitas, magnezitas: Degimo krosnių dulkės (B metodas)",{"$f":"IF(COUNTIF($G$169:$J$173,G201)>0,MAX(H$182:H200)+1,\"\")","v":""},""]
["ausblenden",null,null,null,null,27,"Stiklas ir mineralinė vata: Karbonatai (žaliava)",{"$f":"IF(COUNTIF($G$169:$J$173,G202)>0,MAX(H$182:H201)+1,\"\")","v":""},""]
["ausblenden",null,null,null,null,28,"Keramikos dirbiniai.: Anglies sąnaudos (A metodas)",{"$f":"IF(COUNTIF($G$169:$J$173,G203)>0,MAX(H$182:H202)+1,\"\")","v":""},""]
["ausblenden",null,null,null,null,29,"Keramikos dirbiniai.: Šarminių metalų oksidas (B metodas)",{"$f":"IF(COUNTIF($G$169:$J$173,G204)>0,MAX(H$182:H203)+1,\"\")","v":""},""]
["ausblenden",null,null,null,null,30,"Keramikos dirbiniai.: Dujų plovimas",{"$f":"IF(COUNTIF($G$169:$J$173,G205)>0,MAX(H$182:H204)+1,\"\")","v":""},""]
["ausblenden",null,null,null,null,31,"Celiuliozė ir popierius: Sudėtinės cheminės medžiagos",{"$f":"IF(COUNTIF($G$169:$J$173,G206)>0,MAX(H$182:H205)+1,\"\")","v":""},""]
["ausblenden",null,null,null,null,32,"Padengtas kartonas Suodžiai: Masės balanso metodika",{"$f":"IF(COUNTIF($G$169:$J$173,G207)>0,MAX(H$182:H206)+1,\"\")","v":""},""]
["ausblenden",null,null,null,null,33,"Amoniakas: Kuras kaip proceso žaliava",{"$f":"IF(COUNTIF($G$169:$J$173,G208)>0,MAX(H$182:H207)+1,\"\")","v":""},""]
["ausblenden",null,null,null,null,34,"Vandenilis ir sintezės dujos: Kuras kaip proceso žaliava",{"$f":"IF(COUNTIF($G$169:$J$173,G209)>0,MAX(H$182:H208)+1,\"\")","v":""},""]
["ausblenden",null,null,null,null,35,"Vandenilis ir sintezės dujos: Masės balanso metodika",{"$f":"IF(COUNTIF($G$169:$J$173,G210)>0,MAX(H$182:H209)+1,\"\")","v":""},""]
["ausblenden",null,null,null,null,36,"Didelio masto organinių cheminių medžiagų gamyba: Masės balanso metodika",{"$f":"IF(COUNTIF($G$169:$J$173,G211)>0,MAX(H$182:H210)+1,\"\")","v":""},""]
["ausblenden",null,null,null,null,37,"(Ne)spalvotieji, antrinis aliuminis: Proceso metu išsiskiriančios ŠESD",{"$f":"IF(COUNTIF($G$169:$J$173,G212)>0,MAX(H$182:H211)+1,\"\")","v":""},""]
["ausblenden",null,null,null,null,38,"(Ne)spalvotieji, antrinis aliuminis: Masės balanso metodika",{"$f":"IF(COUNTIF($G$169:$J$173,G213)>0,MAX(H$182:H212)+1,\"\")","v":""},""]
["ausblenden",null,null,null,null,39,{"$f":"INDEX(EUConst_TierActivityListNames,F214)","v":"Natrio karbonatas / natrio hidrokarbonatas: Masės balanso metodika"},{"$f":"IF(COUNTIF($G$169:$J$173,G214)>0,MAX(H$182:H213)+1,\"\")","v":""},""]
["ausblenden",null,null,null,null,40,{"$f":"INDEX(EUConst_TierActivityListNames,F215)","v":"Pirminis aliuminis: Masės balanso metodika"},{"$f":"IF(COUNTIF($G$169:$J$173,G215)>0,MAX(H$182:H214)+1,\"\")","v":""},""]
["ausblenden",null,null,null,null,41,"Pirminis aliuminis: Išmetamas PFC kiekis (nuolydžio metodas)",{"$f":"IF(COUNTIF($G$169:$J$173,G216)>0,MAX(H$182:H215)+1,\"\")","v":""},""]
["ausblenden",null,null,null,null,42,"Pirminis aliuminis: Išmetamas PFC kiekis (viršįtampio metodas)",{"$f":"IF(COUNTIF($G$169:$J$173,G217)>0,MAX(H$182:H216)+1,\"\")","v":""},""]
["ausblenden"]

{"sheet":"C_SourceStreams","index":4,"n_rows":256,"n_cols":78,"rows_kept":256,"cut":false,"hidden":false,"merged":[[2,6,2,7],[2,8,2,9],[170,5,170,11],[3,8,3,9],[37,4,37,13],[58,5,58,13],[42,5,42,13],[41,4,41,13],[39,4,39,13],[53,6,53,13],[52,6,52,13],[51,6,51,13],[50,5,50,13],[21,5,21,13],[22,5,22,13],[35,5,35,13],[34,5,34,13],[43,5,43,13],[11,4,11,13],[81,9,81,12],[85,3,85,4],[85,5,85,13],[7,10,7,13],[14,5,14,13],[77,6,77,7],[78,6,78,7],[75,6,75,7],[27,5,27,13],[19,6,19,13],[20,6,20,13],[25,5,25,13],[17,6,17,13],[44,5,44,13],[29,6,29,13],[33,5,33,13],[31,5,31,13],[30,5,30,13],[81,3,81,5],[70,10,70,11],[28,6,28,13],[57,5,57,13],[56,4,56,13],[46,6,46,13],[45,5,45,13],[61,4,61,9],[48,5,48,13],[47,6,47,13],[73,6,73,7],[74,6,74,7],[70,6,70,7],[76,6,76,7],[64,4,64,12],[49,5,49,13],[61,10,61,11],[70,8,70,9],[71,6,71,7],[62,4,62,9],[66,4,66,10],[40,4,40,13],[54,5,54,13],[79,6,79,7],[3,4,3,5],[26,5,26,13],[3,6,3,7],[32,5,32,13],[23,5,23,13],[24,5,24,13],[3,10,3,11],[5,2,5,10],[13,4,13,13],[5,11,5,13],[1,1,3,3],[1,6,1,7],[1,10,1,11],[3,12,3,13],[1,4,1,5],[1,12,1,13],[2,10,2,11],[2,4,2,5],[15,5,15,13],[16,5,16,13],[2,12,2,13],[1,8,1,9],[18,6,18,13],[97,10,97,11],[88,4,88,9],[132,6,132,7],[116,4,116,9],[118,4,118,12],[120,4,120,10],[124,6,124,7],[124,8,124,9],[124,10,124,11],[106,6,106,7],[108,3,108,5],[108,9,108,12],[112,3,112,4],[112,5,112,13],[115,4,115,9],[115,10,115,11],[100,6,100,7],[101,6,101,7],[102,6,102,7],[103,6,103,7],[104,6,104,7],[105,6,105,7],[98,6,98,7],[88,10,88,11],[133,6,133,7],[135,3,135,5],[135,9,135,12],[139,3,139,4],[139,5,139,13],[125,6,125,7],[127,6,127,7],[128,6,128,7],[129,6,129,7],[130,6,130,7],[131,6,131,7],[89,4,89,9],[91,4,91,12],[93,4,93,10],[97,6,97,7],[97,8,97,9],[160,6,160,7],[162,3,162,5],[162,9,162,12],[166,3,166,4],[166,5,166,13],[152,6,152,7],[154,6,154,7],[155,6,155,7],[156,6,156,7],[157,6,157,7],[158,6,158,7],[142,4,142,9],[142,10,142,11],[143,4,143,9],[145,4,145,12],[147,4,147,10],[151,6,151,7],[151,8,151,9],[151,10,151,11],[159,6,159,7]]}
["ausblenden",null,null,null,null,null,null,null,null,null,null,null,null,null,null,"ausblenden","ausblenden","ausblenden","ausblenden","ausblenden","ausblenden","ausblenden","ausblenden","ausblenden","ausblenden","ausblenden","ausblenden","ausblenden","ausblenden","ausblenden","ausblenden","ausblenden","ausblenden","ausblenden","ausblenden","ausblenden","ausblenden","ausblenden","ausblenden","ausblenden","ausblenden","ausblenden","ausblenden","ausblenden","ausblenden","ausblenden","ausblenden","ausblenden","ausblenden","ausblenden","ausblenden","ausblenden","ausblenden","ausblenden","ausblenden","ausblenden","ausblenden","ausblenden","ausblenden","ausblenden","ausblenden","ausblenden","ausblenden","ausblenden","ausblenden","ausblenden","ausblenden","ausblenden","ausblenden","ausblenden","ausblenden","ausblenden","ausblenden","ausblenden","ausblenden","ausblenden","ausblenden","ausblenden"]
[null,{"$f":"Translations!$B$618","v":"C.\nSource streams (Sukėlikliai)"},null,null,{"$f":"Translations!$B$23","v":"Naršymo laukas"},null,{"$f":"Translations!$B$24","v":"Turinys"},null,{"$f":"Translations!$B$25","v":"Ankstesnis lapas"},null,{"$f":"Translations!$B$26","v":"Kitas lapas"}]
[null,null,null,null,{"$f":"Translations!$B$27","v":"Lapo viršus"},null,null,null,null,null,null,null,null,null,null,null,null,null,null,null,"Print area:",{"$f":"ADDRESS(ROW($B$5),COLUMN($B$5)) & \":\" & ADDRESS(IF(CNTR_CalcRelevant=EUconst_NotRelevant,ROW(P62),MATCH(\"PRINT\",$P:$P,0))+ROW($P$87)-ROW($P$62),COLUMN($O$5))","v":"$B$5:$O$141"}]
[null,null,null,null,{"$f":"Translations!$B$28","v":"Lapo galas"}]
[]
[null,null,{"$f":"Translations!$B$498","v":"C. Sukėlikliai"},null,null,null,null,null,null,null,null,{"$f":"IF(CNTR_InstHasCalculation=TRUE,EUconst_Relevant,IF(COUNTA(CNTR_ListRelevantSections)>0,EUconst_NotRelevant,EUconst_Relevant))","v":"svarbu"},null,null,null,null,null,null,"CNTR_CalcRelevant"]
[]
[null,null,null,null,null,null,null,null,null,null,{"$f":"IF(L6=EUconst_NotRelevant,HYPERLINK(\"#JUMP_F_Top\",EUconst_MsgNextSheet),HYPERLINK(\"\",EUconst_MsgEnterThisSection))","v":"Įvesti duomenis į šį skirsnį"}]
[]
[null,null,8,{"$f":"Translations!$B$619","v":"Pagal sukėliklius išmetamas ŠESD kiekis"}]
[]
[null,null,null,null,{"$f":"Translations!$B$620","v":"Svarbu! Nuoseklumo sumetimais sukėliklius įveskite tokia pat eilės tvarka, kaip pateikta 7 dalies b punkte ir Jūsų naujausiame patvirtintame stebėsenos plane (tokia pat eilės tvarka ir naudodami tokius pat identifikatorius)."}]
[]
[null,null,null,null,{"$f":"Translations!$B$621","v":"Santrumpos:"}]
[null,null,null,null,{"$f":"Translations!$B$622","v":"VD:"},{"$f":"Translations!$B$623","v":"Veiklos duomenys – tai duomenys apie vykstant procesui sunaudotą arba pagamintą kuro arba medžiagų kiekį, gauti taikant skaičiavimu grindžiamą stebėsenos metodiką, atitinkamai išreikšti teradžauliais (TJ), mase tonomis (t) arba, jeigu tai dujos, tūriu normaliaisiais kubiniais metrais (Nm3)."}]
[null,null,null,null,null,{"$f":"Translations!$B$624","v":"Jeigu sukėlikliui taikoma masės balanso metodika, veiklos duomenys pagal kiekvieną pagaminamą medžiagą turėtų būti įvedami kaip neigiamas skaičius, pvz., „-10 000“."}]
[null,null,null,null,null,{"$f":"Translations!$B$625","v":"Jeigu veiklos duomenys gaunami sudedant atskirai išmatuotus kiekius, nustatytus atsižvelgiant į atitinkamus atsargų pokyčius (27 straipsnio 1 dalies b punktas), toliau i punkte pasirinkite „TAIP“). Tokiu atveju svarbūs šie parametrai:"}]
[null,null,null,null,null,{"$f":"Translations!$B$626","v":"Pradinis kiekis"},{"$f":"Translations!$B$627","v":"Kuro arba medžiagos atsargų kiekis ataskaitinio laikotarpio pradžioje."}]
[null,null,null,null,null,{"$f":"Translations!$B$628","v":"Galutinis kiekis"},{"$f":"Translations!$B$629","v":"Kuro arba medžiagos atsargų kiekis ataskaitinio laikotarpio pabaigoje."}]
[null,null,null,null,null,{"$f":"Translations!$B$630","v":"Įsigytas kiekis"},{"$f":"Translations!$B$631","v":"Per ataskaitinį laikotarpį įsigytas kuro arba medžiagos kiekis."}]
[null,null,null,null,null,{"$f":"Translations!$B$632","v":"Perduotas kiekis"},{"$f":"Translations!$B$633","v":"Iš įrenginio perduotas kuro arba medžiagos kiekis."}]
[null,null,null,null,{"$f":"Translations!$B$634","v":"(prelim.) ITF:"},{"$f":"Translations!$B$635","v":"„Preliminarus“ išmetamųjų teršalų faktorius yra remiantis visu anglies kiekiu, sudarytu iš biomasės dalies ir iškastinio kuro dalies, mišriajam kurui arba medžiagai nustatytas bendras išmetamųjų teršalų faktorius, prieš jį dauginant iš iškastinio kuro anglies dalies, kad būtų apskaičiuotas išmetamųjų teršalų faktorius."}]
[null,null,null,null,{"$f":"Translations!$B$636","v":"GŠV:"},{"$f":"Translations!$B$637","v":"Grynojo šilumingumo vertė yra tam tikras kaip šiluma išskirtos energijos kiekis, kai kuras ar medžiaga visiškai sudega reaguodami su deguonimi įprastomis sąlygomis, atėmus bet kokio susidariusio vandens garavimo šilumą."}]
[null,null,null,null,{"$f":"Translations!$B$638","v":"OksK:"},{"$f":"Translations!$B$153","v":"Oksidacijos faktorius"}]
[null,null,null,null,{"$f":"Translations!$B$639","v":"KonvK:"},{"$f":"Translations!$B$154","v":"Perskaičiavimo koeficientas"}]
[null,null,null,null,{"$f":"Translations!$B$640","v":"AnglK:"},{"$f":"Translations!$B$155","v":"Anglies kiekis"}]
[null,null,null,null,{"$f":"Translations!$B$641","v":"BioC:"},{"$f":"Translations!$B$642","v":"Biomasės dalis – trupmena išreikštas iš biomasės susidariusios anglies kiekio ir kuro arba medžiagos viso anglies kiekio santykis."}]
[null,null,null,null,null,{"$f":"Translations!$B$643","v":"Ši vertė turėtų būti susijusi su visa biomase, atitinkančia šias sąlygas:"}]
[null,null,null,null,null,"-",{"$f":"Translations!$B$644","v":"jai netaikomi tvarumo kriterijai (pvz., jeigu tai kietasis kuras) ARBA"}]
[null,null,null,null,null,"-",{"$f":"Translations!$B$645","v":"jai taikomi tvarumo kriterijai ir ji tuos kriterijus atitinka."}]
[null,null,null,null,null,{"$f":"Translations!$B$646","v":"Daugiau informacijos pateikta rekomendaciniame dokumente Nr. 3 „Biomasės aspektai“ (žr. toliau pateiktą nuorodą)."}]
[null,null,null,null,null,{"$f":"Translations!$B$521","v":"http://ec.europa.eu/clima/policies/ets/monitoring/documentation_en.htm"}]
[null,null,null,null,{"$f":"Translations!$B$647","v":"Netvar. BioC:"},{"$f":"Translations!$B$648","v":"„Netvarios“ biomasės dalis – trupmena išreikštas iš netvarios biomasės susidariusios anglies kiekio ir kuro arba medžiagos viso anglies kiekio santykis."}]
[null,null,null,null,null,{"$f":"Translations!$B$649","v":"Ši vertė turėtų būti susijusi tik su tokia biomase, kuriai taikomi tvarumo kriterijai ir kuri tų kriterijų neatitinka."}]
[null,null,null,null,null,{"$f":"Translations!$B$646","v":"Daugiau informacijos pateikta rekomendaciniame dokumente Nr. 3 „Biomasės aspektai“ (žr. toliau pateiktą nuorodą)."}]
[null,null,null,null,null,{"$f":"Translations!$B$521","v":"http://ec.europa.eu/clima/policies/ets/monitoring/documentation_en.htm"}]
[]
[null,null,null,null,{"$f":"Translations!$B$650","v":"Apskaičiavimo faktorių pakopos:"}]
[]
[null,null,null,null,{"$f":"Translations!$B$651","v":"Pagal 30 straipsnio 1 dalį apskaičiavimo faktoriai gali būti nustatomi kaip numatytosios vertės arba laboratorinės analizės būdu. Tai, kuris variantas turėtų būti taikomas, priklauso nuo taikomos pakopos."}]
[null,null,null,null,{"$f":"Translations!$B$652","v":"Galima rinktis iš šių pakopų kategorijų (pagal rekomendacinį dokumentą Nr. 1):"}]
[null,null,null,null,{"$f":"Translations!$B$521","v":"http://ec.europa.eu/clima/policies/ets/monitoring/documentation_en.htm"}]
[null,null,null,null,{"$f":"Translations!$B$653","v":"I tipas"},{"$f":"Translations!$B$143","v":"I tipo numatytosios vertės: Arba standartiniai faktoriai, išvardyti VI priede (t. y., iš esmės TKKK (IPCC) vertės), arba kitos pastovios vertės laikantis 31 str. 1 dalies d arba e punkto, t. y. tiekėjo garantuotos vertės, arba praeityje atlikti ir tebegaliojantys tyrimai."}]
[null,null,null,null,{"$f":"Translations!$B$654","v":"II tipas"},{"$f":"Translations!$B$655","v":"II tipo numatytosios vertės: konkrečioms šalims nustatyti išmetamųjų teršalų faktoriai pagal 31 straipsnio 1 dalies b ir c punktus, t. y. vertės, skirtos nacionaliniam ŠESD inventoriui, kitos vertės, kurias apie atskiras degalų rūšis paskelbė kompetentinga institucija, arba kitos su kompetentinga institucija suderintos tam tikroje literatūroje pateiktos vertės."}]
[null,null,null,null,null,{"$f":"Translations!$B$656","v":"Jos taip pat apima grynojo šilumingumo vertes ir išmetamųjų teršalų faktorius, taikomus kuro rūšims, dėl kurių pagal 31 straipsnio 4 dalį pateikta įrodymų, kad per paskutiniuosius trejus metus buvo laikytasi nustatytos šilumingumo vertės 1 proc. intervalo, ir jeigu kompetentinga institucija leido naudoti tokias pat pakopas, kokias privaloma taikyti tiekiamam komerciniam standartiniam kurui."}]
[null,null,null,null,{"$f":"Translations!$B$657","v":"Pakaitinės vertės"},{"$f":"Translations!$B$144","v":"Tai empirinėmis koreliacijomis pagrįsti metodai, kaip nustatyta bent kartą per metus pagal laboratoriniams tyrimams taikomus reikalavimus. Tačiau tie tyrimai atliekami tik kartą per metus, todėl ši pakopa laikoma žemesnio lygio negu išsamūs tyrimai. Pakaitiniai dydžiai gali būti pagrįsti:"}]
[null,null,null,null,null,"-",{"$f":"Translations!$B$145","v":"konkrečių naftos ar dujų rūšių, įskaitant įprastas naftos perdirbimo arba plieno pramonėje, tankio matavimu; arba"}]
[null,null,null,null,null,"-",{"$f":"Translations!$B$146","v":"konkrečių anglių rūšių grynąja šilumingumo verte."}]
[null,null,null,null,{"$f":"Translations!$B$658","v":"Pirkimo dokumentai"},{"$f":"Translations!$B$147","v":"Grynojo šilumingumo vertė gali būti pirkimo dokumentuose kuro tiekėjo nurodyta vertė, jei ji nustatyta remiantis pripažintais nacionaliniais ar tarptautiniais standartais. (Taikoma tik komerciniu būdu įsigyjama kurui)."}]
[null,null,null,null,{"$f":"Translations!$B$156","v":"Laboratoriniai tyrimai"},{"$f":"Translations!$B$148","v":"Šiuo atveju taikomi visi 32–35 str. reikalavimai tyrimams."}]
[null,null,null,null,{"$f":"Translations!$B$659","v":"I tipas, biol."},{"$f":"Translations!$B$149","v":"Taikomas vienas iš toliau nurodytų metodų (jie laikomi lygiaverčiais):"}]
[null,null,null,null,null,"-",{"$f":"Translations!$B$150","v":"Numatytosios vertės arba pagal 39 str. 2 dalį Komisijos paskelbto nustatymo metodo naudojimas;"}]
[null,null,null,null,null,"-",{"$f":"Translations!$B$151","v":"Naudoti vertę, nustatytą pagal 39 str. 2 dalies 2 pastraipą, t. y. daryti prielaidą, kad medžiaga yra tik iškastinė (BF=0), arba naudoti kompetentingos institucijos patvirtintą matavimo metodą;"}]
[null,null,null,null,null,"-",{"$f":"Translations!$B$660","v":"39 straipsnio 3 dalies taikymas, jeigu tai gamtinių dujų tinklas, į kurį įšvirkšta biologinių dujų, t. y. pagal Direktyvos 2009/28/EB (Atsinaujinančiųjų energijos išteklių direktyva) 2 straipsnio j punktą ir 15 straipsnį nustatytos kilmės garantijų sistemos, jeigu tokių yra, taikymas. "}]
[null,null,null,null,{"$f":"Translations!$B$661","v":"II tipas, biol."},{"$f":"Translations!$B$152","v":"Biomasės dalis nustatoma pagal 39 str. 1 dalį, t.y. laboratoriniais tyrimais. Tokiu atveju kompetentinga institucija turi aiškiai patvirtinti atitinkamus standartus ir tam naudosimus tyrimo metodus."}]
[]
[null,null,null,null,{"$f":"Translations!$B$662","v":"Pranešimai apie klaidas:"}]
[null,null,null,null,{"$f":"EUconst_ERR_Incomplete","v":"Nebaigta!"},{"$f":"Translations!$B$663","v":"Šis pranešimas apie klaidą reiškia, kad įrašai šioje eilutėje yra privalomi, bet jų nėra."}]
[null,null,null,null,{"$f":"EUconst_ERR_Inconsistent","v":"Nenuoseklu!"},{"$f":"Translations!$B$664","v":"Šis pranešimas apie klaidą reiškia, kad įrašai nenuoseklūs. Galimos neatitiktys gali būti susijusios su naudojamais matavimo vienetais, su duomenų įvedimu faktoriams, kurie neaktualūs šiems sukėlikliams, arba procentinėmis vertėmis, viršijančiomis 100 proc."}]
[]
[null,null,null,null,null,null,null,null,null,null,null,null,null,null,null,null,null,null,null,{"$f":"IF(ISBLANK(E62),\"\",MATCH(E62,CNTR_SourceStreamNames,0))","v":1},{"$f":"IF(ISBLANK(E62),\"\",INDEX(B_InstallationDescription!$D$65:$D$139,MATCH(E62,CNTR_SourceStreamNames,0)))","v":"F1"},null,null,null,null,null,null,null,null,null,null,null,null,null,null,null,null,null,null,null,null,null,null,null,null,null,null,null,null,null,null,null,null,null,null,null,null,null,null,null,null,null,null,null,null,null,null,null,null,null,null,null,null,null,null,null,null,"cond. form."]
[{"$f":"IF(E62=\"\",\"\",\"PRINT\")","v":"PRINT"},null,1,null,"F1. Dujinis – Gamtinės dujos",null,null,null,null,null,{"$f":"IF(E63=\"\",\"\",INDEX(EUwideConstants!$F$338:$F$379,MATCH(E63,EUConst_TierActivityListNames,0)))","v":"Degimas"},null,{"$f":"Translations!$B$665","v":"CO2, iškastinio kuro kilmės:"},{"$f":"IF(OR(K62=\"\",T63=TRUE),\"\",INDEX(BC76:BE76,MATCH(K62,BC72:BE72,0)))","v":2336.1948034304},"t CO2e",{"$f":"IF(AND(E62<>\"\",COUNTIF(P63:$P$173,\"PRINT\")=0),\"PRINT\",\"\")","v":""},{"$f":"EUconst_SumCO2 & \"_\" & K62","v":"SUM_CO2_Degimas"},null,null,"is PFC?",null,null,null,null,null,null,null,null,null,null,null,null,null,null,null,null,null,null,null,null,null,null,null,null,null,null,null,null,null,null,null,null,null,null,null,null,null,null,null,{"$f":"AR72","v":1253.92},{"$f":"AJ72","v":"t"},{"$f":"AR74","v":55.186999999999998},{"$f":"AJ74","v":"tCO2/TJ"},{"$f":"AR75","v":33.76},{"$f":"AJ75","v":"GJ/t"},{"$f":"AR76","v":1},{"$f":"AR77","v":1},{"$f":"AR78","v":0},{"$f":"AJ78","v":""},{"$f":"AR79","v":0},{"$f":"AR80","v":0},{"$f":"N62","v":2336.1948034304},{"$f":"N63","v":0},{"$f":"R65","v":0},{"$f":"R71","v":42.3323392},{"$f":"R72","v":0},null,{"$f":"CNTR_CalcRelevant=EUconst_NotRelevant","v":false}]
[null,null,null,null,{"$f":"IF(ISBLANK(E62),\"\",IF(INDEX(B_InstallationDescription!$E$65:$E$139,MATCH(U61,B_InstallationDescription!$D$65:$D$139,0))>0,INDEX(B_InstallationDescription!$E$65:$E$139,MATCH(U61,B_InstallationDescription!$D$65:$D$139,0)),\"\"))","v":"Degimas: Kitas dujinis ir skystasis kuras"},null,null,null,null,null,null,null,{"$f":"Translations!$B$666","v":"CO2, biomasės kilmės.:"},{"$f":"IF(OR(K62=\"\",T63=TRUE),\"\",INDEX(BC75:BE75,MATCH(K62,BC72:BE72,0)))","v":0},"t CO2e",null,{"$f":"EUconst_SumBioCO2 & \"_\" & K62","v":"SUM_bioCO2_Degimas"},null,null,{"$f":"IF(E63=\"\",\"\",MATCH(E63,EUConst_TierActivityListNames,0)>40)","v":false},null,null,null,null,"Tiers",null,null,null,null,null,"Units",null,null,null,null,null,null,null,"Values",null,null,null,null,null,null,null,null,"Errors",null,null,null,null,null,"Calculation",null,null,null,null,"Accounting","AD","AD Unit","EF","EF Unit","NCV","NCV Unit","Ox","Conv","CarbC","CarbC Unit","Bio","NonSustBio","CO2 fossil","CO2 bio","CO2 non-sust","CO2 ENIN fossil","CO2 ENIN bio"]
[]
[null,null,null,null,{"$f":"IF(E62=\"\",\"\",IF(T63=TRUE,HYPERLINK(\"#JUMP_14\",EUconst_MsgGoOnPFC),HYPERLINK(\"#JUMP_E_8\",EUconst_FurtherGuidancePoint1)))","v":"Išsamios duomenų įvedimo naudojantis šia priemone instrukcijos pateiktos šio lapo viršuje. "},null,null,null,null,null,null,null,null,null,null,null,{"$f":"EUconst_SumNonSustBioCO2 & \"_\" & K62","v":"SUM_bioNonSustCO2_Degimas"},{"$f":"IF(OR(K62=\"\",T63=TRUE),\"\",ROUND(INDEX(BC74:BE74,MATCH(K62,BC72:BE72,0)),0))","v":0}]
[]
[null,null,"i.",{"$f":"Translations!$B$622","v":"VD:"},{"$f":"Translations!$B$667","v":"Ar veiklos duomenys gaunami sudedant išmatuotus kiekius (t. y. ne atliekant nuolatinius matavimus)?"},null,null,null,null,null,null,null,null,null,null,null,null,null,null,null,null,null,null,null,null,null,null,null,{"$f":"AND(E62<>\"\",T63<>TRUE)","v":true},null,null,null,null,null,null,null,null,null,null,null,null,null,null,null,null,{"$f":"MSPara_BatchReportingMandatory<>TRUE","v":true},null,null,null,null,null,null,null,null,null,null,null,null,null,null,null,null,null,null,null,null,null,null,null,null,null,null,null,null,null,null,null,{"$f":"OR(CNTR_CalcRelevant=EUconst_NotRelevant,AND(COUNTA(CNTR_ListRelevantSections)>0,OR(T63=TRUE,E62=\"\")))","v":false}]
[]
[null,null,"ii.",{"$f":"Translations!$B$622","v":"VD:"},{"$f":"Translations!$B$668","v":"Pradinis kiekis:"},null,{"$f":"Translations!$B$669","v":"Galutinis kiekis:"},null,{"$f":"Translations!$B$670","v":"Įsigytas kiekis:"},null,{"$f":"Translations!$B$671","v":"Perduotas kiekis:"},null,{"$f":"IF(AND(L67=TRUE,COUNT(F69,H69,J69,L69)<4),EUconst_ERR_Incomplete,\"\")","v":""},null,null,null,null,null,null,null,null,null,null,null,null,null,null,null,{"$f":"AC67","v":true},null,null,null,null,null,null,null,null,null,null,null,null,null,null,null,null,{"$f":"AND(AT67=TRUE,L67=\"\")","v":true},null,null,null,null,null,null,null,null,null,null,null,null,null,null,null,null,null,null,null,null,null,null,null,null,null,null,null,null,null,null,null,{"$f":"OR(BZ67,AND(NOT(ISBLANK(L67)),L67=FALSE))","v":false}]
[]
[null,null,null,null,null,{"$f":"Translations!$B$333","v":"Pakopa"},{"$f":"Translations!$B$672","v":"pakopos aprašas"},null,{"$f":"Translations!$B$158","v":"Vienetas"},null,{"$f":"Translations!$B$673","v":"Vertė"},null,{"$f":"Translations!$B$610","v":"klaida"},null,null,null,{"$f":"EUconst_SumEnergyIN & \"_\" & K62","v":"SUM_EnergyIN_Degimas"},{"$f":"IF(OR(K62=\"\",T63)=TRUE,\"\",INDEX(BC77:BE77,MATCH(K62,BC72:BE72,0)))","v":42.3323392},null,null,null,"Category from Sheet A",null,null,"tier required","text tier",null,null,"entries sheet A complete?",null,null,"typeII","typeI","default type","default unit","Unit used","cond. Form?",null,null,"typeII","typeI","Unit consistent?","default Value","Value used","cond. Form?","cond. Form?",null,null,null,"EF Units?",null,null,null,null,null,null,null,null,null,null,null,null,null,null,null,null,null,null,null,null,null,null,null,null,null,null,null,"cond. form."]
[null,null,"iii.",{"$f":"Translations!$B$622","v":"VD:"},null,2,{"$f":"IF(OR(ISBLANK(F72),F72=EUconst_NoTier),\"\",IF(Z72=0,EUconst_NA,IF(ISERROR(Z72),\"\",Z72)))","v":"± 5,0%"},null,"tūkst. m3",null,{"$f":"IF(L72=\"\",AQ72,\"\")","v":""},1253.92,{"$f":"IF(AND(E63<>\"\",OR(F72=\"\",COUNT(K72:L72)=0),Y72<>EUconst_NA,T63<>TRUE),EUconst_ERR_Incomplete,IF(COUNTIF(AX72:AZ72,TRUE)>0,EUconst_ERR_Inconsistent,\"\"))","v":""},null,null,null,{"$f":"EUconst_SumBioEnergyIN & \"_\" & K62","v":"SUM_BioEnergyIN_Degimas"},{"$f":"IF(OR(K62=\"\",T63)=TRUE,\"\",INDEX(BC78:BE78,MATCH(K62,BC72:BE72,0)))","v":0},null,{"$f":"EUconst_CNTR_ActivityData&E63","v":"ActivityData_Degimas: Kitas dujinis ir skystasis kuras"},null,{"$f":"IF(E62=\"\",\"\",INDEX(B_InstallationDescription!$I$65:$I$139,MATCH(U61,B_InstallationDescription!$D$65:$D$139,0)))","v":"Dujinis – Gamtinės dujos"},"is fossil?",null,{"$f":"IF(OR(T63=TRUE,E63=\"\"),\"\",INDEX(EUwideConstants!$N:$N,MATCH(T72,EUwideConstants!$Q:$Q,0)))","v":4},{"$f":"IF(ISBLANK(F72),\"\",IF(F72=EUconst_NA,\"\",INDEX(EUwideConstants!$H:$M,MATCH(T72,EUwideConstants!$Q:$Q,0),MATCH(F72,CNTR_TierList,0))))","v":"± 5,0%"},"default type",null,{"$f":"AC67","v":true},null,{"$f":"EUconst_CNTR_ActivityData&EUconst_Unit","v":"ActivityData_Vienetas"},{"$f":"IF(AC72=TRUE, IF(COUNTIF(MSPara_SourceStreamCategory,V72)=0,\"\",INDEX(MSPara_CalcFactorsMatrix,MATCH(V72,MSPara_SourceStreamCategory,0),MATCH(AE72&\"_\"&2,MSPara_CalcFactors,0))),\"\")","v":"netaik."},{"$f":"IF(AC72=TRUE, IF(COUNTIF(MSPara_SourceStreamCategory,V72)=0,\"\",INDEX(MSPara_CalcFactorsMatrix,MATCH(V72,MSPara_SourceStreamCategory,0),MATCH(AE72&\"_\"&1,MSPara_CalcFactors,0))),\"\")","v":"t"},{"$f":"IF(OR(AF72=\"\",AF72=EUconst_NA),IF(OR(AG72=EUconst_NA,AG72=\"\"),\"\",AG72),AF72)","v":"t"},{"$f":"IF(AC72=TRUE,IF(AH72=\"\",EUconst_t,AH72),\"\")","v":"t"},{"$f":"IF(J72=\"\",AI72,J72)","v":"t"},{"$f":"IF(K62=EUconst_Fuel,J72<>\"\",FALSE)","v":false},null,{"$f":"EUconst_CNTR_ActivityData&EUconst_Value","v":"ActivityData_Vertė"},null,null,{"$f":"AND(AND(AH72<>\"\",AJ72<>\"\"),AJ72=AH72)","v":true},{"$f":"IF(L67=TRUE,SUM(F69)-SUM(H69)+SUM(J69)-SUM(L69),\"\")","v":""},{"$f":"IF(Y72=EUconst_NA,0,IF(COUNT(K72:L72)=0,0,IF(L72=\"\",K72,L72)))","v":1253.92},{"$f":"AND(AC72=TRUE,OR(L72<>\"\",AQ72=\"\"))","v":true},{"$f":"AND(AC72=TRUE,NOT(AS72))","v":false},null,"def val available?","def val used?",null,"inconsistent entries?",null,null,null,{"$f":"EUconst_Fuel","v":"Degimas"},{"$f":"EUconst_ProcessCarbonate","v":"Proceso metu išsiskiriančios ŠESD"},{"$f":"EUconst_MassBalance","v":"Masės balansas"},null,null,null,null,null,null,null,null,null,null,null,null,null,null,null,null,null,null,null,null,{"$f":"BZ67","v":false}]
[null,null,null,null,null,null,null," "]
[null,null,"iv.",{"$f":"Translations!$B$634","v":"(prelim.) ITF:"},null,3,{"$f":"IF(OR(ISBLANK(F74),F74=EUconst_NoTier),\"\",IF(Z74=0,EUconst_NotApplicable,IF(ISERROR(Z74),\"\",Z74)))","v":"Laboratoriniai tyrimai"},null,{"$f":"IF(J74<>\"\",\"\",AI74)","v":"tCO2/TJ"},null,{"$f":"IF(L74=\"\",AQ74,\"\")","v":""},55.186999999999998,{"$f":"IF(AND(E63<>\"\",OR(F74=\"\",COUNT(K74:L74)=0),Y74<>EUconst_NA,T63<>TRUE),EUconst_ERR_Incomplete,IF(COUNTIF(AX74:AZ74,TRUE)>0,EUconst_ERR_Inconsistent,\"\"))","v":""},null,null,null,null,null,null,{"$f":"EUconst_CNTR_EF&E63","v":"EF_Degimas: Kitas dujinis ir skystasis kuras"},null,{"$f":"V72","v":"Dujinis – Gamtinės dujos"},null,null,{"$f":"IF(OR(T63=TRUE,E63=\"\"),\"\",IF(F74=EUconst_NA,EUconst_NA,INDEX(EUwideConstants!$N:$N,MATCH(T74,EUwideConstants!$Q:$Q,0))))","v":3},{"$f":"IF(ISBLANK(F74),\"\",IF(F74=EUconst_NA,\"\",INDEX(EUwideConstants!$H:$M,MATCH(T74,EUwideConstants!$Q:$Q,0),MATCH(F74,CNTR_TierList,0))))","v":"Laboratoriniai tyrimai"},{"$f":"IF(COUNTIF(EUconst_DefaultValues,Z74)>0,MATCH(Z74,EUconst_DefaultValues,0),\"\")","v":""},null,{"$f":"AND(AC72,Y74<>EUconst_NA)","v":true},null,{"$f":"EUconst_CNTR_EF&EUconst_Unit","v":"EF_Vienetas"},{"$f":"IF(AC74=TRUE, IF(COUNTIF(MSPara_SourceStreamCategory,V74)=0,\"\",INDEX(MSPara_CalcFactorsMatrix,MATCH(V74,MSPara_SourceStreamCategory,0),MATCH(AE74&\"_\"&2,MSPara_CalcFactors,0))),\"\")","v":"tCO2/TJ"},{"$f":"IF(AC74=TRUE, IF(COUNTIF(MSPara_SourceStreamCategory,V74)=0,\"\",INDEX(MSPara_CalcFactorsMatrix,MATCH(V74,MSPara_SourceStreamCategory,0),MATCH(AE74&\"_\"&1,MSPara_CalcFactors,0))),\"\")","v":"tCO2/TJ"},{"$f":"IF(AA74=\"\",\"\",INDEX(AF74:AG74,3-AA74))","v":""},{"$f":"IF(AC74=TRUE,IF(OR(AH74=\"\",AH74=EUconst_NA),IF(K62=EUconst_Fuel,EUconst_tCO2pTJ,EUconst_tCO2pt),AH74),\"\")","v":"tCO2/TJ"},{"$f":"IF(J74=\"\",AI74,J74)","v":"tCO2/TJ"},{"$f":"IF(K62=EUconst_Fuel,J74<>\"\",FALSE)","v":false},null,{"$f":"EUconst_CNTR_EF&EUconst_Value","v":"EF_Vertė"},{"$f":"IF(AC74=TRUE,IF(COUNTIF(MSPara_SourceStreamCategory,V74)=0,\"\",INDEX(MSPara_CalcFactorsMatrix,MATCH(V74,MSPara_SourceStreamCategory,0),MATCH(AM74&\"_\"&2,MSPara_CalcFactors,0))),\"\")","v":"netaik."},{"$f":"IF(AC74=TRUE,IF(COUNTIF(MSPara_SourceStreamCategory,V74)=0,\"\",INDEX(MSPara_CalcFactorsMatrix,MATCH(V74,MSPara_SourceStreamCategory,0),MATCH(AM74&\"_\"&1,MSPara_CalcFactors,0))),\"\")","v":56.1},{"$f":"AND(AND(AH74<>\"\",AJ74<>\"\"),AJ74=AH74)","v":false},{"$f":"IF(AND(AA74<>\"\",AP74=TRUE),IF(OR(INDEX(AN74:AO74,3-AA74)=EUconst_NA,INDEX(AN74:AO74,3-AA74)=0),\"\",INDEX(AN74:AO74,3-AA74)),\"\")","v":""},{"$f":"IF(AC74=TRUE,IF(COUNT(K74:L74)=0,0,IF(L74=\"\",K74,L74)),0)","v":55.186999999999998},{"$f":"AND(AC74=TRUE,OR(AND(F74<>\"\",NOT(ISNUMBER(AA74))),L74<>\"\",F74=\"\",AQ74=\"\"))","v":true},{"$f":"AND(AC74=TRUE,NOT(AS74))","v":false},null,{"$f":"AND(ISNUMBER(AA74),AQ74=\"\")","v":false},{"$f":"AND(ISNUMBER(AA74),AQ74<>AR74)","v":false},{"$f":"OR(AND(AJ72=EUconst_kNm3,AJ74=EUconst_tCO2pt),AND(AJ72=EUconst_t,AJ74=EUconst_tCO2pkNm3))","v":false},{"$f":"AND(L74<>\"\",Y74=EUconst_NA)","v":false},null,null,"CO2 biogenic (non-sust)",{"$f":"IF(K62=BC72,AR72*IF(AJ74=EUconst_tCO2pTJ,(AR75/1000),1)*AR74*AR76*AR80,\"\")","v":0},{"$f":"IF(K62=BD72,AR72*AR74*AR77*AR80,\"\")","v":""},{"$f":"IF(K62=BE72,3.664*AR72*AR78*AR80,\"\")","v":""},null,null,null,null,null,null,null,null,null,null,null,null,null,null,null,null,null,null,null,null,{"$f":"OR(BZ72,Y74=EUconst_NA)","v":false}]
[null,null,"v.",{"$f":"Translations!$B$636","v":"GŠV:"},null,3,"Laboratoriniai tyrimai",null,{"$f":"AJ75","v":"GJ/t"},null,"",33.76,{"$f":"IF(AND(E63<>\"\",OR(F75=\"\",COUNT(K75:L75)=0),Y75<>EUconst_NA,T63<>TRUE),EUconst_ERR_Incomplete,IF(COUNTIF(AX75:AZ75,TRUE)>0,EUconst_ERR_Inconsistent,\"\"))","v":""},null,null,null,null,null,null,{"$f":"EUconst_CNTR_NCV&E63","v":"NCV_Degimas: Kitas dujinis ir skystasis kuras"},null,{"$f":"V74","v":"Dujinis – Gamtinės dujos"},null,null,{"$f":"IF(OR(T63=TRUE,E63=\"\"),\"\",IF(F75=EUconst_NA,EUconst_NA,INDEX(EUwideConstants!$N:$N,MATCH(T75,EUwideConstants!$Q:$Q,0))))","v":3},{"$f":"IF(ISBLANK(F75),\"\",IF(F75=EUconst_NA,\"\",INDEX(EUwideConstants!$H:$M,MATCH(T75,EUwideConstants!$Q:$Q,0),MATCH(F75,CNTR_TierList,0))))","v":"Laboratoriniai tyrimai"},{"$f":"IF(COUNTIF(EUconst_DefaultValues,Z75)>0,MATCH(Z75,EUconst_DefaultValues,0),\"\")","v":""},null,{"$f":"AND(AC72,Y75<>EUconst_NA)","v":true},null,{"$f":"EUconst_CNTR_NCV&EUconst_Unit","v":"NCV_Vienetas"},{"$f":"IF(AC75=TRUE, IF(COUNTIF(MSPara_SourceStreamCategory,V75)=0,\"\",INDEX(MSPara_CalcFactorsMatrix,MATCH(V75,MSPara_SourceStreamCategory,0),MATCH(AE75&\"_\"&2,MSPara_CalcFactors,0))),\"\")","v":"netaik."},{"$f":"IF(AC75=TRUE, IF(COUNTIF(MSPara_SourceStreamCategory,V75)=0,\"\",INDEX(MSPara_CalcFactorsMatrix,MATCH(V75,MSPara_SourceStreamCategory,0),MATCH(AE75&\"_\"&1,MSPara_CalcFactors,0))),\"\")","v":"GJ/t"},{"$f":"IF(AA75=\"\",\"\",INDEX(AF75:AG75,3-AA75))","v":""},null,{"$f":"IF(AC75=TRUE,IF(AJ72=\"\",\"\",IF(AJ72=EUconst_kNm3,EUconst_GJpkNm3,EUconst_GJpt)),\"\")","v":"GJ/t"},null,null,{"$f":"EUconst_CNTR_NCV&EUconst_Value","v":"NCV_Vertė"},{"$f":"IF(AC75=TRUE,IF(COUNTIF(MSPara_SourceStreamCategory,V75)=0,\"\",INDEX(MSPara_CalcFactorsMatrix,MATCH(V75,MSPara_SourceStreamCategory,0),MATCH(AM75&\"_\"&2,MSPara_CalcFactors,0))),\"\")","v":"netaik."},{"$f":"IF(AC75=TRUE,IF(COUNTIF(MSPara_SourceStreamCategory,V75)=0,\"\",INDEX(MSPara_CalcFactorsMatrix,MATCH(V75,MSPara_SourceStreamCategory,0),MATCH(AM75&\"_\"&1,MSPara_CalcFactors,0))),\"\")","v":48},{"$f":"AND(AND(AH75<>\"\",AJ75<>\"\"),AJ75=AH75)","v":false},{"$f":"IF(AND(AA75<>\"\",AP75=TRUE),IF(OR(INDEX(AN75:AO75,3-AA75)=EUconst_NA,INDEX(AN75:AO75,3-AA75)=0),\"\",INDEX(AN75:AO75,3-AA75)),\"\")","v":""},{"$f":"IF(AC75=TRUE,IF(COUNT(K75:L75)=0,0,IF(L75=\"\",K75,L75)),0)","v":33.76},{"$f":"AND(AC75=TRUE,OR(AND(F75<>\"\",NOT(ISNUMBER(AA75))),L75<>\"\",F75=\"\",AQ75=\"\"))","v":true},false,null,false,false,null,false,null,null,"CO2 biogenic",{"$f":"IF(K62=BC72,AR72*IF(AJ74=EUconst_tCO2pTJ,(AR75/1000),1)*AR74*AR76*AR79,\"\")","v":0},{"$f":"IF(K62=BD72,AR72*AR74*AR77*AR79,\"\")","v":""},{"$f":"IF(K62=BE72,3.664*AR72*AR78*AR79,\"\")","v":""},null,null,null,null,null,null,null,null,null,null,null,null,null,null,null,null,null,null,null,null,{"$f":"OR(BZ72,Y75=EUconst_NA)","v":false}]
[null,null,"vi.",{"$f":"Translations!$B$638","v":"OksK:"},null,1,"OksK = 1",null,{"$f":"IF(OR(AC76=FALSE,Y76=EUconst_NA),\"\",\"-\")","v":"-"},null,1,null,{"$f":"IF(AND(E63<>\"\",OR(F76=\"\",COUNT(K76:L76)=0),Y76<>EUconst_NA,T63<>TRUE),EUconst_ERR_Incomplete,IF(COUNTIF(AX76:AZ76,TRUE)>0,EUconst_ERR_Inconsistent,\"\"))","v":""},null,null,null,null,null,null,{"$f":"EUconst_CNTR_OxidationFactor&E63","v":"OxF_Degimas: Kitas dujinis ir skystasis kuras"},null,"Dujinis – Gamtinės dujos",null,null,{"$f":"IF(OR(T63=TRUE,E63=\"\"),\"\",INDEX(EUwideConstants!$N:$N,MATCH(T76,EUwideConstants!$Q:$Q,0)))","v":1},{"$f":"IF(ISBLANK(F76),\"\",IF(F76=EUconst_NA,\"\",INDEX(EUwideConstants!$H:$M,MATCH(T76,EUwideConstants!$Q:$Q,0),MATCH(F76,CNTR_TierList,0))))","v":"OksK = 1"},{"$f":"IF(F76=1,1,\"\")","v":1},null,{"$f":"AND(AC72,Y76<>EUconst_NA)","v":true},null,null,null,null,null,null,null,null,null,{"$f":"EUconst_CNTR_OxidationFactor&EUconst_Value","v":"OxF_Vertė"},null,1,null,{"$f":"IF(AA76=\"\",\"\",AO76)","v":1},{"$f":"IF(AC76=TRUE,IF(COUNT(K76:L76)=0,0,IF(L76=\"\",K76,L76)),1)","v":1},{"$f":"AND(AC76=TRUE,OR(ISNUMBER(L76),NOT(ISNUMBER(AA76))))","v":false},true,null,false,false,null,false,{"$f":"AR76>100%","v":false},null,"CO2 fossil",{"$f":"IF(K62=BC72,AR72*IF(AJ74=EUconst_tCO2pTJ,(AR75/1000),1)*AR74*AR76*(1-AR79),\"\")","v":2336.1948034304},{"$f":"IF(K62=BD72,AR72*AR74*AR77*(1-AR79),\"\")","v":""},{"$f":"IF(K62=BE72,3.664*AR72*AR78*(1-AR79),\"\")","v":""},null,null,null,null,null,null,null,null,null,null,null,null,null,null,null,null,null,null,null,null,{"$f":"OR(BZ72,Y76=EUconst_NA)","v":false}]
[null,null,"vii.",{"$f":"Translations!$B$639","v":"KonvK:"},null,null,"",null,{"$f":"IF(OR(AC77=FALSE,Y77=EUconst_NA),\"\",\"-\")","v":""},null,"",null,{"$f":"IF(AND(E63<>\"\",OR(F77=\"\",COUNT(K77:L77)=0),Y77<>EUconst_NA,T63<>TRUE),EUconst_ERR_Incomplete,IF(COUNTIF(AX77:AZ77,TRUE)>0,EUconst_ERR_Inconsistent,\"\"))","v":""},null,null,null,null,null,null,{"$f":"EUconst_CNTR_ConversionFactor&E63","v":"ConvF_Degimas: Kitas dujinis ir skystasis kuras"},null,"Dujinis – Gamtinės dujos",null,null,{"$f":"IF(OR(T63=TRUE,E63=\"\"),\"\",INDEX(EUwideConstants!$N:$N,MATCH(T77,EUwideConstants!$Q:$Q,0)))","v":"netaik."},{"$f":"IF(ISBLANK(F77),\"\",IF(F77=EUconst_NA,\"\",INDEX(EUwideConstants!$H:$M,MATCH(T77,EUwideConstants!$Q:$Q,0),MATCH(F77,CNTR_TierList,0))))","v":""},{"$f":"IF(F77=1,1,\"\")","v":""},null,{"$f":"AND(AC72,Y77<>EUconst_NA)","v":false},null,null,null,null,null,null,null,null,null,{"$f":"EUconst_CNTR_ConversionFactor&EUconst_Value","v":"ConvF_Vertė"},null,1,null,{"$f":"IF(AA77=\"\",\"\",AO77)","v":""},{"$f":"IF(AC77=TRUE,IF(COUNT(K77:L77)=0,0,IF(L77=\"\",K77,L77)),1)","v":1},{"$f":"AND(AC77=TRUE,OR(ISNUMBER(L77),NOT(ISNUMBER(AA77))))","v":false},false,null,{"$f":"AND(ISNUMBER(AA77),AQ77=\"\")","v":false},false,null,false,{"$f":"AR77>100%","v":false},null,"Energy fossil",{"$f":"AR72*AR75/1000*(1-AR79)","v":42.3323392},{"$f":"BC77","v":42.3323392},{"$f":"BC77","v":42.3323392},null,null,null,null,null,null,null,null,null,null,null,null,null,null,null,null,null,null,null,null,{"$f":"OR(BZ72,Y77=EUconst_NA)","v":true}]
[null,null,"viii.",{"$f":"Translations!$B$640","v":"AnglK:"},null,null,"",null,{"$f":"AJ78","v":""},null,"",null,{"$f":"IF(AND(E63<>\"\",OR(F78=\"\",COUNT(K78:L78)=0),Y78<>EUconst_NA,T63<>TRUE),EUconst_ERR_Incomplete,IF(COUNTIF(AX78:AZ78,TRUE)>0,EUconst_ERR_Inconsistent,\"\"))","v":""},null,null,null,null,null,null,{"$f":"EUconst_CNTR_CarbonContent&E63","v":"CarbC_Degimas: Kitas dujinis ir skystasis kuras"},null,"Dujinis – Gamtinės dujos",null,null,{"$f":"IF(OR(T63=TRUE,E63=\"\"),\"\",INDEX(EUwideConstants!$N:$N,MATCH(T78,EUwideConstants!$Q:$Q,0)))","v":"netaik."},{"$f":"IF(ISBLANK(F78),\"\",IF(F78=EUconst_NA,\"\",INDEX(EUwideConstants!$H:$M,MATCH(T78,EUwideConstants!$Q:$Q,0),MATCH(F78,CNTR_TierList,0))))","v":""},{"$f":"IF(COUNTIF(EUconst_DefaultValues,Z78)>0,MATCH(Z78,EUconst_DefaultValues,0),\"\")","v":""},null,{"$f":"AND(AC72,Y78<>EUconst_NA)","v":false},null,{"$f":"EUconst_CNTR_CarbonContent&EUconst_Unit","v":"CarbC_Vienetas"},{"$f":"IF(AC78=TRUE, IF(COUNTIF(MSPara_SourceStreamCategory,V78)=0,\"\",INDEX(MSPara_CalcFactorsMatrix,MATCH(V78,MSPara_SourceStreamCategory,0),MATCH(AE78&\"_\"&2,MSPara_CalcFactors,0))),\"\")","v":""},{"$f":"IF(AC78=TRUE, IF(COUNTIF(MSPara_SourceStreamCategory,V78)=0,\"\",INDEX(MSPara_CalcFactorsMatrix,MATCH(V78,MSPara_SourceStreamCategory,0),MATCH(AE78&\"_\"&1,MSPara_CalcFactors,0))),\"\")","v":""},{"$f":"IF(AA78=\"\",\"\",INDEX(AF78:AG78,3-AA78))","v":""},null,{"$f":"IF(AC78=TRUE,IF(AJ72=\"\",\"\",IF(AJ72=EUconst_kNm3,EUconst_tCpkNm3,EUconst_tCpt)),\"\")","v":""},null,null,{"$f":"EUconst_CNTR_CarbonContent&EUconst_Value","v":"CarbC_Vertė"},{"$f":"IF(AC78=TRUE,IF(COUNTIF(MSPara_SourceStreamCategory,V78)=0,\"\",INDEX(MSPara_CalcFactorsMatrix,MATCH(V78,MSPara_SourceStreamCategory,0),MATCH(AM78&\"_\"&2,MSPara_CalcFactors,0))),\"\")","v":""},{"$f":"IF(AC78=TRUE,IF(COUNTIF(MSPara_SourceStreamCategory,V78)=0,\"\",INDEX(MSPara_CalcFactorsMatrix,MATCH(V78,MSPara_SourceStreamCategory,0),MATCH(AM78&\"_\"&1,MSPara_CalcFactors,0))),\"\")","v":""},{"$f":"AND(AND(AH78<>\"\",AJ78<>\"\"),AJ78=AH78)","v":false},{"$f":"IF(AND(AA78<>\"\",AP78=TRUE),IF(OR(INDEX(AN78:AO78,3-AA78)=EUconst_NA,INDEX(AN78:AO78,3-AA78)=0),\"\",INDEX(AN78:AO78,3-AA78)),\"\")","v":""},{"$f":"IF(AC78=TRUE,IF(COUNT(K78:L78)=0,0,IF(L78=\"\",K78,L78)),0)","v":0},{"$f":"AND(AC78=TRUE,OR(AND(F78<>\"\",NOT(ISNUMBER(AA78))),L78<>\"\",F78=\"\",AQ78=\"\"))","v":false},false,null,false,false,{"$f":"OR(AND(AJ72=EUconst_kNm3,AJ78=EUconst_tCpt),AND(AJ72=EUconst_t,AJ78=EUconst_tCpkNm3))","v":false},false,null,null,"Energy bio",{"$f":"AR72*AR75/1000*AR79","v":0},{"$f":"BC78","v":0},{"$f":"BC78","v":0},null,null,null,null,null,null,null,null,null,null,null,null,null,null,null,null,null,null,null,null,{"$f":"OR(BZ72,Y78=EUconst_NA)","v":true}]
[null,null,"ix.",{"$f":"Translations!$B$641","v":"BioC:"},null,null,"",null,{"$f":"IF(OR(AC79=FALSE,Y79=EUconst_NA),\"\",\"-\")","v":""},null,"",null,{"$f":"IF(AND(E63<>\"\",OR(F79=\"\",COUNT(K79:L79)=0),Y79<>EUconst_NA,T63<>TRUE),EUconst_ERR_Incomplete,IF(COUNTIF(AX79:AZ79,TRUE)>0,EUconst_ERR_Inconsistent,\"\"))","v":""},null,null,null,null,null,null,{"$f":"EUconst_CNTR_BiomassContent&E63","v":"BioC_Degimas: Kitas dujinis ir skystasis kuras"},null,"Dujinis – Gamtinės dujos",{"$f":"IF(COUNTIF(MSPara_SourceStreamCategory,V79)=0,\"\",INDEX(MSPara_IsFossil,MATCH(V79,MSPara_SourceStreamCategory,0)))","v":true},null,{"$f":"IF(OR(T63=TRUE,E63=\"\"),\"\",IF(OR(W79=TRUE,F79=EUconst_NA),EUconst_NA,INDEX(EUwideConstants!$N:$N,MATCH(T79,EUwideConstants!$Q:$Q,0))))","v":"netaik."},{"$f":"IF(ISBLANK(F79),\"\",IF(F79=EUconst_NA,\"\",INDEX(EUwideConstants!$H:$M,MATCH(T79,EUwideConstants!$Q:$Q,0),MATCH(F79,CNTR_TierList,0))))","v":""},{"$f":"IF(F79=1,1,\"\")","v":""},null,{"$f":"AND(AC72,Y79<>EUconst_NA)","v":false},null,null,null,null,null,null,null,null,null,{"$f":"EUconst_CNTR_BiomassContent&EUconst_Value","v":"BioC_Vertė"},null,{"$f":"IF(AC79=TRUE,IF(COUNTIF(MSPara_SourceStreamCategory,V79)=0,\"\",INDEX(MSPara_CalcFactorsMatrix,MATCH(V79,MSPara_SourceStreamCategory,0),MATCH(AM79&\"_\"&2,MSPara_CalcFactors,0))),\"\")","v":""},null,{"$f":"IF(OR(AA79=\"\",AO79=EUconst_NA),\"\",AO79)","v":""},{"$f":"IF(AC79=TRUE,IF(COUNT(K79:L79)=0,0,IF(L79=\"\",K79,L79)),0)","v":0},{"$f":"AND(AC79=TRUE,OR(AND(F79<>\"\",NOT(ISNUMBER(AA79))),L79<>\"\",F79=\"\",AQ79=\"\"))","v":false},false,null,false,false,null,false,{"$f":"OR(AR79>100%,(AR79+AR80)>100%)","v":false},null,null,null,null,null,null,null,null,null,null,null,null,null,null,null,null,null,null,null,null,null,null,null,null,null,{"$f":"OR(BZ72,Y79=EUconst_NA)","v":true}]
[null,null,"x.",{"$f":"Translations!$B$647","v":"Netvar. BioC:"},null,null,"",null,{"$f":"IF(OR(AC80=FALSE,Y80=EUconst_NA),\"\",\"-\")","v":""},null,"",null,{"$f":"IF(AND(E63<>\"\",OR(F80=\"\",COUNT(K80:L80)=0),Y80<>EUconst_NA,T63<>TRUE),EUconst_ERR_Incomplete,IF(COUNTIF(AX80:AZ80,TRUE)>0,EUconst_ERR_Inconsistent,\"\"))","v":""},null,null,null,null,null,null,{"$f":"EUconst_CNTR_BiomassContent&E63","v":"BioC_Degimas: Kitas dujinis ir skystasis kuras"},null,"Dujinis – Gamtinės dujos",{"$f":"IF(COUNTIF(MSPara_SourceStreamCategory,V80)=0,\"\",INDEX(MSPara_IsFossil,MATCH(V80,MSPara_SourceStreamCategory,0)))","v":true},null,{"$f":"IF(OR(T63=TRUE,E63=\"\"),\"\",IF(OR(W80=TRUE,F80=EUconst_NA),EUconst_NA,INDEX(EUwideConstants!$N:$N,MATCH(T80,EUwideConstants!$Q:$Q,0))))","v":"netaik."},{"$f":"IF(ISBLANK(F80),\"\",IF(F80=EUconst_NA,\"\",INDEX(EUwideConstants!$H:$M,MATCH(T80,EUwideConstants!$Q:$Q,0),MATCH(F80,CNTR_TierList,0))))","v":""},{"$f":"IF(F80=1,1,\"\")","v":""},null,{"$f":"AND(AC72,Y80<>EUconst_NA)","v":false},null,null,null,null,null,null,null,null,null,{"$f":"EUconst_CNTR_BiomassContent&EUconst_Value","v":"BioC_Vertė"},null,{"$f":"IF(AC80=TRUE,IF(COUNTIF(MSPara_SourceStreamCategory,V80)=0,\"\",INDEX(MSPara_CalcFactorsMatrix,MATCH(V80,MSPara_SourceStreamCategory,0),MATCH(AM80&\"_\"&2,MSPara_CalcFactors,0))),\"\")","v":""},null,{"$f":"IF(OR(AA80=\"\",AO80=EUconst_NA),\"\",AO80)","v":""},{"$f":"IF(AC80=TRUE,IF(COUNT(K80:L80)=0,0,IF(L80=\"\",K80,L80)),0)","v":0},{"$f":"AND(AC80=TRUE,OR(AND(F80<>\"\",NOT(ISNUMBER(AA80))),L80<>\"\",F80=\"\",AQ80=\"\"))","v":false},false,null,false,false,null,false,{"$f":"OR(AR79>100%,(AR79+AR80)>100%)","v":false},null,null,null,null,null,null,null,null,null,null,null,null,null,null,null,null,null,null,null,null,null,null,null,null,null,{"$f":"OR(BZ72,Y80=EUconst_NA)","v":true}]
[]
[null,null,null,{"$f":"Translations!$B$674","v":"Pakopos galioja nuo:"},null,null,null,{"$f":"Translations!$B$675","v":"iki:"},null,{"$f":"Translations!$B$676","v":"Atliekų katalogo numeris (jeigu taikytina):"},null,null,null,null,null,null,null,null,null,null,null,null,null,null,null,null,null,null,null,null,null,null,null,null,null,null,null,null,null,null,null,null,null,null,null,null,null,null,null,null,null,null,null,null,null,null,null,null,null,null,null,null,null,null,null,null,null,null,null,null,null,null,null,null,null,null,null,{"$f":"BZ72","v":false}]
[]
[null,null,null,null,null,null,null,null,null,null,null,null,{"$f":"Translations!$B$677","v":"Stebėsenos plane šiam sukėlikliui suteiktas identifikatorius:"},null,null,null,null,null,null,null,null,null,null,null,null,null,null,null,null,null,null,null,null,null,null,null,null,null,null,null,null,null,null,null,null,null,null,null,null,null,null,null,null,null,null,null,null,null,null,null,null,null,null,null,null,null,null,null,null,null,null,null,null,null,null,null,null,{"$f":"BZ82","v":false}]
[]
[null,null,null,{"$f":"Translations!$B$160","v":"Pastabos:"},null,null,null,null,null,null,null,null,null,null,null,null,null,null,null,null,null,null,null,null,null,null,null,null,null,null,null,null,null,null,null,null,null,null,null,null,null,null,null,null,null,null,null,null,null,null,null,null,null,null,null,null,null,null,null,null,null,null,null,null,null,null,null,null,null,null,null,null,null,null,null,null,null,{"$f":"BZ82","v":false}]
[]
[null,null,null,null,null,null,null,null,null,null,null,null,null,null,null,null,null,null,null,{"$f":"IF(ISBLANK(E89),\"\",MATCH(E89,CNTR_SourceStreamNames,0))","v":2},{"$f":"IF(ISBLANK(E89),\"\",INDEX(B_InstallationDescription!$D$65:$D$139,MATCH(E89,CNTR_SourceStreamNames,0)))","v":"F2"},null,null,null,null,null,null,null,null,null,null,null,null,null,null,null,null,null,null,null,null,null,null,null,null,null,null,null,null,null,null,null,null,null,null,null,null,null,null,null,null,null,null,null,null,null,null,null,null,null,null,null,null,null,null,null,null,"cond. form."]
[{"$f":"IF(E89=\"\",\"\",\"PRINT\")","v":"PRINT"},null,{"$f":"C62+1","v":2},null,"F2. Skystasis – Sunkusis mazutas; Mazutas",null,null,null,null,null,{"$f":"IF(E90=\"\",\"\",INDEX(EUwideConstants!$F$338:$F$379,MATCH(E90,EUConst_TierActivityListNames,0)))","v":"Degimas"},null,{"$f":"Translations!$B$665","v":"CO2, iškastinio kuro kilmės:"},{"$f":"IF(OR(K89=\"\",T90=TRUE),\"\",INDEX(BC103:BE103,MATCH(K89,BC99:BE99,0)))","v":1268.6238616640001},"t CO2e",{"$f":"IF(AND(E89<>\"\",COUNTIF(P90:$P$173,\"PRINT\")=0),\"PRINT\",\"\")","v":""},{"$f":"EUconst_SumCO2 & \"_\" & K89","v":"SUM_CO2_Degimas"},null,null,"is PFC?",null,null,null,null,null,null,null,null,null,null,null,null,null,null,null,null,null,null,null,null,null,null,null,null,null,null,null,null,null,null,null,null,null,null,null,null,null,null,null,{"$f":"AR99","v":408.09399999999999},{"$f":"AJ99","v":"t"},{"$f":"AR101","v":77.599999999999994},{"$f":"AJ101","v":"tCO2/TJ"},{"$f":"AR102","v":40.06},{"$f":"AJ102","v":"GJ/t"},{"$f":"AR103","v":1},{"$f":"AR104","v":1},{"$f":"AR105","v":0},{"$f":"AJ105","v":""},{"$f":"AR106","v":0},{"$f":"AR107","v":0},{"$f":"N89","v":1268.6238616640001},{"$f":"N90","v":0},{"$f":"R92","v":0},{"$f":"R98","v":16.348245640000002},{"$f":"R99","v":0},null,{"$f":"CNTR_CalcRelevant=EUconst_NotRelevant","v":false}]
[null,null,null,null,{"$f":"IF(ISBLANK(E89),\"\",IF(INDEX(B_InstallationDescription!$E$65:$E$139,MATCH(U88,B_InstallationDescription!$D$65:$D$139,0))>0,INDEX(B_InstallationDescription!$E$65:$E$139,MATCH(U88,B_InstallationDescription!$D$65:$D$139,0)),\"\"))","v":"Degimas: Kitas dujinis ir skystasis kuras"},null,null,null,null,null,null,null,{"$f":"Translations!$B$666","v":"CO2, biomasės kilmės.:"},{"$f":"IF(OR(K89=\"\",T90=TRUE),\"\",INDEX(BC102:BE102,MATCH(K89,BC99:BE99,0)))","v":0},"t CO2e",null,{"$f":"EUconst_SumBioCO2 & \"_\" & K89","v":"SUM_bioCO2_Degimas"},null,null,{"$f":"IF(E90=\"\",\"\",MATCH(E90,EUConst_TierActivityListNames,0)>40)","v":false},null,null,null,null,"Tiers",null,null,null,null,null,"Units",null,null,null,null,null,null,null,"Values",null,null,null,null,null,null,null,null,"Errors",null,null,null,null,null,"Calculation",null,null,null,null,"Accounting","AD","AD Unit","EF","EF Unit","NCV","NCV Unit","Ox","Conv","CarbC","CarbC Unit","Bio","NonSustBio","CO2 fossil","CO2 bio","CO2 non-sust","CO2 ENIN fossil","CO2 ENIN bio"]
[]
[null,null,null,null,{"$f":"IF(E89=\"\",\"\",IF(T90=TRUE,HYPERLINK(\"#JUMP_14\",EUconst_MsgGoOnPFC),HYPERLINK(\"#JUMP_E_8\",EUconst_FurtherGuidancePoint1)))","v":"Išsamios duomenų įvedimo naudojantis šia priemone instrukcijos pateiktos šio lapo viršuje. "},null,null,null,null,null,null,null,null,null,null,null,{"$f":"EUconst_SumNonSustBioCO2 & \"_\" & K89","v":"SUM_bioNonSustCO2_Degimas"},{"$f":"IF(OR(K89=\"\",T90=TRUE),\"\",ROUND(INDEX(BC101:BE101,MATCH(K89,BC99:BE99,0)),0))","v":0}]
[]
[null,null,"i.",{"$f":"Translations!$B$622","v":"VD:"},{"$f":"Translations!$B$667","v":"Ar veiklos duomenys gaunami sudedant išmatuotus kiekius (t. y. ne atliekant nuolatinius matavimus)?"},null,null,null,null,null,null,null,null,null,null,null,null,null,null,null,null,null,null,null,null,null,null,null,{"$f":"AND(E89<>\"\",T90<>TRUE)","v":true},null,null,null,null,null,null,null,null,null,null,null,null,null,null,null,null,{"$f":"MSPara_BatchReportingMandatory<>TRUE","v":true},null,null,null,null,null,null,null,null,null,null,null,null,null,null,null,null,null,null,null,null,null,null,null,null,null,null,null,null,null,null,null,{"$f":"OR(CNTR_CalcRelevant=EUconst_NotRelevant,AND(COUNTA(CNTR_ListRelevantSections)>0,OR(T90=TRUE,E89=\"\")))","v":false}]
[]
[null,null,"ii.",{"$f":"Translations!$B$622","v":"VD:"},{"$f":"Translations!$B$668","v":"Pradinis kiekis:"},null,{"$f":"Translations!$B$669","v":"Galutinis kiekis:"},null,{"$f":"Translations!$B$670","v":"Įsigytas kiekis:"},null,{"$f":"Translations!$B$671","v":"Perduotas kiekis:"},null,{"$f":"IF(AND(L94=TRUE,COUNT(F96,H96,J96,L96)<4),EUconst_ERR_Incomplete,\"\")","v":""},null,null,null,null,null,null,null,null,null,null,null,null,null,null,null,{"$f":"AC94","v":true},null,null,null,null,null,null,null,null,null,null,null,null,null,null,null,null,{"$f":"AND(AT94=TRUE,L94=\"\")","v":true},null,null,null,null,null,null,null,null,null,null,null,null,null,null,null,null,null,null,null,null,null,null,null,null,null,null,null,null,null,null,null,{"$f":"OR(BZ94,AND(NOT(ISBLANK(L94)),L94=FALSE))","v":false}]
[]
[null,null,null,null,null,{"$f":"Translations!$B$333","v":"Pakopa"},{"$f":"Translations!$B$672","v":"pakopos aprašas"},null,{"$f":"Translations!$B$158","v":"Vienetas"},null,{"$f":"Translations!$B$673","v":"Vertė"},null,{"$f":"Translations!$B$610","v":"klaida"},null,null,null,{"$f":"EUconst_SumEnergyIN & \"_\" & K89","v":"SUM_EnergyIN_Degimas"},{"$f":"IF(OR(K89=\"\",T90)=TRUE,\"\",INDEX(BC104:BE104,MATCH(K89,BC99:BE99,0)))","v":16.348245640000002},null,null,null,"Category from Sheet A",null,null,"tier required","text tier",null,null,"entries sheet A complete?",null,null,"typeII","typeI","default type","default unit","Unit used","cond. Form?",null,null,"typeII","typeI","Unit consistent?","default Value","Value used","cond. Form?","cond. Form?",null,null,null,"EF Units?",null,null,null,null,null,null,null,null,null,null,null,null,null,null,null,null,null,null,null,null,null,null,null,null,null,null,null,"cond. form."]
[null,null,"iii.",{"$f":"Translations!$B$622","v":"VD:"},null,2,{"$f":"IF(OR(ISBLANK(F99),F99=EUconst_NoTier),\"\",IF(Z99=0,EUconst_NA,IF(ISERROR(Z99),\"\",Z99)))","v":"± 5,0%"},null,{"$f":"IF(J99<>\"\",\"\",AI99)","v":"t"},null,{"$f":"IF(L99=\"\",AQ99,\"\")","v":""},408.09399999999999,{"$f":"IF(AND(E90<>\"\",OR(F99=\"\",COUNT(K99:L99)=0),Y99<>EUconst_NA,T90<>TRUE),EUconst_ERR_Incomplete,IF(COUNTIF(AX99:AZ99,TRUE)>0,EUconst_ERR_Inconsistent,\"\"))","v":""},null,null,null,{"$f":"EUconst_SumBioEnergyIN & \"_\" & K89","v":"SUM_BioEnergyIN_Degimas"},{"$f":"IF(OR(K89=\"\",T90)=TRUE,\"\",INDEX(BC105:BE105,MATCH(K89,BC99:BE99,0)))","v":0},null,{"$f":"EUconst_CNTR_ActivityData&E90","v":"ActivityData_Degimas: Kitas dujinis ir skystasis kuras"},null,{"$f":"IF(E89=\"\",\"\",INDEX(B_InstallationDescription!$I$65:$I$139,MATCH(U88,B_InstallationDescription!$D$65:$D$139,0)))","v":"Skystasis – Sunkusis mazutas"},"is fossil?",null,{"$f":"IF(OR(T90=TRUE,E90=\"\"),\"\",INDEX(EUwideConstants!$N:$N,MATCH(T99,EUwideConstants!$Q:$Q,0)))","v":4},{"$f":"IF(ISBLANK(F99),\"\",IF(F99=EUconst_NA,\"\",INDEX(EUwideConstants!$H:$M,MATCH(T99,EUwideConstants!$Q:$Q,0),MATCH(F99,CNTR_TierList,0))))","v":"± 5,0%"},"default type",null,{"$f":"AC94","v":true},null,{"$f":"EUconst_CNTR_ActivityData&EUconst_Unit","v":"ActivityData_Vienetas"},{"$f":"IF(AC99=TRUE, IF(COUNTIF(MSPara_SourceStreamCategory,V99)=0,\"\",INDEX(MSPara_CalcFactorsMatrix,MATCH(V99,MSPara_SourceStreamCategory,0),MATCH(AE99&\"_\"&2,MSPara_CalcFactors,0))),\"\")","v":""},{"$f":"IF(AC99=TRUE, IF(COUNTIF(MSPara_SourceStreamCategory,V99)=0,\"\",INDEX(MSPara_CalcFactorsMatrix,MATCH(V99,MSPara_SourceStreamCategory,0),MATCH(AE99&\"_\"&1,MSPara_CalcFactors,0))),\"\")","v":""},{"$f":"IF(OR(AF99=\"\",AF99=EUconst_NA),IF(OR(AG99=EUconst_NA,AG99=\"\"),\"\",AG99),AF99)","v":""},{"$f":"IF(AC99=TRUE,IF(AH99=\"\",EUconst_t,AH99),\"\")","v":"t"},{"$f":"IF(J99=\"\",AI99,J99)","v":"t"},{"$f":"IF(K89=EUconst_Fuel,J99<>\"\",FALSE)","v":false},null,{"$f":"EUconst_CNTR_ActivityData&EUconst_Value","v":"ActivityData_Vertė"},null,null,{"$f":"AND(AND(AH99<>\"\",AJ99<>\"\"),AJ99=AH99)","v":false},{"$f":"IF(L94=TRUE,SUM(F96)-SUM(H96)+SUM(J96)-SUM(L96),\"\")","v":""},{"$f":"IF(Y99=EUconst_NA,0,IF(COUNT(K99:L99)=0,0,IF(L99=\"\",K99,L99)))","v":408.09399999999999},{"$f":"AND(AC99=TRUE,OR(L99<>\"\",AQ99=\"\"))","v":true},{"$f":"AND(AC99=TRUE,NOT(AS99))","v":false},null,"def val available?","def val used?",null,"inconsistent entries?",null,null,null,{"$f":"EUconst_Fuel","v":"Degimas"},{"$f":"EUconst_ProcessCarbonate","v":"Proceso metu išsiskiriančios ŠESD"},{"$f":"EUconst_MassBalance","v":"Masės balansas"},null,null,null,null,null,null,null,null,null,null,null,null,null,null,null,null,null,null,null,null,{"$f":"BZ94","v":false}]
[null,null,null,null,null,null,null," "]
[null,null,"iv.",{"$f":"Translations!$B$634","v":"(prelim.) ITF:"},null,"2a",{"$f":"IF(OR(ISBLANK(F101),F101=EUconst_NoTier),\"\",IF(Z101=0,EUconst_NotApplicable,IF(ISERROR(Z101),\"\",Z101)))","v":"II tipas"},null,{"$f":"IF(J101<>\"\",\"\",AI101)","v":"tCO2/TJ"},null,{"$f":"IF(L101=\"\",AQ101,\"\")","v":""},77.599999999999994,{"$f":"IF(AND(E90<>\"\",OR(F101=\"\",COUNT(K101:L101)=0),Y101<>EUconst_NA,T90<>TRUE),EUconst_ERR_Incomplete,IF(COUNTIF(AX101:AZ101,TRUE)>0,EUconst_ERR_Inconsistent,\"\"))","v":""},null,null,null,null,null,null,{"$f":"EUconst_CNTR_EF&E90","v":"EF_Degimas: Kitas dujinis ir skystasis kuras"},null,{"$f":"V99","v":"Skystasis – Sunkusis mazutas"},null,null,{"$f":"IF(OR(T90=TRUE,E90=\"\"),\"\",IF(F101=EUconst_NA,EUconst_NA,INDEX(EUwideConstants!$N:$N,MATCH(T101,EUwideConstants!$Q:$Q,0))))","v":3},{"$f":"IF(ISBLANK(F101),\"\",IF(F101=EUconst_NA,\"\",INDEX(EUwideConstants!$H:$M,MATCH(T101,EUwideConstants!$Q:$Q,0),MATCH(F101,CNTR_TierList,0))))","v":"II tipas"},{"$f":"IF(COUNTIF(EUconst_DefaultValues,Z101)>0,MATCH(Z101,EUconst_DefaultValues,0),\"\")","v":2},null,{"$f":"AND(AC99,Y101<>EUconst_NA)","v":true},null,{"$f":"EUconst_CNTR_EF&EUconst_Unit","v":"EF_Vienetas"},{"$f":"IF(AC101=TRUE, IF(COUNTIF(MSPara_SourceStreamCategory,V101)=0,\"\",INDEX(MSPara_CalcFactorsMatrix,MATCH(V101,MSPara_SourceStreamCategory,0),MATCH(AE101&\"_\"&2,MSPara_CalcFactors,0))),\"\")","v":""},{"$f":"IF(AC101=TRUE, IF(COUNTIF(MSPara_SourceStreamCategory,V101)=0,\"\",INDEX(MSPara_CalcFactorsMatrix,MATCH(V101,MSPara_SourceStreamCategory,0),MATCH(AE101&\"_\"&1,MSPara_CalcFactors,0))),\"\")","v":""},{"$f":"IF(AA101=\"\",\"\",INDEX(AF101:AG101,3-AA101))","v":""},{"$f":"IF(AC101=TRUE,IF(OR(AH101=\"\",AH101=EUconst_NA),IF(K89=EUconst_Fuel,EUconst_tCO2pTJ,EUconst_tCO2pt),AH101),\"\")","v":"tCO2/TJ"},{"$f":"IF(J101=\"\",AI101,J101)","v":"tCO2/TJ"},{"$f":"IF(K89=EUconst_Fuel,J101<>\"\",FALSE)","v":false},null,{"$f":"EUconst_CNTR_EF&EUconst_Value","v":"EF_Vertė"},{"$f":"IF(AC101=TRUE,IF(COUNTIF(MSPara_SourceStreamCategory,V101)=0,\"\",INDEX(MSPara_CalcFactorsMatrix,MATCH(V101,MSPara_SourceStreamCategory,0),MATCH(AM101&\"_\"&2,MSPara_CalcFactors,0))),\"\")","v":""},{"$f":"IF(AC101=TRUE,IF(COUNTIF(MSPara_SourceStreamCategory,V101)=0,\"\",INDEX(MSPara_CalcFactorsMatrix,MATCH(V101,MSPara_SourceStreamCategory,0),MATCH(AM101&\"_\"&1,MSPara_CalcFactors,0))),\"\")","v":""},{"$f":"AND(AND(AH101<>\"\",AJ101<>\"\"),AJ101=AH101)","v":false},{"$f":"IF(AND(AA101<>\"\",AP101=TRUE),IF(OR(INDEX(AN101:AO101,3-AA101)=EUconst_NA,INDEX(AN101:AO101,3-AA101)=0),\"\",INDEX(AN101:AO101,3-AA101)),\"\")","v":""},{"$f":"IF(AC101=TRUE,IF(COUNT(K101:L101)=0,0,IF(L101=\"\",K101,L101)),0)","v":77.599999999999994},{"$f":"AND(AC101=TRUE,OR(AND(F101<>\"\",NOT(ISNUMBER(AA101))),L101<>\"\",F101=\"\",AQ101=\"\"))","v":true},{"$f":"AND(AC101=TRUE,NOT(AS101))","v":false},null,{"$f":"AND(ISNUMBER(AA101),AQ101=\"\")","v":true},{"$f":"AND(ISNUMBER(AA101),AQ101<>AR101)","v":true},{"$f":"OR(AND(AJ99=EUconst_kNm3,AJ101=EUconst_tCO2pt),AND(AJ99=EUconst_t,AJ101=EUconst_tCO2pkNm3))","v":false},{"$f":"AND(L101<>\"\",Y101=EUconst_NA)","v":false},null,null,"CO2 biogenic (non-sust)",{"$f":"IF(K89=BC99,AR99*IF(AJ101=EUconst_tCO2pTJ,(AR102/1000),1)*AR101*AR103*AR107,\"\")","v":0},{"$f":"IF(K89=BD99,AR99*AR101*AR104*AR107,\"\")","v":""},{"$f":"IF(K89=BE99,3.664*AR99*AR105*AR107,\"\")","v":""},null,null,null,null,null,null,null,null,null,null,null,null,null,null,null,null,null,null,null,null,{"$f":"OR(BZ99,Y101=EUconst_NA)","v":false}]
[null,null,"v.",{"$f":"Translations!$B$636","v":"GŠV:"},null,"2a","II tipas",null,{"$f":"AJ102","v":"GJ/t"},null,"",40.06,{"$f":"IF(AND(E90<>\"\",OR(F102=\"\",COUNT(K102:L102)=0),Y102<>EUconst_NA,T90<>TRUE),EUconst_ERR_Incomplete,IF(COUNTIF(AX102:AZ102,TRUE)>0,EUconst_ERR_Inconsistent,\"\"))","v":""},null,null,null,null,null,null,{"$f":"EUconst_CNTR_NCV&E90","v":"NCV_Degimas: Kitas dujinis ir skystasis kuras"},null,{"$f":"V101","v":"Skystasis – Sunkusis mazutas"},null,null,{"$f":"IF(OR(T90=TRUE,E90=\"\"),\"\",IF(F102=EUconst_NA,EUconst_NA,INDEX(EUwideConstants!$N:$N,MATCH(T102,EUwideConstants!$Q:$Q,0))))","v":3},{"$f":"IF(ISBLANK(F102),\"\",IF(F102=EUconst_NA,\"\",INDEX(EUwideConstants!$H:$M,MATCH(T102,EUwideConstants!$Q:$Q,0),MATCH(F102,CNTR_TierList,0))))","v":"II tipas"},{"$f":"IF(COUNTIF(EUconst_DefaultValues,Z102)>0,MATCH(Z102,EUconst_DefaultValues,0),\"\")","v":2},null,{"$f":"AND(AC99,Y102<>EUconst_NA)","v":true},null,{"$f":"EUconst_CNTR_NCV&EUconst_Unit","v":"NCV_Vienetas"},{"$f":"IF(AC102=TRUE, IF(COUNTIF(MSPara_SourceStreamCategory,V102)=0,\"\",INDEX(MSPara_CalcFactorsMatrix,MATCH(V102,MSPara_SourceStreamCategory,0),MATCH(AE102&\"_\"&2,MSPara_CalcFactors,0))),\"\")","v":""},{"$f":"IF(AC102=TRUE, IF(COUNTIF(MSPara_SourceStreamCategory,V102)=0,\"\",INDEX(MSPara_CalcFactorsMatrix,MATCH(V102,MSPara_SourceStreamCategory,0),MATCH(AE102&\"_\"&1,MSPara_CalcFactors,0))),\"\")","v":""},{"$f":"IF(AA102=\"\",\"\",INDEX(AF102:AG102,3-AA102))","v":""},null,{"$f":"IF(AC102=TRUE,IF(AJ99=\"\",\"\",IF(AJ99=EUconst_kNm3,EUconst_GJpkNm3,EUconst_GJpt)),\"\")","v":"GJ/t"},null,null,{"$f":"EUconst_CNTR_NCV&EUconst_Value","v":"NCV_Vertė"},{"$f":"IF(AC102=TRUE,IF(COUNTIF(MSPara_SourceStreamCategory,V102)=0,\"\",INDEX(MSPara_CalcFactorsMatrix,MATCH(V102,MSPara_SourceStreamCategory,0),MATCH(AM102&\"_\"&2,MSPara_CalcFactors,0))),\"\")","v":""},{"$f":"IF(AC102=TRUE,IF(COUNTIF(MSPara_SourceStreamCategory,V102)=0,\"\",INDEX(MSPara_CalcFactorsMatrix,MATCH(V102,MSPara_SourceStreamCategory,0),MATCH(AM102&\"_\"&1,MSPara_CalcFactors,0))),\"\")","v":""},{"$f":"AND(AND(AH102<>\"\",AJ102<>\"\"),AJ102=AH102)","v":false},{"$f":"IF(AND(AA102<>\"\",AP102=TRUE),IF(OR(INDEX(AN102:AO102,3-AA102)=EUconst_NA,INDEX(AN102:AO102,3-AA102)=0),\"\",INDEX(AN102:AO102,3-AA102)),\"\")","v":""},{"$f":"IF(AC102=TRUE,IF(COUNT(K102:L102)=0,0,IF(L102=\"\",K102,L102)),0)","v":40.06},{"$f":"AND(AC102=TRUE,OR(AND(F102<>\"\",NOT(ISNUMBER(AA102))),L102<>\"\",F102=\"\",AQ102=\"\"))","v":true},false,null,true,true,null,false,null,null,"CO2 biogenic",{"$f":"IF(K89=BC99,AR99*IF(AJ101=EUconst_tCO2pTJ,(AR102/1000),1)*AR101*AR103*AR106,\"\")","v":0},{"$f":"IF(K89=BD99,AR99*AR101*AR104*AR106,\"\")","v":""},{"$f":"IF(K89=BE99,3.664*AR99*AR105*AR106,\"\")","v":""},null,null,null,null,null,null,null,null,null,null,null,null,null,null,null,null,null,null,null,null,{"$f":"OR(BZ99,Y102=EUconst_NA)","v":false}]
[null,null,"vi.",{"$f":"Translations!$B$638","v":"OksK:"},null,1,"OksK = 1",null,{"$f":"IF(OR(AC103=FALSE,Y103=EUconst_NA),\"\",\"-\")","v":"-"},null,1,null,{"$f":"IF(AND(E90<>\"\",OR(F103=\"\",COUNT(K103:L103)=0),Y103<>EUconst_NA,T90<>TRUE),EUconst_ERR_Incomplete,IF(COUNTIF(AX103:AZ103,TRUE)>0,EUconst_ERR_Inconsistent,\"\"))","v":""},null,null,null,null,null,null,{"$f":"EUconst_CNTR_OxidationFactor&E90","v":"OxF_Degimas: Kitas dujinis ir skystasis kuras"},null,"Skystasis – Sunkusis mazutas",null,null,{"$f":"IF(OR(T90=TRUE,E90=\"\"),\"\",INDEX(EUwideConstants!$N:$N,MATCH(T103,EUwideConstants!$Q:$Q,0)))","v":1},{"$f":"IF(ISBLANK(F103),\"\",IF(F103=EUconst_NA,\"\",INDEX(EUwideConstants!$H:$M,MATCH(T103,EUwideConstants!$Q:$Q,0),MATCH(F103,CNTR_TierList,0))))","v":"OksK = 1"},{"$f":"IF(F103=1,1,\"\")","v":1},null,{"$f":"AND(AC99,Y103<>EUconst_NA)","v":true},null,null,null,null,null,null,null,null,null,{"$f":"EUconst_CNTR_OxidationFactor&EUconst_Value","v":"OxF_Vertė"},null,1,null,{"$f":"IF(AA103=\"\",\"\",AO103)","v":1},{"$f":"IF(AC103=TRUE,IF(COUNT(K103:L103)=0,0,IF(L103=\"\",K103,L103)),1)","v":1},{"$f":"AND(AC103=TRUE,OR(ISNUMBER(L103),NOT(ISNUMBER(AA103))))","v":false},true,null,false,false,null,false,{"$f":"AR103>100%","v":false},null,"CO2 fossil",{"$f":"IF(K89=BC99,AR99*IF(AJ101=EUconst_tCO2pTJ,(AR102/1000),1)*AR101*AR103*(1-AR106),\"\")","v":1268.6238616640001},{"$f":"IF(K89=BD99,AR99*AR101*AR104*(1-AR106),\"\")","v":""},{"$f":"IF(K89=BE99,3.664*AR99*AR105*(1-AR106),\"\")","v":""},null,null,null,null,null,null,null,null,null,null,null,null,null,null,null,null,null,null,null,null,{"$f":"OR(BZ99,Y103=EUconst_NA)","v":false}]
[null,null,"vii.",{"$f":"Translations!$B$639","v":"KonvK:"},null,null,"",null,{"$f":"IF(OR(AC104=FALSE,Y104=EUconst_NA),\"\",\"-\")","v":""},null,"",null,{"$f":"IF(AND(E90<>\"\",OR(F104=\"\",COUNT(K104:L104)=0),Y104<>EUconst_NA,T90<>TRUE),EUconst_ERR_Incomplete,IF(COUNTIF(AX104:AZ104,TRUE)>0,EUconst_ERR_Inconsistent,\"\"))","v":""},null,null,null,null,null,null,{"$f":"EUconst_CNTR_ConversionFactor&E90","v":"ConvF_Degimas: Kitas dujinis ir skystasis kuras"},null,"Skystasis – Sunkusis mazutas",null,null,{"$f":"IF(OR(T90=TRUE,E90=\"\"),\"\",INDEX(EUwideConstants!$N:$N,MATCH(T104,EUwideConstants!$Q:$Q,0)))","v":"netaik."},{"$f":"IF(ISBLANK(F104),\"\",IF(F104=EUconst_NA,\"\",INDEX(EUwideConstants!$H:$M,MATCH(T104,EUwideConstants!$Q:$Q,0),MATCH(F104,CNTR_TierList,0))))","v":""},{"$f":"IF(F104=1,1,\"\")","v":""},null,{"$f":"AND(AC99,Y104<>EUconst_NA)","v":false},null,null,null,null,null,null,null,null,null,{"$f":"EUconst_CNTR_ConversionFactor&EUconst_Value","v":"ConvF_Vertė"},null,1,null,{"$f":"IF(AA104=\"\",\"\",AO104)","v":""},{"$f":"IF(AC104=TRUE,IF(COUNT(K104:L104)=0,0,IF(L104=\"\",K104,L104)),1)","v":1},{"$f":"AND(AC104=TRUE,OR(ISNUMBER(L104),NOT(ISNUMBER(AA104))))","v":false},false,null,false,false,null,false,{"$f":"AR104>100%","v":false},null,"Energy fossil",{"$f":"AR99*AR102/1000*(1-AR106)","v":16.348245640000002},{"$f":"BC104","v":16.348245640000002},{"$f":"BC104","v":16.348245640000002},null,null,null,null,null,null,null,null,null,null,null,null,null,null,null,null,null,null,null,null,{"$f":"OR(BZ99,Y104=EUconst_NA)","v":true}]
[null,null,"viii.",{"$f":"Translations!$B$640","v":"AnglK:"},null,null,"",null,{"$f":"AJ105","v":""},null,"",null,{"$f":"IF(AND(E90<>\"\",OR(F105=\"\",COUNT(K105:L105)=0),Y105<>EUconst_NA,T90<>TRUE),EUconst_ERR_Incomplete,IF(COUNTIF(AX105:AZ105,TRUE)>0,EUconst_ERR_Inconsistent,\"\"))","v":""},null,null,null,null,null,null,{"$f":"EUconst_CNTR_CarbonContent&E90","v":"CarbC_Degimas: Kitas dujinis ir skystasis kuras"},null,"Skystasis – Sunkusis mazutas",null,null,{"$f":"IF(OR(T90=TRUE,E90=\"\"),\"\",INDEX(EUwideConstants!$N:$N,MATCH(T105,EUwideConstants!$Q:$Q,0)))","v":"netaik."},{"$f":"IF(ISBLANK(F105),\"\",IF(F105=EUconst_NA,\"\",INDEX(EUwideConstants!$H:$M,MATCH(T105,EUwideConstants!$Q:$Q,0),MATCH(F105,CNTR_TierList,0))))","v":""},{"$f":"IF(COUNTIF(EUconst_DefaultValues,Z105)>0,MATCH(Z105,EUconst_DefaultValues,0),\"\")","v":""},null,{"$f":"AND(AC99,Y105<>EUconst_NA)","v":false},null,{"$f":"EUconst_CNTR_CarbonContent&EUconst_Unit","v":"CarbC_Vienetas"},{"$f":"IF(AC105=TRUE, IF(COUNTIF(MSPara_SourceStreamCategory,V105)=0,\"\",INDEX(MSPara_CalcFactorsMatrix,MATCH(V105,MSPara_SourceStreamCategory,0),MATCH(AE105&\"_\"&2,MSPara_CalcFactors,0))),\"\")","v":""},{"$f":"IF(AC105=TRUE, IF(COUNTIF(MSPara_SourceStreamCategory,V105)=0,\"\",INDEX(MSPara_CalcFactorsMatrix,MATCH(V105,MSPara_SourceStreamCategory,0),MATCH(AE105&\"_\"&1,MSPara_CalcFactors,0))),\"\")","v":""},{"$f":"IF(AA105=\"\",\"\",INDEX(AF105:AG105,3-AA105))","v":""},null,{"$f":"IF(AC105=TRUE,IF(AJ99=\"\",\"\",IF(AJ99=EUconst_kNm3,EUconst_tCpkNm3,EUconst_tCpt)),\"\")","v":""},null,null,{"$f":"EUconst_CNTR_CarbonContent&EUconst_Value","v":"CarbC_Vertė"},{"$f":"IF(AC105=TRUE,IF(COUNTIF(MSPara_SourceStreamCategory,V105)=0,\"\",INDEX(MSPara_CalcFactorsMatrix,MATCH(V105,MSPara_SourceStreamCategory,0),MATCH(AM105&\"_\"&2,MSPara_CalcFactors,0))),\"\")","v":""},{"$f":"IF(AC105=TRUE,IF(COUNTIF(MSPara_SourceStreamCategory,V105)=0,\"\",INDEX(MSPara_CalcFactorsMatrix,MATCH(V105,MSPara_SourceStreamCategory,0),MATCH(AM105&\"_\"&1,MSPara_CalcFactors,0))),\"\")","v":""},{"$f":"AND(AND(AH105<>\"\",AJ105<>\"\"),AJ105=AH105)","v":false},{"$f":"IF(AND(AA105<>\"\",AP105=TRUE),IF(OR(INDEX(AN105:AO105,3-AA105)=EUconst_NA,INDEX(AN105:AO105,3-AA105)=0),\"\",INDEX(AN105:AO105,3-AA105)),\"\")","v":""},{"$f":"IF(AC105=TRUE,IF(COUNT(K105:L105)=0,0,IF(L105=\"\",K105,L105)),0)","v":0},{"$f":"AND(AC105=TRUE,OR(AND(F105<>\"\",NOT(ISNUMBER(AA105))),L105<>\"\",F105=\"\",AQ105=\"\"))","v":false},false,null,false,false,{"$f":"OR(AND(AJ99=EUconst_kNm3,AJ105=EUconst_tCpt),AND(AJ99=EUconst_t,AJ105=EUconst_tCpkNm3))","v":false},false,null,null,"Energy bio",{"$f":"AR99*AR102/1000*AR106","v":0},{"$f":"BC105","v":0},{"$f":"BC105","v":0},null,null,null,null,null,null,null,null,null,null,null,null,null,null,null,null,null,null,null,null,{"$f":"OR(BZ99,Y105=EUconst_NA)","v":true}]
[null,null,"ix.",{"$f":"Translations!$B$641","v":"BioC:"},null,"netaik.","",null,{"$f":"IF(OR(AC106=FALSE,Y106=EUconst_NA),\"\",\"-\")","v":""},null,"",null,{"$f":"IF(AND(E90<>\"\",OR(F106=\"\",COUNT(K106:L106)=0),Y106<>EUconst_NA,T90<>TRUE),EUconst_ERR_Incomplete,IF(COUNTIF(AX106:AZ106,TRUE)>0,EUconst_ERR_Inconsistent,\"\"))","v":""},null,null,null,null,null,null,{"$f":"EUconst_CNTR_BiomassContent&E90","v":"BioC_Degimas: Kitas dujinis ir skystasis kuras"},null,"Skystasis – Sunkusis mazutas",{"$f":"IF(COUNTIF(MSPara_SourceStreamCategory,V106)=0,\"\",INDEX(MSPara_IsFossil,MATCH(V106,MSPara_SourceStreamCategory,0)))","v":""},null,{"$f":"IF(OR(T90=TRUE,E90=\"\"),\"\",IF(OR(W106=TRUE,F106=EUconst_NA),EUconst_NA,INDEX(EUwideConstants!$N:$N,MATCH(T106,EUwideConstants!$Q:$Q,0))))","v":"netaik."},{"$f":"IF(ISBLANK(F106),\"\",IF(F106=EUconst_NA,\"\",INDEX(EUwideConstants!$H:$M,MATCH(T106,EUwideConstants!$Q:$Q,0),MATCH(F106,CNTR_TierList,0))))","v":""},{"$f":"IF(F106=1,1,\"\")","v":""},null,{"$f":"AND(AC99,Y106<>EUconst_NA)","v":false},null,null,null,null,null,null,null,null,null,{"$f":"EUconst_CNTR_BiomassContent&EUconst_Value","v":"BioC_Vertė"},null,{"$f":"IF(AC106=TRUE,IF(COUNTIF(MSPara_SourceStreamCategory,V106)=0,\"\",INDEX(MSPara_CalcFactorsMatrix,MATCH(V106,MSPara_SourceStreamCategory,0),MATCH(AM106&\"_\"&2,MSPara_CalcFactors,0))),\"\")","v":""},null,{"$f":"IF(OR(AA106=\"\",AO106=EUconst_NA),\"\",AO106)","v":""},{"$f":"IF(AC106=TRUE,IF(COUNT(K106:L106)=0,0,IF(L106=\"\",K106,L106)),0)","v":0},{"$f":"AND(AC106=TRUE,OR(AND(F106<>\"\",NOT(ISNUMBER(AA106))),L106<>\"\",F106=\"\",AQ106=\"\"))","v":false},false,null,false,false,null,false,{"$f":"OR(AR106>100%,(AR106+AR107)>100%)","v":false},null,null,null,null,null,null,null,null,null,null,null,null,null,null,null,null,null,null,null,null,null,null,null,null,null,{"$f":"OR(BZ99,Y106=EUconst_NA)","v":true}]
[null,null,"x.",{"$f":"Translations!$B$647","v":"Netvar. BioC:"},null,"netaik.","",null,{"$f":"IF(OR(AC107=FALSE,Y107=EUconst_NA),\"\",\"-\")","v":""},null,"",null,{"$f":"IF(AND(E90<>\"\",OR(F107=\"\",COUNT(K107:L107)=0),Y107<>EUconst_NA,T90<>TRUE),EUconst_ERR_Incomplete,IF(COUNTIF(AX107:AZ107,TRUE)>0,EUconst_ERR_Inconsistent,\"\"))","v":""},null,null,null,null,null,null,{"$f":"EUconst_CNTR_BiomassContent&E90","v":"BioC_Degimas: Kitas dujinis ir skystasis kuras"},null,"Skystasis – Sunkusis mazutas",{"$f":"IF(COUNTIF(MSPara_SourceStreamCategory,V107)=0,\"\",INDEX(MSPara_IsFossil,MATCH(V107,MSPara_SourceStreamCategory,0)))","v":""},null,{"$f":"IF(OR(T90=TRUE,E90=\"\"),\"\",IF(OR(W107=TRUE,F107=EUconst_NA),EUconst_NA,INDEX(EUwideConstants!$N:$N,MATCH(T107,EUwideConstants!$Q:$Q,0))))","v":"netaik."},{"$f":"IF(ISBLANK(F107),\"\",IF(F107=EUconst_NA,\"\",INDEX(EUwideConstants!$H:$M,MATCH(T107,EUwideConstants!$Q:$Q,0),MATCH(F107,CNTR_TierList,0))))","v":""},{"$f":"IF(F107=1,1,\"\")","v":""},null,{"$f":"AND(AC99,Y107<>EUconst_NA)","v":false},null,null,null,null,null,null,null,null,null,{"$f":"EUconst_CNTR_BiomassContent&EUconst_Value","v":"BioC_Vertė"},null,{"$f":"IF(AC107=TRUE,IF(COUNTIF(MSPara_SourceStreamCategory,V107)=0,\"\",INDEX(MSPara_CalcFactorsMatrix,MATCH(V107,MSPara_SourceStreamCategory,0),MATCH(AM107&\"_\"&2,MSPara_CalcFactors,0))),\"\")","v":""},null,{"$f":"IF(OR(AA107=\"\",AO107=EUconst_NA),\"\",AO107)","v":""},{"$f":"IF(AC107=TRUE,IF(COUNT(K107:L107)=0,0,IF(L107=\"\",K107,L107)),0)","v":0},{"$f":"AND(AC107=TRUE,OR(AND(F107<>\"\",NOT(ISNUMBER(AA107))),L107<>\"\",F107=\"\",AQ107=\"\"))","v":false},false,null,false,false,null,false,{"$f":"OR(AR106>100%,(AR106+AR107)>100%)","v":false},null,null,null,null,null,null,null,null,null,null,null,null,null,null,null,null,null,null,null,null,null,null,null,null,null,{"$f":"OR(BZ99,Y107=EUconst_NA)","v":true}]
[]
[null,null,null,{"$f":"Translations!$B$674","v":"Pakopos galioja nuo:"},null,null,null,{"$f":"Translations!$B$675","v":"iki:"},null,{"$f":"Translations!$B$676","v":"Atliekų katalogo numeris (jeigu taikytina):"},null,null,null,null,null,null,null,null,null,null,null,null,null,null,null,null,null,null,null,null,null,null,null,null,null,null,null,null,null,null,null,null,null,null,null,null,null,null,null,null,null,null,null,null,null,null,null,null,null,null,null,null,null,null,null,null,null,null,null,null,null,null,null,null,null,null,null,{"$f":"BZ99","v":false}]
[]
[null,null,null,null,null,null,null,null,null,null,null,null,{"$f":"Translations!$B$677","v":"Stebėsenos plane šiam sukėlikliui suteiktas identifikatorius:"},null,null,null,null,null,null,null,null,null,null,null,null,null,null,null,null,null,null,null,null,null,null,null,null,null,null,null,null,null,null,null,null,null,null,null,null,null,null,null,null,null,null,null,null,null,null,null,null,null,null,null,null,null,null,null,null,null,null,null,null,null,null,null,null,{"$f":"BZ109","v":false}]
[]
[null,null,null,{"$f":"Translations!$B$160","v":"Pastabos:"},null,null,null,null,null,null,null,null,null,null,null,null,null,null,null,null,null,null,null,null,null,null,null,null,null,null,null,null,null,null,null,null,null,null,null,null,null,null,null,null,null,null,null,null,null,null,null,null,null,null,null,null,null,null,null,null,null,null,null,null,null,null,null,null,null,null,null,null,null,null,null,null,null,{"$f":"BZ109","v":false}]
[]
[null,null,null,null,null,null,null,null,null,null,null,null,null,null,null,null,null,null,null,{"$f":"IF(ISBLANK(E116),\"\",MATCH(E116,CNTR_SourceStreamNames,0))","v":3},{"$f":"IF(ISBLANK(E116),\"\",INDEX(B_InstallationDescription!$D$65:$D$139,MATCH(E116,CNTR_SourceStreamNames,0)))","v":"F3"},null,null,null,null,null,null,null,null,null,null,null,null,null,null,null,null,null,null,null,null,null,null,null,null,null,null,null,null,null,null,null,null,null,null,null,null,null,null,null,null,null,null,null,null,null,null,null,null,null,null,null,null,null,null,null,null,"cond. form."]
[{"$f":"IF(E116=\"\",\"\",\"PRINT\")","v":"PRINT"},null,{"$f":"C89+1","v":3},null,"F3. Kietasis – Mediena (ne atliekos); Mediena",null,null,null,null,null,{"$f":"IF(E117=\"\",\"\",INDEX(EUwideConstants!$F$338:$F$379,MATCH(E117,EUConst_TierActivityListNames,0)))","v":"Degimas"},null,{"$f":"Translations!$B$665","v":"CO2, iškastinio kuro kilmės:"},{"$f":"IF(OR(K116=\"\",T117=TRUE),\"\",INDEX(BC130:BE130,MATCH(K116,BC126:BE126,0)))","v":0},"t CO2e",{"$f":"IF(AND(E116<>\"\",COUNTIF(P117:$P$173,\"PRINT\")=0),\"PRINT\",\"\")","v":"PRINT"},{"$f":"EUconst_SumCO2 & \"_\" & K116","v":"SUM_CO2_Degimas"},null,null,"is PFC?",null,null,null,null,null,null,null,null,null,null,null,null,null,null,null,null,null,null,null,null,null,null,null,null,null,null,null,null,null,null,null,null,null,null,null,null,null,null,null,{"$f":"AR126","v":56389.62},{"$f":"AJ126","v":"t"},{"$f":"AR128","v":0},{"$f":"AJ128","v":"tCO2/TJ"},{"$f":"AR129","v":15.6},{"$f":"AJ129","v":"GJ/t"},{"$f":"AR130","v":1},{"$f":"AR131","v":1},{"$f":"AR132","v":0},{"$f":"AJ132","v":""},{"$f":"AR133","v":1},{"$f":"AR134","v":0},{"$f":"N116","v":0},{"$f":"N117","v":0},{"$f":"R119","v":0},{"$f":"R125","v":0},{"$f":"R126","v":879.67807200000004},null,{"$f":"CNTR_CalcRelevant=EUconst_NotRelevant","v":false}]
[null,null,null,null,{"$f":"IF(ISBLANK(E116),\"\",IF(INDEX(B_InstallationDescription!$E$65:$E$139,MATCH(U115,B_InstallationDescription!$D$65:$D$139,0))>0,INDEX(B_InstallationDescription!$E$65:$E$139,MATCH(U115,B_InstallationDescription!$D$65:$D$139,0)),\"\"))","v":"Degimas: Kietasis kuras"},null,null,null,null,null,null,null,{"$f":"Translations!$B$666","v":"CO2, biomasės kilmės.:"},{"$f":"IF(OR(K116=\"\",T117=TRUE),\"\",INDEX(BC129:BE129,MATCH(K116,BC126:BE126,0)))","v":0},"t CO2e",null,{"$f":"EUconst_SumBioCO2 & \"_\" & K116","v":"SUM_bioCO2_Degimas"},null,null,{"$f":"IF(E117=\"\",\"\",MATCH(E117,EUConst_TierActivityListNames,0)>40)","v":false},null,null,null,null,"Tiers",null,null,null,null,null,"Units",null,null,null,null,null,null,null,"Values",null,null,null,null,null,null,null,null,"Errors",null,null,null,null,null,"Calculation",null,null,null,null,"Accounting","AD","AD Unit","EF","EF Unit","NCV","NCV Unit","Ox","Conv","CarbC","CarbC Unit","Bio","NonSustBio","CO2 fossil","CO2 bio","CO2 non-sust","CO2 ENIN fossil","CO2 ENIN bio"]
[]
[null,null,null,null,{"$f":"IF(E116=\"\",\"\",IF(T117=TRUE,HYPERLINK(\"#JUMP_14\",EUconst_MsgGoOnPFC),HYPERLINK(\"#JUMP_E_8\",EUconst_FurtherGuidancePoint1)))","v":"Išsamios duomenų įvedimo naudojantis šia priemone instrukcijos pateiktos šio lapo viršuje. "},null,null,null,null,null,null,null,null,null,null,null,{"$f":"EUconst_SumNonSustBioCO2 & \"_\" & K116","v":"SUM_bioNonSustCO2_Degimas"},{"$f":"IF(OR(K116=\"\",T117=TRUE),\"\",ROUND(INDEX(BC128:BE128,MATCH(K116,BC126:BE126,0)),0))","v":0}]
[]
[null,null,"i.",{"$f":"Translations!$B$622","v":"VD:"},{"$f":"Translations!$B$667","v":"Ar veiklos duomenys gaunami sudedant išmatuotus kiekius (t. y. ne atliekant nuolatinius matavimus)?"},null,null,null,null,null,null,null,null,null,null,null,null,null,null,null,null,null,null,null,null,null,null,null,{"$f":"AND(E116<>\"\",T117<>TRUE)","v":true},null,null,null,null,null,null,null,null,null,null,null,null,null,null,null,null,{"$f":"MSPara_BatchReportingMandatory<>TRUE","v":true},null,null,null,null,null,null,null,null,null,null,null,null,null,null,null,null,null,null,null,null,null,null,null,null,null,null,null,null,null,null,null,{"$f":"OR(CNTR_CalcRelevant=EUconst_NotRelevant,AND(COUNTA(CNTR_ListRelevantSections)>0,OR(T117=TRUE,E116=\"\")))","v":false}]
[]
[null,null,"ii.",{"$f":"Translations!$B$622","v":"VD:"},{"$f":"Translations!$B$668","v":"Pradinis kiekis:"},null,{"$f":"Translations!$B$669","v":"Galutinis kiekis:"},null,{"$f":"Translations!$B$670","v":"Įsigytas kiekis:"},null,{"$f":"Translations!$B$671","v":"Perduotas kiekis:"},null,{"$f":"IF(AND(L121=TRUE,COUNT(F123,H123,J123,L123)<4),EUconst_ERR_Incomplete,\"\")","v":""},null,null,null,null,null,null,null,null,null,null,null,null,null,null,null,{"$f":"AC121","v":true},null,null,null,null,null,null,null,null,null,null,null,null,null,null,null,null,{"$f":"AND(AT121=TRUE,L121=\"\")","v":true},null,null,null,null,null,null,null,null,null,null,null,null,null,null,null,null,null,null,null,null,null,null,null,null,null,null,null,null,null,null,null,{"$f":"OR(BZ121,AND(NOT(ISBLANK(L121)),L121=FALSE))","v":false}]
[]
[null,null,null,null,null,{"$f":"Translations!$B$333","v":"Pakopa"},{"$f":"Translations!$B$672","v":"pakopos aprašas"},null,{"$f":"Translations!$B$158","v":"Vienetas"},null,{"$f":"Translations!$B$673","v":"Vertė"},null,{"$f":"Translations!$B$610","v":"klaida"},null,null,null,{"$f":"EUconst_SumEnergyIN & \"_\" & K116","v":"SUM_EnergyIN_Degimas"},{"$f":"IF(OR(K116=\"\",T117)=TRUE,\"\",INDEX(BC131:BE131,MATCH(K116,BC126:BE126,0)))","v":0},null,null,null,"Category from Sheet A",null,null,"tier required","text tier",null,null,"entries sheet A complete?",null,null,"typeII","typeI","default type","default unit","Unit used","cond. Form?",null,null,"typeII","typeI","Unit consistent?","default Value","Value used","cond. Form?","cond. Form?",null,null,null,"EF Units?",null,null,null,null,null,null,null,null,null,null,null,null,null,null,null,null,null,null,null,null,null,null,null,null,null,null,null,"cond. form."]
[null,null,"iii.",{"$f":"Translations!$B$622","v":"VD:"},null,1,{"$f":"IF(OR(ISBLANK(F126),F126=EUconst_NoTier),\"\",IF(Z126=0,EUconst_NA,IF(ISERROR(Z126),\"\",Z126)))","v":"± 7,5%"},null,{"$f":"IF(J126<>\"\",\"\",AI126)","v":"t"},null,{"$f":"IF(L126=\"\",AQ126,\"\")","v":""},56389.62,{"$f":"IF(AND(E117<>\"\",OR(F126=\"\",COUNT(K126:L126)=0),Y126<>EUconst_NA,T117<>TRUE),EUconst_ERR_Incomplete,IF(COUNTIF(AX126:AZ126,TRUE)>0,EUconst_ERR_Inconsistent,\"\"))","v":""},null,null,null,{"$f":"EUconst_SumBioEnergyIN & \"_\" & K116","v":"SUM_BioEnergyIN_Degimas"},{"$f":"IF(OR(K116=\"\",T117)=TRUE,\"\",INDEX(BC132:BE132,MATCH(K116,BC126:BE126,0)))","v":879.67807200000004},null,{"$f":"EUconst_CNTR_ActivityData&E117","v":"ActivityData_Degimas: Kietasis kuras"},null,{"$f":"IF(E116=\"\",\"\",INDEX(B_InstallationDescription!$I$65:$I$139,MATCH(U115,B_InstallationDescription!$D$65:$D$139,0)))","v":"Kietasis – Mediena (ne atliekos)"},"is fossil?",null,{"$f":"IF(OR(T117=TRUE,E117=\"\"),\"\",INDEX(EUwideConstants!$N:$N,MATCH(T126,EUwideConstants!$Q:$Q,0)))","v":4},{"$f":"IF(ISBLANK(F126),\"\",IF(F126=EUconst_NA,\"\",INDEX(EUwideConstants!$H:$M,MATCH(T126,EUwideConstants!$Q:$Q,0),MATCH(F126,CNTR_TierList,0))))","v":"± 7,5%"},"default type",null,{"$f":"AC121","v":true},null,{"$f":"EUconst_CNTR_ActivityData&EUconst_Unit","v":"ActivityData_Vienetas"},{"$f":"IF(AC126=TRUE, IF(COUNTIF(MSPara_SourceStreamCategory,V126)=0,\"\",INDEX(MSPara_CalcFactorsMatrix,MATCH(V126,MSPara_SourceStreamCategory,0),MATCH(AE126&\"_\"&2,MSPara_CalcFactors,0))),\"\")","v":"netaik."},{"$f":"IF(AC126=TRUE, IF(COUNTIF(MSPara_SourceStreamCategory,V126)=0,\"\",INDEX(MSPara_CalcFactorsMatrix,MATCH(V126,MSPara_SourceStreamCategory,0),MATCH(AE126&\"_\"&1,MSPara_CalcFactors,0))),\"\")","v":"t"},{"$f":"IF(OR(AF126=\"\",AF126=EUconst_NA),IF(OR(AG126=EUconst_NA,AG126=\"\"),\"\",AG126),AF126)","v":"t"},{"$f":"IF(AC126=TRUE,IF(AH126=\"\",EUconst_t,AH126),\"\")","v":"t"},{"$f":"IF(J126=\"\",AI126,J126)","v":"t"},{"$f":"IF(K116=EUconst_Fuel,J126<>\"\",FALSE)","v":false},null,{"$f":"EUconst_CNTR_ActivityData&EUconst_Value","v":"ActivityData_Vertė"},null,null,{"$f":"AND(AND(AH126<>\"\",AJ126<>\"\"),AJ126=AH126)","v":true},{"$f":"IF(L121=TRUE,SUM(F123)-SUM(H123)+SUM(J123)-SUM(L123),\"\")","v":""},{"$f":"IF(Y126=EUconst_NA,0,IF(COUNT(K126:L126)=0,0,IF(L126=\"\",K126,L126)))","v":56389.62},{"$f":"AND(AC126=TRUE,OR(L126<>\"\",AQ126=\"\"))","v":true},{"$f":"AND(AC126=TRUE,NOT(AS126))","v":false},null,"def val available?","def val used?",null,"inconsistent entries?",null,null,null,{"$f":"EUconst_Fuel","v":"Degimas"},{"$f":"EUconst_ProcessCarbonate","v":"Proceso metu išsiskiriančios ŠESD"},{"$f":"EUconst_MassBalance","v":"Masės balansas"},null,null,null,null,null,null,null,null,null,null,null,null,null,null,null,null,null,null,null,null,{"$f":"BZ121","v":false}]
[null,null,null,null,null,null,null," "]
[null,null,"iv.",{"$f":"Translations!$B$634","v":"(prelim.) ITF:"},null,"2a",{"$f":"IF(OR(ISBLANK(F128),F128=EUconst_NoTier),\"\",IF(Z128=0,EUconst_NotApplicable,IF(ISERROR(Z128),\"\",Z128)))","v":"II tipas"},null,{"$f":"IF(J128<>\"\",\"\",AI128)","v":"tCO2/TJ"},null,{"$f":"IF(L128=\"\",AQ128,\"\")","v":""},0,{"$f":"IF(AND(E117<>\"\",OR(F128=\"\",COUNT(K128:L128)=0),Y128<>EUconst_NA,T117<>TRUE),EUconst_ERR_Incomplete,IF(COUNTIF(AX128:AZ128,TRUE)>0,EUconst_ERR_Inconsistent,\"\"))","v":""},null,null,null,null,null,null,{"$f":"EUconst_CNTR_EF&E117","v":"EF_Degimas: Kietasis kuras"},null,{"$f":"V126","v":"Kietasis – Mediena (ne atliekos)"},null,null,{"$f":"IF(OR(T117=TRUE,E117=\"\"),\"\",IF(F128=EUconst_NA,EUconst_NA,INDEX(EUwideConstants!$N:$N,MATCH(T128,EUwideConstants!$Q:$Q,0))))","v":3},{"$f":"IF(ISBLANK(F128),\"\",IF(F128=EUconst_NA,\"\",INDEX(EUwideConstants!$H:$M,MATCH(T128,EUwideConstants!$Q:$Q,0),MATCH(F128,CNTR_TierList,0))))","v":"II tipas"},{"$f":"IF(COUNTIF(EUconst_DefaultValues,Z128)>0,MATCH(Z128,EUconst_DefaultValues,0),\"\")","v":2},null,{"$f":"AND(AC126,Y128<>EUconst_NA)","v":true},null,{"$f":"EUconst_CNTR_EF&EUconst_Unit","v":"EF_Vienetas"},{"$f":"IF(AC128=TRUE, IF(COUNTIF(MSPara_SourceStreamCategory,V128)=0,\"\",INDEX(MSPara_CalcFactorsMatrix,MATCH(V128,MSPara_SourceStreamCategory,0),MATCH(AE128&\"_\"&2,MSPara_CalcFactors,0))),\"\")","v":"tCO2/TJ"},{"$f":"IF(AC128=TRUE, IF(COUNTIF(MSPara_SourceStreamCategory,V128)=0,\"\",INDEX(MSPara_CalcFactorsMatrix,MATCH(V128,MSPara_SourceStreamCategory,0),MATCH(AE128&\"_\"&1,MSPara_CalcFactors,0))),\"\")","v":"tCO2/TJ"},{"$f":"IF(AA128=\"\",\"\",INDEX(AF128:AG128,3-AA128))","v":"tCO2/TJ"},{"$f":"IF(AC128=TRUE,IF(OR(AH128=\"\",AH128=EUconst_NA),IF(K116=EUconst_Fuel,EUconst_tCO2pTJ,EUconst_tCO2pt),AH128),\"\")","v":"tCO2/TJ"},{"$f":"IF(J128=\"\",AI128,J128)","v":"tCO2/TJ"},{"$f":"IF(K116=EUconst_Fuel,J128<>\"\",FALSE)","v":false},null,{"$f":"EUconst_CNTR_EF&EUconst_Value","v":"EF_Vertė"},{"$f":"IF(AC128=TRUE,IF(COUNTIF(MSPara_SourceStreamCategory,V128)=0,\"\",INDEX(MSPara_CalcFactorsMatrix,MATCH(V128,MSPara_SourceStreamCategory,0),MATCH(AM128&\"_\"&2,MSPara_CalcFactors,0))),\"\")","v":"netaik."},{"$f":"IF(AC128=TRUE,IF(COUNTIF(MSPara_SourceStreamCategory,V128)=0,\"\",INDEX(MSPara_CalcFactorsMatrix,MATCH(V128,MSPara_SourceStreamCategory,0),MATCH(AM128&\"_\"&1,MSPara_CalcFactors,0))),\"\")","v":0},{"$f":"AND(AND(AH128<>\"\",AJ128<>\"\"),AJ128=AH128)","v":true},{"$f":"IF(AND(AA128<>\"\",AP128=TRUE),IF(OR(INDEX(AN128:AO128,3-AA128)=EUconst_NA,INDEX(AN128:AO128,3-AA128)=0),\"\",INDEX(AN128:AO128,3-AA128)),\"\")","v":""},{"$f":"IF(AC128=TRUE,IF(COUNT(K128:L128)=0,0,IF(L128=\"\",K128,L128)),0)","v":0},{"$f":"AND(AC128=TRUE,OR(AND(F128<>\"\",NOT(ISNUMBER(AA128))),L128<>\"\",F128=\"\",AQ128=\"\"))","v":true},{"$f":"AND(AC128=TRUE,NOT(AS128))","v":false},null,{"$f":"AND(ISNUMBER(AA128),AQ128=\"\")","v":true},{"$f":"AND(ISNUMBER(AA128),AQ128<>AR128)","v":true},{"$f":"OR(AND(AJ126=EUconst_kNm3,AJ128=EUconst_tCO2pt),AND(AJ126=EUconst_t,AJ128=EUconst_tCO2pkNm3))","v":false},{"$f":"AND(L128<>\"\",Y128=EUconst_NA)","v":false},null,null,"CO2 biogenic (non-sust)",{"$f":"IF(K116=BC126,AR126*IF(AJ128=EUconst_tCO2pTJ,(AR129/1000),1)*AR128*AR130*AR134,\"\")","v":0},{"$f":"IF(K116=BD126,AR126*AR128*AR131*AR134,\"\")","v":""},{"$f":"IF(K116=BE126,3.664*AR126*AR132*AR134,\"\")","v":""},null,null,null,null,null,null,null,null,null,null,null,null,null,null,null,null,null,null,null,null,{"$f":"OR(BZ126,Y128=EUconst_NA)","v":false}]
[null,null,"v.",{"$f":"Translations!$B$636","v":"GŠV:"},null,"2a","II tipas",null,{"$f":"AJ129","v":"GJ/t"},null,"",15.6,{"$f":"IF(AND(E117<>\"\",OR(F129=\"\",COUNT(K129:L129)=0),Y129<>EUconst_NA,T117<>TRUE),EUconst_ERR_Incomplete,IF(COUNTIF(AX129:AZ129,TRUE)>0,EUconst_ERR_Inconsistent,\"\"))","v":""},null,null,null,null,null,null,{"$f":"EUconst_CNTR_NCV&E117","v":"NCV_Degimas: Kietasis kuras"},null,{"$f":"V128","v":"Kietasis – Mediena (ne atliekos)"},null,null,{"$f":"IF(OR(T117=TRUE,E117=\"\"),\"\",IF(F129=EUconst_NA,EUconst_NA,INDEX(EUwideConstants!$N:$N,MATCH(T129,EUwideConstants!$Q:$Q,0))))","v":3},{"$f":"IF(ISBLANK(F129),\"\",IF(F129=EUconst_NA,\"\",INDEX(EUwideConstants!$H:$M,MATCH(T129,EUwideConstants!$Q:$Q,0),MATCH(F129,CNTR_TierList,0))))","v":"II tipas"},{"$f":"IF(COUNTIF(EUconst_DefaultValues,Z129)>0,MATCH(Z129,EUconst_DefaultValues,0),\"\")","v":2},null,{"$f":"AND(AC126,Y129<>EUconst_NA)","v":true},null,{"$f":"EUconst_CNTR_NCV&EUconst_Unit","v":"NCV_Vienetas"},{"$f":"IF(AC129=TRUE, IF(COUNTIF(MSPara_SourceStreamCategory,V129)=0,\"\",INDEX(MSPara_CalcFactorsMatrix,MATCH(V129,MSPara_SourceStreamCategory,0),MATCH(AE129&\"_\"&2,MSPara_CalcFactors,0))),\"\")","v":"netaik."},{"$f":"IF(AC129=TRUE, IF(COUNTIF(MSPara_SourceStreamCategory,V129)=0,\"\",INDEX(MSPara_CalcFactorsMatrix,MATCH(V129,MSPara_SourceStreamCategory,0),MATCH(AE129&\"_\"&1,MSPara_CalcFactors,0))),\"\")","v":"GJ/t"},{"$f":"IF(AA129=\"\",\"\",INDEX(AF129:AG129,3-AA129))","v":"netaik."},null,{"$f":"IF(AC129=TRUE,IF(AJ126=\"\",\"\",IF(AJ126=EUconst_kNm3,EUconst_GJpkNm3,EUconst_GJpt)),\"\")","v":"GJ/t"},null,null,{"$f":"EUconst_CNTR_NCV&EUconst_Value","v":"NCV_Vertė"},{"$f":"IF(AC129=TRUE,IF(COUNTIF(MSPara_SourceStreamCategory,V129)=0,\"\",INDEX(MSPara_CalcFactorsMatrix,MATCH(V129,MSPara_SourceStreamCategory,0),MATCH(AM129&\"_\"&2,MSPara_CalcFactors,0))),\"\")","v":"netaik."},{"$f":"IF(AC129=TRUE,IF(COUNTIF(MSPara_SourceStreamCategory,V129)=0,\"\",INDEX(MSPara_CalcFactorsMatrix,MATCH(V129,MSPara_SourceStreamCategory,0),MATCH(AM129&\"_\"&1,MSPara_CalcFactors,0))),\"\")","v":15.6},{"$f":"AND(AND(AH129<>\"\",AJ129<>\"\"),AJ129=AH129)","v":false},{"$f":"IF(AND(AA129<>\"\",AP129=TRUE),IF(OR(INDEX(AN129:AO129,3-AA129)=EUconst_NA,INDEX(AN129:AO129,3-AA129)=0),\"\",INDEX(AN129:AO129,3-AA129)),\"\")","v":""},{"$f":"IF(AC129=TRUE,IF(COUNT(K129:L129)=0,0,IF(L129=\"\",K129,L129)),0)","v":15.6},{"$f":"AND(AC129=TRUE,OR(AND(F129<>\"\",NOT(ISNUMBER(AA129))),L129<>\"\",F129=\"\",AQ129=\"\"))","v":true},false,null,true,true,null,false,null,null,"CO2 biogenic",{"$f":"IF(K116=BC126,AR126*IF(AJ128=EUconst_tCO2pTJ,(AR129/1000),1)*AR128*AR130*AR133,\"\")","v":0},{"$f":"IF(K116=BD126,AR126*AR128*AR131*AR133,\"\")","v":""},{"$f":"IF(K116=BE126,3.664*AR126*AR132*AR133,\"\")","v":""},null,null,null,null,null,null,null,null,null,null,null,null,null,null,null,null,null,null,null,null,{"$f":"OR(BZ126,Y129=EUconst_NA)","v":false}]
[null,null,"vi.",{"$f":"Translations!$B$638","v":"OksK:"},null,1,"OksK = 1",null,{"$f":"IF(OR(AC130=FALSE,Y130=EUconst_NA),\"\",\"-\")","v":"-"},null,1,null,{"$f":"IF(AND(E117<>\"\",OR(F130=\"\",COUNT(K130:L130)=0),Y130<>EUconst_NA,T117<>TRUE),EUconst_ERR_Incomplete,IF(COUNTIF(AX130:AZ130,TRUE)>0,EUconst_ERR_Inconsistent,\"\"))","v":""},null,null,null,null,null,null,{"$f":"EUconst_CNTR_OxidationFactor&E117","v":"OxF_Degimas: Kietasis kuras"},null,"Kietasis – Mediena (ne atliekos)",null,null,{"$f":"IF(OR(T117=TRUE,E117=\"\"),\"\",INDEX(EUwideConstants!$N:$N,MATCH(T130,EUwideConstants!$Q:$Q,0)))","v":1},{"$f":"IF(ISBLANK(F130),\"\",IF(F130=EUconst_NA,\"\",INDEX(EUwideConstants!$H:$M,MATCH(T130,EUwideConstants!$Q:$Q,0),MATCH(F130,CNTR_TierList,0))))","v":"OksK = 1"},{"$f":"IF(F130=1,1,\"\")","v":1},null,{"$f":"AND(AC126,Y130<>EUconst_NA)","v":true},null,null,null,null,null,null,null,null,null,{"$f":"EUconst_CNTR_OxidationFactor&EUconst_Value","v":"OxF_Vertė"},null,1,null,{"$f":"IF(AA130=\"\",\"\",AO130)","v":1},{"$f":"IF(AC130=TRUE,IF(COUNT(K130:L130)=0,0,IF(L130=\"\",K130,L130)),1)","v":1},{"$f":"AND(AC130=TRUE,OR(ISNUMBER(L130),NOT(ISNUMBER(AA130))))","v":false},true,null,false,false,null,false,{"$f":"AR130>100%","v":false},null,"CO2 fossil",{"$f":"IF(K116=BC126,AR126*IF(AJ128=EUconst_tCO2pTJ,(AR129/1000),1)*AR128*AR130*(1-AR133),\"\")","v":0},{"$f":"IF(K116=BD126,AR126*AR128*AR131*(1-AR133),\"\")","v":""},{"$f":"IF(K116=BE126,3.664*AR126*AR132*(1-AR133),\"\")","v":""},null,null,null,null,null,null,null,null,null,null,null,null,null,null,null,null,null,null,null,null,{"$f":"OR(BZ126,Y130=EUconst_NA)","v":false}]
[null,null,"vii.",{"$f":"Translations!$B$639","v":"KonvK:"},null,null,"",null,{"$f":"IF(OR(AC131=FALSE,Y131=EUconst_NA),\"\",\"-\")","v":""},null,"",null,{"$f":"IF(AND(E117<>\"\",OR(F131=\"\",COUNT(K131:L131)=0),Y131<>EUconst_NA,T117<>TRUE),EUconst_ERR_Incomplete,IF(COUNTIF(AX131:AZ131,TRUE)>0,EUconst_ERR_Inconsistent,\"\"))","v":""},null,null,null,null,null,null,{"$f":"EUconst_CNTR_ConversionFactor&E117","v":"ConvF_Degimas: Kietasis kuras"},null,"Kietasis – Mediena (ne atliekos)",null,null,{"$f":"IF(OR(T117=TRUE,E117=\"\"),\"\",INDEX(EUwideConstants!$N:$N,MATCH(T131,EUwideConstants!$Q:$Q,0)))","v":"netaik."},{"$f":"IF(ISBLANK(F131),\"\",IF(F131=EUconst_NA,\"\",INDEX(EUwideConstants!$H:$M,MATCH(T131,EUwideConstants!$Q:$Q,0),MATCH(F131,CNTR_TierList,0))))","v":""},{"$f":"IF(F131=1,1,\"\")","v":""},null,{"$f":"AND(AC126,Y131<>EUconst_NA)","v":false},null,null,null,null,null,null,null,null,null,{"$f":"EUconst_CNTR_ConversionFactor&EUconst_Value","v":"ConvF_Vertė"},null,1,null,{"$f":"IF(AA131=\"\",\"\",AO131)","v":""},{"$f":"IF(AC131=TRUE,IF(COUNT(K131:L131)=0,0,IF(L131=\"\",K131,L131)),1)","v":1},{"$f":"AND(AC131=TRUE,OR(ISNUMBER(L131),NOT(ISNUMBER(AA131))))","v":false},false,null,false,false,null,false,{"$f":"AR131>100%","v":false},null,"Energy fossil",{"$f":"AR126*AR129/1000*(1-AR133)","v":0},{"$f":"BC131","v":0},{"$f":"BC131","v":0},null,null,null,null,null,null,null,null,null,null,null,null,null,null,null,null,null,null,null,null,{"$f":"OR(BZ126,Y131=EUconst_NA)","v":true}]
[null,null,"viii.",{"$f":"Translations!$B$640","v":"AnglK:"},null,null,"",null,{"$f":"AJ132","v":""},null,"",null,{"$f":"IF(AND(E117<>\"\",OR(F132=\"\",COUNT(K132:L132)=0),Y132<>EUconst_NA,T117<>TRUE),EUconst_ERR_Incomplete,IF(COUNTIF(AX132:AZ132,TRUE)>0,EUconst_ERR_Inconsistent,\"\"))","v":""},null,null,null,null,null,null,{"$f":"EUconst_CNTR_CarbonContent&E117","v":"CarbC_Degimas: Kietasis kuras"},null,"Kietasis – Mediena (ne atliekos)",null,null,{"$f":"IF(OR(T117=TRUE,E117=\"\"),\"\",INDEX(EUwideConstants!$N:$N,MATCH(T132,EUwideConstants!$Q:$Q,0)))","v":"netaik."},{"$f":"IF(ISBLANK(F132),\"\",IF(F132=EUconst_NA,\"\",INDEX(EUwideConstants!$H:$M,MATCH(T132,EUwideConstants!$Q:$Q,0),MATCH(F132,CNTR_TierList,0))))","v":""},{"$f":"IF(COUNTIF(EUconst_DefaultValues,Z132)>0,MATCH(Z132,EUconst_DefaultValues,0),\"\")","v":""},null,{"$f":"AND(AC126,Y132<>EUconst_NA)","v":false},null,{"$f":"EUconst_CNTR_CarbonContent&EUconst_Unit","v":"CarbC_Vienetas"},{"$f":"IF(AC132=TRUE, IF(COUNTIF(MSPara_SourceStreamCategory,V132)=0,\"\",INDEX(MSPara_CalcFactorsMatrix,MATCH(V132,MSPara_SourceStreamCategory,0),MATCH(AE132&\"_\"&2,MSPara_CalcFactors,0))),\"\")","v":""},{"$f":"IF(AC132=TRUE, IF(COUNTIF(MSPara_SourceStreamCategory,V132)=0,\"\",INDEX(MSPara_CalcFactorsMatrix,MATCH(V132,MSPara_SourceStreamCategory,0),MATCH(AE132&\"_\"&1,MSPara_CalcFactors,0))),\"\")","v":""},{"$f":"IF(AA132=\"\",\"\",INDEX(AF132:AG132,3-AA132))","v":""},null,{"$f":"IF(AC132=TRUE,IF(AJ126=\"\",\"\",IF(AJ126=EUconst_kNm3,EUconst_tCpkNm3,EUconst_tCpt)),\"\")","v":""},null,null,{"$f":"EUconst_CNTR_CarbonContent&EUconst_Value","v":"CarbC_Vertė"},{"$f":"IF(AC132=TRUE,IF(COUNTIF(MSPara_SourceStreamCategory,V132)=0,\"\",INDEX(MSPara_CalcFactorsMatrix,MATCH(V132,MSPara_SourceStreamCategory,0),MATCH(AM132&\"_\"&2,MSPara_CalcFactors,0))),\"\")","v":""},{"$f":"IF(AC132=TRUE,IF(COUNTIF(MSPara_SourceStreamCategory,V132)=0,\"\",INDEX(MSPara_CalcFactorsMatrix,MATCH(V132,MSPara_SourceStreamCategory,0),MATCH(AM132&\"_\"&1,MSPara_CalcFactors,0))),\"\")","v":""},{"$f":"AND(AND(AH132<>\"\",AJ132<>\"\"),AJ132=AH132)","v":false},{"$f":"IF(AND(AA132<>\"\",AP132=TRUE),IF(OR(INDEX(AN132:AO132,3-AA132)=EUconst_NA,INDEX(AN132:AO132,3-AA132)=0),\"\",INDEX(AN132:AO132,3-AA132)),\"\")","v":""},{"$f":"IF(AC132=TRUE,IF(COUNT(K132:L132)=0,0,IF(L132=\"\",K132,L132)),0)","v":0},{"$f":"AND(AC132=TRUE,OR(AND(F132<>\"\",NOT(ISNUMBER(AA132))),L132<>\"\",F132=\"\",AQ132=\"\"))","v":false},false,null,false,false,{"$f":"OR(AND(AJ126=EUconst_kNm3,AJ132=EUconst_tCpt),AND(AJ126=EUconst_t,AJ132=EUconst_tCpkNm3))","v":false},false,null,null,"Energy bio",{"$f":"AR126*AR129/1000*AR133","v":879.67807200000004},{"$f":"BC132","v":879.67807200000004},{"$f":"BC132","v":879.67807200000004},null,null,null,null,null,null,null,null,null,null,null,null,null,null,null,null,null,null,null,null,{"$f":"OR(BZ126,Y132=EUconst_NA)","v":true}]
[null,null,"ix.",{"$f":"Translations!$B$641","v":"BioC:"},null,1,"I tipas, biol.",null,{"$f":"IF(OR(AC133=FALSE,Y133=EUconst_NA),\"\",\"-\")","v":"-"},null,"",1,{"$f":"IF(AND(E117<>\"\",OR(F133=\"\",COUNT(K133:L133)=0),Y133<>EUconst_NA,T117<>TRUE),EUconst_ERR_Incomplete,IF(COUNTIF(AX133:AZ133,TRUE)>0,EUconst_ERR_Inconsistent,\"\"))","v":""},null,null,null,null,null,null,{"$f":"EUconst_CNTR_BiomassContent&E117","v":"BioC_Degimas: Kietasis kuras"},null,"Kietasis – Mediena (ne atliekos)",{"$f":"IF(COUNTIF(MSPara_SourceStreamCategory,V133)=0,\"\",INDEX(MSPara_IsFossil,MATCH(V133,MSPara_SourceStreamCategory,0)))","v":false},null,{"$f":"IF(OR(T117=TRUE,E117=\"\"),\"\",IF(OR(W133=TRUE,F133=EUconst_NA),EUconst_NA,INDEX(EUwideConstants!$N:$N,MATCH(T133,EUwideConstants!$Q:$Q,0))))","v":2},{"$f":"IF(ISBLANK(F133),\"\",IF(F133=EUconst_NA,\"\",INDEX(EUwideConstants!$H:$M,MATCH(T133,EUwideConstants!$Q:$Q,0),MATCH(F133,CNTR_TierList,0))))","v":"I tipas, biol."},{"$f":"IF(F133=1,1,\"\")","v":1},null,{"$f":"AND(AC126,Y133<>EUconst_NA)","v":true},null,null,null,null,null,null,null,null,null,{"$f":"EUconst_CNTR_BiomassContent&EUconst_Value","v":"BioC_Vertė"},null,{"$f":"IF(AC133=TRUE,IF(COUNTIF(MSPara_SourceStreamCategory,V133)=0,\"\",INDEX(MSPara_CalcFactorsMatrix,MATCH(V133,MSPara_SourceStreamCategory,0),MATCH(AM133&\"_\"&2,MSPara_CalcFactors,0))),\"\")","v":"netaik."},null,{"$f":"IF(OR(AA133=\"\",AO133=EUconst_NA),\"\",AO133)","v":""},{"$f":"IF(AC133=TRUE,IF(COUNT(K133:L133)=0,0,IF(L133=\"\",K133,L133)),0)","v":1},{"$f":"AND(AC133=TRUE,OR(AND(F133<>\"\",NOT(ISNUMBER(AA133))),L133<>\"\",F133=\"\",AQ133=\"\"))","v":true},false,null,true,true,null,false,{"$f":"OR(AR133>100%,(AR133+AR134)>100%)","v":false},null,null,null,null,null,null,null,null,null,null,null,null,null,null,null,null,null,null,null,null,null,null,null,null,null,{"$f":"OR(BZ126,Y133=EUconst_NA)","v":false}]
[null,null,"x.",{"$f":"Translations!$B$647","v":"Netvar. BioC:"},null,"netaik.","",null,{"$f":"IF(OR(AC134=FALSE,Y134=EUconst_NA),\"\",\"-\")","v":""},null,"",null,{"$f":"IF(AND(E117<>\"\",OR(F134=\"\",COUNT(K134:L134)=0),Y134<>EUconst_NA,T117<>TRUE),EUconst_ERR_Incomplete,IF(COUNTIF(AX134:AZ134,TRUE)>0,EUconst_ERR_Inconsistent,\"\"))","v":""},null,null,null,null,null,null,{"$f":"EUconst_CNTR_BiomassContent&E117","v":"BioC_Degimas: Kietasis kuras"},null,"Kietasis – Mediena (ne atliekos)",{"$f":"IF(COUNTIF(MSPara_SourceStreamCategory,V134)=0,\"\",INDEX(MSPara_IsFossil,MATCH(V134,MSPara_SourceStreamCategory,0)))","v":false},null,{"$f":"IF(OR(T117=TRUE,E117=\"\"),\"\",IF(OR(W134=TRUE,F134=EUconst_NA),EUconst_NA,INDEX(EUwideConstants!$N:$N,MATCH(T134,EUwideConstants!$Q:$Q,0))))","v":"netaik."},{"$f":"IF(ISBLANK(F134),\"\",IF(F134=EUconst_NA,\"\",INDEX(EUwideConstants!$H:$M,MATCH(T134,EUwideConstants!$Q:$Q,0),MATCH(F134,CNTR_TierList,0))))","v":""},{"$f":"IF(F134=1,1,\"\")","v":""},null,{"$f":"AND(AC126,Y134<>EUconst_NA)","v":false},null,null,null,null,null,null,null,null,null,{"$f":"EUconst_CNTR_BiomassContent&EUconst_Value","v":"BioC_Vertė"},null,{"$f":"IF(AC134=TRUE,IF(COUNTIF(MSPara_SourceStreamCategory,V134)=0,\"\",INDEX(MSPara_CalcFactorsMatrix,MATCH(V134,MSPara_SourceStreamCategory,0),MATCH(AM134&\"_\"&2,MSPara_CalcFactors,0))),\"\")","v":""},null,{"$f":"IF(OR(AA134=\"\",AO134=EUconst_NA),\"\",AO134)","v":""},{"$f":"IF(AC134=TRUE,IF(COUNT(K134:L134)=0,0,IF(L134=\"\",K134,L134)),0)","v":0},{"$f":"AND(AC134=TRUE,OR(AND(F134<>\"\",NOT(ISNUMBER(AA134))),L134<>\"\",F134=\"\",AQ134=\"\"))","v":false},false,null,false,false,null,false,{"$f":"OR(AR133>100%,(AR133+AR134)>100%)","v":false},null,null,null,null,null,null,null,null,null,null,null,null,null,null,null,null,null,null,null,null,null,null,null,null,null,{"$f":"OR(BZ126,Y134=EUconst_NA)","v":true}]
[]
[null,null,null,{"$f":"Translations!$B$674","v":"Pakopos galioja nuo:"},null,null,null,{"$f":"Translations!$B$675","v":"iki:"},null,{"$f":"Translations!$B$676","v":"Atliekų katalogo numeris (jeigu taikytina):"},null,null,null,null,null,null,null,null,null,null,null,null,null,null,null,null,null,null,null,null,null,null,null,null,null,null,null,null,null,null,null,null,null,null,null,null,null,null,null,null,null,null,null,null,null,null,null,null,null,null,null,null,null,null,null,null,null,null,null,null,null,null,null,null,null,null,null,{"$f":"BZ126","v":false}]
[]
[null,null,null,null,null,null,null,null,null,null,null,null,{"$f":"Translations!$B$677","v":"Stebėsenos plane šiam sukėlikliui suteiktas identifikatorius:"},null,null,null,null,null,null,null,null,null,null,null,null,null,null,null,null,null,null,null,null,null,null,null,null,null,null,null,null,null,null,null,null,null,null,null,null,null,null,null,null,null,null,null,null,null,null,null,null,null,null,null,null,null,null,null,null,null,null,null,null,null,null,null,null,{"$f":"BZ136","v":false}]
[]
[null,null,null,{"$f":"Translations!$B$160","v":"Pastabos:"},null,null,null,null,null,null,null,null,null,null,null,null,null,null,null,null,null,null,null,null,null,null,null,null,null,null,null,null,null,null,null,null,null,null,null,null,null,null,null,null,null,null,null,null,null,null,null,null,null,null,null,null,null,null,null,null,null,null,null,null,null,null,null,null,null,null,null,null,null,null,null,null,null,{"$f":"BZ136","v":false}]
[]
[null,null,null,null,null,null,null,null,null,null,null,null,null,null,null,null,null,null,null,{"$f":"IF(ISBLANK(E143),\"\",MATCH(E143,CNTR_SourceStreamNames,0))","v":""},{"$f":"IF(ISBLANK(E143),\"\",INDEX(B_InstallationDescription!$D$65:$D$139,MATCH(E143,CNTR_SourceStreamNames,0)))","v":""},null,null,null,null,null,null,null,null,null,null,null,null,null,null,null,null,null,null,null,null,null,null,null,null,null,null,null,null,null,null,null,null,null,null,null,null,null,null,null,null,null,null,null,null,null,null,null,null,null,null,null,null,null,null,null,null,"cond. form."]
[{"$f":"IF(E143=\"\",\"\",\"PRINT\")","v":""},null,{"$f":"C116+1","v":4},null,null,null,null,null,null,null,{"$f":"IF(E144=\"\",\"\",INDEX(EUwideConstants!$F$338:$F$379,MATCH(E144,EUConst_TierActivityListNames,0)))","v":""},null,{"$f":"Translations!$B$665","v":"CO2, iškastinio kuro kilmės:"},{"$f":"IF(OR(K143=\"\",T144=TRUE),\"\",INDEX(BC157:BE157,MATCH(K143,BC153:BE153,0)))","v":""},"t CO2e",{"$f":"IF(AND(E143<>\"\",COUNTIF(P144:$P$173,\"PRINT\")=0),\"PRINT\",\"\")","v":""},{"$f":"EUconst_SumCO2 & \"_\" & K143","v":"SUM_CO2_"},null,null,"is PFC?",null,null,null,null,null,null,null,null,null,null,null,null,null,null,null,null,null,null,null,null,null,null,null,null,null,null,null,null,null,null,null,null,null,null,null,null,null,null,null,{"$f":"AR153","v":0},{"$f":"AJ153","v":""},{"$f":"AR155","v":0},{"$f":"AJ155","v":""},{"$f":"AR156","v":0},{"$f":"AJ156","v":""},{"$f":"AR157","v":1},{"$f":"AR158","v":1},{"$f":"AR159","v":0},{"$f":"AJ159","v":""},{"$f":"AR160","v":0},{"$f":"AR161","v":0},{"$f":"N143","v":""},{"$f":"N144","v":""},{"$f":"R146","v":""},{"$f":"R152","v":""},{"$f":"R153","v":""},null,{"$f":"CNTR_CalcRelevant=EUconst_NotRelevant","v":false}]
[null,null,null,null,{"$f":"IF(ISBLANK(E143),\"\",IF(INDEX(B_InstallationDescription!$E$65:$E$139,MATCH(U142,B_InstallationDescription!$D$65:$D$139,0))>0,INDEX(B_InstallationDescription!$E$65:$E$139,MATCH(U142,B_InstallationDescription!$D$65:$D$139,0)),\"\"))","v":""},null,null,null,null,null,null,null,{"$f":"Translations!$B$666","v":"CO2, biomasės kilmės.:"},{"$f":"IF(OR(K143=\"\",T144=TRUE),\"\",INDEX(BC156:BE156,MATCH(K143,BC153:BE153,0)))","v":""},"t CO2e",null,{"$f":"EUconst_SumBioCO2 & \"_\" & K143","v":"SUM_bioCO2_"},null,null,{"$f":"IF(E144=\"\",\"\",MATCH(E144,EUConst_TierActivityListNames,0)>40)","v":""},null,null,null,null,"Tiers",null,null,null,null,null,"Units",null,null,null,null,null,null,null,"Values",null,null,null,null,null,null,null,null,"Errors",null,null,null,null,null,"Calculation",null,null,null,null,"Accounting","AD","AD Unit","EF","EF Unit","NCV","NCV Unit","Ox","Conv","CarbC","CarbC Unit","Bio","NonSustBio","CO2 fossil","CO2 bio","CO2 non-sust","CO2 ENIN fossil","CO2 ENIN bio"]
[]
[null,null,null,null,{"$f":"IF(E143=\"\",\"\",IF(T144=TRUE,HYPERLINK(\"#JUMP_14\",EUconst_MsgGoOnPFC),HYPERLINK(\"#JUMP_E_8\",EUconst_FurtherGuidancePoint1)))","v":""},null,null,null,null,null,null,null,null,null,null,null,{"$f":"EUconst_SumNonSustBioCO2 & \"_\" & K143","v":"SUM_bioNonSustCO2_"},{"$f":"IF(OR(K143=\"\",T144=TRUE),\"\",ROUND(INDEX(BC155:BE155,MATCH(K143,BC153:BE153,0)),0))","v":""}]
[]
[null,null,"i.",{"$f":"Translations!$B$622","v":"VD:"},{"$f":"Translations!$B$667","v":"Ar veiklos duomenys gaunami sudedant išmatuotus kiekius (t. y. ne atliekant nuolatinius matavimus)?"},null,null,null,null,null,null,null,null,null,null,null,null,null,null,null,null,null,null,null,null,null,null,null,{"$f":"AND(E143<>\"\",T144<>TRUE)","v":false},null,null,null,null,null,null,null,null,null,null,null,null,null,null,null,null,{"$f":"MSPara_BatchReportingMandatory<>TRUE","v":true},null,null,null,null,null,null,null,null,null,null,null,null,null,null,null,null,null,null,null,null,null,null,null,null,null,null,null,null,null,null,null,{"$f":"OR(CNTR_CalcRelevant=EUconst_NotRelevant,AND(COUNTA(CNTR_ListRelevantSections)>0,OR(T144=TRUE,E143=\"\")))","v":true}]
[]
[null,null,"ii.",{"$f":"Translations!$B$622","v":"VD:"},{"$f":"Translations!$B$668","v":"Pradinis kiekis:"},null,{"$f":"Translations!$B$669","v":"Galutinis kiekis:"},null,{"$f":"Translations!$B$670","v":"Įsigytas kiekis:"},null,{"$f":"Translations!$B$671","v":"Perduotas kiekis:"},null,{"$f":"IF(AND(L148=TRUE,COUNT(F150,H150,J150,L150)<4),EUconst_ERR_Incomplete,\"\")","v":""},null,null,null,null,null,null,null,null,null,null,null,null,null,null,null,{"$f":"AC148","v":false},null,null,null,null,null,null,null,null,null,null,null,null,null,null,null,null,{"$f":"AND(AT148=TRUE,L148=\"\")","v":true},null,null,null,null,null,null,null,null,null,null,null,null,null,null,null,null,null,null,null,null,null,null,null,null,null,null,null,null,null,null,null,{"$f":"OR(BZ148,AND(NOT(ISBLANK(L148)),L148=FALSE))","v":true}]
[]
[null,null,null,null,null,{"$f":"Translations!$B$333","v":"Pakopa"},{"$f":"Translations!$B$672","v":"pakopos aprašas"},null,{"$f":"Translations!$B$158","v":"Vienetas"},null,{"$f":"Translations!$B$673","v":"Vertė"},null,{"$f":"Translations!$B$610","v":"klaida"},null,null,null,{"$f":"EUconst_SumEnergyIN & \"_\" & K143","v":"SUM_EnergyIN_"},{"$f":"IF(OR(K143=\"\",T144)=TRUE,\"\",INDEX(BC158:BE158,MATCH(K143,BC153:BE153,0)))","v":""},null,null,null,"Category from Sheet A",null,null,"tier required","text tier",null,null,"entries sheet A complete?",null,null,"typeII","typeI","default type","default unit","Unit used","cond. Form?",null,null,"typeII","typeI","Unit consistent?","default Value","Value used","cond. Form?","cond. Form?",null,null,null,"EF Units?",null,null,null,null,null,null,null,null,null,null,null,null,null,null,null,null,null,null,null,null,null,null,null,null,null,null,null,"cond. form."]
[null,null,"iii.",{"$f":"Translations!$B$622","v":"VD:"},null,null,{"$f":"IF(OR(ISBLANK(F153),F153=EUconst_NoTier),\"\",IF(Z153=0,EUconst_NA,IF(ISERROR(Z153),\"\",Z153)))","v":""},null,{"$f":"IF(J153<>\"\",\"\",AI153)","v":""},null,{"$f":"IF(L153=\"\",AQ153,\"\")","v":""},null,{"$f":"IF(AND(E144<>\"\",OR(F153=\"\",COUNT(K153:L153)=0),Y153<>EUconst_NA,T144<>TRUE),EUconst_ERR_Incomplete,IF(COUNTIF(AX153:AZ153,TRUE)>0,EUconst_ERR_Inconsistent,\"\"))","v":""},null,null,null,{"$f":"EUconst_SumBioEnergyIN & \"_\" & K143","v":"SUM_BioEnergyIN_"},{"$f":"IF(OR(K143=\"\",T144)=TRUE,\"\",INDEX(BC159:BE159,MATCH(K143,BC153:BE153,0)))","v":""},null,{"$f":"EUconst_CNTR_ActivityData&E144","v":"ActivityData_"},null,{"$f":"IF(E143=\"\",\"\",INDEX(B_InstallationDescription!$I$65:$I$139,MATCH(U142,B_InstallationDescription!$D$65:$D$139,0)))","v":""},"is fossil?",null,{"$f":"IF(OR(T144=TRUE,E144=\"\"),\"\",INDEX(EUwideConstants!$N:$N,MATCH(T153,EUwideConstants!$Q:$Q,0)))","v":""},{"$f":"IF(ISBLANK(F153),\"\",IF(F153=EUconst_NA,\"\",INDEX(EUwideConstants!$H:$M,MATCH(T153,EUwideConstants!$Q:$Q,0),MATCH(F153,CNTR_TierList,0))))","v":""},"default type",null,{"$f":"AC148","v":false},null,{"$f":"EUconst_CNTR_ActivityData&EUconst_Unit","v":"ActivityData_Vienetas"},{"$f":"IF(AC153=TRUE, IF(COUNTIF(MSPara_SourceStreamCategory,V153)=0,\"\",INDEX(MSPara_CalcFactorsMatrix,MATCH(V153,MSPara_SourceStreamCategory,0),MATCH(AE153&\"_\"&2,MSPara_CalcFactors,0))),\"\")","v":""},{"$f":"IF(AC153=TRUE, IF(COUNTIF(MSPara_SourceStreamCategory,V153)=0,\"\",INDEX(MSPara_CalcFactorsMatrix,MATCH(V153,MSPara_SourceStreamCategory,0),MATCH(AE153&\"_\"&1,MSPara_CalcFactors,0))),\"\")","v":""},{"$f":"IF(OR(AF153=\"\",AF153=EUconst_NA),IF(OR(AG153=EUconst_NA,AG153=\"\"),\"\",AG153),AF153)","v":""},{"$f":"IF(AC153=TRUE,IF(AH153=\"\",EUconst_t,AH153),\"\")","v":""},{"$f":"IF(J153=\"\",AI153,J153)","v":""},{"$f":"IF(K143=EUconst_Fuel,J153<>\"\",FALSE)","v":false},null,{"$f":"EUconst_CNTR_ActivityData&EUconst_Value","v":"ActivityData_Vertė"},null,null,{"$f":"AND(AND(AH153<>\"\",AJ153<>\"\"),AJ153=AH153)","v":false},{"$f":"IF(L148=TRUE,SUM(F150)-SUM(H150)+SUM(J150)-SUM(L150),\"\")","v":""},{"$f":"IF(Y153=EUconst_NA,0,IF(COUNT(K153:L153)=0,0,IF(L153=\"\",K153,L153)))","v":0},{"$f":"AND(AC153=TRUE,OR(L153<>\"\",AQ153=\"\"))","v":false},{"$f":"AND(AC153=TRUE,NOT(AS153))","v":false},null,"def val available?","def val used?",null,"inconsistent entries?",null,null,null,{"$f":"EUconst_Fuel","v":"Degimas"},{"$f":"EUconst_ProcessCarbonate","v":"Proceso metu išsiskiriančios ŠESD"},{"$f":"EUconst_MassBalance","v":"Masės balansas"},null,null,null,null,null,null,null,null,null,null,null,null,null,null,null,null,null,null,null,null,{"$f":"BZ148","v":true}]
[null,null,null,null,null,null,null," "]
[null,null,"iv.",{"$f":"Translations!$B$634","v":"(prelim.) ITF:"},null,null,{"$f":"IF(OR(ISBLANK(F155),F155=EUconst_NoTier),\"\",IF(Z155=0,EUconst_NotApplicable,IF(ISERROR(Z155),\"\",Z155)))","v":""},null,{"$f":"IF(J155<>\"\",\"\",AI155)","v":""},null,{"$f":"IF(L155=\"\",AQ155,\"\")","v":""},null,{"$f":"IF(AND(E144<>\"\",OR(F155=\"\",COUNT(K155:L155)=0),Y155<>EUconst_NA,T144<>TRUE),EUconst_ERR_Incomplete,IF(COUNTIF(AX155:AZ155,TRUE)>0,EUconst_ERR_Inconsistent,\"\"))","v":""},null,null,null,null,null,null,{"$f":"EUconst_CNTR_EF&E144","v":"EF_"},null,{"$f":"V153","v":""},null,null,{"$f":"IF(OR(T144=TRUE,E144=\"\"),\"\",IF(F155=EUconst_NA,EUconst_NA,INDEX(EUwideConstants!$N:$N,MATCH(T155,EUwideConstants!$Q:$Q,0))))","v":""},{"$f":"IF(ISBLANK(F155),\"\",IF(F155=EUconst_NA,\"\",INDEX(EUwideConstants!$H:$M,MATCH(T155,EUwideConstants!$Q:$Q,0),MATCH(F155,CNTR_TierList,0))))","v":""},{"$f":"IF(COUNTIF(EUconst_DefaultValues,Z155)>0,MATCH(Z155,EUconst_DefaultValues,0),\"\")","v":""},null,{"$f":"AND(AC153,Y155<>EUconst_NA)","v":false},null,{"$f":"EUconst_CNTR_EF&EUconst_Unit","v":"EF_Vienetas"},{"$f":"IF(AC155=TRUE, IF(COUNTIF(MSPara_SourceStreamCategory,V155)=0,\"\",INDEX(MSPara_CalcFactorsMatrix,MATCH(V155,MSPara_SourceStreamCategory,0),MATCH(AE155&\"_\"&2,MSPara_CalcFactors,0))),\"\")","v":""},{"$f":"IF(AC155=TRUE, IF(COUNTIF(MSPara_SourceStreamCategory,V155)=0,\"\",INDEX(MSPara_CalcFactorsMatrix,MATCH(V155,MSPara_SourceStreamCategory,0),MATCH(AE155&\"_\"&1,MSPara_CalcFactors,0))),\"\")","v":""},{"$f":"IF(AA155=\"\",\"\",INDEX(AF155:AG155,3-AA155))","v":""},{"$f":"IF(AC155=TRUE,IF(OR(AH155=\"\",AH155=EUconst_NA),IF(K143=EUconst_Fuel,EUconst_tCO2pTJ,EUconst_tCO2pt),AH155),\"\")","v":""},{"$f":"IF(J155=\"\",AI155,J155)","v":""},{"$f":"IF(K143=EUconst_Fuel,J155<>\"\",FALSE)","v":false},null,{"$f":"EUconst_CNTR_EF&EUconst_Value","v":"EF_Vertė"},{"$f":"IF(AC155=TRUE,IF(COUNTIF(MSPara_SourceStreamCategory,V155)=0,\"\",INDEX(MSPara_CalcFactorsMatrix,MATCH(V155,MSPara_SourceStreamCategory,0),MATCH(AM155&\"_\"&2,MSPara_CalcFactors,0))),\"\")","v":""},{"$f":"IF(AC155=TRUE,IF(COUNTIF(MSPara_SourceStreamCategory,V155)=0,\"\",INDEX(MSPara_CalcFactorsMatrix,MATCH(V155,MSPara_SourceStreamCategory,0),MATCH(AM155&\"_\"&1,MSPara_CalcFactors,0))),\"\")","v":""},{"$f":"AND(AND(AH155<>\"\",AJ155<>\"\"),AJ155=AH155)","v":false},{"$f":"IF(AND(AA155<>\"\",AP155=TRUE),IF(OR(INDEX(AN155:AO155,3-AA155)=EUconst_NA,INDEX(AN155:AO155,3-AA155)=0),\"\",INDEX(AN155:AO155,3-AA155)),\"\")","v":""},{"$f":"IF(AC155=TRUE,IF(COUNT(K155:L155)=0,0,IF(L155=\"\",K155,L155)),0)","v":0},{"$f":"AND(AC155=TRUE,OR(AND(F155<>\"\",NOT(ISNUMBER(AA155))),L155<>\"\",F155=\"\",AQ155=\"\"))","v":false},{"$f":"AND(AC155=TRUE,NOT(AS155))","v":false},null,{"$f":"AND(ISNUMBER(AA155),AQ155=\"\")","v":false},{"$f":"AND(ISNUMBER(AA155),AQ155<>AR155)","v":false},{"$f":"OR(AND(AJ153=EUconst_kNm3,AJ155=EUconst_tCO2pt),AND(AJ153=EUconst_t,AJ155=EUconst_tCO2pkNm3))","v":false},{"$f":"AND(L155<>\"\",Y155=EUconst_NA)","v":false},null,null,"CO2 biogenic (non-sust)",{"$f":"IF(K143=BC153,AR153*IF(AJ155=EUconst_tCO2pTJ,(AR156/1000),1)*AR155*AR157*AR161,\"\")","v":""},{"$f":"IF(K143=BD153,AR153*AR155*AR158*AR161,\"\")","v":""},{"$f":"IF(K143=BE153,3.664*AR153*AR159*AR161,\"\")","v":""},null,null,null,null,null,null,null,null,null,null,null,null,null,null,null,null,null,null,null,null,{"$f":"OR(BZ153,Y155=EUconst_NA)","v":true}]
[null,null,"v.",{"$f":"Translations!$B$636","v":"GŠV:"},null,null,"",null,{"$f":"AJ156","v":""},null,"",null,{"$f":"IF(AND(E144<>\"\",OR(F156=\"\",COUNT(K156:L156)=0),Y156<>EUconst_NA,T144<>TRUE),EUconst_ERR_Incomplete,IF(COUNTIF(AX156:AZ156,TRUE)>0,EUconst_ERR_Inconsistent,\"\"))","v":""},null,null,null,null,null,null,{"$f":"EUconst_CNTR_NCV&E144","v":"NCV_"},null,{"$f":"V155","v":""},null,null,{"$f":"IF(OR(T144=TRUE,E144=\"\"),\"\",IF(F156=EUconst_NA,EUconst_NA,INDEX(EUwideConstants!$N:$N,MATCH(T156,EUwideConstants!$Q:$Q,0))))","v":""},{"$f":"IF(ISBLANK(F156),\"\",IF(F156=EUconst_NA,\"\",INDEX(EUwideConstants!$H:$M,MATCH(T156,EUwideConstants!$Q:$Q,0),MATCH(F156,CNTR_TierList,0))))","v":""},{"$f":"IF(COUNTIF(EUconst_DefaultValues,Z156)>0,MATCH(Z156,EUconst_DefaultValues,0),\"\")","v":""},null,{"$f":"AND(AC153,Y156<>EUconst_NA)","v":false},null,{"$f":"EUconst_CNTR_NCV&EUconst_Unit","v":"NCV_Vienetas"},{"$f":"IF(AC156=TRUE, IF(COUNTIF(MSPara_SourceStreamCategory,V156)=0,\"\",INDEX(MSPara_CalcFactorsMatrix,MATCH(V156,MSPara_SourceStreamCategory,0),MATCH(AE156&\"_\"&2,MSPara_CalcFactors,0))),\"\")","v":""},{"$f":"IF(AC156=TRUE, IF(COUNTIF(MSPara_SourceStreamCategory,V156)=0,\"\",INDEX(MSPara_CalcFactorsMatrix,MATCH(V156,MSPara_SourceStreamCategory,0),MATCH(AE156&\"_\"&1,MSPara_CalcFactors,0))),\"\")","v":""},{"$f":"IF(AA156=\"\",\"\",INDEX(AF156:AG156,3-AA156))","v":""},null,{"$f":"IF(AC156=TRUE,IF(AJ153=\"\",\"\",IF(AJ153=EUconst_kNm3,EUconst_GJpkNm3,EUconst_GJpt)),\"\")","v":""},null,null,{"$f":"EUconst_CNTR_NCV&EUconst_Value","v":"NCV_Vertė"},{"$f":"IF(AC156=TRUE,IF(COUNTIF(MSPara_SourceStreamCategory,V156)=0,\"\",INDEX(MSPara_CalcFactorsMatrix,MATCH(V156,MSPara_SourceStreamCategory,0),MATCH(AM156&\"_\"&2,MSPara_CalcFactors,0))),\"\")","v":""},{"$f":"IF(AC156=TRUE,IF(COUNTIF(MSPara_SourceStreamCategory,V156)=0,\"\",INDEX(MSPara_CalcFactorsMatrix,MATCH(V156,MSPara_SourceStreamCategory,0),MATCH(AM156&\"_\"&1,MSPara_CalcFactors,0))),\"\")","v":""},{"$f":"AND(AND(AH156<>\"\",AJ156<>\"\"),AJ156=AH156)","v":false},{"$f":"IF(AND(AA156<>\"\",AP156=TRUE),IF(OR(INDEX(AN156:AO156,3-AA156)=EUconst_NA,INDEX(AN156:AO156,3-AA156)=0),\"\",INDEX(AN156:AO156,3-AA156)),\"\")","v":""},{"$f":"IF(AC156=TRUE,IF(COUNT(K156:L156)=0,0,IF(L156=\"\",K156,L156)),0)","v":0},{"$f":"AND(AC156=TRUE,OR(AND(F156<>\"\",NOT(ISNUMBER(AA156))),L156<>\"\",F156=\"\",AQ156=\"\"))","v":false},false,null,false,false,null,false,null,null,"CO2 biogenic",{"$f":"IF(K143=BC153,AR153*IF(AJ155=EUconst_tCO2pTJ,(AR156/1000),1)*AR155*AR157*AR160,\"\")","v":""},{"$f":"IF(K143=BD153,AR153*AR155*AR158*AR160,\"\")","v":""},{"$f":"IF(K143=BE153,3.664*AR153*AR159*AR160,\"\")","v":""},null,null,null,null,null,null,null,null,null,null,null,null,null,null,null,null,null,null,null,null,{"$f":"OR(BZ153,Y156=EUconst_NA)","v":true}]
[null,null,"vi.",{"$f":"Translations!$B$638","v":"OksK:"},null,null,"",null,{"$f":"IF(OR(AC157=FALSE,Y157=EUconst_NA),\"\",\"-\")","v":""},null,"",null,{"$f":"IF(AND(E144<>\"\",OR(F157=\"\",COUNT(K157:L157)=0),Y157<>EUconst_NA,T144<>TRUE),EUconst_ERR_Incomplete,IF(COUNTIF(AX157:AZ157,TRUE)>0,EUconst_ERR_Inconsistent,\"\"))","v":""},null,null,null,null,null,null,{"$f":"EUconst_CNTR_OxidationFactor&E144","v":"OxF_"},null,"",null,null,{"$f":"IF(OR(T144=TRUE,E144=\"\"),\"\",INDEX(EUwideConstants!$N:$N,MATCH(T157,EUwideConstants!$Q:$Q,0)))","v":""},{"$f":"IF(ISBLANK(F157),\"\",IF(F157=EUconst_NA,\"\",INDEX(EUwideConstants!$H:$M,MATCH(T157,EUwideConstants!$Q:$Q,0),MATCH(F157,CNTR_TierList,0))))","v":""},{"$f":"IF(F157=1,1,\"\")","v":""},null,{"$f":"AND(AC153,Y157<>EUconst_NA)","v":false},null,null,null,null,null,null,null,null,null,{"$f":"EUconst_CNTR_OxidationFactor&EUconst_Value","v":"OxF_Vertė"},null,1,null,{"$f":"IF(AA157=\"\",\"\",AO157)","v":""},{"$f":"IF(AC157=TRUE,IF(COUNT(K157:L157)=0,0,IF(L157=\"\",K157,L157)),1)","v":1},{"$f":"AND(AC157=TRUE,OR(ISNUMBER(L157),NOT(ISNUMBER(AA157))))","v":false},false,null,false,false,null,false,{"$f":"AR157>100%","v":false},null,"CO2 fossil",{"$f":"IF(K143=BC153,AR153*IF(AJ155=EUconst_tCO2pTJ,(AR156/1000),1)*AR155*AR157*(1-AR160),\"\")","v":""},{"$f":"IF(K143=BD153,AR153*AR155*AR158*(1-AR160),\"\")","v":""},{"$f":"IF(K143=BE153,3.664*AR153*AR159*(1-AR160),\"\")","v":""},null,null,null,null,null,null,null,null,null,null,null,null,null,null,null,null,null,null,null,null,{"$f":"OR(BZ153,Y157=EUconst_NA)","v":true}]
[null,null,"vii.",{"$f":"Translations!$B$639","v":"KonvK:"},null,null,"",null,{"$f":"IF(OR(AC158=FALSE,Y158=EUconst_NA),\"\",\"-\")","v":""},null,"",null,{"$f":"IF(AND(E144<>\"\",OR(F158=\"\",COUNT(K158:L158)=0),Y158<>EUconst_NA,T144<>TRUE),EUconst_ERR_Incomplete,IF(COUNTIF(AX158:AZ158,TRUE)>0,EUconst_ERR_Inconsistent,\"\"))","v":""},null,null,null,null,null,null,{"$f":"EUconst_CNTR_ConversionFactor&E144","v":"ConvF_"},null,"",null,null,{"$f":"IF(OR(T144=TRUE,E144=\"\"),\"\",INDEX(EUwideConstants!$N:$N,MATCH(T158,EUwideConstants!$Q:$Q,0)))","v":""},{"$f":"IF(ISBLANK(F158),\"\",IF(F158=EUconst_NA,\"\",INDEX(EUwideConstants!$H:$M,MATCH(T158,EUwideConstants!$Q:$Q,0),MATCH(F158,CNTR_TierList,0))))","v":""},{"$f":"IF(F158=1,1,\"\")","v":""},null,{"$f":"AND(AC153,Y158<>EUconst_NA)","v":false},null,null,null,null,null,null,null,null,null,{"$f":"EUconst_CNTR_ConversionFactor&EUconst_Value","v":"ConvF_Vertė"},null,1,null,{"$f":"IF(AA158=\"\",\"\",AO158)","v":""},{"$f":"IF(AC158=TRUE,IF(COUNT(K158:L158)=0,0,IF(L158=\"\",K158,L158)),1)","v":1},{"$f":"AND(AC158=TRUE,OR(ISNUMBER(L158),NOT(ISNUMBER(AA158))))","v":false},false,null,false,false,null,false,{"$f":"AR158>100%","v":false},null,"Energy fossil",{"$f":"AR153*AR156/1000*(1-AR160)","v":0},{"$f":"BC158","v":0},{"$f":"BC158","v":0},null,null,null,null,null,null,null,null,null,null,null,null,null,null,null,null,null,null,null,null,{"$f":"OR(BZ153,Y158=EUconst_NA)","v":true}]
[null,null,"viii.",{"$f":"Translations!$B$640","v":"AnglK:"},null,null,"",null,{"$f":"AJ159","v":""},null,"",null,{"$f":"IF(AND(E144<>\"\",OR(F159=\"\",COUNT(K159:L159)=0),Y159<>EUconst_NA,T144<>TRUE),EUconst_ERR_Incomplete,IF(COUNTIF(AX159:AZ159,TRUE)>0,EUconst_ERR_Inconsistent,\"\"))","v":""},null,null,null,null,null,null,{"$f":"EUconst_CNTR_CarbonContent&E144","v":"CarbC_"},null,"",null,null,{"$f":"IF(OR(T144=TRUE,E144=\"\"),\"\",INDEX(EUwideConstants!$N:$N,MATCH(T159,EUwideConstants!$Q:$Q,0)))","v":""},{"$f":"IF(ISBLANK(F159),\"\",IF(F159=EUconst_NA,\"\",INDEX(EUwideConstants!$H:$M,MATCH(T159,EUwideConstants!$Q:$Q,0),MATCH(F159,CNTR_TierList,0))))","v":""},{"$f":"IF(COUNTIF(EUconst_DefaultValues,Z159)>0,MATCH(Z159,EUconst_DefaultValues,0),\"\")","v":""},null,{"$f":"AND(AC153,Y159<>EUconst_NA)","v":false},null,{"$f":"EUconst_CNTR_CarbonContent&EUconst_Unit","v":"CarbC_Vienetas"},{"$f":"IF(AC159=TRUE, IF(COUNTIF(MSPara_SourceStreamCategory,V159)=0,\"\",INDEX(MSPara_CalcFactorsMatrix,MATCH(V159,MSPara_SourceStreamCategory,0),MATCH(AE159&\"_\"&2,MSPara_CalcFactors,0))),\"\")","v":""},{"$f":"IF(AC159=TRUE, IF(COUNTIF(MSPara_SourceStreamCategory,V159)=0,\"\",INDEX(MSPara_CalcFactorsMatrix,MATCH(V159,MSPara_SourceStreamCategory,0),MATCH(AE159&\"_\"&1,MSPara_CalcFactors,0))),\"\")","v":""},{"$f":"IF(AA159=\"\",\"\",INDEX(AF159:AG159,3-AA159))","v":""},null,{"$f":"IF(AC159=TRUE,IF(AJ153=\"\",\"\",IF(AJ153=EUconst_kNm3,EUconst_tCpkNm3,EUconst_tCpt)),\"\")","v":""},null,null,{"$f":"EUconst_CNTR_CarbonContent&EUconst_Value","v":"CarbC_Vertė"},{"$f":"IF(AC159=TRUE,IF(COUNTIF(MSPara_SourceStreamCategory,V159)=0,\"\",INDEX(MSPara_CalcFactorsMatrix,MATCH(V159,MSPara_SourceStreamCategory,0),MATCH(AM159&\"_\"&2,MSPara_CalcFactors,0))),\"\")","v":""},{"$f":"IF(AC159=TRUE,IF(COUNTIF(MSPara_SourceStreamCategory,V159)=0,\"\",INDEX(MSPara_CalcFactorsMatrix,MATCH(V159,MSPara_SourceStreamCategory,0),MATCH(AM159&\"_\"&1,MSPara_CalcFactors,0))),\"\")","v":""},{"$f":"AND(AND(AH159<>\"\",AJ159<>\"\"),AJ159=AH159)","v":false},{"$f":"IF(AND(AA159<>\"\",AP159=TRUE),IF(OR(INDEX(AN159:AO159,3-AA159)=EUconst_NA,INDEX(AN159:AO159,3-AA159)=0),\"\",INDEX(AN159:AO159,3-AA159)),\"\")","v":""},{"$f":"IF(AC159=TRUE,IF(COUNT(K159:L159)=0,0,IF(L159=\"\",K159,L159)),0)","v":0},{"$f":"AND(AC159=TRUE,OR(AND(F159<>\"\",NOT(ISNUMBER(AA159))),L159<>\"\",F159=\"\",AQ159=\"\"))","v":false},false,null,false,false,{"$f":"OR(AND(AJ153=EUconst_kNm3,AJ159=EUconst_tCpt),AND(AJ153=EUconst_t,AJ159=EUconst_tCpkNm3))","v":false},false,null,null,"Energy bio",{"$f":"AR153*AR156/1000*AR160","v":0},{"$f":"BC159","v":0},{"$f":"BC159","v":0},null,null,null,null,null,null,null,null,null,null,null,null,null,null,null,null,null,null,null,null,{"$f":"OR(BZ153,Y159=EUconst_NA)","v":true}]
[null,null,"ix.",{"$f":"Translations!$B$641","v":"BioC:"},null,null,"",null,{"$f":"IF(OR(AC160=FALSE,Y160=EUconst_NA),\"\",\"-\")","v":""},null,"",null,{"$f":"IF(AND(E144<>\"\",OR(F160=\"\",COUNT(K160:L160)=0),Y160<>EUconst_NA,T144<>TRUE),EUconst_ERR_Incomplete,IF(COUNTIF(AX160:AZ160,TRUE)>0,EUconst_ERR_Inconsistent,\"\"))","v":""},null,null,null,null,null,null,{"$f":"EUconst_CNTR_BiomassContent&E144","v":"BioC_"},null,"",{"$f":"IF(COUNTIF(MSPara_SourceStreamCategory,V160)=0,\"\",INDEX(MSPara_IsFossil,MATCH(V160,MSPara_SourceStreamCategory,0)))","v":""},null,{"$f":"IF(OR(T144=TRUE,E144=\"\"),\"\",IF(OR(W160=TRUE,F160=EUconst_NA),EUconst_NA,INDEX(EUwideConstants!$N:$N,MATCH(T160,EUwideConstants!$Q:$Q,0))))","v":""},{"$f":"IF(ISBLANK(F160),\"\",IF(F160=EUconst_NA,\"\",INDEX(EUwideConstants!$H:$M,MATCH(T160,EUwideConstants!$Q:$Q,0),MATCH(F160,CNTR_TierList,0))))","v":""},{"$f":"IF(F160=1,1,\"\")","v":""},null,{"$f":"AND(AC153,Y160<>EUconst_NA)","v":false},null,null,null,null,null,null,null,null,null,{"$f":"EUconst_CNTR_BiomassContent&EUconst_Value","v":"BioC_Vertė"},null,{"$f":"IF(AC160=TRUE,IF(COUNTIF(MSPara_SourceStreamCategory,V160)=0,\"\",INDEX(MSPara_CalcFactorsMatrix,MATCH(V160,MSPara_SourceStreamCategory,0),MATCH(AM160&\"_\"&2,MSPara_CalcFactors,0))),\"\")","v":""},null,{"$f":"IF(OR(AA160=\"\",AO160=EUconst_NA),\"\",AO160)","v":""},{"$f":"IF(AC160=TRUE,IF(COUNT(K160:L160)=0,0,IF(L160=\"\",K160,L160)),0)","v":0},{"$f":"AND(AC160=TRUE,OR(AND(F160<>\"\",NOT(ISNUMBER(AA160))),L160<>\"\",F160=\"\",AQ160=\"\"))","v":false},false,null,false,false,null,false,{"$f":"OR(AR160>100%,(AR160+AR161)>100%)","v":false},null,null,null,null,null,null,null,null,null,null,null,null,null,null,null,null,null,null,null,null,null,null,null,null,null,{"$f":"OR(BZ153,Y160=EUconst_NA)","v":true}]
[null,null,"x.",{"$f":"Translations!$B$647","v":"Netvar. BioC:"},null,null,"",null,{"$f":"IF(OR(AC161=FALSE,Y161=EUconst_NA),\"\",\"-\")","v":""},null,"",null,{"$f":"IF(AND(E144<>\"\",OR(F161=\"\",COUNT(K161:L161)=0),Y161<>EUconst_NA,T144<>TRUE),EUconst_ERR_Incomplete,IF(COUNTIF(AX161:AZ161,TRUE)>0,EUconst_ERR_Inconsistent,\"\"))","v":""},null,null,null,null,null,null,{"$f":"EUconst_CNTR_BiomassContent&E144","v":"BioC_"},null,"",{"$f":"IF(COUNTIF(MSPara_SourceStreamCategory,V161)=0,\"\",INDEX(MSPara_IsFossil,MATCH(V161,MSPara_SourceStreamCategory,0)))","v":""},null,{"$f":"IF(OR(T144=TRUE,E144=\"\"),\"\",IF(OR(W161=TRUE,F161=EUconst_NA),EUconst_NA,INDEX(EUwideConstants!$N:$N,MATCH(T161,EUwideConstants!$Q:$Q,0))))","v":""},{"$f":"IF(ISBLANK(F161),\"\",IF(F161=EUconst_NA,\"\",INDEX(EUwideConstants!$H:$M,MATCH(T161,EUwideConstants!$Q:$Q,0),MATCH(F161,CNTR_TierList,0))))","v":""},{"$f":"IF(F161=1,1,\"\")","v":""},null,{"$f":"AND(AC153,Y161<>EUconst_NA)","v":false},null,null,null,null,null,null,null,null,null,{"$f":"EUconst_CNTR_BiomassContent&EUconst_Value","v":"BioC_Vertė"},null,{"$f":"IF(AC161=TRUE,IF(COUNTIF(MSPara_SourceStreamCategory,V161)=0,\"\",INDEX(MSPara_CalcFactorsMatrix,MATCH(V161,MSPara_SourceStreamCategory,0),MATCH(AM161&\"_\"&2,MSPara_CalcFactors,0))),\"\")","v":""},null,{"$f":"IF(OR(AA161=\"\",AO161=EUconst_NA),\"\",AO161)","v":""},{"$f":"IF(AC161=TRUE,IF(COUNT(K161:L161)=0,0,IF(L161=\"\",K161,L161)),0)","v":0},{"$f":"AND(AC161=TRUE,OR(AND(F161<>\"\",NOT(ISNUMBER(AA161))),L161<>\"\",F161=\"\",AQ161=\"\"))","v":false},false,null,false,false,null,false,{"$f":"OR(AR160>100%,(AR160+AR161)>100%)","v":false},null,null,null,null,null,null,null,null,null,null,null,null,null,null,null,null,null,null,null,null,null,null,null,null,null,{"$f":"OR(BZ153,Y161=EUconst_NA)","v":true}]
[]
[null,null,null,{"$f":"Translations!$B$674","v":"Pakopos galioja nuo:"},null,null,null,{"$f":"Translations!$B$675","v":"iki:"},null,{"$f":"Translations!$B$676","v":"Atliekų katalogo numeris (jeigu taikytina):"},null,null,null,null,null,null,null,null,null,null,null,null,null,null,null,null,null,null,null,null,null,null,null,null,null,null,null,null,null,null,null,null,null,null,null,null,null,null,null,null,null,null,null,null,null,null,null,null,null,null,null,null,null,null,null,null,null,null,null,null,null,null,null,null,null,null,null,{"$f":"BZ153","v":true}]
[]
[null,null,null,null,null,null,null,null,null,null,null,null,{"$f":"Translations!$B$677","v":"Stebėsenos plane šiam sukėlikliui suteiktas identifikatorius:"},null,null,null,null,null,null,null,null,null,null,null,null,null,null,null,null,null,null,null,null,null,null,null,null,null,null,null,null,null,null,null,null,null,null,null,null,null,null,null,null,null,null,null,null,null,null,null,null,null,null,null,null,null,null,null,null,null,null,null,null,null,null,null,null,{"$f":"BZ163","v":true}]
[]
[null,null,null,{"$f":"Translations!$B$160","v":"Pastabos:"},null,null,null,null,null,null,null,null,null,null,null,null,null,null,null,null,null,null,null,null,null,null,null,null,null,null,null,null,null,null,null,null,null,null,null,null,null,null,null,null,null,null,null,null,null,null,null,null,null,null,null,null,null,null,null,null,null,null,null,null,null,null,null,null,null,null,null,null,null,null,null,null,null,{"$f":"BZ163","v":true}]
[]
[]
[]
[null,null,null,null,null,{"$f":"EUconst_MsgNextSheet","v":"<<< Į kitą lapą pereisite paspaudę čia >>> "}]
[]
["ausblenden","End","End","End","End","End","End","End","End","End","End","End","End","End","End",null,null,null,"End","End","End",null,null,null,"End","End",null,null,null,null,null,null,null,null,"End",null,null,null,null,null,null,null,null,null,null,null,null,null,null,null,null,null,null,null,null,null,null,null,null,null,null,null,null,null,null,null,null,null,null,null,null,null,null,null,null,null,null,"End"]
["ausblenden"]
["ausblenden",null,null,null,null,null,null,null,"source stream",null,null,null,"Range"]
["ausblenden",null,null,null,null,1,{"$f":"INDEX(CNTR_SourceStreamNames,F176)","v":"F1. Dujinis – Gamtinės dujos"},{"$f":"IF(G176=EUconst_NA,\"\",MAX($H$175:H175)+1)","v":1},{"$f":"IF(COUNTIF($H$176:$H$250,F176)=0,\"\",INDEX($G$176:$G$250,MATCH(F176,$H$176:$H$250,0)))","v":"F1. Dujinis – Gamtinės dujos"},null,null,null,{"$f":"IF(COUNT(H176:H250)=0,\"\",\"$I$\"&ROW(I176)&\":$I$\"& ROW(I176)-1+MAX(1,H176:H250))","v":"$I$176:$I$178"}]
["ausblenden",null,null,null,null,2,{"$f":"INDEX(CNTR_SourceStreamNames,F177)","v":"F2. Skystasis – Sunkusis mazutas; Mazutas"},{"$f":"IF(G177=EUconst_NA,\"\",MAX($H$175:H176)+1)","v":2},"F2. Skystasis – Sunkusis mazutas; Mazutas"]
["ausblenden",null,null,null,null,3,"F3. Kietasis – Mediena (ne atliekos); Mediena",{"$f":"IF(G178=EUconst_NA,\"\",MAX($H$175:H177)+1)","v":3},"F3. Kietasis – Mediena (ne atliekos); Mediena"]
["ausblenden",null,null,null,null,4,"netaik.",{"$f":"IF(G179=EUconst_NA,\"\",MAX($H$175:H178)+1)","v":""},""]
["ausblenden",null,null,null,null,5,"netaik.",{"$f":"IF(G180=EUconst_NA,\"\",MAX($H$175:H179)+1)","v":""},""]
["ausblenden",null,null,null,null,6,"netaik.",{"$f":"IF(G181=EUconst_NA,\"\",MAX($H$175:H180)+1)","v":""},""]
["ausblenden",null,null,null,null,7,"netaik.",{"$f":"IF(G182=EUconst_NA,\"\",MAX($H$175:H181)+1)","v":""},""]
["ausblenden",null,null,null,null,8,"netaik.",{"$f":"IF(G183=EUconst_NA,\"\",MAX($H$175:H182)+1)","v":""},""]
["ausblenden",null,null,null,null,9,"netaik.",{"$f":"IF(G184=EUconst_NA,\"\",MAX($H$175:H183)+1)","v":""},""]
["ausblenden",null,null,null,null,10,"netaik.",{"$f":"IF(G185=EUconst_NA,\"\",MAX($H$175:H184)+1)","v":""},""]
["ausblenden",null,null,null,null,11,"netaik.",{"$f":"IF(G186=EUconst_NA,\"\",MAX($H$175:H185)+1)","v":""},""]
["ausblenden",null,null,null,null,12,"netaik.",{"$f":"IF(G187=EUconst_NA,\"\",MAX($H$175:H186)+1)","v":""},""]
["ausblenden",null,null,null,null,13,"netaik.",{"$f":"IF(G188=EUconst_NA,\"\",MAX($H$175:H187)+1)","v":""},""]
["ausblenden",null,null,null,null,14,"netaik.",{"$f":"IF(G189=EUconst_NA,\"\",MAX($H$175:H188)+1)","v":""},""]
["ausblenden",null,null,null,null,15,"netaik.",{"$f":"IF(G190=EUconst_NA,\"\",MAX($H$175:H189)+1)","v":""},""]
["ausblenden",null,null,null,null,16,"netaik.",{"$f":"IF(G191=EUconst_NA,\"\",MAX($H$175:H190)+1)","v":""},""]
["ausblenden",null,null,null,null,17,"netaik.",{"$f":"IF(G192=EUconst_NA,\"\",MAX($H$175:H191)+1)","v":""},""]
["ausblenden",null,null,null,null,18,"netaik.",{"$f":"IF(G193=EUconst_NA,\"\",MAX($H$175:H192)+1)","v":""},""]
["ausblenden",null,null,null,null,19,"netaik.",{"$f":"IF(G194=EUconst_NA,\"\",MAX($H$175:H193)+1)","v":""},""]
["ausblenden",null,null,null,null,20,"netaik.",{"$f":"IF(G195=EUconst_NA,\"\",MAX($H$175:H194)+1)","v":""},""]
["ausblenden",null,null,null,null,21,"netaik.",{"$f":"IF(G196=EUconst_NA,\"\",MAX($H$175:H195)+1)","v":""},""]
["ausblenden",null,null,null,null,22,"netaik.",{"$f":"IF(G197=EUconst_NA,\"\",MAX($H$175:H196)+1)","v":""},""]
["ausblenden",null,null,null,null,23,"netaik.",{"$f":"IF(G198=EUconst_NA,\"\",MAX($H$175:H197)+1)","v":""},""]
["ausblenden",null,null,null,null,24,"netaik.",{"$f":"IF(G199=EUconst_NA,\"\",MAX($H$175:H198)+1)","v":""},""]
["ausblenden",null,null,null,null,25,"netaik.",{"$f":"IF(G200=EUconst_NA,\"\",MAX($H$175:H199)+1)","v":""},""]
["ausblenden",null,null,null,null,26,"netaik.",{"$f":"IF(G201=EUconst_NA,\"\",MAX($H$175:H200)+1)","v":""},""]
["ausblenden",null,null,null,null,27,"netaik.",{"$f":"IF(G202=EUconst_NA,\"\",MAX($H$175:H201)+1)","v":""},""]
["ausblenden",null,null,null,null,28,"netaik.",{"$f":"IF(G203=EUconst_NA,\"\",MAX($H$175:H202)+1)","v":""},""]
["ausblenden",null,null,null,null,29,"netaik.",{"$f":"IF(G204=EUconst_NA,\"\",MAX($H$175:H203)+1)","v":""},""]
["ausblenden",null,null,null,null,30,"netaik.",{"$f":"IF(G205=EUconst_NA,\"\",MAX($H$175:H204)+1)","v":""},""]
["ausblenden",null,null,null,null,31,{"$f":"INDEX(CNTR_SourceStreamNames,F206)","v":"netaik."},{"$f":"IF(G206=EUconst_NA,\"\",MAX($H$175:H205)+1)","v":""},""]
["ausblenden",null,null,null,null,32,"netaik.",{"$f":"IF(G207=EUconst_NA,\"\",MAX($H$175:H206)+1)","v":""},""]
["ausblenden",null,null,null,null,33,"netaik.",{"$f":"IF(G208=EUconst_NA,\"\",MAX($H$175:H207)+1)","v":""},{"$f":"IF(COUNTIF($H$176:$H$250,F208)=0,\"\",INDEX($G$176:$G$250,MATCH(F208,$H$176:$H$250,0)))","v":""}]
["ausblenden",null,null,null,null,34,"netaik.",{"$f":"IF(G209=EUconst_NA,\"\",MAX($H$175:H208)+1)","v":""},""]
["ausblenden",null,null,null,null,35,"netaik.",{"$f":"IF(G210=EUconst_NA,\"\",MAX($H$175:H209)+1)","v":""},""]
["ausblenden",null,null,null,null,36,"netaik.",{"$f":"IF(G211=EUconst_NA,\"\",MAX($H$175:H210)+1)","v":""},""]
["ausblenden",null,null,null,null,37,"netaik.",{"$f":"IF(G212=EUconst_NA,\"\",MAX($H$175:H211)+1)","v":""},""]
["ausblenden",null,null,null,null,38,"netaik.",{"$f":"IF(G213=EUconst_NA,\"\",MAX($H$175:H212)+1)","v":""},""]
["ausblenden",null,null,null,null,39,"netaik.",{"$f":"IF(G214=EUconst_NA,\"\",MAX($H$175:H213)+1)","v":""},""]
["ausblenden",null,null,null,null,40,"netaik.",{"$f":"IF(G215=EUconst_NA,\"\",MAX($H$175:H214)+1)","v":""},""]
["ausblenden",null,null,null,null,41,"netaik.",{"$f":"IF(G216=EUconst_NA,\"\",MAX($H$175:H215)+1)","v":""},""]
["ausblenden",null,null,null,null,42,"netaik.",{"$f":"IF(G217=EUconst_NA,\"\",MAX($H$175:H216)+1)","v":""},""]
["ausblenden",null,null,null,null,43,"netaik.",{"$f":"IF(G218=EUconst_NA,\"\",MAX($H$175:H217)+1)","v":""},""]
["ausblenden",null,null,null,null,44,"netaik.",{"$f":"IF(G219=EUconst_NA,\"\",MAX($H$175:H218)+1)","v":""},""]
["ausblenden",null,null,null,null,45,"netaik.",{"$f":"IF(G220=EUconst_NA,\"\",MAX($H$175:H219)+1)","v":""},""]
["ausblenden",null,null,null,null,46,"netaik.",{"$f":"IF(G221=EUconst_NA,\"\",MAX($H$175:H220)+1)","v":""},""]
["ausblenden",null,null,null,null,47,"netaik.",{"$f":"IF(G222=EUconst_NA,\"\",MAX($H$175:H221)+1)","v":""},""]
["ausblenden",null,null,null,null,48,"netaik.",{"$f":"IF(G223=EUconst_NA,\"\",MAX($H$175:H222)+1)","v":""},""]
["ausblenden",null,null,null,null,49,"netaik.",{"$f":"IF(G224=EUconst_NA,\"\",MAX($H$175:H223)+1)","v":""},""]
["ausblenden",null,null,null,null,50,"netaik.",{"$f":"IF(G225=EUconst_NA,\"\",MAX($H$175:H224)+1)","v":""},""]
["ausblenden",null,null,null,null,51,"netaik.",{"$f":"IF(G226=EUconst_NA,\"\",MAX($H$175:H225)+1)","v":""},""]
["ausblenden",null,null,null,null,52,"netaik.",{"$f":"IF(G227=EUconst_NA,\"\",MAX($H$175:H226)+1)","v":""},""]
["ausblenden",null,null,null,null,53,"netaik.",{"$f":"IF(G228=EUconst_NA,\"\",MAX($H$175:H227)+1)","v":""},""]
["ausblenden",null,null,null,null,54,"netaik.",{"$f":"IF(G229=EUconst_NA,\"\",MAX($H$175:H228)+1)","v":""},""]
["ausblenden",null,null,null,null,55,"netaik.",{"$f":"IF(G230=EUconst_NA,\"\",MAX($H$175:H229)+1)","v":""},""]
["ausblenden",null,null,null,null,56,"netaik.",{"$f":"IF(G231=EUconst_NA,\"\",MAX($H$175:H230)+1)","v":""},""]
["ausblenden",null,null,null,null,57,"netaik.",{"$f":"IF(G232=EUconst_NA,\"\",MAX($H$175:H231)+1)","v":""},""]
["ausblenden",null,null,null,null,58,"netaik.",{"$f":"IF(G233=EUconst_NA,\"\",MAX($H$175:H232)+1)","v":""},""]
["ausblenden",null,null,null,null,59,"netaik.",{"$f":"IF(G234=EUconst_NA,\"\",MAX($H$175:H233)+1)","v":""},""]
["ausblenden",null,null,null,null,60,"netaik.",{"$f":"IF(G235=EUconst_NA,\"\",MAX($H$175:H234)+1)","v":""},""]
["ausblenden",null,null,null,null,61,"netaik.",{"$f":"IF(G236=EUconst_NA,\"\",MAX($H$175:H235)+1)","v":""},""]
["ausblenden",null,null,null,null,62,"netaik.",{"$f":"IF(G237=EUconst_NA,\"\",MAX($H$175:H236)+1)","v":""},""]
["ausblenden",null,null,null,null,63,"netaik.",{"$f":"IF(G238=EUconst_NA,\"\",MAX($H$175:H237)+1)","v":""},""]
["ausblenden",null,null,null,null,64,"netaik.",{"$f":"IF(G239=EUconst_NA,\"\",MAX($H$175:H238)+1)","v":""},""]
["ausblenden",null,null,null,null,65,"netaik.",{"$f":"IF(G240=EUconst_NA,\"\",MAX($H$175:H239)+1)","v":""},{"$f":"IF(COUNTIF($H$176:$H$250,F240)=0,\"\",INDEX($G$176:$G$250,MATCH(F240,$H$176:$H$250,0)))","v":""}]
["ausblenden",null,null,null,null,66,"netaik.",{"$f":"IF(G241=EUconst_NA,\"\",MAX($H$175:H240)+1)","v":""},""]
["ausblenden",null,null,null,null,67,"netaik.",{"$f":"IF(G242=EUconst_NA,\"\",MAX($H$175:H241)+1)","v":""},""]
["ausblenden",null,null,null,null,68,"netaik.",{"$f":"IF(G243=EUconst_NA,\"\",MAX($H$175:H242)+1)","v":""},""]
["ausblenden",null,null,null,null,69,"netaik.",{"$f":"IF(G244=EUconst_NA,\"\",MAX($H$175:H243)+1)","v":""},""]
["ausblenden",null,null,null,null,70,"netaik.",{"$f":"IF(G245=EUconst_NA,\"\",MAX($H$175:H244)+1)","v":""},""]
["ausblenden",null,null,null,null,71,"netaik.",{"$f":"IF(G246=EUconst_NA,\"\",MAX($H$175:H245)+1)","v":""},""]
["ausblenden",null,null,null,null,72,"netaik.",{"$f":"IF(G247=EUconst_NA,\"\",MAX($H$175:H246)+1)","v":""},""]
["ausblenden",null,null,null,null,73,"netaik.",{"$f":"IF(G248=EUconst_NA,\"\",MAX($H$175:H247)+1)","v":""},""]
["ausblenden",null,null,null,null,74,"netaik.",{"$f":"IF(G249=EUconst_NA,\"\",MAX($H$175:H248)+1)","v":""},""]
["ausblenden",null,null,null,null,75,"netaik.",{"$f":"IF(G250=EUconst_NA,\"\",MAX($H$175:H249)+1)","v":""},""]
["ausblenden"]
["ausblenden"]
["ausblenden"]
["ausblenden"]
["ausblenden"]
["ausblenden"]

{"sheet":"D_MeasurementBasedApproaches","index":5,"n_rows":389,"n_cols":38,"rows_kept":389,"cut":false,"hidden":false,"merged":[[358,4,358,13],[360,8,360,13],[367,4,367,13],[368,4,368,13],[361,8,361,13],[362,8,362,13],[363,8,363,13],[366,4,366,13],[331,4,331,13],[332,4,332,13],[333,4,333,13],[336,4,336,5],[336,6,336,9],[342,4,342,13],[344,9,344,12],[345,4,345,8],[345,9,345,12],[307,4,307,13],[309,9,309,12],[310,4,310,8],[310,9,310,12],[323,4,323,13],[325,8,325,13],[326,8,326,13],[327,8,327,13],[328,8,328,13],[288,4,288,13],[290,8,290,13],[291,8,291,13],[292,8,292,13],[293,8,293,13],[296,4,296,13],[297,4,297,13],[298,4,298,13],[301,4,301,5],[301,6,301,9],[261,4,261,13],[262,4,262,13],[263,4,263,13],[266,4,266,5],[266,6,266,9],[272,4,272,13],[274,9,274,12],[275,4,275,8],[275,9,275,12],[237,4,237,13],[239,9,239,12],[240,4,240,8],[240,9,240,12],[253,4,253,13],[255,8,255,13],[256,8,256,13],[257,8,257,13],[258,8,258,13],[218,4,218,13],[220,8,220,13],[221,8,221,13],[222,8,222,13],[223,8,223,13],[226,4,226,13],[227,4,227,13],[228,4,228,13],[231,4,231,5],[231,6,231,9],[191,4,191,13],[192,4,192,13],[193,4,193,13],[196,4,196,5],[196,6,196,9],[202,4,202,13],[204,9,204,12],[205,4,205,8],[205,9,205,12],[167,4,167,13],[169,9,169,12],[170,4,170,8],[170,9,170,12],[183,4,183,13],[185,8,185,13],[186,8,186,13],[187,8,187,13],[188,8,188,13],[148,4,148,13],[150,8,150,13],[151,8,151,13],[152,8,152,13],[153,8,153,13],[156,4,156,13],[157,4,157,13],[158,4,158,13],[161,4,161,5],[161,6,161,9],[121,4,121,13],[122,4,122,13],[123,4,123,13],[126,4,126,5],[126,6,126,9],[132,4,132,13],[134,9,134,12],[135,4,135,8],[135,9,135,12],[97,4,97,13],[99,9,99,12],[100,4,100,8],[100,9,100,12],[113,4,113,13],[115,8,115,13],[116,8,116,13],[117,8,117,13],[118,8,118,13],[80,8,80,13],[81,8,81,13],[82,8,82,13],[83,8,83,13],[1,12,1,13],[86,4,86,13],[87,4,87,13],[88,4,88,13],[2,8,2,9],[64,9,64,12],[65,4,65,8],[65,9,65,12],[78,4,78,13],[1,6,1,7],[1,8,1,9],[2,6,2,7],[2,10,2,11],[1,10,1,11],[2,12,2,13],[1,4,1,5],[2,4,2,5],[15,6,15,13],[11,5,11,13],[371,5,371,11],[45,8,45,13],[21,6,21,9],[30,9,30,12],[52,4,52,13],[47,8,47,13],[21,4,21,5],[3,6,3,7],[62,4,62,13],[53,4,53,13],[5,11,5,13],[48,8,48,13],[3,4,3,5],[3,8,3,9],[3,10,3,11],[91,4,91,5],[91,6,91,9],[7,10,7,13],[3,12,3,13],[46,8,46,13],[5,2,5,10],[17,5,17,13],[13,5,13,13],[14,6,14,13],[1,1,3,3],[56,4,56,5],[56,6,56,9],[12,4,13,4],[16,4,17,4],[18,5,18,13],[12,5,12,13],[51,4,51,13],[30,4,30,8],[43,4,43,13],[27,4,27,13],[29,9,29,12],[16,5,16,13]]}
["ausblenden",null,null,null,null,null,null,null,null,null,null,null,null,null,null,"ausblenden","ausblenden","ausblenden","ausblenden","ausblenden","ausblenden","ausblenden","ausblenden","ausblenden","ausblenden","ausblenden","ausblenden","ausblenden","ausblenden","ausblenden","ausblenden","ausblenden","ausblenden","ausblenden","ausblenden","ausblenden","ausblenden","ausblenden"]
[null,{"$f":"Translations!$B$678","v":"D.\nMeasurement Approach (Matavimo metodas)"},null,null,{"$f":"Translations!$B$23","v":"Naršymo laukas"},null,{"$f":"Translations!$B$24","v":"Turinys"},null,{"$f":"Translations!$B$25","v":"Ankstesnis lapas"},null,{"$f":"Translations!$B$26","v":"Kitas lapas"}]
[null,null,null,null,{"$f":"Translations!$B$27","v":"Lapo viršus"},null,null,null,null,null,null,null,null,null,null,null,null,null,null,null,"Print area:",{"$f":"ADDRESS(ROW($B$5),COLUMN($B$5)) & \":\" & ADDRESS(IF(CNTR_MeasurementRelevant=EUconst_NotRelevant,ROW(P22),ROW(P337))+ROW($P$55)-ROW($P$22),COLUMN($O$5))","v":"$B$5:$O$55"}]
[null,null,null,null,{"$f":"Translations!$B$28","v":"Lapo galas"}]
[null,null,null,null,null,null,null,null,null,null,null,null,null,null,null,null,null,null,null,null,null,null,null,null,null,null,null,null,null,null,null,null,null,null,null,null,null,"Make grey?"]
[null,null,{"$f":"Translations!$B$499","v":"D. Matavimu grindžiami metodai"},null,null,null,null,null,null,null,null,{"$f":"IF(OR(CNTR_InstHasMeasurement=TRUE,CNTR_InstHasN2O=TRUE,CNTR_InstHasTransferredCO2=TRUE),EUconst_Relevant,IF(COUNTA(CNTR_ListRelevantSections)>0,EUconst_NotRelevant,EUconst_Relevant))","v":"nesvarbu"},null,null,null,null,"CNTR_MeasurementRelevant",null,null,null,null,null,null,null,null,null,null,null,null,null,null,null,null,null,null,null,null,{"$f":"IF(L6=EUconst_NotRelevant,TRUE,FALSE)","v":true}]
[]
[null,null,null,null,null,null,null,null,null,null,{"$f":"IF(L6=EUconst_NotRelevant,HYPERLINK(\"#JUMP_G_Top\",EUconst_MsgNextSheet),HYPERLINK(\"\",EUconst_MsgEnterThisSection))","v":"<<< Į kitą lapą pereisite paspaudę čia >>> "}]
[]
[null,null,9,{"$f":"Translations!$B$679","v":"Išmetamųjų ŠESD kiekis pagal taršos šaltinius (matavimo taškus)"}]
[]
[null,null,null,null,{"$f":"Translations!$B$680","v":"ŠESD koncentracija:"},{"$f":"Translations!$B$681","v":"Ši vertė – atitinkamų ŠESD (CO2 arba N2O) metinis valandinis vidurkis kaminų dujose."}]
[null,null,null,null,{"$f":"Translations!$B$682","v":"Biomasės dalis:"},{"$f":"Translations!$B$642","v":"Biomasės dalis – trupmena išreikštas iš biomasės susidariusios anglies kiekio ir kuro arba medžiagos viso anglies kiekio santykis."}]
[null,null,null,null,null,{"$f":"Translations!$B$643","v":"Ši vertė turėtų būti susijusi su visa biomase, atitinkančia šias sąlygas:"}]
[null,null,null,null,null,"-",{"$f":"Translations!$B$644","v":"jai netaikomi tvarumo kriterijai (pvz., jeigu tai kietasis kuras) ARBA"}]
[null,null,null,null,null,"-",{"$f":"Translations!$B$645","v":"jai taikomi tvarumo kriterijai ir ji tuos kriterijus atitinka."}]
[null,null,null,null,{"$f":"Translations!$B$683","v":"netvarios biomasės dalis:"},{"$f":"Translations!$B$648","v":"„Netvarios“ biomasės dalis – trupmena išreikštas iš netvarios biomasės susidariusios anglies kiekio ir kuro arba medžiagos viso anglies kiekio santykis."}]
[null,null,null,null,null,{"$f":"Translations!$B$649","v":"Ši vertė turėtų būti susijusi tik su tokia biomase, kuriai taikomi tvarumo kriterijai ir kuri tų kriterijų neatitinka."}]
[null,null,null,null,{"$f":"Translations!$B$684","v":"VAP:"},{"$f":"Translations!$B$685","v":"atitinkamų ŠESD visuotinio atšilimo potencialas."}]
[]
[null,null,null,null,null,null,null,null,null,null,null,null,null,null,null,null,null,null,null,null,null,null,null,"Accounting"]
[null,null,1,null,{"$f":"IF(ISBLANK(G22),\"\",IF(INDEX(B_InstallationDescription!$M$150:$M$159,MATCH(S22,B_InstallationDescription!$E$150:$E$159,0))>0,INDEX(B_InstallationDescription!$M$150:$M$159,MATCH(S22,B_InstallationDescription!$E$150:$E$159,0)),\"\"))","v":""},null,null,null,null,null,null,null,{"$f":"Translations!$B$686","v":"Bendras deginant iškastinį kurą išmestas ŠESD kiekis:"},{"$f":"IF(G22=\"\",\"\",M34*M38*M39*10^-3*(1-M36)*S49*R40)","v":""},"t CO2e",null,{"$f":"EUconst_SumCO2 & \"_\" &E22","v":"SUM_CO2_"},{"$f":"IF(ISBLANK(G22),\"\",MATCH(G22,CNTR_MeasurementPoints,0))","v":""},{"$f":"IF(ISBLANK(G22),\"\",INDEX(B_InstallationDescription!$E$150:$E$159,MATCH(G22,CNTR_MeasurementPoints,0)))","v":""},{"$f":"IF(ISBLANK(G22),\"\",MATCH(E22,EUconst_CEMSType,0))","v":""},{"$f":"E22=INDEX(EUconst_CEMSType,3)","v":false},{"$f":"OR(E22=INDEX(EUconst_CEMSType,1),E22=INDEX(EUconst_CEMSType,2))","v":false},null,{"$f":"M34","v":0},{"$f":"M36","v":0},{"$f":"M37","v":0},{"$f":"M38","v":0},{"$f":"M39","v":0},{"$f":"M40","v":""},{"$f":"M42","v":""},{"$f":"R40","v":""},{"$f":"N22","v":""},{"$f":"N23","v":""},{"$f":"R24","v":""},{"$f":"R25","v":0},{"$f":"R26","v":0},null,{"$f":"CNTR_MeasurementRelevant=EUconst_NotRelevant","v":true}]
[null,null,null,null,null,null,null,null,null,null,null,null,{"$f":"Translations!$B$687","v":"Bendras deginant biomasę išmestas ŠESD kiekis:"},{"$f":"IF(G22=\"\",\"\",M34*M38*M39*10^-3*(M36)*S49*R40)","v":""},"t CO2e",null,{"$f":"EUconst_SumBioCO2 & \"_\" & E22","v":"SUM_bioCO2_"},null,null,null,null,null,null,"GHG conc.","BioC","NonSustBio","hours","flue gas flow","flue gas flow (tot)","GHG total","GWP","CO2 fossil","CO2 bio","CO2 non-sust","CO2 ENIN fossil","CO2 ENIN bio"]
[null,null,null,null,null,null,null,null,null,null,null,null,null,null,null,null,{"$f":"EUconst_SumNonSustBioCO2 & \"_\" & K21","v":"SUM_bioNonSustCO2_"},{"$f":"IF(G22=\"\",\"\",ROUND(M34*M38*M39*10^-3*(1-M36)*M37*S49*R40,0))","v":""}]
[null,null,null,null,null,null,null,null,null,null,null,null,{"$f":"Translations!$B$688","v":"Bendra iškastinio kuro energetinė vertė:"},null,"TJ",null,{"$f":"EUconst_SumEnergyIN & \"_\" & K21","v":"SUM_EnergyIN_"},{"$f":"N25","v":0},null,null,null,null,null,null,null,null,null,null,null,null,null,null,null,null,null,null,null,{"$f":"AL30","v":true}]
[null,null,null,null,null,null,null,null,null,null,null,null,{"$f":"Translations!$B$689","v":"Bendra biomasės energetinė vertė:"},null,"TJ",null,{"$f":"EUconst_SumBioEnergyIN & \"_\" & K21","v":"SUM_BioEnergyIN_"},{"$f":"N26","v":0},null,null,null,null,null,null,null,null,null,null,null,null,null,null,null,null,null,null,null,{"$f":"AL25","v":true}]
[]
[null,null,null,"(a)",{"$f":"Translations!$B$690","v":"Skaičiavimai"}]
[]
[null,null,null,null,{"$f":"Translations!$B$691","v":"Informacija apie susijusius sukėliklius, jeigu taikytina:"},null,null,null,null,{"$f":"Translations!$B$692","v":"Patvirtinamųjų skaičiavimų rezultatas (iškastinis kuras):"},null,null,null,null,null,null,null,null,null,null,null,null,null,null,null,null,null,null,null,null,null,null,null,null,null,null,{"$f":"IF(E22=\"\",FALSE,MATCH(E22,EUconst_CEMSType,0)=2)","v":false},{"$f":"OR(CNTR_MeasurementRelevant=EUconst_NotRelevant,AND(COUNTA(CNTR_ListRelevantSections)>0,G22=\"\"))","v":true}]
[null,null,null,null,null,null,null,null,null,{"$f":"Translations!$B$693","v":"Patvirtinamųjų skaičiavimų rezultatas (biomasė):"},null,null,null,null,null,null,null,null,null,null,null,null,null,null,null,null,null,null,null,null,null,null,null,null,null,null,{"$f":"AK30","v":false},{"$f":"AL30","v":true}]
[]
[null,null,null,null,null,null,null,null,null,null,null,{"$f":"EUconst_Unit","v":"Vienetas"}]
[null,null,null,null,{"$f":"Translations!$B$162","v":"Naudojama pakopa."},null,"i.",{"$f":"Translations!$B$694","v":"ŠESD koncentracija (metinis valandinis vidurkis):"},null,null,null,{"$f":"EUconst_gpNm3","v":"g/Nm3"},null,null,null,null,null,null,null,null,null,null,null,null,null,null,null,null,null,null,null,null,null,null,null,null,null,{"$f":"AL31","v":true}]
[null,null,null,null,null,{"$f":"IF(OR(ISBLANK(F34),F34=EUconst_NoTier),\"\",IF(R36=EUconst_NA,EUconst_NA,IF(ISERROR(R36),\"\",R36)))","v":""},null,null,null,null,null,null,null,null,null,null,null,"tier text"]
[null,null,null,null,null,null,"ii.",{"$f":"Translations!$B$682","v":"Biomasės dalis:"},null,null,null,"-",null,null,null,null,null,{"$f":"IF(F34=\"\",\"\",IF(F34=EUconst_NA,\"\",INDEX(EUwideConstants!$H$674:$M$676,MATCH(E22,EUwideConstants!$B$674:$B$676,0),MATCH(F34,CNTR_TierList,0))))","v":""},null,null,null,null,null,null,null,null,null,null,null,null,null,null,null,null,null,null,null,{"$f":"AL34","v":true}]
[null,null,null,null,null,null,"iii.",{"$f":"Translations!$B$683","v":"netvarios biomasės dalis:"},null,null,null,"-",null,null,null,null,null,null,null,null,null,null,null,null,null,null,null,null,null,null,null,null,null,null,null,null,null,{"$f":"AL36","v":true}]
[null,null,null,null,{"$f":"Translations!$B$684","v":"VAP:"},{"$f":"IF(OR(G22=\"\",F39<>\"\"),\"\",IF(T22=2,298,1))","v":""},"iv.",{"$f":"Translations!$B$695","v":"Veikimo valandos:"},null,null,null,{"$f":"EUconst_hpa","v":"val./metai"},null,null,null,null,null,null,null,null,null,null,null,null,null,null,null,null,null,null,null,null,null,null,null,null,null,{"$f":"AL36","v":true}]
[null,null,null,null,{"$f":"Translations!$B$696","v":"(CO2(e) tonos / ŠESD tonos)"},null,"v.",{"$f":"Translations!$B$697","v":"Kaminų dujų srautas (metinis valandinis vidurkis):"},null,null,null,{"$f":"EUconst_Nm3ph","v":"1 000 Nm3/h"},null,null,null,null,null,"GWP",null,null,null,null,null,null,null,null,null,null,null,null,null,null,null,null,null,null,null,{"$f":"AL38","v":true}]
[null,null,null,null,null,null,"vi.",{"$f":"Translations!$B$698","v":"Kaminų dujų srautas (bendras metinis kiekis):"},null,null,null,{"$f":"EUconst_kNm3pa","v":"1 000 Nm3/m."},{"$f":"IF(COUNT(M38,M39)=2,M38*M39,\"\")","v":""},null,null,null,null,{"$f":"IF(F39=\"\",F38,F39)","v":""}]
[]
[null,null,null,null,null,null,"vii.",{"$f":"Translations!$B$699","v":"Metinis deginant iškastinį kurą išmestas ŠESD kiekis"},null,null,null,{"$f":"EUconst_t","v":"t"},{"$f":"IF(G22=\"\",\"\",ROUND(M34*M38*M39*10^-3*(1-M36),0))","v":""}]
[]
[null,null,null,"(b)",{"$f":"Translations!$B$700","v":"Perduotasis / būdingasis CO2"}]
[]
[null,null,null,"i.",{"$f":"Translations!$B$170","v":"Įrenginio pavadinimas"},null,null,null,null,null,null,null,null,null,null,null,{"$f":"IF(I49=\"\",\"\",C22 & \"_\" & EUconst_CNTR_CCSInstName & I49)","v":""},null,null,null,null,null,null,null,null,null,null,null,null,null,null,null,null,null,null,null,null,{"$f":"OR(CNTR_MeasurementRelevant=EUconst_NotRelevant,AND(COUNTA(CNTR_ListRelevantSections)>0,OR(G22=\"\",V22=TRUE)))","v":true}]
[null,null,null,"ii.",{"$f":"Translations!$B$79","v":"Veiklos vykdytojo pavadinimas"},null,null,null,null,null,null,null,null,null,null,null,{"$f":"IF(I49=\"\",\"\",C22 & \"_\" & EUconst_CNTR_CCSOpName & I49)","v":""},null,null,null,null,null,null,null,null,null,null,null,null,null,null,null,null,null,null,null,null,{"$f":"AL46","v":true}]
[null,null,null,"iii.",{"$f":"Translations!$B$171","v":"Įrenginio unikalus ID"},null,null,null,null,null,null,null,null,null,null,null,{"$f":"IF(I49=\"\",\"\",C22 & \"_\" & EUconst_CNTR_CCSInstID & I49)","v":""},"is transferred out?",null,null,null,null,null,null,null,null,null,null,null,null,null,null,null,null,null,null,null,{"$f":"AL47","v":true}]
[null,null,null,"iv.",{"$f":"Translations!$B$169","v":"Perdavimo tipas"},null,null,null,null,null,null,null,null,null,null,null,null,{"$f":"IF(I49=\"\",\"\",I49=INDEX(EUconst_CO2TransferTypes,5))","v":""},{"$f":"IF(AND(R49=TRUE,AL49=FALSE),-1,1)","v":1},null,null,null,null,null,null,null,null,null,null,null,null,null,null,null,null,null,null,{"$f":"AL48","v":true}]
[]
[]
[null,null,null,null,{"$f":"Translations!$B$701","v":"Pastabos (pvz., patvirtinamųjų skaičiavimų aprašas arba ar trūksta didelės duomenų dalies):"}]
[null,null,null,null,null,null,null,null,null,null,null,null,null,null,null,null,null,null,null,null,null,null,null,null,null,null,null,null,null,null,null,null,null,null,null,null,null,{"$f":"D_MeasurementBasedApproaches!AL39","v":true}]
[null,null,null,null,null,null,null,null,null,null,null,null,null,null,null,null,null,null,null,null,null,null,null,null,null,null,null,null,null,null,null,null,null,null,null,null,null,{"$f":"AL53","v":true}]
[]
[null,null,null,null,null,null,null,null,null,null,null,null,null,null,null,null,null,null,null,null,null,null,null,"Accounting"]
[null,null,{"$f":"C22+1","v":2},null,{"$f":"IF(ISBLANK(G57),\"\",IF(INDEX(B_InstallationDescription!$M$150:$M$159,MATCH(S57,B_InstallationDescription!$E$150:$E$159,0))>0,INDEX(B_InstallationDescription!$M$150:$M$159,MATCH(S57,B_InstallationDescription!$E$150:$E$159,0)),\"\"))","v":""},null,null,null,null,null,null,null,{"$f":"Translations!$B$686","v":"Bendras deginant iškastinį kurą išmestas ŠESD kiekis:"},{"$f":"IF(G57=\"\",\"\",M69*M73*M74*10^-3*(1-M71)*S84*R75)","v":""},"t CO2e",null,{"$f":"EUconst_SumCO2 & \"_\" &E57","v":"SUM_CO2_"},{"$f":"IF(ISBLANK(G57),\"\",MATCH(G57,CNTR_MeasurementPoints,0))","v":""},{"$f":"IF(ISBLANK(G57),\"\",INDEX(B_InstallationDescription!$E$150:$E$159,MATCH(G57,CNTR_MeasurementPoints,0)))","v":""},{"$f":"IF(ISBLANK(G57),\"\",MATCH(E57,EUconst_CEMSType,0))","v":""},{"$f":"E57=INDEX(EUconst_CEMSType,3)","v":false},{"$f":"OR(E57=INDEX(EUconst_CEMSType,1),E57=INDEX(EUconst_CEMSType,2))","v":false},null,{"$f":"M69","v":0},{"$f":"M71","v":0},{"$f":"M72","v":0},{"$f":"M73","v":0},{"$f":"M74","v":0},{"$f":"M75","v":""},{"$f":"M77","v":""},{"$f":"R75","v":""},{"$f":"N57","v":""},{"$f":"N58","v":""},{"$f":"R59","v":""},{"$f":"R60","v":0},{"$f":"R61","v":0},null,{"$f":"CNTR_MeasurementRelevant=EUconst_NotRelevant","v":true}]
[null,null,null,null,null,null,null,null,null,null,null,null,{"$f":"Translations!$B$687","v":"Bendras deginant biomasę išmestas ŠESD kiekis:"},{"$f":"IF(G57=\"\",\"\",M69*M73*M74*10^-3*(M71)*S84*R75)","v":""},"t CO2e",null,{"$f":"EUconst_SumBioCO2 & \"_\" & E57","v":"SUM_bioCO2_"},null,null,null,null,null,null,"GHG conc.","BioC","NonSustBio","hours","flue gas flow","flue gas flow (tot)","GHG total","GWP","CO2 fossil","CO2 bio","CO2 non-sust","CO2 ENIN fossil","CO2 ENIN bio"]
[null,null,null,null,null,null,null,null,null,null,null,null,null,null,null,null,{"$f":"EUconst_SumNonSustBioCO2 & \"_\" & K56","v":"SUM_bioNonSustCO2_"},{"$f":"IF(G57=\"\",\"\",ROUND(M69*M73*M74*10^-3*(1-M71)*M72*S84*R75,0))","v":""}]
[null,null,null,null,null,null,null,null,null,null,null,null,{"$f":"Translations!$B$688","v":"Bendra iškastinio kuro energetinė vertė:"},null,"TJ",null,{"$f":"EUconst_SumEnergyIN & \"_\" & K56","v":"SUM_EnergyIN_"},{"$f":"N60","v":0},null,null,null,null,null,null,null,null,null,null,null,null,null,null,null,null,null,null,null,{"$f":"AL65","v":true}]
[null,null,null,null,null,null,null,null,null,null,null,null,{"$f":"Translations!$B$689","v":"Bendra biomasės energetinė vertė:"},null,"TJ",null,{"$f":"EUconst_SumBioEnergyIN & \"_\" & K56","v":"SUM_BioEnergyIN_"},{"$f":"N61","v":0},null,null,null,null,null,null,null,null,null,null,null,null,null,null,null,null,null,null,null,{"$f":"AL60","v":true}]
[]
[null,null,null,"(a)",{"$f":"Translations!$B$690","v":"Skaičiavimai"}]
[]
[null,null,null,null,{"$f":"Translations!$B$691","v":"Informacija apie susijusius sukėliklius, jeigu taikytina:"},null,null,null,null,{"$f":"Translations!$B$692","v":"Patvirtinamųjų skaičiavimų rezultatas (iškastinis kuras):"},null,null,null,null,null,null,null,null,null,null,null,null,null,null,null,null,null,null,null,null,null,null,null,null,null,null,{"$f":"IF(E57=\"\",FALSE,MATCH(E57,EUconst_CEMSType,0)=2)","v":false},{"$f":"OR(CNTR_MeasurementRelevant=EUconst_NotRelevant,AND(COUNTA(CNTR_ListRelevantSections)>0,G57=\"\"))","v":true}]
[null,null,null,null,null,null,null,null,null,{"$f":"Translations!$B$693","v":"Patvirtinamųjų skaičiavimų rezultatas (biomasė):"},null,null,null,null,null,null,null,null,null,null,null,null,null,null,null,null,null,null,null,null,null,null,null,null,null,null,{"$f":"AK65","v":false},{"$f":"AL65","v":true}]
[]
[null,null,null,null,null,null,null,null,null,null,null,{"$f":"EUconst_Unit","v":"Vienetas"}]
[null,null,null,null,{"$f":"Translations!$B$162","v":"Naudojama pakopa."},null,"i.",{"$f":"Translations!$B$694","v":"ŠESD koncentracija (metinis valandinis vidurkis):"},null,null,null,{"$f":"EUconst_gpNm3","v":"g/Nm3"},null,null,null,null,null,null,null,null,null,null,null,null,null,null,null,null,null,null,null,null,null,null,null,null,null,{"$f":"AL66","v":true}]
[null,null,null,null,null,{"$f":"IF(OR(ISBLANK(F69),F69=EUconst_NoTier),\"\",IF(R71=EUconst_NA,EUconst_NA,IF(ISERROR(R71),\"\",R71)))","v":""},null,null,null,null,null,null,null,null,null,null,null,"tier text"]
[null,null,null,null,null,null,"ii.",{"$f":"Translations!$B$682","v":"Biomasės dalis:"},null,null,null,"-",null,null,null,null,null,{"$f":"IF(F69=\"\",\"\",IF(F69=EUconst_NA,\"\",INDEX(EUwideConstants!$H$674:$M$676,MATCH(E57,EUwideConstants!$B$674:$B$676,0),MATCH(F69,CNTR_TierList,0))))","v":""},null,null,null,null,null,null,null,null,null,null,null,null,null,null,null,null,null,null,null,{"$f":"AL69","v":true}]
[null,null,null,null,null,null,"iii.",{"$f":"Translations!$B$683","v":"netvarios biomasės dalis:"},null,null,null,"-",null,null,null,null,null,null,null,null,null,null,null,null,null,null,null,null,null,null,null,null,null,null,null,null,null,{"$f":"AL71","v":true}]
[null,null,null,null,{"$f":"Translations!$B$684","v":"VAP:"},{"$f":"IF(OR(G57=\"\",F74<>\"\"),\"\",IF(T57=2,298,1))","v":""},"iv.",{"$f":"Translations!$B$695","v":"Veikimo valandos:"},null,null,null,{"$f":"EUconst_hpa","v":"val./metai"},null,null,null,null,null,null,null,null,null,null,null,null,null,null,null,null,null,null,null,null,null,null,null,null,null,{"$f":"AL71","v":true}]
[null,null,null,null,{"$f":"Translations!$B$696","v":"(CO2(e) tonos / ŠESD tonos)"},null,"v.",{"$f":"Translations!$B$697","v":"Kaminų dujų srautas (metinis valandinis vidurkis):"},null,null,null,{"$f":"EUconst_Nm3ph","v":"1 000 Nm3/h"},null,null,null,null,null,"GWP",null,null,null,null,null,null,null,null,null,null,null,null,null,null,null,null,null,null,null,{"$f":"AL73","v":true}]
[null,null,null,null,null,null,"vi.",{"$f":"Translations!$B$698","v":"Kaminų dujų srautas (bendras metinis kiekis):"},null,null,null,{"$f":"EUconst_kNm3pa","v":"1 000 Nm3/m."},{"$f":"IF(COUNT(M73,M74)=2,M73*M74,\"\")","v":""},null,null,null,null,{"$f":"IF(F74=\"\",F73,F74)","v":""}]
[]
[null,null,null,null,null,null,"vii.",{"$f":"Translations!$B$699","v":"Metinis deginant iškastinį kurą išmestas ŠESD kiekis"},null,null,null,{"$f":"EUconst_t","v":"t"},{"$f":"IF(G57=\"\",\"\",ROUND(M69*M73*M74*10^-3*(1-M71),0))","v":""}]
[]
[null,null,null,"(b)",{"$f":"Translations!$B$700","v":"Perduotasis / būdingasis CO2"}]
[]
[null,null,null,"i.",{"$f":"Translations!$B$170","v":"Įrenginio pavadinimas"},null,null,null,null,null,null,null,null,null,null,null,{"$f":"IF(I84=\"\",\"\",C57 & \"_\" & EUconst_CNTR_CCSInstName & I84)","v":""},null,null,null,null,null,null,null,null,null,null,null,null,null,null,null,null,null,null,null,null,{"$f":"OR(CNTR_MeasurementRelevant=EUconst_NotRelevant,AND(COUNTA(CNTR_ListRelevantSections)>0,OR(G57=\"\",V57=TRUE)))","v":true}]
[null,null,null,"ii.",{"$f":"Translations!$B$79","v":"Veiklos vykdytojo pavadinimas"},null,null,null,null,null,null,null,null,null,null,null,{"$f":"IF(I84=\"\",\"\",C57 & \"_\" & EUconst_CNTR_CCSOpName & I84)","v":""},null,null,null,null,null,null,null,null,null,null,null,null,null,null,null,null,null,null,null,null,{"$f":"AL81","v":true}]
[null,null,null,"iii.",{"$f":"Translations!$B$171","v":"Įrenginio unikalus ID"},null,null,null,null,null,null,null,null,null,null,null,{"$f":"IF(I84=\"\",\"\",C57 & \"_\" & EUconst_CNTR_CCSInstID & I84)","v":""},"is transferred out?",null,null,null,null,null,null,null,null,null,null,null,null,null,null,null,null,null,null,null,{"$f":"AL82","v":true}]
[null,null,null,"iv.",{"$f":"Translations!$B$169","v":"Perdavimo tipas"},null,null,null,null,null,null,null,null,null,null,null,null,{"$f":"IF(I84=\"\",\"\",I84=INDEX(EUconst_CO2TransferTypes,5))","v":""},{"$f":"IF(AND(R84=TRUE,AL84=FALSE),-1,1)","v":1},null,null,null,null,null,null,null,null,null,null,null,null,null,null,null,null,null,null,{"$f":"AL83","v":true}]
[]
[]
[null,null,null,null,{"$f":"Translations!$B$701","v":"Pastabos (pvz., patvirtinamųjų skaičiavimų aprašas arba ar trūksta didelės duomenų dalies):"}]
[null,null,null,null,null,null,null,null,null,null,null,null,null,null,null,null,null,null,null,null,null,null,null,null,null,null,null,null,null,null,null,null,null,null,null,null,null,{"$f":"D_MeasurementBasedApproaches!AL74","v":true}]
[null,null,null,null,null,null,null,null,null,null,null,null,null,null,null,null,null,null,null,null,null,null,null,null,null,null,null,null,null,null,null,null,null,null,null,null,null,{"$f":"AL88","v":true}]
[]
[null,null,null,null,null,null,null,null,null,null,null,null,null,null,null,null,null,null,null,null,null,null,null,"Accounting"]
[null,null,{"$f":"C57+1","v":3},null,{"$f":"IF(ISBLANK(G92),\"\",IF(INDEX(B_InstallationDescription!$M$150:$M$159,MATCH(S92,B_InstallationDescription!$E$150:$E$159,0))>0,INDEX(B_InstallationDescription!$M$150:$M$159,MATCH(S92,B_InstallationDescription!$E$150:$E$159,0)),\"\"))","v":""},null,null,null,null,null,null,null,{"$f":"Translations!$B$686","v":"Bendras deginant iškastinį kurą išmestas ŠESD kiekis:"},{"$f":"IF(G92=\"\",\"\",M104*M108*M109*10^-3*(1-M106)*S119*R110)","v":""},"t CO2e",null,{"$f":"EUconst_SumCO2 & \"_\" &E92","v":"SUM_CO2_"},{"$f":"IF(ISBLANK(G92),\"\",MATCH(G92,CNTR_MeasurementPoints,0))","v":""},{"$f":"IF(ISBLANK(G92),\"\",INDEX(B_InstallationDescription!$E$150:$E$159,MATCH(G92,CNTR_MeasurementPoints,0)))","v":""},{"$f":"IF(ISBLANK(G92),\"\",MATCH(E92,EUconst_CEMSType,0))","v":""},{"$f":"E92=INDEX(EUconst_CEMSType,3)","v":false},{"$f":"OR(E92=INDEX(EUconst_CEMSType,1),E92=INDEX(EUconst_CEMSType,2))","v":false},null,{"$f":"M104","v":0},{"$f":"M106","v":0},{"$f":"M107","v":0},{"$f":"M108","v":0},{"$f":"M109","v":0},{"$f":"M110","v":""},{"$f":"M112","v":""},{"$f":"R110","v":""},{"$f":"N92","v":""},{"$f":"N93","v":""},{"$f":"R94","v":""},{"$f":"R95","v":0},{"$f":"R96","v":0},null,{"$f":"CNTR_MeasurementRelevant=EUconst_NotRelevant","v":true}]
[null,null,null,null,null,null,null,null,null,null,null,null,{"$f":"Translations!$B$687","v":"Bendras deginant biomasę išmestas ŠESD kiekis:"},{"$f":"IF(G92=\"\",\"\",M104*M108*M109*10^-3*(M106)*S119*R110)","v":""},"t CO2e",null,{"$f":"EUconst_SumBioCO2 & \"_\" & E92","v":"SUM_bioCO2_"},null,null,null,null,null,null,"GHG conc.","BioC","NonSustBio","hours","flue gas flow","flue gas flow (tot)","GHG total","GWP","CO2 fossil","CO2 bio","CO2 non-sust","CO2 ENIN fossil","CO2 ENIN bio"]
[null,null,null,null,null,null,null,null,null,null,null,null,null,null,null,null,{"$f":"EUconst_SumNonSustBioCO2 & \"_\" & K91","v":"SUM_bioNonSustCO2_"},{"$f":"IF(G92=\"\",\"\",ROUND(M104*M108*M109*10^-3*(1-M106)*M107*S119*R110,0))","v":""}]
[null,null,null,null,null,null,null,null,null,null,null,null,{"$f":"Translations!$B$688","v":"Bendra iškastinio kuro energetinė vertė:"},null,"TJ",null,{"$f":"EUconst_SumEnergyIN & \"_\" & K91","v":"SUM_EnergyIN_"},{"$f":"N95","v":0},null,null,null,null,null,null,null,null,null,null,null,null,null,null,null,null,null,null,null,{"$f":"AL100","v":true}]
[null,null,null,null,null,null,null,null,null,null,null,null,{"$f":"Translations!$B$689","v":"Bendra biomasės energetinė vertė:"},null,"TJ",null,{"$f":"EUconst_SumBioEnergyIN & \"_\" & K91","v":"SUM_BioEnergyIN_"},{"$f":"N96","v":0},null,null,null,null,null,null,null,null,null,null,null,null,null,null,null,null,null,null,null,{"$f":"AL95","v":true}]
[]
[null,null,null,"(a)",{"$f":"Translations!$B$690","v":"Skaičiavimai"}]
[]
[null,null,null,null,{"$f":"Translations!$B$691","v":"Informacija apie susijusius sukėliklius, jeigu taikytina:"},null,null,null,null,{"$f":"Translations!$B$692","v":"Patvirtinamųjų skaičiavimų rezultatas (iškastinis kuras):"},null,null,null,null,null,null,null,null,null,null,null,null,null,null,null,null,null,null,null,null,null,null,null,null,null,null,{"$f":"IF(E92=\"\",FALSE,MATCH(E92,EUconst_CEMSType,0)=2)","v":false},{"$f":"OR(CNTR_MeasurementRelevant=EUconst_NotRelevant,AND(COUNTA(CNTR_ListRelevantSections)>0,G92=\"\"))","v":true}]
[null,null,null,null,null,null,null,null,null,{"$f":"Translations!$B$693","v":"Patvirtinamųjų skaičiavimų rezultatas (biomasė):"},null,null,null,null,null,null,null,null,null,null,null,null,null,null,null,null,null,null,null,null,null,null,null,null,null,null,{"$f":"AK100","v":false},{"$f":"AL100","v":true}]
[]
[null,null,null,null,null,null,null,null,null,null,null,{"$f":"EUconst_Unit","v":"Vienetas"}]
[null,null,null,null,{"$f":"Translations!$B$162","v":"Naudojama pakopa."},null,"i.",{"$f":"Translations!$B$694","v":"ŠESD koncentracija (metinis valandinis vidurkis):"},null,null,null,{"$f":"EUconst_gpNm3","v":"g/Nm3"},null,null,null,null,null,null,null,null,null,null,null,null,null,null,null,null,null,null,null,null,null,null,null,null,null,{"$f":"AL101","v":true}]
[null,null,null,null,null,{"$f":"IF(OR(ISBLANK(F104),F104=EUconst_NoTier),\"\",IF(R106=EUconst_NA,EUconst_NA,IF(ISERROR(R106),\"\",R106)))","v":""},null,null,null,null,null,null,null,null,null,null,null,"tier text"]
[null,null,null,null,null,null,"ii.",{"$f":"Translations!$B$682","v":"Biomasės dalis:"},null,null,null,"-",null,null,null,null,null,{"$f":"IF(F104=\"\",\"\",IF(F104=EUconst_NA,\"\",INDEX(EUwideConstants!$H$674:$M$676,MATCH(E92,EUwideConstants!$B$674:$B$676,0),MATCH(F104,CNTR_TierList,0))))","v":""},null,null,null,null,null,null,null,null,null,null,null,null,null,null,null,null,null,null,null,{"$f":"AL104","v":true}]
[null,null,null,null,null,null,"iii.",{"$f":"Translations!$B$683","v":"netvarios biomasės dalis:"},null,null,null,"-",null,null,null,null,null,null,null,null,null,null,null,null,null,null,null,null,null,null,null,null,null,null,null,null,null,{"$f":"AL106","v":true}]
[null,null,null,null,{"$f":"Translations!$B$684","v":"VAP:"},{"$f":"IF(OR(G92=\"\",F109<>\"\"),\"\",IF(T92=2,298,1))","v":""},"iv.",{"$f":"Translations!$B$695","v":"Veikimo valandos:"},null,null,null,{"$f":"EUconst_hpa","v":"val./metai"},null,null,null,null,null,null,null,null,null,null,null,null,null,null,null,null,null,null,null,null,null,null,null,null,null,{"$f":"AL106","v":true}]
[null,null,null,null,{"$f":"Translations!$B$696","v":"(CO2(e) tonos / ŠESD tonos)"},null,"v.",{"$f":"Translations!$B$697","v":"Kaminų dujų srautas (metinis valandinis vidurkis):"},null,null,null,{"$f":"EUconst_Nm3ph","v":"1 000 Nm3/h"},null,null,null,null,null,"GWP",null,null,null,null,null,null,null,null,null,null,null,null,null,null,null,null,null,null,null,{"$f":"AL108","v":true}]
[null,null,null,null,null,null,"vi.",{"$f":"Translations!$B$698","v":"Kaminų dujų srautas (bendras metinis kiekis):"},null,null,null,{"$f":"EUconst_kNm3pa","v":"1 000 Nm3/m."},{"$f":"IF(COUNT(M108,M109)=2,M108*M109,\"\")","v":""},null,null,null,null,{"$f":"IF(F109=\"\",F108,F109)","v":""}]
[]
[null,null,null,null,null,null,"vii.",{"$f":"Translations!$B$699","v":"Metinis deginant iškastinį kurą išmestas ŠESD kiekis"},null,null,null,{"$f":"EUconst_t","v":"t"},{"$f":"IF(G92=\"\",\"\",ROUND(M104*M108*M109*10^-3*(1-M106),0))","v":""}]
[]
[null,null,null,"(b)",{"$f":"Translations!$B$700","v":"Perduotasis / būdingasis CO2"}]
[]
[null,null,null,"i.",{"$f":"Translations!$B$170","v":"Įrenginio pavadinimas"},null,null,null,null,null,null,null,null,null,null,null,{"$f":"IF(I119=\"\",\"\",C92 & \"_\" & EUconst_CNTR_CCSInstName & I119)","v":""},null,null,null,null,null,null,null,null,null,null,null,null,null,null,null,null,null,null,null,null,{"$f":"OR(CNTR_MeasurementRelevant=EUconst_NotRelevant,AND(COUNTA(CNTR_ListRelevantSections)>0,OR(G92=\"\",V92=TRUE)))","v":true}]
[null,null,null,"ii.",{"$f":"Translations!$B$79","v":"Veiklos vykdytojo pavadinimas"},null,null,null,null,null,null,null,null,null,null,null,{"$f":"IF(I119=\"\",\"\",C92 & \"_\" & EUconst_CNTR_CCSOpName & I119)","v":""},null,null,null,null,null,null,null,null,null,null,null,null,null,null,null,null,null,null,null,null,{"$f":"AL116","v":true}]
[null,null,null,"iii.",{"$f":"Translations!$B$171","v":"Įrenginio unikalus ID"},null,null,null,null,null,null,null,null,null,null,null,{"$f":"IF(I119=\"\",\"\",C92 & \"_\" & EUconst_CNTR_CCSInstID & I119)","v":""},"is transferred out?",null,null,null,null,null,null,null,null,null,null,null,null,null,null,null,null,null,null,null,{"$f":"AL117","v":true}]
[null,null,null,"iv.",{"$f":"Translations!$B$169","v":"Perdavimo tipas"},null,null,null,null,null,null,null,null,null,null,null,null,{"$f":"IF(I119=\"\",\"\",I119=INDEX(EUconst_CO2TransferTypes,5))","v":""},{"$f":"IF(AND(R119=TRUE,AL119=FALSE),-1,1)","v":1},null,null,null,null,null,null,null,null,null,null,null,null,null,null,null,null,null,null,{"$f":"AL118","v":true}]
[]
[]
[null,null,null,null,{"$f":"Translations!$B$701","v":"Pastabos (pvz., patvirtinamųjų skaičiavimų aprašas arba ar trūksta didelės duomenų dalies):"}]
[null,null,null,null,null,null,null,null,null,null,null,null,null,null,null,null,null,null,null,null,null,null,null,null,null,null,null,null,null,null,null,null,null,null,null,null,null,{"$f":"D_MeasurementBasedApproaches!AL109","v":true}]
[null,null,null,null,null,null,null,null,null,null,null,null,null,null,null,null,null,null,null,null,null,null,null,null,null,null,null,null,null,null,null,null,null,null,null,null,null,{"$f":"AL123","v":true}]
[]
[null,null,null,null,null,null,null,null,null,null,null,null,null,null,null,null,null,null,null,null,null,null,null,"Accounting"]
[null,null,{"$f":"C92+1","v":4},null,{"$f":"IF(ISBLANK(G127),\"\",IF(INDEX(B_InstallationDescription!$M$150:$M$159,MATCH(S127,B_InstallationDescription!$E$150:$E$159,0))>0,INDEX(B_InstallationDescription!$M$150:$M$159,MATCH(S127,B_InstallationDescription!$E$150:$E$159,0)),\"\"))","v":""},null,null,null,null,null,null,null,{"$f":"Translations!$B$686","v":"Bendras deginant iškastinį kurą išmestas ŠESD kiekis:"},{"$f":"IF(G127=\"\",\"\",M139*M143*M144*10^-3*(1-M141)*S154*R145)","v":""},"t CO2e",null,{"$f":"EUconst_SumCO2 & \"_\" &E127","v":"SUM_CO2_"},{"$f":"IF(ISBLANK(G127),\"\",MATCH(G127,CNTR_MeasurementPoints,0))","v":""},{"$f":"IF(ISBLANK(G127),\"\",INDEX(B_InstallationDescription!$E$150:$E$159,MATCH(G127,CNTR_MeasurementPoints,0)))","v":""},{"$f":"IF(ISBLANK(G127),\"\",MATCH(E127,EUconst_CEMSType,0))","v":""},{"$f":"E127=INDEX(EUconst_CEMSType,3)","v":false},{"$f":"OR(E127=INDEX(EUconst_CEMSType,1),E127=INDEX(EUconst_CEMSType,2))","v":false},null,{"$f":"M139","v":0},{"$f":"M141","v":0},{"$f":"M142","v":0},{"$f":"M143","v":0},{"$f":"M144","v":0},{"$f":"M145","v":""},{"$f":"M147","v":""},{"$f":"R145","v":""},{"$f":"N127","v":""},{"$f":"N128","v":""},{"$f":"R129","v":""},{"$f":"R130","v":0},{"$f":"R131","v":0},null,{"$f":"CNTR_MeasurementRelevant=EUconst_NotRelevant","v":true}]
[null,null,null,null,null,null,null,null,null,null,null,null,{"$f":"Translations!$B$687","v":"Bendras deginant biomasę išmestas ŠESD kiekis:"},{"$f":"IF(G127=\"\",\"\",M139*M143*M144*10^-3*(M141)*S154*R145)","v":""},"t CO2e",null,{"$f":"EUconst_SumBioCO2 & \"_\" & E127","v":"SUM_bioCO2_"},null,null,null,null,null,null,"GHG conc.","BioC","NonSustBio","hours","flue gas flow","flue gas flow (tot)","GHG total","GWP","CO2 fossil","CO2 bio","CO2 non-sust","CO2 ENIN fossil","CO2 ENIN bio"]
[null,null,null,null,null,null,null,null,null,null,null,null,null,null,null,null,{"$f":"EUconst_SumNonSustBioCO2 & \"_\" & K126","v":"SUM_bioNonSustCO2_"},{"$f":"IF(G127=\"\",\"\",ROUND(M139*M143*M144*10^-3*(1-M141)*M142*S154*R145,0))","v":""}]
[null,null,null,null,null,null,null,null,null,null,null,null,{"$f":"Translations!$B$688","v":"Bendra iškastinio kuro energetinė vertė:"},null,"TJ",null,{"$f":"EUconst_SumEnergyIN & \"_\" & K126","v":"SUM_EnergyIN_"},{"$f":"N130","v":0},null,null,null,null,null,null,null,null,null,null,null,null,null,null,null,null,null,null,null,{"$f":"AL135","v":true}]
[null,null,null,null,null,null,null,null,null,null,null,null,{"$f":"Translations!$B$689","v":"Bendra biomasės energetinė vertė:"},null,"TJ",null,{"$f":"EUconst_SumBioEnergyIN & \"_\" & K126","v":"SUM_BioEnergyIN_"},{"$f":"N131","v":0},null,null,null,null,null,null,null,null,null,null,null,null,null,null,null,null,null,null,null,{"$f":"AL130","v":true}]
[]
[null,null,null,"(a)",{"$f":"Translations!$B$690","v":"Skaičiavimai"}]
[]
[null,null,null,null,{"$f":"Translations!$B$691","v":"Informacija apie susijusius sukėliklius, jeigu taikytina:"},null,null,null,null,{"$f":"Translations!$B$692","v":"Patvirtinamųjų skaičiavimų rezultatas (iškastinis kuras):"},null,null,null,null,null,null,null,null,null,null,null,null,null,null,null,null,null,null,null,null,null,null,null,null,null,null,{"$f":"IF(E127=\"\",FALSE,MATCH(E127,EUconst_CEMSType,0)=2)","v":false},{"$f":"OR(CNTR_MeasurementRelevant=EUconst_NotRelevant,AND(COUNTA(CNTR_ListRelevantSections)>0,G127=\"\"))","v":true}]
[null,null,null,null,null,null,null,null,null,{"$f":"Translations!$B$693","v":"Patvirtinamųjų skaičiavimų rezultatas (biomasė):"},null,null,null,null,null,null,null,null,null,null,null,null,null,null,null,null,null,null,null,null,null,null,null,null,null,null,{"$f":"AK135","v":false},{"$f":"AL135","v":true}]
[]
[null,null,null,null,null,null,null,null,null,null,null,{"$f":"EUconst_Unit","v":"Vienetas"}]
[null,null,null,null,{"$f":"Translations!$B$162","v":"Naudojama pakopa."},null,"i.",{"$f":"Translations!$B$694","v":"ŠESD koncentracija (metinis valandinis vidurkis):"},null,null,null,{"$f":"EUconst_gpNm3","v":"g/Nm3"},null,null,null,null,null,null,null,null,null,null,null,null,null,null,null,null,null,null,null,null,null,null,null,null,null,{"$f":"AL136","v":true}]
[null,null,null,null,null,{"$f":"IF(OR(ISBLANK(F139),F139=EUconst_NoTier),\"\",IF(R141=EUconst_NA,EUconst_NA,IF(ISERROR(R141),\"\",R141)))","v":""},null,null,null,null,null,null,null,null,null,null,null,"tier text"]
[null,null,null,null,null,null,"ii.",{"$f":"Translations!$B$682","v":"Biomasės dalis:"},null,null,null,"-",null,null,null,null,null,{"$f":"IF(F139=\"\",\"\",IF(F139=EUconst_NA,\"\",INDEX(EUwideConstants!$H$674:$M$676,MATCH(E127,EUwideConstants!$B$674:$B$676,0),MATCH(F139,CNTR_TierList,0))))","v":""},null,null,null,null,null,null,null,null,null,null,null,null,null,null,null,null,null,null,null,{"$f":"AL139","v":true}]
[null,null,null,null,null,null,"iii.",{"$f":"Translations!$B$683","v":"netvarios biomasės dalis:"},null,null,null,"-",null,null,null,null,null,null,null,null,null,null,null,null,null,null,null,null,null,null,null,null,null,null,null,null,null,{"$f":"AL141","v":true}]
[null,null,null,null,{"$f":"Translations!$B$684","v":"VAP:"},{"$f":"IF(OR(G127=\"\",F144<>\"\"),\"\",IF(T127=2,298,1))","v":""},"iv.",{"$f":"Translations!$B$695","v":"Veikimo valandos:"},null,null,null,{"$f":"EUconst_hpa","v":"val./metai"},null,null,null,null,null,null,null,null,null,null,null,null,null,null,null,null,null,null,null,null,null,null,null,null,null,{"$f":"AL141","v":true}]
[null,null,null,null,{"$f":"Translations!$B$696","v":"(CO2(e) tonos / ŠESD tonos)"},null,"v.",{"$f":"Translations!$B$697","v":"Kaminų dujų srautas (metinis valandinis vidurkis):"},null,null,null,{"$f":"EUconst_Nm3ph","v":"1 000 Nm3/h"},null,null,null,null,null,"GWP",null,null,null,null,null,null,null,null,null,null,null,null,null,null,null,null,null,null,null,{"$f":"AL143","v":true}]
[null,null,null,null,null,null,"vi.",{"$f":"Translations!$B$698","v":"Kaminų dujų srautas (bendras metinis kiekis):"},null,null,null,{"$f":"EUconst_kNm3pa","v":"1 000 Nm3/m."},{"$f":"IF(COUNT(M143,M144)=2,M143*M144,\"\")","v":""},null,null,null,null,{"$f":"IF(F144=\"\",F143,F144)","v":""}]
[]
[null,null,null,null,null,null,"vii.",{"$f":"Translations!$B$699","v":"Metinis deginant iškastinį kurą išmestas ŠESD kiekis"},null,null,null,{"$f":"EUconst_t","v":"t"},{"$f":"IF(G127=\"\",\"\",ROUND(M139*M143*M144*10^-3*(1-M141),0))","v":""}]
[]
[null,null,null,"(b)",{"$f":"Translations!$B$700","v":"Perduotasis / būdingasis CO2"}]
[]
[null,null,null,"i.",{"$f":"Translations!$B$170","v":"Įrenginio pavadinimas"},null,null,null,null,null,null,null,null,null,null,null,{"$f":"IF(I154=\"\",\"\",C127 & \"_\" & EUconst_CNTR_CCSInstName & I154)","v":""},null,null,null,null,null,null,null,null,null,null,null,null,null,null,null,null,null,null,null,null,{"$f":"OR(CNTR_MeasurementRelevant=EUconst_NotRelevant,AND(COUNTA(CNTR_ListRelevantSections)>0,OR(G127=\"\",V127=TRUE)))","v":true}]
[null,null,null,"ii.",{"$f":"Translations!$B$79","v":"Veiklos vykdytojo pavadinimas"},null,null,null,null,null,null,null,null,null,null,null,{"$f":"IF(I154=\"\",\"\",C127 & \"_\" & EUconst_CNTR_CCSOpName & I154)","v":""},null,null,null,null,null,null,null,null,null,null,null,null,null,null,null,null,null,null,null,null,{"$f":"AL151","v":true}]
[null,null,null,"iii.",{"$f":"Translations!$B$171","v":"Įrenginio unikalus ID"},null,null,null,null,null,null,null,null,null,null,null,{"$f":"IF(I154=\"\",\"\",C127 & \"_\" & EUconst_CNTR_CCSInstID & I154)","v":""},"is transferred out?",null,null,null,null,null,null,null,null,null,null,null,null,null,null,null,null,null,null,null,{"$f":"AL152","v":true}]
[null,null,null,"iv.",{"$f":"Translations!$B$169","v":"Perdavimo tipas"},null,null,null,null,null,null,null,null,null,null,null,null,{"$f":"IF(I154=\"\",\"\",I154=INDEX(EUconst_CO2TransferTypes,5))","v":""},{"$f":"IF(AND(R154=TRUE,AL154=FALSE),-1,1)","v":1},null,null,null,null,null,null,null,null,null,null,null,null,null,null,null,null,null,null,{"$f":"AL153","v":true}]
[]
[]
[null,null,null,null,{"$f":"Translations!$B$701","v":"Pastabos (pvz., patvirtinamųjų skaičiavimų aprašas arba ar trūksta didelės duomenų dalies):"}]
[null,null,null,null,null,null,null,null,null,null,null,null,null,null,null,null,null,null,null,null,null,null,null,null,null,null,null,null,null,null,null,null,null,null,null,null,null,{"$f":"D_MeasurementBasedApproaches!AL144","v":true}]
[null,null,null,null,null,null,null,null,null,null,null,null,null,null,null,null,null,null,null,null,null,null,null,null,null,null,null,null,null,null,null,null,null,null,null,null,null,{"$f":"AL158","v":true}]
[]
[null,null,null,null,null,null,null,null,null,null,null,null,null,null,null,null,null,null,null,null,null,null,null,"Accounting"]
[null,null,{"$f":"C127+1","v":5},null,{"$f":"IF(ISBLANK(G162),\"\",IF(INDEX(B_InstallationDescription!$M$150:$M$159,MATCH(S162,B_InstallationDescription!$E$150:$E$159,0))>0,INDEX(B_InstallationDescription!$M$150:$M$159,MATCH(S162,B_InstallationDescription!$E$150:$E$159,0)),\"\"))","v":""},null,null,null,null,null,null,null,{"$f":"Translations!$B$686","v":"Bendras deginant iškastinį kurą išmestas ŠESD kiekis:"},{"$f":"IF(G162=\"\",\"\",M174*M178*M179*10^-3*(1-M176)*S189*R180)","v":""},"t CO2e",null,{"$f":"EUconst_SumCO2 & \"_\" &E162","v":"SUM_CO2_"},{"$f":"IF(ISBLANK(G162),\"\",MATCH(G162,CNTR_MeasurementPoints,0))","v":""},{"$f":"IF(ISBLANK(G162),\"\",INDEX(B_InstallationDescription!$E$150:$E$159,MATCH(G162,CNTR_MeasurementPoints,0)))","v":""},{"$f":"IF(ISBLANK(G162),\"\",MATCH(E162,EUconst_CEMSType,0))","v":""},{"$f":"E162=INDEX(EUconst_CEMSType,3)","v":false},{"$f":"OR(E162=INDEX(EUconst_CEMSType,1),E162=INDEX(EUconst_CEMSType,2))","v":false},null,{"$f":"M174","v":0},{"$f":"M176","v":0},{"$f":"M177","v":0},{"$f":"M178","v":0},{"$f":"M179","v":0},{"$f":"M180","v":""},{"$f":"M182","v":""},{"$f":"R180","v":""},{"$f":"N162","v":""},{"$f":"N163","v":""},{"$f":"R164","v":""},{"$f":"R165","v":0},{"$f":"R166","v":0},null,{"$f":"CNTR_MeasurementRelevant=EUconst_NotRelevant","v":true}]
[null,null,null,null,null,null,null,null,null,null,null,null,{"$f":"Translations!$B$687","v":"Bendras deginant biomasę išmestas ŠESD kiekis:"},{"$f":"IF(G162=\"\",\"\",M174*M178*M179*10^-3*(M176)*S189*R180)","v":""},"t CO2e",null,{"$f":"EUconst_SumBioCO2 & \"_\" & E162","v":"SUM_bioCO2_"},null,null,null,null,null,null,"GHG conc.","BioC","NonSustBio","hours","flue gas flow","flue gas flow (tot)","GHG total","GWP","CO2 fossil","CO2 bio","CO2 non-sust","CO2 ENIN fossil","CO2 ENIN bio"]
[null,null,null,null,null,null,null,null,null,null,null,null,null,null,null,null,{"$f":"EUconst_SumNonSustBioCO2 & \"_\" & K161","v":"SUM_bioNonSustCO2_"},{"$f":"IF(G162=\"\",\"\",ROUND(M174*M178*M179*10^-3*(1-M176)*M177*S189*R180,0))","v":""}]
[null,null,null,null,null,null,null,null,null,null,null,null,{"$f":"Translations!$B$688","v":"Bendra iškastinio kuro energetinė vertė:"},null,"TJ",null,{"$f":"EUconst_SumEnergyIN & \"_\" & K161","v":"SUM_EnergyIN_"},{"$f":"N165","v":0},null,null,null,null,null,null,null,null,null,null,null,null,null,null,null,null,null,null,null,{"$f":"AL170","v":true}]
[null,null,null,null,null,null,null,null,null,null,null,null,{"$f":"Translations!$B$689","v":"Bendra biomasės energetinė vertė:"},null,"TJ",null,{"$f":"EUconst_SumBioEnergyIN & \"_\" & K161","v":"SUM_BioEnergyIN_"},{"$f":"N166","v":0},null,null,null,null,null,null,null,null,null,null,null,null,null,null,null,null,null,null,null,{"$f":"AL165","v":true}]
[]
[null,null,null,"(a)",{"$f":"Translations!$B$690","v":"Skaičiavimai"}]
[]
[null,null,null,null,{"$f":"Translations!$B$691","v":"Informacija apie susijusius sukėliklius, jeigu taikytina:"},null,null,null,null,{"$f":"Translations!$B$692","v":"Patvirtinamųjų skaičiavimų rezultatas (iškastinis kuras):"},null,null,null,null,null,null,null,null,null,null,null,null,null,null,null,null,null,null,null,null,null,null,null,null,null,null,{"$f":"IF(E162=\"\",FALSE,MATCH(E162,EUconst_CEMSType,0)=2)","v":false},{"$f":"OR(CNTR_MeasurementRelevant=EUconst_NotRelevant,AND(COUNTA(CNTR_ListRelevantSections)>0,G162=\"\"))","v":true}]
[null,null,null,null,null,null,null,null,null,{"$f":"Translations!$B$693","v":"Patvirtinamųjų skaičiavimų rezultatas (biomasė):"},null,null,null,null,null,null,null,null,null,null,null,null,null,null,null,null,null,null,null,null,null,null,null,null,null,null,{"$f":"AK170","v":false},{"$f":"AL170","v":true}]
[]
[null,null,null,null,null,null,null,null,null,null,null,{"$f":"EUconst_Unit","v":"Vienetas"}]
[null,null,null,null,{"$f":"Translations!$B$162","v":"Naudojama pakopa."},null,"i.",{"$f":"Translations!$B$694","v":"ŠESD koncentracija (metinis valandinis vidurkis):"},null,null,null,{"$f":"EUconst_gpNm3","v":"g/Nm3"},null,null,null,null,null,null,null,null,null,null,null,null,null,null,null,null,null,null,null,null,null,null,null,null,null,{"$f":"AL171","v":true}]
[null,null,null,null,null,{"$f":"IF(OR(ISBLANK(F174),F174=EUconst_NoTier),\"\",IF(R176=EUconst_NA,EUconst_NA,IF(ISERROR(R176),\"\",R176)))","v":""},null,null,null,null,null,null,null,null,null,null,null,"tier text"]
[null,null,null,null,null,null,"ii.",{"$f":"Translations!$B$682","v":"Biomasės dalis:"},null,null,null,"-",null,null,null,null,null,{"$f":"IF(F174=\"\",\"\",IF(F174=EUconst_NA,\"\",INDEX(EUwideConstants!$H$674:$M$676,MATCH(E162,EUwideConstants!$B$674:$B$676,0),MATCH(F174,CNTR_TierList,0))))","v":""},null,null,null,null,null,null,null,null,null,null,null,null,null,null,null,null,null,null,null,{"$f":"AL174","v":true}]
[null,null,null,null,null,null,"iii.",{"$f":"Translations!$B$683","v":"netvarios biomasės dalis:"},null,null,null,"-",null,null,null,null,null,null,null,null,null,null,null,null,null,null,null,null,null,null,null,null,null,null,null,null,null,{"$f":"AL176","v":true}]
[null,null,null,null,{"$f":"Translations!$B$684","v":"VAP:"},{"$f":"IF(OR(G162=\"\",F179<>\"\"),\"\",IF(T162=2,298,1))","v":""},"iv.",{"$f":"Translations!$B$695","v":"Veikimo valandos:"},null,null,null,{"$f":"EUconst_hpa","v":"val./metai"},null,null,null,null,null,null,null,null,null,null,null,null,null,null,null,null,null,null,null,null,null,null,null,null,null,{"$f":"AL176","v":true}]
[null,null,null,null,{"$f":"Translations!$B$696","v":"(CO2(e) tonos / ŠESD tonos)"},null,"v.",{"$f":"Translations!$B$697","v":"Kaminų dujų srautas (metinis valandinis vidurkis):"},null,null,null,{"$f":"EUconst_Nm3ph","v":"1 000 Nm3/h"},null,null,null,null,null,"GWP",null,null,null,null,null,null,null,null,null,null,null,null,null,null,null,null,null,null,null,{"$f":"AL178","v":true}]
[null,null,null,null,null,null,"vi.",{"$f":"Translations!$B$698","v":"Kaminų dujų srautas (bendras metinis kiekis):"},null,null,null,{"$f":"EUconst_kNm3pa","v":"1 000 Nm3/m."},{"$f":"IF(COUNT(M178,M179)=2,M178*M179,\"\")","v":""},null,null,null,null,{"$f":"IF(F179=\"\",F178,F179)","v":""}]
[]
[null,null,null,null,null,null,"vii.",{"$f":"Translations!$B$699","v":"Metinis deginant iškastinį kurą išmestas ŠESD kiekis"},null,null,null,{"$f":"EUconst_t","v":"t"},{"$f":"IF(G162=\"\",\"\",ROUND(M174*M178*M179*10^-3*(1-M176),0))","v":""}]
[]
[null,null,null,"(b)",{"$f":"Translations!$B$700","v":"Perduotasis / būdingasis CO2"}]
[]
[null,null,null,"i.",{"$f":"Translations!$B$170","v":"Įrenginio pavadinimas"},null,null,null,null,null,null,null,null,null,null,null,{"$f":"IF(I189=\"\",\"\",C162 & \"_\" & EUconst_CNTR_CCSInstName & I189)","v":""},null,null,null,null,null,null,null,null,null,null,null,null,null,null,null,null,null,null,null,null,{"$f":"OR(CNTR_MeasurementRelevant=EUconst_NotRelevant,AND(COUNTA(CNTR_ListRelevantSections)>0,OR(G162=\"\",V162=TRUE)))","v":true}]
[null,null,null,"ii.",{"$f":"Translations!$B$79","v":"Veiklos vykdytojo pavadinimas"},null,null,null,null,null,null,null,null,null,null,null,{"$f":"IF(I189=\"\",\"\",C162 & \"_\" & EUconst_CNTR_CCSOpName & I189)","v":""},null,null,null,null,null,null,null,null,null,null,null,null,null,null,null,null,null,null,null,null,{"$f":"AL186","v":true}]
[null,null,null,"iii.",{"$f":"Translations!$B$171","v":"Įrenginio unikalus ID"},null,null,null,null,null,null,null,null,null,null,null,{"$f":"IF(I189=\"\",\"\",C162 & \"_\" & EUconst_CNTR_CCSInstID & I189)","v":""},"is transferred out?",null,null,null,null,null,null,null,null,null,null,null,null,null,null,null,null,null,null,null,{"$f":"AL187","v":true}]
[null,null,null,"iv.",{"$f":"Translations!$B$169","v":"Perdavimo tipas"},null,null,null,null,null,null,null,null,null,null,null,null,{"$f":"IF(I189=\"\",\"\",I189=INDEX(EUconst_CO2TransferTypes,5))","v":""},{"$f":"IF(AND(R189=TRUE,AL189=FALSE),-1,1)","v":1},null,null,null,null,null,null,null,null,null,null,null,null,null,null,null,null,null,null,{"$f":"AL188","v":true}]
[]
[]
[null,null,null,null,{"$f":"Translations!$B$701","v":"Pastabos (pvz., patvirtinamųjų skaičiavimų aprašas arba ar trūksta didelės duomenų dalies):"}]
[null,null,null,null,null,null,null,null,null,null,null,null,null,null,null,null,null,null,null,null,null,null,null,null,null,null,null,null,null,null,null,null,null,null,null,null,null,{"$f":"D_MeasurementBasedApproaches!AL179","v":true}]
[null,null,null,null,null,null,null,null,null,null,null,null,null,null,null,null,null,null,null,null,null,null,null,null,null,null,null,null,null,null,null,null,null,null,null,null,null,{"$f":"AL193","v":true}]
[]
[null,null,null,null,null,null,null,null,null,null,null,null,null,null,null,null,null,null,null,null,null,null,null,"Accounting"]
[null,null,{"$f":"C162+1","v":6},null,{"$f":"IF(ISBLANK(G197),\"\",IF(INDEX(B_InstallationDescription!$M$150:$M$159,MATCH(S197,B_InstallationDescription!$E$150:$E$159,0))>0,INDEX(B_InstallationDescription!$M$150:$M$159,MATCH(S197,B_InstallationDescription!$E$150:$E$159,0)),\"\"))","v":""},null,null,null,null,null,null,null,{"$f":"Translations!$B$686","v":"Bendras deginant iškastinį kurą išmestas ŠESD kiekis:"},{"$f":"IF(G197=\"\",\"\",M209*M213*M214*10^-3*(1-M211)*S224*R215)","v":""},"t CO2e",null,{"$f":"EUconst_SumCO2 & \"_\" &E197","v":"SUM_CO2_"},{"$f":"IF(ISBLANK(G197),\"\",MATCH(G197,CNTR_MeasurementPoints,0))","v":""},{"$f":"IF(ISBLANK(G197),\"\",INDEX(B_InstallationDescription!$E$150:$E$159,MATCH(G197,CNTR_MeasurementPoints,0)))","v":""},{"$f":"IF(ISBLANK(G197),\"\",MATCH(E197,EUconst_CEMSType,0))","v":""},{"$f":"E197=INDEX(EUconst_CEMSType,3)","v":false},{"$f":"OR(E197=INDEX(EUconst_CEMSType,1),E197=INDEX(EUconst_CEMSType,2))","v":false},null,{"$f":"M209","v":0},{"$f":"M211","v":0},{"$f":"M212","v":0},{"$f":"M213","v":0},{"$f":"M214","v":0},{"$f":"M215","v":""},{"$f":"M217","v":""},{"$f":"R215","v":""},{"$f":"N197","v":""},{"$f":"N198","v":""},{"$f":"R199","v":""},{"$f":"R200","v":0},{"$f":"R201","v":0},null,{"$f":"CNTR_MeasurementRelevant=EUconst_NotRelevant","v":true}]
[null,null,null,null,null,null,null,null,null,null,null,null,{"$f":"Translations!$B$687","v":"Bendras deginant biomasę išmestas ŠESD kiekis:"},{"$f":"IF(G197=\"\",\"\",M209*M213*M214*10^-3*(M211)*S224*R215)","v":""},"t CO2e",null,{"$f":"EUconst_SumBioCO2 & \"_\" & E197","v":"SUM_bioCO2_"},null,null,null,null,null,null,"GHG conc.","BioC","NonSustBio","hours","flue gas flow","flue gas flow (tot)","GHG total","GWP","CO2 fossil","CO2 bio","CO2 non-sust","CO2 ENIN fossil","CO2 ENIN bio"]
[null,null,null,null,null,null,null,null,null,null,null,null,null,null,null,null,{"$f":"EUconst_SumNonSustBioCO2 & \"_\" & K196","v":"SUM_bioNonSustCO2_"},{"$f":"IF(G197=\"\",\"\",ROUND(M209*M213*M214*10^-3*(1-M211)*M212*S224*R215,0))","v":""}]
[null,null,null,null,null,null,null,null,null,null,null,null,{"$f":"Translations!$B$688","v":"Bendra iškastinio kuro energetinė vertė:"},null,"TJ",null,{"$f":"EUconst_SumEnergyIN & \"_\" & K196","v":"SUM_EnergyIN_"},{"$f":"N200","v":0},null,null,null,null,null,null,null,null,null,null,null,null,null,null,null,null,null,null,null,{"$f":"AL205","v":true}]
[null,null,null,null,null,null,null,null,null,null,null,null,{"$f":"Translations!$B$689","v":"Bendra biomasės energetinė vertė:"},null,"TJ",null,{"$f":"EUconst_SumBioEnergyIN & \"_\" & K196","v":"SUM_BioEnergyIN_"},{"$f":"N201","v":0},null,null,null,null,null,null,null,null,null,null,null,null,null,null,null,null,null,null,null,{"$f":"AL200","v":true}]
[]
[null,null,null,"(a)",{"$f":"Translations!$B$690","v":"Skaičiavimai"}]
[]
[null,null,null,null,{"$f":"Translations!$B$691","v":"Informacija apie susijusius sukėliklius, jeigu taikytina:"},null,null,null,null,{"$f":"Translations!$B$692","v":"Patvirtinamųjų skaičiavimų rezultatas (iškastinis kuras):"},null,null,null,null,null,null,null,null,null,null,null,null,null,null,null,null,null,null,null,null,null,null,null,null,null,null,{"$f":"IF(E197=\"\",FALSE,MATCH(E197,EUconst_CEMSType,0)=2)","v":false},{"$f":"OR(CNTR_MeasurementRelevant=EUconst_NotRelevant,AND(COUNTA(CNTR_ListRelevantSections)>0,G197=\"\"))","v":true}]
[null,null,null,null,null,null,null,null,null,{"$f":"Translations!$B$693","v":"Patvirtinamųjų skaičiavimų rezultatas (biomasė):"},null,null,null,null,null,null,null,null,null,null,null,null,null,null,null,null,null,null,null,null,null,null,null,null,null,null,{"$f":"AK205","v":false},{"$f":"AL205","v":true}]
[]
[null,null,null,null,null,null,null,null,null,null,null,{"$f":"EUconst_Unit","v":"Vienetas"}]
[null,null,null,null,{"$f":"Translations!$B$162","v":"Naudojama pakopa."},null,"i.",{"$f":"Translations!$B$694","v":"ŠESD koncentracija (metinis valandinis vidurkis):"},null,null,null,{"$f":"EUconst_gpNm3","v":"g/Nm3"},null,null,null,null,null,null,null,null,null,null,null,null,null,null,null,null,null,null,null,null,null,null,null,null,null,{"$f":"AL206","v":true}]
[null,null,null,null,null,{"$f":"IF(OR(ISBLANK(F209),F209=EUconst_NoTier),\"\",IF(R211=EUconst_NA,EUconst_NA,IF(ISERROR(R211),\"\",R211)))","v":""},null,null,null,null,null,null,null,null,null,null,null,"tier text"]
[null,null,null,null,null,null,"ii.",{"$f":"Translations!$B$682","v":"Biomasės dalis:"},null,null,null,"-",null,null,null,null,null,{"$f":"IF(F209=\"\",\"\",IF(F209=EUconst_NA,\"\",INDEX(EUwideConstants!$H$674:$M$676,MATCH(E197,EUwideConstants!$B$674:$B$676,0),MATCH(F209,CNTR_TierList,0))))","v":""},null,null,null,null,null,null,null,null,null,null,null,null,null,null,null,null,null,null,null,{"$f":"AL209","v":true}]
[null,null,null,null,null,null,"iii.",{"$f":"Translations!$B$683","v":"netvarios biomasės dalis:"},null,null,null,"-",null,null,null,null,null,null,null,null,null,null,null,null,null,null,null,null,null,null,null,null,null,null,null,null,null,{"$f":"AL211","v":true}]
[null,null,null,null,{"$f":"Translations!$B$684","v":"VAP:"},{"$f":"IF(OR(G197=\"\",F214<>\"\"),\"\",IF(T197=2,298,1))","v":""},"iv.",{"$f":"Translations!$B$695","v":"Veikimo valandos:"},null,null,null,{"$f":"EUconst_hpa","v":"val./metai"},null,null,null,null,null,null,null,null,null,null,null,null,null,null,null,null,null,null,null,null,null,null,null,null,null,{"$f":"AL211","v":true}]
[null,null,null,null,{"$f":"Translations!$B$696","v":"(CO2(e) tonos / ŠESD tonos)"},null,"v.",{"$f":"Translations!$B$697","v":"Kaminų dujų srautas (metinis valandinis vidurkis):"},null,null,null,{"$f":"EUconst_Nm3ph","v":"1 000 Nm3/h"},null,null,null,null,null,"GWP",null,null,null,null,null,null,null,null,null,null,null,null,null,null,null,null,null,null,null,{"$f":"AL213","v":true}]
[null,null,null,null,null,null,"vi.",{"$f":"Translations!$B$698","v":"Kaminų dujų srautas (bendras metinis kiekis):"},null,null,null,{"$f":"EUconst_kNm3pa","v":"1 000 Nm3/m."},{"$f":"IF(COUNT(M213,M214)=2,M213*M214,\"\")","v":""},null,null,null,null,{"$f":"IF(F214=\"\",F213,F214)","v":""}]
[]
[null,null,null,null,null,null,"vii.",{"$f":"Translations!$B$699","v":"Metinis deginant iškastinį kurą išmestas ŠESD kiekis"},null,null,null,{"$f":"EUconst_t","v":"t"},{"$f":"IF(G197=\"\",\"\",ROUND(M209*M213*M214*10^-3*(1-M211),0))","v":""}]
[]
[null,null,null,"(b)",{"$f":"Translations!$B$700","v":"Perduotasis / būdingasis CO2"}]
[]
[null,null,null,"i.",{"$f":"Translations!$B$170","v":"Įrenginio pavadinimas"},null,null,null,null,null,null,null,null,null,null,null,{"$f":"IF(I224=\"\",\"\",C197 & \"_\" & EUconst_CNTR_CCSInstName & I224)","v":""},null,null,null,null,null,null,null,null,null,null,null,null,null,null,null,null,null,null,null,null,{"$f":"OR(CNTR_MeasurementRelevant=EUconst_NotRelevant,AND(COUNTA(CNTR_ListRelevantSections)>0,OR(G197=\"\",V197=TRUE)))","v":true}]
[null,null,null,"ii.",{"$f":"Translations!$B$79","v":"Veiklos vykdytojo pavadinimas"},null,null,null,null,null,null,null,null,null,null,null,{"$f":"IF(I224=\"\",\"\",C197 & \"_\" & EUconst_CNTR_CCSOpName & I224)","v":""},null,null,null,null,null,null,null,null,null,null,null,null,null,null,null,null,null,null,null,null,{"$f":"AL221","v":true}]
[null,null,null,"iii.",{"$f":"Translations!$B$171","v":"Įrenginio unikalus ID"},null,null,null,null,null,null,null,null,null,null,null,{"$f":"IF(I224=\"\",\"\",C197 & \"_\" & EUconst_CNTR_CCSInstID & I224)","v":""},"is transferred out?",null,null,null,null,null,null,null,null,null,null,null,null,null,null,null,null,null,null,null,{"$f":"AL222","v":true}]
[null,null,null,"iv.",{"$f":"Translations!$B$169","v":"Perdavimo tipas"},null,null,null,null,null,null,null,null,null,null,null,null,{"$f":"IF(I224=\"\",\"\",I224=INDEX(EUconst_CO2TransferTypes,5))","v":""},{"$f":"IF(AND(R224=TRUE,AL224=FALSE),-1,1)","v":1},null,null,null,null,null,null,null,null,null,null,null,null,null,null,null,null,null,null,{"$f":"AL223","v":true}]
[]
[]
[null,null,null,null,{"$f":"Translations!$B$701","v":"Pastabos (pvz., patvirtinamųjų skaičiavimų aprašas arba ar trūksta didelės duomenų dalies):"}]
[null,null,null,null,null,null,null,null,null,null,null,null,null,null,null,null,null,null,null,null,null,null,null,null,null,null,null,null,null,null,null,null,null,null,null,null,null,{"$f":"D_MeasurementBasedApproaches!AL214","v":true}]
[null,null,null,null,null,null,null,null,null,null,null,null,null,null,null,null,null,null,null,null,null,null,null,null,null,null,null,null,null,null,null,null,null,null,null,null,null,{"$f":"AL228","v":true}]
[]
[null,null,null,null,null,null,null,null,null,null,null,null,null,null,null,null,null,null,null,null,null,null,null,"Accounting"]
[null,null,{"$f":"C197+1","v":7},null,{"$f":"IF(ISBLANK(G232),\"\",IF(INDEX(B_InstallationDescription!$M$150:$M$159,MATCH(S232,B_InstallationDescription!$E$150:$E$159,0))>0,INDEX(B_InstallationDescription!$M$150:$M$159,MATCH(S232,B_InstallationDescription!$E$150:$E$159,0)),\"\"))","v":""},null,null,null,null,null,null,null,{"$f":"Translations!$B$686","v":"Bendras deginant iškastinį kurą išmestas ŠESD kiekis:"},{"$f":"IF(G232=\"\",\"\",M244*M248*M249*10^-3*(1-M246)*S259*R250)","v":""},"t CO2e",null,{"$f":"EUconst_SumCO2 & \"_\" &E232","v":"SUM_CO2_"},{"$f":"IF(ISBLANK(G232),\"\",MATCH(G232,CNTR_MeasurementPoints,0))","v":""},{"$f":"IF(ISBLANK(G232),\"\",INDEX(B_InstallationDescription!$E$150:$E$159,MATCH(G232,CNTR_MeasurementPoints,0)))","v":""},{"$f":"IF(ISBLANK(G232),\"\",MATCH(E232,EUconst_CEMSType,0))","v":""},{"$f":"E232=INDEX(EUconst_CEMSType,3)","v":false},{"$f":"OR(E232=INDEX(EUconst_CEMSType,1),E232=INDEX(EUconst_CEMSType,2))","v":false},null,{"$f":"M244","v":0},{"$f":"M246","v":0},{"$f":"M247","v":0},{"$f":"M248","v":0},{"$f":"M249","v":0},{"$f":"M250","v":""},{"$f":"M252","v":""},{"$f":"R250","v":""},{"$f":"N232","v":""},{"$f":"N233","v":""},{"$f":"R234","v":""},{"$f":"R235","v":0},{"$f":"R236","v":0},null,{"$f":"CNTR_MeasurementRelevant=EUconst_NotRelevant","v":true}]
[null,null,null,null,null,null,null,null,null,null,null,null,{"$f":"Translations!$B$687","v":"Bendras deginant biomasę išmestas ŠESD kiekis:"},{"$f":"IF(G232=\"\",\"\",M244*M248*M249*10^-3*(M246)*S259*R250)","v":""},"t CO2e",null,{"$f":"EUconst_SumBioCO2 & \"_\" & E232","v":"SUM_bioCO2_"},null,null,null,null,null,null,"GHG conc.","BioC","NonSustBio","hours","flue gas flow","flue gas flow (tot)","GHG total","GWP","CO2 fossil","CO2 bio","CO2 non-sust","CO2 ENIN fossil","CO2 ENIN bio"]
[null,null,null,null,null,null,null,null,null,null,null,null,null,null,null,null,{"$f":"EUconst_SumNonSustBioCO2 & \"_\" & K231","v":"SUM_bioNonSustCO2_"},{"$f":"IF(G232=\"\",\"\",ROUND(M244*M248*M249*10^-3*(1-M246)*M247*S259*R250,0))","v":""}]
[null,null,null,null,null,null,null,null,null,null,null,null,{"$f":"Translations!$B$688","v":"Bendra iškastinio kuro energetinė vertė:"},null,"TJ",null,{"$f":"EUconst_SumEnergyIN & \"_\" & K231","v":"SUM_EnergyIN_"},{"$f":"N235","v":0},null,null,null,null,null,null,null,null,null,null,null,null,null,null,null,null,null,null,null,{"$f":"AL240","v":true}]
[null,null,null,null,null,null,null,null,null,null,null,null,{"$f":"Translations!$B$689","v":"Bendra biomasės energetinė vertė:"},null,"TJ",null,{"$f":"EUconst_SumBioEnergyIN & \"_\" & K231","v":"SUM_BioEnergyIN_"},{"$f":"N236","v":0},null,null,null,null,null,null,null,null,null,null,null,null,null,null,null,null,null,null,null,{"$f":"AL235","v":true}]
[]
[null,null,null,"(a)",{"$f":"Translations!$B$690","v":"Skaičiavimai"}]
[]
[null,null,null,null,{"$f":"Translations!$B$691","v":"Informacija apie susijusius sukėliklius, jeigu taikytina:"},null,null,null,null,{"$f":"Translations!$B$692","v":"Patvirtinamųjų skaičiavimų rezultatas (iškastinis kuras):"},null,null,null,null,null,null,null,null,null,null,null,null,null,null,null,null,null,null,null,null,null,null,null,null,null,null,{"$f":"IF(E232=\"\",FALSE,MATCH(E232,EUconst_CEMSType,0)=2)","v":false},{"$f":"OR(CNTR_MeasurementRelevant=EUconst_NotRelevant,AND(COUNTA(CNTR_ListRelevantSections)>0,G232=\"\"))","v":true}]
[null,null,null,null,null,null,null,null,null,{"$f":"Translations!$B$693","v":"Patvirtinamųjų skaičiavimų rezultatas (biomasė):"},null,null,null,null,null,null,null,null,null,null,null,null,null,null,null,null,null,null,null,null,null,null,null,null,null,null,{"$f":"AK240","v":false},{"$f":"AL240","v":true}]
[]
[null,null,null,null,null,null,null,null,null,null,null,{"$f":"EUconst_Unit","v":"Vienetas"}]
[null,null,null,null,{"$f":"Translations!$B$162","v":"Naudojama pakopa."},null,"i.",{"$f":"Translations!$B$694","v":"ŠESD koncentracija (metinis valandinis vidurkis):"},null,null,null,{"$f":"EUconst_gpNm3","v":"g/Nm3"},null,null,null,null,null,null,null,null,null,null,null,null,null,null,null,null,null,null,null,null,null,null,null,null,null,{"$f":"AL241","v":true}]
[null,null,null,null,null,{"$f":"IF(OR(ISBLANK(F244),F244=EUconst_NoTier),\"\",IF(R246=EUconst_NA,EUconst_NA,IF(ISERROR(R246),\"\",R246)))","v":""},null,null,null,null,null,null,null,null,null,null,null,"tier text"]
[null,null,null,null,null,null,"ii.",{"$f":"Translations!$B$682","v":"Biomasės dalis:"},null,null,null,"-",null,null,null,null,null,{"$f":"IF(F244=\"\",\"\",IF(F244=EUconst_NA,\"\",INDEX(EUwideConstants!$H$674:$M$676,MATCH(E232,EUwideConstants!$B$674:$B$676,0),MATCH(F244,CNTR_TierList,0))))","v":""},null,null,null,null,null,null,null,null,null,null,null,null,null,null,null,null,null,null,null,{"$f":"AL244","v":true}]
[null,null,null,null,null,null,"iii.",{"$f":"Translations!$B$683","v":"netvarios biomasės dalis:"},null,null,null,"-",null,null,null,null,null,null,null,null,null,null,null,null,null,null,null,null,null,null,null,null,null,null,null,null,null,{"$f":"AL246","v":true}]
[null,null,null,null,{"$f":"Translations!$B$684","v":"VAP:"},{"$f":"IF(OR(G232=\"\",F249<>\"\"),\"\",IF(T232=2,298,1))","v":""},"iv.",{"$f":"Translations!$B$695","v":"Veikimo valandos:"},null,null,null,{"$f":"EUconst_hpa","v":"val./metai"},null,null,null,null,null,null,null,null,null,null,null,null,null,null,null,null,null,null,null,null,null,null,null,null,null,{"$f":"AL246","v":true}]
[null,null,null,null,{"$f":"Translations!$B$696","v":"(CO2(e) tonos / ŠESD tonos)"},null,"v.",{"$f":"Translations!$B$697","v":"Kaminų dujų srautas (metinis valandinis vidurkis):"},null,null,null,{"$f":"EUconst_Nm3ph","v":"1 000 Nm3/h"},null,null,null,null,null,"GWP",null,null,null,null,null,null,null,null,null,null,null,null,null,null,null,null,null,null,null,{"$f":"AL248","v":true}]
[null,null,null,null,null,null,"vi.",{"$f":"Translations!$B$698","v":"Kaminų dujų srautas (bendras metinis kiekis):"},null,null,null,{"$f":"EUconst_kNm3pa","v":"1 000 Nm3/m."},{"$f":"IF(COUNT(M248,M249)=2,M248*M249,\"\")","v":""},null,null,null,null,{"$f":"IF(F249=\"\",F248,F249)","v":""}]
[]
[null,null,null,null,null,null,"vii.",{"$f":"Translations!$B$699","v":"Metinis deginant iškastinį kurą išmestas ŠESD kiekis"},null,null,null,{"$f":"EUconst_t","v":"t"},{"$f":"IF(G232=\"\",\"\",ROUND(M244*M248*M249*10^-3*(1-M246),0))","v":""}]
[]
[null,null,null,"(b)",{"$f":"Translations!$B$700","v":"Perduotasis / būdingasis CO2"}]
[]
[null,null,null,"i.",{"$f":"Translations!$B$170","v":"Įrenginio pavadinimas"},null,null,null,null,null,null,null,null,null,null,null,{"$f":"IF(I259=\"\",\"\",C232 & \"_\" & EUconst_CNTR_CCSInstName & I259)","v":""},null,null,null,null,null,null,null,null,null,null,null,null,null,null,null,null,null,null,null,null,{"$f":"OR(CNTR_MeasurementRelevant=EUconst_NotRelevant,AND(COUNTA(CNTR_ListRelevantSections)>0,OR(G232=\"\",V232=TRUE)))","v":true}]
[null,null,null,"ii.",{"$f":"Translations!$B$79","v":"Veiklos vykdytojo pavadinimas"},null,null,null,null,null,null,null,null,null,null,null,{"$f":"IF(I259=\"\",\"\",C232 & \"_\" & EUconst_CNTR_CCSOpName & I259)","v":""},null,null,null,null,null,null,null,null,null,null,null,null,null,null,null,null,null,null,null,null,{"$f":"AL256","v":true}]
[null,null,null,"iii.",{"$f":"Translations!$B$171","v":"Įrenginio unikalus ID"},null,null,null,null,null,null,null,null,null,null,null,{"$f":"IF(I259=\"\",\"\",C232 & \"_\" & EUconst_CNTR_CCSInstID & I259)","v":""},"is transferred out?",null,null,null,null,null,null,null,null,null,null,null,null,null,null,null,null,null,null,null,{"$f":"AL257","v":true}]
[null,null,null,"iv.",{"$f":"Translations!$B$169","v":"Perdavimo tipas"},null,null,null,null,null,null,null,null,null,null,null,null,{"$f":"IF(I259=\"\",\"\",I259=INDEX(EUconst_CO2TransferTypes,5))","v":""},{"$f":"IF(AND(R259=TRUE,AL259=FALSE),-1,1)","v":1},null,null,null,null,null,null,null,null,null,null,null,null,null,null,null,null,null,null,{"$f":"AL258","v":true}]
[]
[]
[null,null,null,null,{"$f":"Translations!$B$701","v":"Pastabos (pvz., patvirtinamųjų skaičiavimų aprašas arba ar trūksta didelės duomenų dalies):"}]
[null,null,null,null,null,null,null,null,null,null,null,null,null,null,null,null,null,null,null,null,null,null,null,null,null,null,null,null,null,null,null,null,null,null,null,null,null,{"$f":"D_MeasurementBasedApproaches!AL249","v":true}]
[null,null,null,null,null,null,null,null,null,null,null,null,null,null,null,null,null,null,null,null,null,null,null,null,null,null,null,null,null,null,null,null,null,null,null,null,null,{"$f":"AL263","v":true}]
[]
[null,null,null,null,null,null,null,null,null,null,null,null,null,null,null,null,null,null,null,null,null,null,null,"Accounting"]
[null,null,{"$f":"C232+1","v":8},null,{"$f":"IF(ISBLANK(G267),\"\",IF(INDEX(B_InstallationDescription!$M$150:$M$159,MATCH(S267,B_InstallationDescription!$E$150:$E$159,0))>0,INDEX(B_InstallationDescription!$M$150:$M$159,MATCH(S267,B_InstallationDescription!$E$150:$E$159,0)),\"\"))","v":""},null,null,null,null,null,null,null,{"$f":"Translations!$B$686","v":"Bendras deginant iškastinį kurą išmestas ŠESD kiekis:"},{"$f":"IF(G267=\"\",\"\",M279*M283*M284*10^-3*(1-M281)*S294*R285)","v":""},"t CO2e",null,{"$f":"EUconst_SumCO2 & \"_\" &E267","v":"SUM_CO2_"},{"$f":"IF(ISBLANK(G267),\"\",MATCH(G267,CNTR_MeasurementPoints,0))","v":""},{"$f":"IF(ISBLANK(G267),\"\",INDEX(B_InstallationDescription!$E$150:$E$159,MATCH(G267,CNTR_MeasurementPoints,0)))","v":""},{"$f":"IF(ISBLANK(G267),\"\",MATCH(E267,EUconst_CEMSType,0))","v":""},{"$f":"E267=INDEX(EUconst_CEMSType,3)","v":false},{"$f":"OR(E267=INDEX(EUconst_CEMSType,1),E267=INDEX(EUconst_CEMSType,2))","v":false},null,{"$f":"M279","v":0},{"$f":"M281","v":0},{"$f":"M282","v":0},{"$f":"M283","v":0},{"$f":"M284","v":0},{"$f":"M285","v":""},{"$f":"M287","v":""},{"$f":"R285","v":""},{"$f":"N267","v":""},{"$f":"N268","v":""},{"$f":"R269","v":""},{"$f":"R270","v":0},{"$f":"R271","v":0},null,{"$f":"CNTR_MeasurementRelevant=EUconst_NotRelevant","v":true}]
[null,null,null,null,null,null,null,null,null,null,null,null,{"$f":"Translations!$B$687","v":"Bendras deginant biomasę išmestas ŠESD kiekis:"},{"$f":"IF(G267=\"\",\"\",M279*M283*M284*10^-3*(M281)*S294*R285)","v":""},"t CO2e",null,{"$f":"EUconst_SumBioCO2 & \"_\" & E267","v":"SUM_bioCO2_"},null,null,null,null,null,null,"GHG conc.","BioC","NonSustBio","hours","flue gas flow","flue gas flow (tot)","GHG total","GWP","CO2 fossil","CO2 bio","CO2 non-sust","CO2 ENIN fossil","CO2 ENIN bio"]
[null,null,null,null,null,null,null,null,null,null,null,null,null,null,null,null,{"$f":"EUconst_SumNonSustBioCO2 & \"_\" & K266","v":"SUM_bioNonSustCO2_"},{"$f":"IF(G267=\"\",\"\",ROUND(M279*M283*M284*10^-3*(1-M281)*M282*S294*R285,0))","v":""}]
[null,null,null,null,null,null,null,null,null,null,null,null,{"$f":"Translations!$B$688","v":"Bendra iškastinio kuro energetinė vertė:"},null,"TJ",null,{"$f":"EUconst_SumEnergyIN & \"_\" & K266","v":"SUM_EnergyIN_"},{"$f":"N270","v":0},null,null,null,null,null,null,null,null,null,null,null,null,null,null,null,null,null,null,null,{"$f":"AL275","v":true}]
[null,null,null,null,null,null,null,null,null,null,null,null,{"$f":"Translations!$B$689","v":"Bendra biomasės energetinė vertė:"},null,"TJ",null,{"$f":"EUconst_SumBioEnergyIN & \"_\" & K266","v":"SUM_BioEnergyIN_"},{"$f":"N271","v":0},null,null,null,null,null,null,null,null,null,null,null,null,null,null,null,null,null,null,null,{"$f":"AL270","v":true}]
[]
[null,null,null,"(a)",{"$f":"Translations!$B$690","v":"Skaičiavimai"}]
[]
[null,null,null,null,{"$f":"Translations!$B$691","v":"Informacija apie susijusius sukėliklius, jeigu taikytina:"},null,null,null,null,{"$f":"Translations!$B$692","v":"Patvirtinamųjų skaičiavimų rezultatas (iškastinis kuras):"},null,null,null,null,null,null,null,null,null,null,null,null,null,null,null,null,null,null,null,null,null,null,null,null,null,null,{"$f":"IF(E267=\"\",FALSE,MATCH(E267,EUconst_CEMSType,0)=2)","v":false},{"$f":"OR(CNTR_MeasurementRelevant=EUconst_NotRelevant,AND(COUNTA(CNTR_ListRelevantSections)>0,G267=\"\"))","v":true}]
[null,null,null,null,null,null,null,null,null,{"$f":"Translations!$B$693","v":"Patvirtinamųjų skaičiavimų rezultatas (biomasė):"},null,null,null,null,null,null,null,null,null,null,null,null,null,null,null,null,null,null,null,null,null,null,null,null,null,null,{"$f":"AK275","v":false},{"$f":"AL275","v":true}]
[]
[null,null,null,null,null,null,null,null,null,null,null,{"$f":"EUconst_Unit","v":"Vienetas"}]
[null,null,null,null,{"$f":"Translations!$B$162","v":"Naudojama pakopa."},null,"i.",{"$f":"Translations!$B$694","v":"ŠESD koncentracija (metinis valandinis vidurkis):"},null,null,null,{"$f":"EUconst_gpNm3","v":"g/Nm3"},null,null,null,null,null,null,null,null,null,null,null,null,null,null,null,null,null,null,null,null,null,null,null,null,null,{"$f":"AL276","v":true}]
[null,null,null,null,null,{"$f":"IF(OR(ISBLANK(F279),F279=EUconst_NoTier),\"\",IF(R281=EUconst_NA,EUconst_NA,IF(ISERROR(R281),\"\",R281)))","v":""},null,null,null,null,null,null,null,null,null,null,null,"tier text"]
[null,null,null,null,null,null,"ii.",{"$f":"Translations!$B$682","v":"Biomasės dalis:"},null,null,null,"-",null,null,null,null,null,{"$f":"IF(F279=\"\",\"\",IF(F279=EUconst_NA,\"\",INDEX(EUwideConstants!$H$674:$M$676,MATCH(E267,EUwideConstants!$B$674:$B$676,0),MATCH(F279,CNTR_TierList,0))))","v":""},null,null,null,null,null,null,null,null,null,null,null,null,null,null,null,null,null,null,null,{"$f":"AL279","v":true}]
[null,null,null,null,null,null,"iii.",{"$f":"Translations!$B$683","v":"netvarios biomasės dalis:"},null,null,null,"-",null,null,null,null,null,null,null,null,null,null,null,null,null,null,null,null,null,null,null,null,null,null,null,null,null,{"$f":"AL281","v":true}]
[null,null,null,null,{"$f":"Translations!$B$684","v":"VAP:"},{"$f":"IF(OR(G267=\"\",F284<>\"\"),\"\",IF(T267=2,298,1))","v":""},"iv.",{"$f":"Translations!$B$695","v":"Veikimo valandos:"},null,null,null,{"$f":"EUconst_hpa","v":"val./metai"},null,null,null,null,null,null,null,null,null,null,null,null,null,null,null,null,null,null,null,null,null,null,null,null,null,{"$f":"AL281","v":true}]
[null,null,null,null,{"$f":"Translations!$B$696","v":"(CO2(e) tonos / ŠESD tonos)"},null,"v.",{"$f":"Translations!$B$697","v":"Kaminų dujų srautas (metinis valandinis vidurkis):"},null,null,null,{"$f":"EUconst_Nm3ph","v":"1 000 Nm3/h"},null,null,null,null,null,"GWP",null,null,null,null,null,null,null,null,null,null,null,null,null,null,null,null,null,null,null,{"$f":"AL283","v":true}]
[null,null,null,null,null,null,"vi.",{"$f":"Translations!$B$698","v":"Kaminų dujų srautas (bendras metinis kiekis):"},null,null,null,{"$f":"EUconst_kNm3pa","v":"1 000 Nm3/m."},{"$f":"IF(COUNT(M283,M284)=2,M283*M284,\"\")","v":""},null,null,null,null,{"$f":"IF(F284=\"\",F283,F284)","v":""}]
[]
[null,null,null,null,null,null,"vii.",{"$f":"Translations!$B$699","v":"Metinis deginant iškastinį kurą išmestas ŠESD kiekis"},null,null,null,{"$f":"EUconst_t","v":"t"},{"$f":"IF(G267=\"\",\"\",ROUND(M279*M283*M284*10^-3*(1-M281),0))","v":""}]
[]
[null,null,null,"(b)",{"$f":"Translations!$B$700","v":"Perduotasis / būdingasis CO2"}]
[]
[null,null,null,"i.",{"$f":"Translations!$B$170","v":"Įrenginio pavadinimas"},null,null,null,null,null,null,null,null,null,null,null,{"$f":"IF(I294=\"\",\"\",C267 & \"_\" & EUconst_CNTR_CCSInstName & I294)","v":""},null,null,null,null,null,null,null,null,null,null,null,null,null,null,null,null,null,null,null,null,{"$f":"OR(CNTR_MeasurementRelevant=EUconst_NotRelevant,AND(COUNTA(CNTR_ListRelevantSections)>0,OR(G267=\"\",V267=TRUE)))","v":true}]
[null,null,null,"ii.",{"$f":"Translations!$B$79","v":"Veiklos vykdytojo pavadinimas"},null,null,null,null,null,null,null,null,null,null,null,{"$f":"IF(I294=\"\",\"\",C267 & \"_\" & EUconst_CNTR_CCSOpName & I294)","v":""},null,null,null,null,null,null,null,null,null,null,null,null,null,null,null,null,null,null,null,null,{"$f":"AL291","v":true}]
[null,null,null,"iii.",{"$f":"Translations!$B$171","v":"Įrenginio unikalus ID"},null,null,null,null,null,null,null,null,null,null,null,{"$f":"IF(I294=\"\",\"\",C267 & \"_\" & EUconst_CNTR_CCSInstID & I294)","v":""},"is transferred out?",null,null,null,null,null,null,null,null,null,null,null,null,null,null,null,null,null,null,null,{"$f":"AL292","v":true}]
[null,null,null,"iv.",{"$f":"Translations!$B$169","v":"Perdavimo tipas"},null,null,null,null,null,null,null,null,null,null,null,null,{"$f":"IF(I294=\"\",\"\",I294=INDEX(EUconst_CO2TransferTypes,5))","v":""},{"$f":"IF(AND(R294=TRUE,AL294=FALSE),-1,1)","v":1},null,null,null,null,null,null,null,null,null,null,null,null,null,null,null,null,null,null,{"$f":"AL293","v":true}]
[]
[]
[null,null,null,null,{"$f":"Translations!$B$701","v":"Pastabos (pvz., patvirtinamųjų skaičiavimų aprašas arba ar trūksta didelės duomenų dalies):"}]
[null,null,null,null,null,null,null,null,null,null,null,null,null,null,null,null,null,null,null,null,null,null,null,null,null,null,null,null,null,null,null,null,null,null,null,null,null,{"$f":"D_MeasurementBasedApproaches!AL284","v":true}]
[null,null,null,null,null,null,null,null,null,null,null,null,null,null,null,null,null,null,null,null,null,null,null,null,null,null,null,null,null,null,null,null,null,null,null,null,null,{"$f":"AL298","v":true}]
[]
[null,null,null,null,null,null,null,null,null,null,null,null,null,null,null,null,null,null,null,null,null,null,null,"Accounting"]
[null,null,{"$f":"C267+1","v":9},null,{"$f":"IF(ISBLANK(G302),\"\",IF(INDEX(B_InstallationDescription!$M$150:$M$159,MATCH(S302,B_InstallationDescription!$E$150:$E$159,0))>0,INDEX(B_InstallationDescription!$M$150:$M$159,MATCH(S302,B_InstallationDescription!$E$150:$E$159,0)),\"\"))","v":""},null,null,null,null,null,null,null,{"$f":"Translations!$B$686","v":"Bendras deginant iškastinį kurą išmestas ŠESD kiekis:"},{"$f":"IF(G302=\"\",\"\",M314*M318*M319*10^-3*(1-M316)*S329*R320)","v":""},"t CO2e",null,{"$f":"EUconst_SumCO2 & \"_\" &E302","v":"SUM_CO2_"},{"$f":"IF(ISBLANK(G302),\"\",MATCH(G302,CNTR_MeasurementPoints,0))","v":""},{"$f":"IF(ISBLANK(G302),\"\",INDEX(B_InstallationDescription!$E$150:$E$159,MATCH(G302,CNTR_MeasurementPoints,0)))","v":""},{"$f":"IF(ISBLANK(G302),\"\",MATCH(E302,EUconst_CEMSType,0))","v":""},{"$f":"E302=INDEX(EUconst_CEMSType,3)","v":false},{"$f":"OR(E302=INDEX(EUconst_CEMSType,1),E302=INDEX(EUconst_CEMSType,2))","v":false},null,{"$f":"M314","v":0},{"$f":"M316","v":0},{"$f":"M317","v":0},{"$f":"M318","v":0},{"$f":"M319","v":0},{"$f":"M320","v":""},{"$f":"M322","v":""},{"$f":"R320","v":""},{"$f":"N302","v":""},{"$f":"N303","v":""},{"$f":"R304","v":""},{"$f":"R305","v":0},{"$f":"R306","v":0},null,{"$f":"CNTR_MeasurementRelevant=EUconst_NotRelevant","v":true}]
[null,null,null,null,null,null,null,null,null,null,null,null,{"$f":"Translations!$B$687","v":"Bendras deginant biomasę išmestas ŠESD kiekis:"},{"$f":"IF(G302=\"\",\"\",M314*M318*M319*10^-3*(M316)*S329*R320)","v":""},"t CO2e",null,{"$f":"EUconst_SumBioCO2 & \"_\" & E302","v":"SUM_bioCO2_"},null,null,null,null,null,null,"GHG conc.","BioC","NonSustBio","hours","flue gas flow","flue gas flow (tot)","GHG total","GWP","CO2 fossil","CO2 bio","CO2 non-sust","CO2 ENIN fossil","CO2 ENIN bio"]
[null,null,null,null,null,null,null,null,null,null,null,null,null,null,null,null,{"$f":"EUconst_SumNonSustBioCO2 & \"_\" & K301","v":"SUM_bioNonSustCO2_"},{"$f":"IF(G302=\"\",\"\",ROUND(M314*M318*M319*10^-3*(1-M316)*M317*S329*R320,0))","v":""}]
[null,null,null,null,null,null,null,null,null,null,null,null,{"$f":"Translations!$B$688","v":"Bendra iškastinio kuro energetinė vertė:"},null,"TJ",null,{"$f":"EUconst_SumEnergyIN & \"_\" & K301","v":"SUM_EnergyIN_"},{"$f":"N305","v":0},null,null,null,null,null,null,null,null,null,null,null,null,null,null,null,null,null,null,null,{"$f":"AL310","v":true}]
[null,null,null,null,null,null,null,null,null,null,null,null,{"$f":"Translations!$B$689","v":"Bendra biomasės energetinė vertė:"},null,"TJ",null,{"$f":"EUconst_SumBioEnergyIN & \"_\" & K301","v":"SUM_BioEnergyIN_"},{"$f":"N306","v":0},null,null,null,null,null,null,null,null,null,null,null,null,null,null,null,null,null,null,null,{"$f":"AL305","v":true}]
[]
[null,null,null,"(a)",{"$f":"Translations!$B$690","v":"Skaičiavimai"}]
[]
[null,null,null,null,{"$f":"Translations!$B$691","v":"Informacija apie susijusius sukėliklius, jeigu taikytina:"},null,null,null,null,{"$f":"Translations!$B$692","v":"Patvirtinamųjų skaičiavimų rezultatas (iškastinis kuras):"},null,null,null,null,null,null,null,null,null,null,null,null,null,null,null,null,null,null,null,null,null,null,null,null,null,null,{"$f":"IF(E302=\"\",FALSE,MATCH(E302,EUconst_CEMSType,0)=2)","v":false},{"$f":"OR(CNTR_MeasurementRelevant=EUconst_NotRelevant,AND(COUNTA(CNTR_ListRelevantSections)>0,G302=\"\"))","v":true}]
[null,null,null,null,null,null,null,null,null,{"$f":"Translations!$B$693","v":"Patvirtinamųjų skaičiavimų rezultatas (biomasė):"},null,null,null,null,null,null,null,null,null,null,null,null,null,null,null,null,null,null,null,null,null,null,null,null,null,null,{"$f":"AK310","v":false},{"$f":"AL310","v":true}]
[]
[null,null,null,null,null,null,null,null,null,null,null,{"$f":"EUconst_Unit","v":"Vienetas"}]
[null,null,null,null,{"$f":"Translations!$B$162","v":"Naudojama pakopa."},null,"i.",{"$f":"Translations!$B$694","v":"ŠESD koncentracija (metinis valandinis vidurkis):"},null,null,null,{"$f":"EUconst_gpNm3","v":"g/Nm3"},null,null,null,null,null,null,null,null,null,null,null,null,null,null,null,null,null,null,null,null,null,null,null,null,null,{"$f":"AL311","v":true}]
[null,null,null,null,null,{"$f":"IF(OR(ISBLANK(F314),F314=EUconst_NoTier),\"\",IF(R316=EUconst_NA,EUconst_NA,IF(ISERROR(R316),\"\",R316)))","v":""},null,null,null,null,null,null,null,null,null,null,null,"tier text"]
[null,null,null,null,null,null,"ii.",{"$f":"Translations!$B$682","v":"Biomasės dalis:"},null,null,null,"-",null,null,null,null,null,{"$f":"IF(F314=\"\",\"\",IF(F314=EUconst_NA,\"\",INDEX(EUwideConstants!$H$674:$M$676,MATCH(E302,EUwideConstants!$B$674:$B$676,0),MATCH(F314,CNTR_TierList,0))))","v":""},null,null,null,null,null,null,null,null,null,null,null,null,null,null,null,null,null,null,null,{"$f":"AL314","v":true}]
[null,null,null,null,null,null,"iii.",{"$f":"Translations!$B$683","v":"netvarios biomasės dalis:"},null,null,null,"-",null,null,null,null,null,null,null,null,null,null,null,null,null,null,null,null,null,null,null,null,null,null,null,null,null,{"$f":"AL316","v":true}]
[null,null,null,null,{"$f":"Translations!$B$684","v":"VAP:"},{"$f":"IF(OR(G302=\"\",F319<>\"\"),\"\",IF(T302=2,298,1))","v":""},"iv.",{"$f":"Translations!$B$695","v":"Veikimo valandos:"},null,null,null,{"$f":"EUconst_hpa","v":"val./metai"},null,null,null,null,null,null,null,null,null,null,null,null,null,null,null,null,null,null,null,null,null,null,null,null,null,{"$f":"AL316","v":true}]
[null,null,null,null,{"$f":"Translations!$B$696","v":"(CO2(e) tonos / ŠESD tonos)"},null,"v.",{"$f":"Translations!$B$697","v":"Kaminų dujų srautas (metinis valandinis vidurkis):"},null,null,null,{"$f":"EUconst_Nm3ph","v":"1 000 Nm3/h"},null,null,null,null,null,"GWP",null,null,null,null,null,null,null,null,null,null,null,null,null,null,null,null,null,null,null,{"$f":"AL318","v":true}]
[null,null,null,null,null,null,"vi.",{"$f":"Translations!$B$698","v":"Kaminų dujų srautas (bendras metinis kiekis):"},null,null,null,{"$f":"EUconst_kNm3pa","v":"1 000 Nm3/m."},{"$f":"IF(COUNT(M318,M319)=2,M318*M319,\"\")","v":""},null,null,null,null,{"$f":"IF(F319=\"\",F318,F319)","v":""}]
[]
[null,null,null,null,null,null,"vii.",{"$f":"Translations!$B$699","v":"Metinis deginant iškastinį kurą išmestas ŠESD kiekis"},null,null,null,{"$f":"EUconst_t","v":"t"},{"$f":"IF(G302=\"\",\"\",ROUND(M314*M318*M319*10^-3*(1-M316),0))","v":""}]
[]
[null,null,null,"(b)",{"$f":"Translations!$B$700","v":"Perduotasis / būdingasis CO2"}]
[]
[null,null,null,"i.",{"$f":"Translations!$B$170","v":"Įrenginio pavadinimas"},null,null,null,null,null,null,null,null,null,null,null,{"$f":"IF(I329=\"\",\"\",C302 & \"_\" & EUconst_CNTR_CCSInstName & I329)","v":""},null,null,null,null,null,null,null,null,null,null,null,null,null,null,null,null,null,null,null,null,{"$f":"OR(CNTR_MeasurementRelevant=EUconst_NotRelevant,AND(COUNTA(CNTR_ListRelevantSections)>0,OR(G302=\"\",V302=TRUE)))","v":true}]
[null,null,null,"ii.",{"$f":"Translations!$B$79","v":"Veiklos vykdytojo pavadinimas"},null,null,null,null,null,null,null,null,null,null,null,{"$f":"IF(I329=\"\",\"\",C302 & \"_\" & EUconst_CNTR_CCSOpName & I329)","v":""},null,null,null,null,null,null,null,null,null,null,null,null,null,null,null,null,null,null,null,null,{"$f":"AL326","v":true}]
[null,null,null,"iii.",{"$f":"Translations!$B$171","v":"Įrenginio unikalus ID"},null,null,null,null,null,null,null,null,null,null,null,{"$f":"IF(I329=\"\",\"\",C302 & \"_\" & EUconst_CNTR_CCSInstID & I329)","v":""},"is transferred out?",null,null,null,null,null,null,null,null,null,null,null,null,null,null,null,null,null,null,null,{"$f":"AL327","v":true}]
[null,null,null,"iv.",{"$f":"Translations!$B$169","v":"Perdavimo tipas"},null,null,null,null,null,null,null,null,null,null,null,null,{"$f":"IF(I329=\"\",\"\",I329=INDEX(EUconst_CO2TransferTypes,5))","v":""},{"$f":"IF(AND(R329=TRUE,AL329=FALSE),-1,1)","v":1},null,null,null,null,null,null,null,null,null,null,null,null,null,null,null,null,null,null,{"$f":"AL328","v":true}]
[]
[]
[null,null,null,null,{"$f":"Translations!$B$701","v":"Pastabos (pvz., patvirtinamųjų skaičiavimų aprašas arba ar trūksta didelės duomenų dalies):"}]
[null,null,null,null,null,null,null,null,null,null,null,null,null,null,null,null,null,null,null,null,null,null,null,null,null,null,null,null,null,null,null,null,null,null,null,null,null,{"$f":"D_MeasurementBasedApproaches!AL319","v":true}]
[null,null,null,null,null,null,null,null,null,null,null,null,null,null,null,null,null,null,null,null,null,null,null,null,null,null,null,null,null,null,null,null,null,null,null,null,null,{"$f":"AL333","v":true}]
[]
[null,null,null,null,null,null,null,null,null,null,null,null,null,null,null,null,null,null,null,null,null,null,null,"Accounting"]
[null,null,{"$f":"C302+1","v":10},null,{"$f":"IF(ISBLANK(G337),\"\",IF(INDEX(B_InstallationDescription!$M$150:$M$159,MATCH(S337,B_InstallationDescription!$E$150:$E$159,0))>0,INDEX(B_InstallationDescription!$M$150:$M$159,MATCH(S337,B_InstallationDescription!$E$150:$E$159,0)),\"\"))","v":""},null,null,null,null,null,null,null,{"$f":"Translations!$B$686","v":"Bendras deginant iškastinį kurą išmestas ŠESD kiekis:"},{"$f":"IF(G337=\"\",\"\",M349*M353*M354*10^-3*(1-M351)*S364*R355)","v":""},"t CO2e",null,{"$f":"EUconst_SumCO2 & \"_\" &E337","v":"SUM_CO2_"},{"$f":"IF(ISBLANK(G337),\"\",MATCH(G337,CNTR_MeasurementPoints,0))","v":""},{"$f":"IF(ISBLANK(G337),\"\",INDEX(B_InstallationDescription!$E$150:$E$159,MATCH(G337,CNTR_MeasurementPoints,0)))","v":""},{"$f":"IF(ISBLANK(G337),\"\",MATCH(E337,EUconst_CEMSType,0))","v":""},{"$f":"E337=INDEX(EUconst_CEMSType,3)","v":false},{"$f":"OR(E337=INDEX(EUconst_CEMSType,1),E337=INDEX(EUconst_CEMSType,2))","v":false},null,{"$f":"M349","v":0},{"$f":"M351","v":0},{"$f":"M352","v":0},{"$f":"M353","v":0},{"$f":"M354","v":0},{"$f":"M355","v":""},{"$f":"M357","v":""},{"$f":"R355","v":""},{"$f":"N337","v":""},{"$f":"N338","v":""},{"$f":"R339","v":""},{"$f":"R340","v":0},{"$f":"R341","v":0},null,{"$f":"CNTR_MeasurementRelevant=EUconst_NotRelevant","v":true}]
[null,null,null,null,null,null,null,null,null,null,null,null,{"$f":"Translations!$B$687","v":"Bendras deginant biomasę išmestas ŠESD kiekis:"},{"$f":"IF(G337=\"\",\"\",M349*M353*M354*10^-3*(M351)*S364*R355)","v":""},"t CO2e",null,{"$f":"EUconst_SumBioCO2 & \"_\" & E337","v":"SUM_bioCO2_"},null,null,null,null,null,null,"GHG conc.","BioC","NonSustBio","hours","flue gas flow","flue gas flow (tot)","GHG total","GWP","CO2 fossil","CO2 bio","CO2 non-sust","CO2 ENIN fossil","CO2 ENIN bio"]
[null,null,null,null,null,null,null,null,null,null,null,null,null,null,null,null,{"$f":"EUconst_SumNonSustBioCO2 & \"_\" & K336","v":"SUM_bioNonSustCO2_"},{"$f":"IF(G337=\"\",\"\",ROUND(M349*M353*M354*10^-3*(1-M351)*M352*S364*R355,0))","v":""}]
[null,null,null,null,null,null,null,null,null,null,null,null,{"$f":"Translations!$B$688","v":"Bendra iškastinio kuro energetinė vertė:"},null,"TJ",null,{"$f":"EUconst_SumEnergyIN & \"_\" & K336","v":"SUM_EnergyIN_"},{"$f":"N340","v":0},null,null,null,null,null,null,null,null,null,null,null,null,null,null,null,null,null,null,null,{"$f":"AL345","v":true}]
[null,null,null,null,null,null,null,null,null,null,null,null,{"$f":"Translations!$B$689","v":"Bendra biomasės energetinė vertė:"},null,"TJ",null,{"$f":"EUconst_SumBioEnergyIN & \"_\" & K336","v":"SUM_BioEnergyIN_"},{"$f":"N341","v":0},null,null,null,null,null,null,null,null,null,null,null,null,null,null,null,null,null,null,null,{"$f":"AL340","v":true}]
[]
[null,null,null,"(a)",{"$f":"Translations!$B$690","v":"Skaičiavimai"}]
[]
[null,null,null,null,{"$f":"Translations!$B$691","v":"Informacija apie susijusius sukėliklius, jeigu taikytina:"},null,null,null,null,{"$f":"Translations!$B$692","v":"Patvirtinamųjų skaičiavimų rezultatas (iškastinis kuras):"},null,null,null,null,null,null,null,null,null,null,null,null,null,null,null,null,null,null,null,null,null,null,null,null,null,null,{"$f":"IF(E337=\"\",FALSE,MATCH(E337,EUconst_CEMSType,0)=2)","v":false},{"$f":"OR(CNTR_MeasurementRelevant=EUconst_NotRelevant,AND(COUNTA(CNTR_ListRelevantSections)>0,G337=\"\"))","v":true}]
[null,null,null,null,null,null,null,null,null,{"$f":"Translations!$B$693","v":"Patvirtinamųjų skaičiavimų rezultatas (biomasė):"},null,null,null,null,null,null,null,null,null,null,null,null,null,null,null,null,null,null,null,null,null,null,null,null,null,null,{"$f":"AK345","v":false},{"$f":"AL345","v":true}]
[]
[null,null,null,null,null,null,null,null,null,null,null,{"$f":"EUconst_Unit","v":"Vienetas"}]
[null,null,null,null,{"$f":"Translations!$B$162","v":"Naudojama pakopa."},null,"i.",{"$f":"Translations!$B$694","v":"ŠESD koncentracija (metinis valandinis vidurkis):"},null,null,null,{"$f":"EUconst_gpNm3","v":"g/Nm3"},null,null,null,null,null,null,null,null,null,null,null,null,null,null,null,null,null,null,null,null,null,null,null,null,null,{"$f":"AL346","v":true}]
[null,null,null,null,null,{"$f":"IF(OR(ISBLANK(F349),F349=EUconst_NoTier),\"\",IF(R351=EUconst_NA,EUconst_NA,IF(ISERROR(R351),\"\",R351)))","v":""},null,null,null,null,null,null,null,null,null,null,null,"tier text"]
[null,null,null,null,null,null,"ii.",{"$f":"Translations!$B$682","v":"Biomasės dalis:"},null,null,null,"-",null,null,null,null,null,{"$f":"IF(F349=\"\",\"\",IF(F349=EUconst_NA,\"\",INDEX(EUwideConstants!$H$674:$M$676,MATCH(E337,EUwideConstants!$B$674:$B$676,0),MATCH(F349,CNTR_TierList,0))))","v":""},null,null,null,null,null,null,null,null,null,null,null,null,null,null,null,null,null,null,null,{"$f":"AL349","v":true}]
[null,null,null,null,null,null,"iii.",{"$f":"Translations!$B$683","v":"netvarios biomasės dalis:"},null,null,null,"-",null,null,null,null,null,null,null,null,null,null,null,null,null,null,null,null,null,null,null,null,null,null,null,null,null,{"$f":"AL351","v":true}]
[null,null,null,null,{"$f":"Translations!$B$684","v":"VAP:"},{"$f":"IF(OR(G337=\"\",F354<>\"\"),\"\",IF(T337=2,298,1))","v":""},"iv.",{"$f":"Translations!$B$695","v":"Veikimo valandos:"},null,null,null,{"$f":"EUconst_hpa","v":"val./metai"},null,null,null,null,null,null,null,null,null,null,null,null,null,null,null,null,null,null,null,null,null,null,null,null,null,{"$f":"AL351","v":true}]
[null,null,null,null,{"$f":"Translations!$B$696","v":"(CO2(e) tonos / ŠESD tonos)"},null,"v.",{"$f":"Translations!$B$697","v":"Kaminų dujų srautas (metinis valandinis vidurkis):"},null,null,null,{"$f":"EUconst_Nm3ph","v":"1 000 Nm3/h"},null,null,null,null,null,"GWP",null,null,null,null,null,null,null,null,null,null,null,null,null,null,null,null,null,null,null,{"$f":"AL353","v":true}]
[null,null,null,null,null,null,"vi.",{"$f":"Translations!$B$698","v":"Kaminų dujų srautas (bendras metinis kiekis):"},null,null,null,{"$f":"EUconst_kNm3pa","v":"1 000 Nm3/m."},{"$f":"IF(COUNT(M353,M354)=2,M353*M354,\"\")","v":""},null,null,null,null,{"$f":"IF(F354=\"\",F353,F354)","v":""}]
[]
[null,null,null,null,null,null,"vii.",{"$f":"Translations!$B$699","v":"Metinis deginant iškastinį kurą išmestas ŠESD kiekis"},null,null,null,{"$f":"EUconst_t","v":"t"},{"$f":"IF(G337=\"\",\"\",ROUND(M349*M353*M354*10^-3*(1-M351),0))","v":""}]
[]
[null,null,null,"(b)",{"$f":"Translations!$B$700","v":"Perduotasis / būdingasis CO2"}]
[]
[null,null,null,"i.",{"$f":"Translations!$B$170","v":"Įrenginio pavadinimas"},null,null,null,null,null,null,null,null,null,null,null,{"$f":"IF(I364=\"\",\"\",C337 & \"_\" & EUconst_CNTR_CCSInstName & I364)","v":""},null,null,null,null,null,null,null,null,null,null,null,null,null,null,null,null,null,null,null,null,{"$f":"OR(CNTR_MeasurementRelevant=EUconst_NotRelevant,AND(COUNTA(CNTR_ListRelevantSections)>0,OR(G337=\"\",V337=TRUE)))","v":true}]
[null,null,null,"ii.",{"$f":"Translations!$B$79","v":"Veiklos vykdytojo pavadinimas"},null,null,null,null,null,null,null,null,null,null,null,{"$f":"IF(I364=\"\",\"\",C337 & \"_\" & EUconst_CNTR_CCSOpName & I364)","v":""},null,null,null,null,null,null,null,null,null,null,null,null,null,null,null,null,null,null,null,null,{"$f":"AL361","v":true}]
[null,null,null,"iii.",{"$f":"Translations!$B$171","v":"Įrenginio unikalus ID"},null,null,null,null,null,null,null,null,null,null,null,{"$f":"IF(I364=\"\",\"\",C337 & \"_\" & EUconst_CNTR_CCSInstID & I364)","v":""},"is transferred out?",null,null,null,null,null,null,null,null,null,null,null,null,null,null,null,null,null,null,null,{"$f":"AL362","v":true}]
[null,null,null,"iv.",{"$f":"Translations!$B$169","v":"Perdavimo tipas"},null,null,null,null,null,null,null,null,null,null,null,null,{"$f":"IF(I364=\"\",\"\",I364=INDEX(EUconst_CO2TransferTypes,5))","v":""},{"$f":"IF(AND(R364=TRUE,AL364=FALSE),-1,1)","v":1},null,null,null,null,null,null,null,null,null,null,null,null,null,null,null,null,null,null,{"$f":"AL363","v":true}]
[]
[]
[null,null,null,null,{"$f":"Translations!$B$701","v":"Pastabos (pvz., patvirtinamųjų skaičiavimų aprašas arba ar trūksta didelės duomenų dalies):"}]
[null,null,null,null,null,null,null,null,null,null,null,null,null,null,null,null,null,null,null,null,null,null,null,null,null,null,null,null,null,null,null,null,null,null,null,null,null,{"$f":"D_MeasurementBasedApproaches!AL354","v":true}]
[null,null,null,null,null,null,null,null,null,null,null,null,null,null,null,null,null,null,null,null,null,null,null,null,null,null,null,null,null,null,null,null,null,null,null,null,null,{"$f":"AL368","v":true}]
[]
[]
[null,null,null,null,null,{"$f":"EUconst_MsgNextSheet","v":"<<< Į kitą lapą pereisite paspaudę čia >>> "}]
[]
[]
[]
["ausblenden","End","End","End","End","End","End","End","End","End","End","End","End","End","End",null,"End","End","End",null,null,null,"End","End",null,null,null,null,null,null,null,null,null,null,null,null,"End"]
["ausblenden"]
["ausblenden",null,null,null,null,null,null,null,"source stream",null,null,null,"Range"]
["ausblenden",null,null,null,null,1,{"$f":"INDEX(CNTR_MeasurementPoints,F379)","v":"netaik."},{"$f":"IF(G379=EUconst_NA,\"\",MAX($H$378:H378)+1)","v":""},{"$f":"IF(COUNTIF($H$379:$H$388,F379)=0,\"\",INDEX($G$379:$G$388,MATCH(F379,$H$379:$H$388,0)))","v":""},null,null,null,{"$f":"IF(COUNT(H379:H388)=0,\"\",\"$I$\"&ROW(I379)&\":$I$\"& ROW(I379)-1+MAX(1,H379:H388))","v":""}]
["ausblenden",null,null,null,null,2,"netaik.",{"$f":"IF(G380=EUconst_NA,\"\",MAX($H$378:H379)+1)","v":""},{"$f":"IF(COUNTIF($H$379:$H$388,F380)=0,\"\",INDEX($G$379:$G$388,MATCH(F380,$H$379:$H$388,0)))","v":""}]
["ausblenden",null,null,null,null,3,"netaik.",{"$f":"IF(G381=EUconst_NA,\"\",MAX($H$378:H380)+1)","v":""},""]
["ausblenden",null,null,null,null,4,"netaik.",{"$f":"IF(G382=EUconst_NA,\"\",MAX($H$378:H381)+1)","v":""},""]
["ausblenden",null,null,null,null,5,"netaik.",{"$f":"IF(G383=EUconst_NA,\"\",MAX($H$378:H382)+1)","v":""},""]
["ausblenden",null,null,null,null,6,"netaik.",{"$f":"IF(G384=EUconst_NA,\"\",MAX($H$378:H383)+1)","v":""},""]
["ausblenden",null,null,null,null,7,"netaik.",{"$f":"IF(G385=EUconst_NA,\"\",MAX($H$378:H384)+1)","v":""},""]
["ausblenden",null,null,null,null,8,"netaik.",{"$f":"IF(G386=EUconst_NA,\"\",MAX($H$378:H385)+1)","v":""},""]
["ausblenden",null,null,null,null,9,"netaik.",{"$f":"IF(G387=EUconst_NA,\"\",MAX($H$378:H386)+1)","v":""},""]
["ausblenden",null,null,null,null,10,"netaik.",{"$f":"IF(G388=EUconst_NA,\"\",MAX($H$378:H387)+1)","v":""},""]
["ausblenden"]

{"sheet":"E_Fall-backApproach","index":6,"n_rows":55,"n_cols":25,"rows_kept":55,"cut":false,"hidden":false,"merged":[[5,2,5,10],[5,11,5,13],[7,10,7,13],[9,3,9,13],[14,5,14,13],[11,3,12,4],[11,5,11,13],[12,6,12,13],[13,6,13,13],[1,1,3,3],[1,10,1,11],[2,4,2,5],[1,12,1,13],[2,6,2,7],[3,8,3,9],[3,10,3,11],[1,6,1,7],[3,6,3,7],[3,12,3,13],[2,12,2,13],[1,8,1,9],[2,10,2,11],[2,8,2,9],[3,4,3,5],[1,4,1,5],[54,5,54,11],[39,4,39,13],[40,4,40,13],[41,4,41,13],[46,4,46,13],[45,4,45,13],[44,4,44,13],[43,4,43,13],[42,4,42,13],[49,4,49,13],[50,4,50,13],[51,10,51,13],[51,4,51,9],[17,3,17,4],[17,5,17,13],[16,6,16,13],[15,6,15,13],[14,3,15,4],[18,3,18,4],[18,5,18,13],[38,4,38,13],[33,4,33,13],[36,4,36,13],[31,4,31,13],[34,4,34,13],[37,4,37,13],[35,4,35,13],[32,4,32,13],[30,4,30,13],[19,5,19,13],[23,4,23,8],[19,3,19,4]]}
["ausblenden",null,null,null,null,null,null,null,null,null,null,null,null,null,null,"ausblenden","ausblenden","ausblenden","ausblenden","ausblenden","ausblenden","ausblenden","ausblenden","ausblenden","ausblenden"]
[null,{"$f":"Translations!$B$702","v":"E. Fall-back approaches (Alternatyvūs metodai)"},null,null,{"$f":"Translations!$B$23","v":"Naršymo laukas"},null,{"$f":"Translations!$B$24","v":"Turinys"},null,{"$f":"Translations!$B$25","v":"Ankstesnis lapas"},null,{"$f":"Translations!$B$26","v":"Kitas lapas"}]
[null,null,null,null,{"$f":"Translations!$B$27","v":"Lapo viršus"}]
[null,null,null,null,{"$f":"Translations!$B$28","v":"Lapo galas"}]
[]
[null,null,{"$f":"Translations!$B$703","v":"E. Alternatyvūs metodai"},null,null,null,null,null,null,null,null,{"$f":"IF(CNTR_InstHasFallBack=TRUE,EUconst_Relevant,IF(COUNTA(CNTR_ListRelevantSections)>0,EUconst_NotRelevant,EUconst_Relevant))","v":"nesvarbu"},null,null,null,null,"CNTR_FallBackRelevant"]
[]
[null,null,null,null,null,null,null,null,null,null,{"$f":"IF(L6=EUconst_NotRelevant,HYPERLINK(\"#JUMP_14\",EUconst_MsgNextSheet),HYPERLINK(\"\",EUconst_MsgEnterThisSection))","v":"<<< Į kitą lapą pereisite paspaudę čia >>> "}]
[]
[null,null,10,{"$f":"Translations!$B$704","v":"Išmetamųjų ŠESD kiekio nustatymas taikant alternatyvius metodus"}]
[]
[null,null,null,{"$f":"Translations!$B$686","v":"Bendras deginant iškastinį kurą išmestas ŠESD kiekis:"},null,{"$f":"Translations!$B$705","v":"Ši vertė turėtų būti susijusi su visu išmetamųjų ŠESD kiekiu, atitinkančiu šias sąlygas:"}]
[null,null,null,null,null,"-",{"$f":"Translations!$B$706","v":"išmetamųjų ŠESD šaltinis yra iškastinis kuras arba medžiagos, įskaitant iškastinio kuro dalį mišriose medžiagose, sudarytose iš iškastinio kuro ir biomasės;"}]
[null,null,null,null,null,"-",{"$f":"Translations!$B$707","v":"išmetamųjų ŠESD šaltinis yra biomasė, kuriai taikomi tvarumo kriterijai ir kuri tų kriterijų neatitinka."}]
[null,null,null,{"$f":"Translations!$B$687","v":"Bendras deginant biomasę išmestas ŠESD kiekis:"},null,{"$f":"Translations!$B$643","v":"Ši vertė turėtų būti susijusi su visa biomase, atitinkančia šias sąlygas:"}]
[null,null,null,null,null,"-",{"$f":"Translations!$B$644","v":"jai netaikomi tvarumo kriterijai (pvz., jeigu tai kietasis kuras) ARBA"}]
[null,null,null,null,null,"-",{"$f":"Translations!$B$645","v":"jai taikomi tvarumo kriterijai ir ji tuos kriterijus atitinka."}]
[null,null,null,{"$f":"Translations!$B$688","v":"Bendra iškastinio kuro energetinė vertė:"},null,{"$f":"Translations!$B$708","v":"Ši vertė turėtų būti susijusi tik su iškastinio kuro išteklių, įtraukiamų skaičiuojant „bendrą deginant biomasę išmestą ŠESD kiekį“, energetine verte."}]
[null,null,null,{"$f":"Translations!$B$689","v":"Bendra biomasės energetinė vertė:"},null,{"$f":"Translations!$B$709","v":"Ši vertė turėtų būti susijusi tik su biomasės, įtraukiamos skaičiuojant „bendrą deginant biomasę išmestą ŠESD kiekį“, t. y. ne biomasės, kuriai taikomi tvarumo kriterijai ir kuri tų kriterijų neatitinka, energetine verte."}]
[null,null,null,{"$f":"Translations!$B$710","v":"Bendras deginant netvarią biomasę išmestas ŠESD kiekis:"},null,{"$f":"Translations!$B$649","v":"Ši vertė turėtų būti susijusi tik su tokia biomase, kuriai taikomi tvarumo kriterijai ir kuri tų kriterijų neatitinka."}]
[]
[null,null,null,null,null,null,null,null,null,null,null,null,null,null,null,null,null,null,"Accounting"]
[null,null,null,null,{"$f":"Translations!$B$691","v":"Informacija apie susijusius sukėliklius, jeigu taikytina:"},null,null,null,null,null,null,null,{"$f":"Translations!$B$686","v":"Bendras deginant iškastinį kurą išmestas ŠESD kiekis:"},null,"t CO2e",null,{"$f":"EUconst_SumCO2 & \"_\" & EUconst_FallBack","v":"SUM_CO2_Alternatyvus metodas"},null,{"$f":"N23","v":0},{"$f":"N24","v":0},{"$f":"R29","v":0},{"$f":"R26","v":0},{"$f":"R27","v":0},null,{"$f":"CNTR_FallBackRelevant=EUconst_NotRelevant","v":true}]
[null,null,null,null,null,null,null,null,null,null,null,null,{"$f":"Translations!$B$687","v":"Bendras deginant biomasę išmestas ŠESD kiekis:"},null,"t CO2e",null,{"$f":"EUconst_SumBioCO2 & \"_\" & EUconst_FallBack","v":"SUM_bioCO2_Alternatyvus metodas"},null,"CO2 fossil","CO2 bio","CO2 non-sust","CO2 ENIN fossil","CO2 ENIN bio",null,{"$f":"Y23","v":true}]
[]
[null,null,null,null,null,null,null,null,null,null,null,null,{"$f":"Translations!$B$688","v":"Bendra iškastinio kuro energetinė vertė:"},null,"TJ",null,{"$f":"EUconst_SumEnergyIN & \"_\" & K22","v":"SUM_EnergyIN_"},{"$f":"N26","v":0},null,null,null,null,null,null,{"$f":"Y29","v":true}]
[null,null,null,null,null,null,null,null,null,null,null,null,{"$f":"Translations!$B$689","v":"Bendra biomasės energetinė vertė:"},null,"TJ",null,{"$f":"EUconst_SumBioEnergyIN & \"_\" & K22","v":"SUM_BioEnergyIN_"},{"$f":"N27","v":0},null,null,null,null,null,null,{"$f":"Y26","v":true}]
[]
[null,null,null,null,null,null,null,null,null,null,null,null,{"$f":"Translations!$B$710","v":"Bendras deginant netvarią biomasę išmestas ŠESD kiekis:"},null,"t CO2e",null,{"$f":"EUconst_SumNonSustBioCO2 & \"_\" & K22","v":"SUM_bioNonSustCO2_"},{"$f":"N29","v":0},null,null,null,null,null,null,{"$f":"Y24","v":true}]
[]
[null,null,null,null,{"$f":"Translations!$B$711","v":"Taikyto alternatyvaus metodo aprašas:"}]
[null,null,null,null,null,null,null,null,null,null,null,null,null,null,null,null,null,null,null,null,null,null,null,null,{"$f":"Y24","v":true}]
[null,null,null,null,null,null,null,null,null,null,null,null,null,null,null,null,null,null,null,null,null,null,null,null,{"$f":"Y32","v":true}]
[null,null,null,null,null,null,null,null,null,null,null,null,null,null,null,null,null,null,null,null,null,null,null,null,{"$f":"Y33","v":true}]
[null,null,null,null,null,null,null,null,null,null,null,null,null,null,null,null,null,null,null,null,null,null,null,null,true]
[null,null,null,null,null,null,null,null,null,null,null,null,null,null,null,null,null,null,null,null,null,null,null,null,true]
[null,null,null,null,null,null,null,null,null,null,null,null,null,null,null,null,null,null,null,null,null,null,null,null,true]
[null,null,null,null,null,null,null,null,null,null,null,null,null,null,null,null,null,null,null,null,null,null,null,null,true]
[null,null,null,null,null,null,null,null,null,null,null,null,null,null,null,null,null,null,null,null,null,null,null,null,true]
[null,null,null,null,null,null,null,null,null,null,null,null,null,null,null,null,null,null,null,null,null,null,null,null,true]
[null,null,null,null,null,null,null,null,null,null,null,null,null,null,null,null,null,null,null,null,null,null,null,null,true]
[null,null,null,null,null,null,null,null,null,null,null,null,null,null,null,null,null,null,null,null,null,null,null,null,true]
[null,null,null,null,null,null,null,null,null,null,null,null,null,null,null,null,null,null,null,null,null,null,null,null,true]
[null,null,null,null,null,null,null,null,null,null,null,null,null,null,null,null,null,null,null,null,null,null,null,null,true]
[null,null,null,null,null,null,null,null,null,null,null,null,null,null,null,null,null,null,null,null,null,null,null,null,true]
[null,null,null,null,null,null,null,null,null,null,null,null,null,null,null,null,null,null,null,null,null,null,null,null,true]
[null,null,null,null,null,null,null,null,null,null,null,null,null,null,null,null,null,null,null,null,null,null,null,null,true]
[]
[null,null,null,null,{"$f":"Translations!$B$712","v":"Metinis neapibrėžties įvertinimas:"}]
[null,null,null,null,{"$f":"Translations!$B$713","v":"SAR 22 straipsnio b punkte reikalaujama kiekvienais metais įvertinti ir kiekybiškai nustatyti visų parametrų, kurie pagal alternatyvų metodą naudojami apibrėžiant metinį išmetamųjų ŠESD kiekį, neapibrėžtį. Šio vertinimo rezultatai turi būti įtraukti į metinę išmetamųjų ŠESD kiekio ataskaitą."}]
[null,null,null,null,{"$f":"Translations!$B$714","v":"Pridėkite šį neapibrėžties vertinimą, aiškiai nurodydami, kodėl bent vieno sukėliklio arba taršos šaltinio atveju galima nepasiekti I pakopos. "}]
[null,null,null,null,{"$f":"Translations!$B$715","v":"Nuoroda į rinkmeną, kurioje pateiktas neapibrėžties vertinimas."},null,null,null,null,null,null,null,null,null,null,null,null,null,null,null,null,null,null,null,{"$f":"Y47","v":true}]
[]
[]
[null,null,null,null,null,{"$f":"EUconst_MsgNextSheet","v":"<<< Į kitą lapą pereisite paspaudę čia >>> "}]

{"sheet":"F_PFC","index":7,"n_rows":394,"n_cols":63,"rows_kept":394,"cut":false,"hidden":false,"merged":[[314,4,314,9],[345,4,345,9],[327,8,327,9],[336,8,336,9],[338,8,338,9],[340,3,340,5],[346,4,346,9],[250,4,250,9],[281,4,281,9],[282,4,282,9],[313,4,313,9],[342,3,342,4],[342,5,342,13],[327,6,327,7],[329,8,329,9],[330,8,330,9],[322,6,322,7],[322,8,322,9],[323,6,323,7],[323,8,323,9],[332,8,332,9],[333,8,333,9],[335,8,335,9],[324,6,324,7],[354,6,354,7],[354,8,354,9],[355,6,355,7],[355,8,355,9],[356,6,356,7],[356,8,356,9],[357,6,357,7],[357,8,357,9],[374,3,374,4],[374,5,374,13],[364,8,364,9],[365,8,365,9],[367,8,367,9],[368,8,368,9],[370,8,370,9],[372,3,372,5],[361,8,361,9],[362,8,362,9],[358,6,358,7],[358,8,358,9],[359,6,359,7],[359,8,359,9],[348,4,348,11],[350,6,350,7],[350,8,350,9],[350,10,350,11],[351,6,351,7],[351,8,351,9],[351,10,351,11],[353,6,353,7],[353,8,353,9],[324,8,324,9],[325,6,325,7],[325,8,325,9],[326,6,326,7],[326,8,326,9],[316,4,316,11],[318,6,318,7],[318,8,318,9],[318,10,318,11],[319,6,319,7],[319,8,319,9],[319,10,319,11],[321,6,321,7],[321,8,321,9],[295,6,295,7],[295,8,295,9],[297,8,297,9],[298,8,298,9],[300,8,300,9],[301,8,301,9],[310,3,310,4],[310,5,310,13],[303,8,303,9],[304,8,304,9],[306,8,306,9],[308,3,308,5],[290,6,290,7],[290,8,290,9],[291,6,291,7],[291,8,291,9],[292,6,292,7],[292,8,292,9],[293,6,293,7],[293,8,293,9],[294,6,294,7],[294,8,294,9],[284,4,284,11],[286,6,286,7],[286,8,286,9],[286,10,286,11],[287,6,287,7],[287,8,287,9],[287,10,287,11],[289,6,289,7],[289,8,289,9],[265,8,265,9],[266,8,266,9],[268,8,268,9],[269,8,269,9],[278,3,278,4],[278,5,278,13],[271,8,271,9],[272,8,272,9],[274,8,274,9],[276,3,276,5],[259,6,259,7],[259,8,259,9],[260,6,260,7],[260,8,260,9],[261,6,261,7],[261,8,261,9],[262,6,262,7],[262,8,262,9],[263,6,263,7],[263,8,263,9],[254,6,254,7],[254,8,254,9],[254,10,254,11],[255,6,255,7],[255,8,255,9],[255,10,255,11],[257,6,257,7],[257,8,257,9],[258,6,258,7],[258,8,258,9],[234,8,234,9],[236,8,236,9],[237,8,237,9],[230,6,230,7],[230,8,230,9],[231,6,231,7],[231,8,231,9],[252,4,252,11],[246,5,246,13],[249,4,249,9],[246,3,246,4],[239,8,239,9],[240,8,240,9],[242,8,242,9],[244,3,244,5],[233,8,233,9],[225,6,225,7],[225,8,225,9],[226,6,226,7],[226,8,226,9],[227,6,227,7],[227,8,227,9],[228,6,228,7],[228,8,228,9],[229,6,229,7],[229,8,229,9],[199,6,199,7],[199,8,199,9],[201,8,201,9],[202,8,202,9],[220,4,220,11],[222,6,222,7],[222,8,222,9],[222,10,222,11],[223,6,223,7],[223,8,223,9],[223,10,223,11],[217,4,217,9],[218,4,218,9],[204,8,204,9],[205,8,205,9],[214,3,214,4],[214,5,214,13],[207,8,207,9],[208,8,208,9],[210,8,210,9],[212,3,212,5],[194,6,194,7],[194,8,194,9],[195,6,195,7],[195,8,195,9],[196,6,196,7],[196,8,196,9],[197,6,197,7],[197,8,197,9],[198,6,198,7],[198,8,198,9],[188,4,188,11],[190,6,190,7],[190,8,190,9],[190,10,190,11],[191,6,191,7],[191,8,191,9],[191,10,191,11],[193,6,193,7],[193,8,193,9],[173,8,173,9],[175,8,175,9],[176,8,176,9],[178,8,178,9],[180,3,180,5],[182,3,182,4],[182,5,182,13],[185,4,185,9],[186,4,186,9],[165,6,165,7],[165,8,165,9],[166,6,166,7],[166,8,166,9],[167,6,167,7],[167,8,167,9],[169,8,169,9],[170,8,170,9],[172,8,172,9],[162,6,162,7],[162,8,162,9],[122,4,122,9],[153,4,153,9],[154,4,154,9],[159,6,159,7],[163,6,163,7],[163,8,163,9],[164,6,164,7],[164,8,164,9],[161,6,161,7],[161,8,161,9],[130,6,130,7],[146,8,146,9],[141,8,141,9],[134,6,134,7],[126,6,126,7],[126,8,126,9],[132,6,132,7],[132,8,132,9],[156,4,156,11],[158,10,158,11],[150,3,150,4],[150,5,150,13],[159,10,159,11],[129,6,129,7],[129,8,129,9],[159,8,159,9],[95,10,95,11],[97,6,97,7],[70,8,70,9],[71,6,71,7],[94,10,94,11],[71,8,71,9],[73,8,73,9],[74,8,74,9],[76,8,76,9],[94,6,94,7],[89,4,89,9],[90,4,90,9],[92,4,92,11],[82,8,82,9],[94,8,94,9],[97,8,97,9],[95,6,95,7],[95,8,95,9],[102,6,102,7],[102,8,102,9],[5,2,5,10],[2,12,2,13],[42,5,42,13],[25,7,25,10],[32,4,32,13],[49,5,49,13],[28,3,28,13],[40,5,40,13],[41,5,41,13],[39,5,39,13],[48,5,48,13],[44,4,44,13],[21,11,21,13],[22,11,22,13],[26,7,26,10],[26,11,26,13],[22,7,22,10],[25,4,25,6],[24,7,24,10],[26,4,26,6],[22,4,22,6],[25,11,25,13],[46,4,46,13],[47,4,47,13],[377,5,377,11],[13,3,13,13],[50,5,50,13],[23,4,23,6],[23,7,23,10],[23,11,23,13],[57,4,57,9],[58,4,58,9],[38,5,38,13],[24,11,24,13],[16,11,16,13],[17,11,17,13],[65,6,65,7],[63,8,63,9],[62,6,62,7],[62,10,62,11],[63,6,63,7],[63,10,63,11],[80,8,80,9],[66,8,66,9],[67,8,67,9],[68,8,68,9],[69,8,69,9],[70,6,70,7],[1,4,1,5],[2,4,2,5],[1,10,1,11],[2,6,2,7],[2,8,2,9],[3,6,3,7],[3,8,3,9],[3,10,3,11],[3,4,3,5],[2,10,2,11],[1,8,1,9],[1,6,1,7],[3,12,3,13],[21,7,21,10],[21,4,21,6],[11,3,11,13],[7,10,7,13],[20,4,20,6],[14,3,14,13],[19,11,19,13],[19,7,19,10],[20,7,20,10],[20,11,20,13],[19,4,19,6],[18,11,18,13],[17,4,17,6],[18,7,18,10],[9,3,9,13],[18,4,18,6],[16,4,16,6],[16,7,16,10],[17,7,17,10],[5,11,5,13],[12,3,12,13],[1,1,3,3],[1,12,1,13],[24,4,24,6],[36,5,36,13],[37,5,37,13],[33,5,33,13],[35,5,35,13],[53,5,53,13],[34,5,34,13],[66,6,66,7],[68,6,68,7],[30,4,30,13],[69,6,69,7],[77,8,77,9],[60,4,60,11],[54,5,54,13],[52,4,52,13],[86,3,86,4],[86,5,86,13],[62,8,62,9],[67,6,67,7],[65,8,65,9],[84,3,84,5],[79,8,79,9],[103,6,103,7],[103,8,103,9],[105,8,105,9],[106,8,106,9],[108,8,108,9],[109,8,109,9],[98,6,98,7],[98,8,98,9],[101,6,101,7],[101,8,101,9],[99,6,99,7],[99,8,99,9],[100,6,100,7],[100,8,100,9],[111,8,111,9],[112,8,112,9],[124,4,124,11],[121,4,121,9],[114,8,114,9],[116,3,116,5],[131,6,131,7],[118,3,118,4],[118,5,118,13],[130,8,130,9],[131,8,131,9],[127,10,127,11],[127,6,127,7],[127,8,127,9],[126,10,126,11],[138,8,138,9],[140,8,140,9],[143,8,143,9],[148,3,148,5],[133,6,133,7],[133,8,133,9],[135,8,135,9],[137,8,137,9],[158,6,158,7],[158,8,158,9],[144,8,144,9],[134,8,134,9],[135,6,135,7]]}
["ausblenden",null,null,null,null,null,null,null,null,null,null,null,null,null,null,"ausblenden","ausblenden","ausblenden","ausblenden","ausblenden","ausblenden","ausblenden","ausblenden","ausblenden","ausblenden","ausblenden","ausblenden","ausblenden","ausblenden","ausblenden","ausblenden","ausblenden","ausblenden","ausblenden","ausblenden","ausblenden","ausblenden","ausblenden","ausblenden","ausblenden","ausblenden","ausblenden","ausblenden","ausblenden","ausblenden","ausblenden","ausblenden","ausblenden","ausblenden","ausblenden","ausblenden","ausblenden","ausblenden","ausblenden","ausblenden","ausblenden","ausblenden","ausblenden","ausblenden","ausblenden","ausblenden","ausblenden","ausblenden"]
[null,{"$f":"Translations!$B$716","v":"F. PFC emissions (Išmetamas PFC kiekis)"},null,null,{"$f":"Translations!$B$23","v":"Naršymo laukas"},null,{"$f":"Translations!$B$24","v":"Turinys"},null,{"$f":"Translations!$B$25","v":"Ankstesnis lapas"},null,{"$f":"Translations!$B$26","v":"Kitas lapas"}]
[null,null,null,null,{"$f":"Translations!$B$27","v":"Lapo viršus"},null,{"$f":"Translations!$B$8","v":"Išmetamo PFC kiekio nustatymas"},null,{"$f":"EUwideConstants!$A$138","v":"PFC"},null,null,null,null,null,null,null,null,null,null,null,"Print area:",{"$f":"ADDRESS(ROW($B$5),COLUMN($B$5)) & \":\" & ADDRESS(IF(CNTR_PFCRelevant=EUconst_NotRelevant,ROW(P58),ROW(P346))+ROW($P$88)-ROW($P$58),COLUMN($O$5))","v":"$B$5:$O$88"}]
[null,null,null,null,{"$f":"Translations!$B$28","v":"Lapo galas"}]
[]
[null,null,{"$f":"Translations!$B$501","v":"F. Gaminant pirminį aliuminį išmetamo PFC kiekio nustatymas"},null,null,null,null,null,null,null,null,{"$f":"IF(CNTR_InstHasPFC=TRUE,EUconst_Relevant,IF(COUNTA(CNTR_ListRelevantSections)>0,EUconst_NotRelevant,EUconst_Relevant))","v":"nesvarbu"},null,null,null,null,"CNTR_PFCRelevant"]
[]
[null,null,null,null,null,null,null,null,null,null,{"$f":"IF(L6=EUconst_NotRelevant,HYPERLINK(\"#JUMP_DG\",EUconst_MsgNextSheet),HYPERLINK(\"\",EUconst_MsgEnterThisSection))","v":"<<< Į kitą lapą pereisite paspaudę čia >>> "}]
[]
[null,null,11,{"$f":"Translations!$B$163","v":"Sukėliklių, kurie turi būti stebimi dėl PFC, sąrašas:"}]
[]
[null,null,null,{"$f":"Translations!$B$717","v":"Nustatant išmetamą PFC kiekį gali būti taikomi du metodai (A – nuolydžio metodas, B – viršįtampio metodas). Įrenginyje gali būti naudojamos kelių tipų elektrolizės vonios (pvz., skirtingų technologijų arba surinkimo metų), kurioms gali būti būdingos skirtingos taršos charakteristikos."}]
[null,null,null,{"$f":"Translations!$B$718","v":"Tokiu pat metodu stebimos elektrolizės vonių grupės su vienodomis taršos charakteristikomis (tokiais pat išmetamųjų teršalų faktoriais) turėtų būti laikomos „vienu sukėlikliu\" (t. y. stebėtinu objektu), kaip ir taikant kitus skaičiavimu grindžiamus stebėsenos metodus. "}]
[null,null,null,{"$f":"Translations!$B$719","v":"Šiame Jūsų įrenginio sukėliklių sąraše nurodykite stebėsenos metodiką ir, jeigu taikytina, elektrolizės vonios ir (arba) anodo tipą. Šis sąrašas automatiškai paimamas iš lapo „B_InstallationDescription“ („B. Įrenginio aprašas“) 7 dalies b punkto."}]
[null,null,null,{"$f":"Translations!$B$164","v":"Šis sąrašas bus naudojamas tolesniame skirsnyje nustatant kitus kiekvieno sukėliklio duomenis."}]
[]
[null,null,null,null,{"$f":"Translations!$B$129","v":"Sukėliklio pavadinimas"},null,null,{"$f":"Translations!$B$130","v":"Sukėliklio tipas"},null,null,null,{"$f":"Translations!$B$165","v":"Elektrolizės vonios tipas"},null,null,null,null,null,null,null,"CNTR_PFCSourceStreamNames","Monitoring method"]
[null,null,null,{"$f":"IF(COUNTIF(CNTR_CheckPFC,S18)=0,\"\",INDEX(B_InstallationDescription!$D$65:$D$139,MATCH(S18,CNTR_CheckPFC,0)))","v":""},{"$f":"IF(D18=\"\",\"\",INDEX(B_InstallationDescription!$Y$65:$Y$139,MATCH(D18,B_InstallationDescription!$D$65:$D$139,0)))","v":""},null,null,{"$f":"IF(D18=\"\",\"\",INDEX(B_InstallationDescription!$E$65:$E$139,MATCH(D18,B_InstallationDescription!$D$65:$D$139,0)))","v":""},null,null,null,{"$f":"IF(E18=\"\",\"\",INDEX(B_InstallationDescription!$I$65:$I$139,MATCH(D18,B_InstallationDescription!$D$65:$D$139,0)))","v":""},null,null,null,null,null,null,1,{"$f":"IF(D18=\"\",EUconst_NA,E18)","v":"netaik."},{"$f":"IF(D18=\"\",\"\",IF(MATCH(H18,EUConst_TierActivityListNames,0)=41,1,2))","v":""}]
[null,null,null,{"$f":"IF(COUNTIF(CNTR_CheckPFC,S19)=0,\"\",INDEX(B_InstallationDescription!$D$65:$D$139,MATCH(S19,CNTR_CheckPFC,0)))","v":""},{"$f":"IF(D19=\"\",\"\",INDEX(B_InstallationDescription!$Y$65:$Y$139,MATCH(D19,B_InstallationDescription!$D$65:$D$139,0)))","v":""},null,null,{"$f":"IF(D19=\"\",\"\",INDEX(B_InstallationDescription!$E$65:$E$139,MATCH(D19,B_InstallationDescription!$D$65:$D$139,0)))","v":""},null,null,null,{"$f":"IF(E19=\"\",\"\",INDEX(B_InstallationDescription!$I$65:$I$139,MATCH(D19,B_InstallationDescription!$D$65:$D$139,0)))","v":""},null,null,null,null,null,null,2,"netaik.",""]
[null,null,null,{"$f":"IF(COUNTIF(CNTR_CheckPFC,S20)=0,\"\",INDEX(B_InstallationDescription!$D$65:$D$139,MATCH(S20,CNTR_CheckPFC,0)))","v":""},{"$f":"IF(D20=\"\",\"\",INDEX(B_InstallationDescription!$Y$65:$Y$139,MATCH(D20,B_InstallationDescription!$D$65:$D$139,0)))","v":""},null,null,{"$f":"IF(D20=\"\",\"\",INDEX(B_InstallationDescription!$E$65:$E$139,MATCH(D20,B_InstallationDescription!$D$65:$D$139,0)))","v":""},null,null,null,{"$f":"IF(E20=\"\",\"\",INDEX(B_InstallationDescription!$I$65:$I$139,MATCH(D20,B_InstallationDescription!$D$65:$D$139,0)))","v":""},null,null,null,null,null,null,3,"netaik.",""]
[null,null,null,{"$f":"IF(COUNTIF(CNTR_CheckPFC,S21)=0,\"\",INDEX(B_InstallationDescription!$D$65:$D$139,MATCH(S21,CNTR_CheckPFC,0)))","v":""},{"$f":"IF(D21=\"\",\"\",INDEX(B_InstallationDescription!$Y$65:$Y$139,MATCH(D21,B_InstallationDescription!$D$65:$D$139,0)))","v":""},null,null,{"$f":"IF(D21=\"\",\"\",INDEX(B_InstallationDescription!$E$65:$E$139,MATCH(D21,B_InstallationDescription!$D$65:$D$139,0)))","v":""},null,null,null,{"$f":"IF(E21=\"\",\"\",INDEX(B_InstallationDescription!$I$65:$I$139,MATCH(D21,B_InstallationDescription!$D$65:$D$139,0)))","v":""},null,null,null,null,null,null,4,"netaik.",""]
[null,null,null,{"$f":"IF(COUNTIF(CNTR_CheckPFC,S22)=0,\"\",INDEX(B_InstallationDescription!$D$65:$D$139,MATCH(S22,CNTR_CheckPFC,0)))","v":""},{"$f":"IF(D22=\"\",\"\",INDEX(B_InstallationDescription!$Y$65:$Y$139,MATCH(D22,B_InstallationDescription!$D$65:$D$139,0)))","v":""},null,null,{"$f":"IF(D22=\"\",\"\",INDEX(B_InstallationDescription!$E$65:$E$139,MATCH(D22,B_InstallationDescription!$D$65:$D$139,0)))","v":""},null,null,null,{"$f":"IF(E22=\"\",\"\",INDEX(B_InstallationDescription!$I$65:$I$139,MATCH(D22,B_InstallationDescription!$D$65:$D$139,0)))","v":""},null,null,null,null,null,null,5,"netaik.",""]
[null,null,null,{"$f":"IF(COUNTIF(CNTR_CheckPFC,S23)=0,\"\",INDEX(B_InstallationDescription!$D$65:$D$139,MATCH(S23,CNTR_CheckPFC,0)))","v":""},{"$f":"IF(D23=\"\",\"\",INDEX(B_InstallationDescription!$Y$65:$Y$139,MATCH(D23,B_InstallationDescription!$D$65:$D$139,0)))","v":""},null,null,{"$f":"IF(D23=\"\",\"\",INDEX(B_InstallationDescription!$E$65:$E$139,MATCH(D23,B_InstallationDescription!$D$65:$D$139,0)))","v":""},null,null,null,{"$f":"IF(E23=\"\",\"\",INDEX(B_InstallationDescription!$I$65:$I$139,MATCH(D23,B_InstallationDescription!$D$65:$D$139,0)))","v":""},null,null,null,null,null,null,6,"netaik.",""]
[null,null,null,{"$f":"IF(COUNTIF(CNTR_CheckPFC,S24)=0,\"\",INDEX(B_InstallationDescription!$D$65:$D$139,MATCH(S24,CNTR_CheckPFC,0)))","v":""},{"$f":"IF(D24=\"\",\"\",INDEX(B_InstallationDescription!$Y$65:$Y$139,MATCH(D24,B_InstallationDescription!$D$65:$D$139,0)))","v":""},null,null,{"$f":"IF(D24=\"\",\"\",INDEX(B_InstallationDescription!$E$65:$E$139,MATCH(D24,B_InstallationDescription!$D$65:$D$139,0)))","v":""},null,null,null,{"$f":"IF(E24=\"\",\"\",INDEX(B_InstallationDescription!$I$65:$I$139,MATCH(D24,B_InstallationDescription!$D$65:$D$139,0)))","v":""},null,null,null,null,null,null,7,"netaik.",""]
[null,null,null,{"$f":"IF(COUNTIF(CNTR_CheckPFC,S25)=0,\"\",INDEX(B_InstallationDescription!$D$65:$D$139,MATCH(S25,CNTR_CheckPFC,0)))","v":""},{"$f":"IF(D25=\"\",\"\",INDEX(B_InstallationDescription!$Y$65:$Y$139,MATCH(D25,B_InstallationDescription!$D$65:$D$139,0)))","v":""},null,null,{"$f":"IF(D25=\"\",\"\",INDEX(B_InstallationDescription!$E$65:$E$139,MATCH(D25,B_InstallationDescription!$D$65:$D$139,0)))","v":""},null,null,null,{"$f":"IF(E25=\"\",\"\",INDEX(B_InstallationDescription!$I$65:$I$139,MATCH(D25,B_InstallationDescription!$D$65:$D$139,0)))","v":""},null,null,null,null,null,null,8,"netaik.",""]
[null,null,null,{"$f":"IF(COUNTIF(CNTR_CheckPFC,S26)=0,\"\",INDEX(B_InstallationDescription!$D$65:$D$139,MATCH(S26,CNTR_CheckPFC,0)))","v":""},{"$f":"IF(D26=\"\",\"\",INDEX(B_InstallationDescription!$Y$65:$Y$139,MATCH(D26,B_InstallationDescription!$D$65:$D$139,0)))","v":""},null,null,{"$f":"IF(D26=\"\",\"\",INDEX(B_InstallationDescription!$E$65:$E$139,MATCH(D26,B_InstallationDescription!$D$65:$D$139,0)))","v":""},null,null,null,{"$f":"IF(E26=\"\",\"\",INDEX(B_InstallationDescription!$I$65:$I$139,MATCH(D26,B_InstallationDescription!$D$65:$D$139,0)))","v":""},null,null,null,null,null,null,9,"netaik.",""]
[null,null,null,{"$f":"IF(COUNTIF(CNTR_CheckPFC,S27)=0,\"\",INDEX(B_InstallationDescription!$D$65:$D$139,MATCH(S27,CNTR_CheckPFC,0)))","v":""},{"$f":"IF(D27=\"\",\"\",INDEX(B_InstallationDescription!$Y$65:$Y$139,MATCH(D27,B_InstallationDescription!$D$65:$D$139,0)))","v":""},null,null,{"$f":"IF(D27=\"\",\"\",INDEX(B_InstallationDescription!$E$65:$E$139,MATCH(D27,B_InstallationDescription!$D$65:$D$139,0)))","v":""},null,null,null,{"$f":"IF(E27=\"\",\"\",INDEX(B_InstallationDescription!$I$65:$I$139,MATCH(D27,B_InstallationDescription!$D$65:$D$139,0)))","v":""},null,null,null,null,null,null,10,"netaik.",""]
[]
[null,null,12,{"$f":"Translations!$B$720","v":"Išmetamųjų PFC sukėlikliai"}]
[]
[null,null,null,null,{"$f":"Translations!$B$620","v":"Svarbu! Nuoseklumo sumetimais sukėliklius įveskite tokia pat eilės tvarka, kaip pateikta 7 dalies b punkte ir Jūsų naujausiame patvirtintame stebėsenos plane (tokia pat eilės tvarka ir naudodami tokius pat identifikatorius)."}]
[]
[null,null,null,null,{"$f":"Translations!$B$621","v":"Santrumpos:"}]
[null,null,null,null,{"$f":"Translations!$B$622","v":"VD:"},{"$f":"Translations!$B$721","v":"Veiklos duomenys – per metus pagaminamas pirminio aliuminio kiekis."}]
[null,null,null,null,{"$f":"Translations!$B$722","v":"A. Dažnis"},{"$f":"Translations!$B$723","v":"Anodinių efektų dažnis (anodinių efektų skaičius vienoje elektrolizės vonioje per parą)"}]
[null,null,null,null,{"$f":"Translations!$B$724","v":"A. Trukmė"},{"$f":"Translations!$B$725","v":"Vidutinė anodinių efektų trukmė (anodinių efektų trukmės minutėmis ir dažnio santykis)"}]
[null,null,null,null,{"$f":"Translations!$B$726","v":"A. NITF(CF4)"},{"$f":"Translations!$B$727","v":"Išmetamųjų teršalų faktorius pagal nuolydžio metodą."}]
[null,null,null,null,{"$f":"Translations!$B$728","v":"B. AEV"},{"$f":"Translations!$B$729","v":"Vienos elektrolizės vonios anodinio efekto viršįtampis."}]
[null,null,null,null,{"$f":"Translations!$B$730","v":"B. EN"},{"$f":"Translations!$B$731","v":"Vidutinis esamas našumas."}]
[null,null,null,null,{"$f":"Translations!$B$732","v":"B. VĮK"},{"$f":"Translations!$B$733","v":"Viršįtampio koeficientas (išmetamųjų teršalų faktorius)."}]
[null,null,null,null,{"$f":"Translations!$B$734","v":"F(C2F6)"},{"$f":"Translations!$B$735","v":"C2F6 svorio dalis."}]
[null,null,null,null,{"$f":"Translations!$B$736","v":"VAP(CF4)"},{"$f":"Translations!$B$737","v":"CF4 visuotinio atšilimo potencialas."}]
[null,null,null,null,{"$f":"Translations!$B$738","v":"VAP(C2F6)"},{"$f":"Translations!$B$739","v":"C2F6 visuotinio atšilimo potencialas."}]
[]
[null,null,null,null,{"$f":"Translations!$B$650","v":"Apskaičiavimo faktorių pakopos:"}]
[]
[null,null,null,null,{"$f":"Translations!$B$651","v":"Pagal 30 straipsnio 1 dalį apskaičiavimo faktoriai gali būti nustatomi kaip numatytosios vertės arba laboratorinės analizės būdu. Tai, kuris variantas turėtų būti taikomas, priklauso nuo taikomos pakopos."}]
[null,null,null,null,{"$f":"Translations!$B$652","v":"Galima rinktis iš šių pakopų kategorijų (pagal rekomendacinį dokumentą Nr. 1):"}]
[null,null,null,null,{"$f":"Translations!$B$740","v":"A metodas, I tipas"},{"$f":"Translations!$B$741","v":"I tipo numatytoji vertė: SAR IV priedo 8 skirsnio 1 lentelėje konkrečioms technologijoms nustatyti išmetamųjų teršalų faktoriai."}]
[null,null,null,null,{"$f":"Translations!$B$742","v":"B metodas, I tipas"},{"$f":"Translations!$B$743","v":"I tipo numatytoji vertė: SAR IV priedo 8 skirsnio 2 lentelėje konkrečioms technologijoms nustatyti išmetamųjų teršalų faktoriai."}]
[null,null,null,null,{"$f":"Translations!$B$744","v":"Konkretus ITF"},{"$f":"Translations!$B$745","v":"Iš konkretaus įrenginio išmetamiems CF4 ir C2F6 taikomi išmetamųjų teršalų faktoriai, nustatyti taikant nuolatinius arba pertraukiamus matavimus. Šie faktoriai nustatomi remiantis naujausia 2006 m. TKKK gairių 4.4.2.4 skirsnyje 3 pakopai nurodytų gairių versija, ne didesne kaip ± 15 proc. neapibrėžtimi."}]
[]
[null,null,null,null,{"$f":"Translations!$B$662","v":"Pranešimai apie klaidas:"}]
[null,null,null,null,{"$f":"EUconst_ERR_Incomplete","v":"Nebaigta!"},{"$f":"Translations!$B$663","v":"Šis pranešimas apie klaidą reiškia, kad įrašai šioje eilutėje yra privalomi, bet jų nėra."}]
[null,null,null,null,{"$f":"EUconst_ERR_Inconsistent","v":"Nenuoseklu!"},{"$f":"Translations!$B$746","v":"Šis pranešimas apie klaidą reiškia, kad įrašai nenuoseklūs. Galimos neatitiktys gali būti susijusios su duomenų įvedimu faktoriams, kurie neaktualūs šiems sukėlikliams, arba procentinėmis vertėmis, viršijančiomis 100 proc."}]
[]
[]
[null,null,1,null,null,null,null,null,null,null,null,null,{"$f":"Translations!$B$747","v":"Išmetamųjų teršalų kiekis:"},{"$f":"IF(COUNT(L80:L81,L83)=3,(L80+L81)/L83,\"\")","v":""},"t CO2e",null,{"$f":"EUconst_SumCO2 & \"_\" & EUconst_ProcessPFC","v":"SUM_CO2_Išmetamas PFC kiekis"},{"$f":"IF(ISBLANK(E58),\"\",MATCH(E58,CNTR_SourceStreamNames,0))","v":""},{"$f":"IF(ISBLANK(E58),\"\",INDEX(B_InstallationDescription!$D$65:$D$139,MATCH(E58,CNTR_SourceStreamNames,0)))","v":""},"is PFC?","Method",null,null,null,null,null,null,null,null,null,null,null,null,null,null,null,null,null,null,null,null,null,null,null,{"$f":"K64","v":0},{"$f":"AE66","v":0},{"$f":"AE67","v":0},{"$f":"AE68","v":0},{"$f":"AE69","v":0},{"$f":"AE70","v":0},{"$f":"AE71","v":0},{"$f":"AE72","v":0},{"$f":"L74","v":""},{"$f":"L75","v":""},{"$f":"AE77","v":7390},{"$f":"AE78","v":12200},{"$f":"L80","v":""},{"$f":"L81","v":""},{"$f":"L83","v":0},{"$f":"N58","v":""},null,{"$f":"CNTR_PFCRelevant=EUconst_NotRelevant","v":true}]
[null,null,null,null,{"$f":"IF(E58=\"\",\"\",IF(INDEX(B_InstallationDescription!$E$65:$E$139,MATCH(S58,B_InstallationDescription!$D$65:$D$139,0))>0,INDEX(B_InstallationDescription!$E$65:$E$139,MATCH(S58,B_InstallationDescription!$D$65:$D$139,0)),\"\"))","v":""},null,null,null,null,null,null,null,null,null,null,null,null,"Tiers",null,true,{"$f":"IF(E59=\"\",\"\",INDEX(CNTR_PFCMethod,MATCH(E58,CNTR_PFCSourceStreamNames,0)))","v":""},null,null,null,null,null,null,null,"Values",null,null,null,null,null,"Errors",null,null,null,null,"Calculation",null,null,null,"Accounting","AD:","A: Frequency","A: Duration","A: SEF(CF4)","B: AEO","B: CE","B: OVC","F(C2F6)","CF4 Emissions","C2F6 Emissions","GWP (CF4)","GWP (C2F6)","CF4 Emissions","C2F6 Emissions","Collection efficiency","CO2 fossil"]
[]
[null,null,null,null,{"$f":"IF(E58=\"\",\"\",HYPERLINK(\"#JUMP_14\",EUconst_FurtherGuidancePoint1))","v":""}]
[]
[null,null,null,null,null,{"$f":"Translations!$B$333","v":"Pakopa"},{"$f":"Translations!$B$672","v":"pakopos aprašas"},null,{"$f":"Translations!$B$158","v":"Vienetas"},null,{"$f":"Translations!$B$673","v":"Vertė"},null,{"$f":"Translations!$B$610","v":"klaida"},null,null,null,null,null,null,"Category from Sheet A",null,null,"tier required","text tier",null,null,"entries sheet A complete?",null,"typeI","default Value","Value used",null,null,null,null,null,null,null,null,null,null,null,null,null,null,null,null,null,null,null,null,null,null,null,null,null,null,null,null,null,null,"cond. form."]
[null,null,"i.",{"$f":"Translations!$B$622","v":"VD:"},null,null,{"$f":"IF(OR(ISBLANK(F64),F64=EUconst_NoTier),\"\",IF(X64=0,EUconst_NA,IF(ISERROR(X64),\"\",X64)))","v":""},null,{"$f":"EUconst_t","v":"t"},null,null,null,{"$f":"IF(AND(E59<>\"\",OR(F64=\"\",K64=\"\"),W64<>EUconst_NA),EUconst_ERR_Incomplete,IF(COUNTIF(AI64:AL64,TRUE)>0,EUconst_ERR_Inconsistent,\"\"))","v":""},null,null,null,null,{"$f":"EUconst_CNTR_ActivityData&E59","v":"ActivityData_"},null,{"$f":"IF(E58=\"\",\"\",INDEX(B_InstallationDescription!$I$65:$I$139,MATCH(S58,B_InstallationDescription!$D$65:$D$139,0)))","v":""},null,null,{"$f":"IF(E59=\"\",\"\",INDEX(EUwideConstants!$N:$N,MATCH(R64,EUwideConstants!$Q:$Q,0)))","v":""},{"$f":"IF(ISBLANK(F64),\"\",IF(F64=EUconst_NA,\"\",INDEX(EUwideConstants!$H:$M,MATCH(R64,EUwideConstants!$Q:$Q,0),MATCH(F64,CNTR_TierList,0))))","v":""},"default type",null,{"$f":"E58<>\"\"","v":false},null,null,null,{"$f":"IF(W64=EUconst_NA,1,IF(COUNT(K64:L64)=0,0,IF(L64=\"\",K64,L64)))","v":0},"cond. Form?","cond. Form?",null,null,null,"inconsistent entries?",null,null,null,null,null,null,null,null,null,null,null,null,null,null,null,null,null,null,null,null,null,null,null,null,{"$f":"OR(CNTR_PFCRelevant=EUconst_NotRelevant,AND(COUNTA(CNTR_ListRelevantSections)>0,E58=\"\"))","v":true}]
[null,null,null,null,null,null,null," "]
[null,null,"ii.",{"$f":"Translations!$B$722","v":"A. Dažnis"},null,null,{"$f":"IF(OR(ISBLANK(F66),F66=EUconst_NoTier),\"\",IF(X66=0,EUconst_NotApplicable,IF(ISERROR(X66),\"\",X66)))","v":""},null,{"$f":"IF(W66=EUconst_NA,\"\",INDEX(PFCUnits,1))","v":"1/(vienoje elektrolizės vonioje per parą)"},null,{"$f":"IF(L66=\"\",AD66,\"\")","v":""},null,{"$f":"IF(AND(E59<>\"\",OR(F66=\"\",L66=\"\"),W66<>EUconst_NA),EUconst_ERR_Incomplete,IF(COUNTIF(AI66:AL66,TRUE)>0,EUconst_ERR_Inconsistent,\"\"))","v":""},null,null,null,null,{"$f":"R64","v":"ActivityData_"},null,{"$f":"T64","v":""},null,1,{"$f":"IF(E59=\"\",\"\",IF(U59<>V66,EUconst_NA,INDEX(EUwideConstants!$N:$N,MATCH(R66,EUwideConstants!$Q:$Q,0))))","v":""},{"$f":"IF(ISBLANK(F66),\"\",IF(F66=EUconst_NA,\"\",INDEX(EUwideConstants!$H:$M,MATCH(R66,EUwideConstants!$Q:$Q,0),MATCH(F66,CNTR_TierList,0))))","v":""},null,null,{"$f":"AND(AA64,W66<>EUconst_NA)","v":false},null,{"$f":"IF(AA66=TRUE,IF(COUNTIF(MSPara_SourceStreamCategory,T66)=0,\"\",INDEX(MSPara_CalcFactorsMatrix,MATCH(T66,MSPara_SourceStreamCategory,0),MATCH(#REF!&\"_\"&1,MSPara_CalcFactors,0))),\"\")","v":""},{"$f":"\"\"","v":""},{"$f":"IF(AA66=TRUE,IF(COUNT(K66:L66)=0,0,IF(L66=\"\",K66,L66)),0)","v":0},{"$f":"AND(AA66=TRUE,OR(AND(F66<>\"\",NOT(ISNUMBER(Y66))),L66<>\"\",F66=\"\",AD66=\"\"))","v":false},{"$f":"AND(AA66=TRUE,NOT(AF66))","v":false},null,null,null,{"$f":"AND(L66<>\"\",W66=EUconst_NA)","v":false},null,null,null,"Method A","Method B",null,null,null,null,null,null,null,null,null,null,null,null,null,null,null,null,null,null,null,{"$f":"OR(BJ64,W66=EUconst_NA)","v":true}]
[null,null,"iii.",{"$f":"Translations!$B$724","v":"A. Trukmė"},null,null,{"$f":"IF(OR(ISBLANK(F67),F67=EUconst_NoTier),\"\",IF(X67=0,EUconst_NotApplicable,IF(ISERROR(X67),\"\",X67)))","v":""},null,{"$f":"IF(W67=EUconst_NA,\"\",INDEX(PFCUnits,2))","v":"min."},null,"",null,{"$f":"IF(AND(E59<>\"\",OR(F67=\"\",L67=\"\"),W67<>EUconst_NA),EUconst_ERR_Incomplete,IF(COUNTIF(AI67:AL67,TRUE)>0,EUconst_ERR_Inconsistent,\"\"))","v":""},null,null,null,null,{"$f":"R66","v":"ActivityData_"},null,{"$f":"T66","v":""},null,1,{"$f":"IF(E59=\"\",\"\",IF(U59<>V67,EUconst_NA,INDEX(EUwideConstants!$N:$N,MATCH(R67,EUwideConstants!$Q:$Q,0))))","v":""},{"$f":"IF(ISBLANK(F67),\"\",IF(F67=EUconst_NA,\"\",INDEX(EUwideConstants!$H:$M,MATCH(R67,EUwideConstants!$Q:$Q,0),MATCH(F67,CNTR_TierList,0))))","v":""},null,null,{"$f":"AND(AA64,W67<>EUconst_NA)","v":false},null,{"$f":"IF(AA67=TRUE,IF(COUNTIF(MSPara_SourceStreamCategory,T67)=0,\"\",INDEX(MSPara_CalcFactorsMatrix,MATCH(T67,MSPara_SourceStreamCategory,0),MATCH(#REF!&\"_\"&1,MSPara_CalcFactors,0))),\"\")","v":""},{"$f":"\"\"","v":""},0,{"$f":"AND(AA67=TRUE,OR(AND(F67<>\"\",NOT(ISNUMBER(Y67))),L67<>\"\",F67=\"\",AD67=\"\"))","v":false},false,null,null,null,false,null,null,"CF4",{"$f":"IF(ISNUMBER(U59),AE64*AE66*AE67*AE68/1000,\"\")","v":""},{"$f":"IF(ISNUMBER(U59),AE64*(AE69/IF(AE70=0,0.01,AE70))*AE71/1000,\"\")","v":""},null,null,null,null,null,null,null,null,null,null,null,null,null,null,null,null,null,null,null,{"$f":"OR(BJ64,W67=EUconst_NA)","v":true}]
[null,null,"iv.",{"$f":"Translations!$B$726","v":"A. NITF(CF4)"},null,null,"",null,{"$f":"IF(W68=EUconst_NA,\"\",INDEX(PFCUnits,3))","v":"(kg CF4/t Al)/(min./vienoje elektrolizės vonioje per parą)"},null,"",null,{"$f":"IF(AND(E59<>\"\",OR(F68=\"\",COUNT(K68:L68)=0),W68<>EUconst_NA),EUconst_ERR_Incomplete,IF(COUNTIF(AI68:AL68,TRUE)>0,EUconst_ERR_Inconsistent,\"\"))","v":""},null,null,null,null,{"$f":"EUconst_CNTR_EF&$E59","v":"EF_"},null,"",null,1,{"$f":"IF(E59=\"\",\"\",IF(U59<>V68,EUconst_NA,INDEX(EUwideConstants!$N:$N,MATCH(R68,EUwideConstants!$Q:$Q,0))))","v":""},{"$f":"IF(ISBLANK(F68),\"\",IF(F68=EUconst_NA,\"\",INDEX(EUwideConstants!$H:$M,MATCH(R68,EUwideConstants!$Q:$Q,0),MATCH(F68,CNTR_TierList,0))))","v":""},{"$f":"IF(COUNTIF(EUconst_DefaultValues,X68)>0,MATCH(X68,EUconst_DefaultValues,0),\"\")","v":""},null,{"$f":"AND(AA64,W68<>EUconst_NA)","v":false},null,{"$f":"IF(AA68=TRUE,IF(T68=\"\",\"\",INDEX(MSPara_PFCMethA,MATCH(T68,PFCCellTypes,0),1)),\"\")","v":""},{"$f":"IF(AND(Y68<>\"\",ISNUMBER(AC68)),AC68,\"\")","v":""},0,{"$f":"AND(AA68=TRUE,OR(AND(F68<>\"\",NOT(ISNUMBER(Y68))),L68<>\"\",F68=\"\",AD68=\"\"))","v":false},false,null,null,null,false,null,null,"C2F6",{"$f":"IF(AND(ISNUMBER(AO67),AO67>0),AO67*AE72,0)","v":0},{"$f":"IF(AND(ISNUMBER(AP67),AP67>0),AP67*AE72,0)","v":0},null,null,null,null,null,null,null,null,null,null,null,null,null,null,null,null,null,null,null,{"$f":"OR(BJ64,W68=EUconst_NA)","v":true}]
[null,null,"v.",{"$f":"Translations!$B$728","v":"B. AEV"},null,null,"",null,{"$f":"IF(W69=EUconst_NA,\"\",INDEX(PFCUnits,4))","v":"mV"},null,"",null,{"$f":"IF(AND(E59<>\"\",OR(F69=\"\",L69=\"\"),W69<>EUconst_NA),EUconst_ERR_Incomplete,IF(COUNTIF(AI69:AL69,TRUE)>0,EUconst_ERR_Inconsistent,\"\"))","v":""},null,null,null,null,{"$f":"R64","v":"ActivityData_"},null,"",null,2,{"$f":"IF(E59=\"\",\"\",IF(U59<>V69,EUconst_NA,INDEX(EUwideConstants!$N:$N,MATCH(R69,EUwideConstants!$Q:$Q,0))))","v":""},{"$f":"IF(ISBLANK(F69),\"\",IF(F69=EUconst_NA,\"\",INDEX(EUwideConstants!$H:$M,MATCH(R69,EUwideConstants!$Q:$Q,0),MATCH(F69,CNTR_TierList,0))))","v":""},null,null,{"$f":"AND(AA64,W69<>EUconst_NA)","v":false},null,null,{"$f":"\"\"","v":""},0,{"$f":"AND(AA69=TRUE,OR(ISNUMBER(L69),NOT(ISNUMBER(Y69))))","v":false},false,null,null,null,false,null,null,"CF4",{"$f":"IF(ISNUMBER(AO67),AO67*AE77,\"\")","v":""},{"$f":"IF(ISNUMBER(AP67),AP67*AE77,\"\")","v":""},null,null,null,null,null,null,null,null,null,null,null,null,null,null,null,null,null,null,null,{"$f":"OR(BJ64,W69=EUconst_NA)","v":true}]
[null,null,"vi.",{"$f":"Translations!$B$730","v":"B. EN"},null,null,"",null,{"$f":"IF(W70=EUconst_NA,\"\",\"-\")","v":"-"},null,"",null,{"$f":"IF(AND(E59<>\"\",OR(F70=\"\",L70=\"\"),W70<>EUconst_NA),EUconst_ERR_Incomplete,IF(COUNTIF(AI70:AL70,TRUE)>0,EUconst_ERR_Inconsistent,\"\"))","v":""},null,null,null,null,{"$f":"R69","v":"ActivityData_"},null,"",null,2,{"$f":"IF(E59=\"\",\"\",IF(U59<>V70,EUconst_NA,INDEX(EUwideConstants!$N:$N,MATCH(R70,EUwideConstants!$Q:$Q,0))))","v":""},{"$f":"IF(ISBLANK(F70),\"\",IF(F70=EUconst_NA,\"\",INDEX(EUwideConstants!$H:$M,MATCH(R70,EUwideConstants!$Q:$Q,0),MATCH(F70,CNTR_TierList,0))))","v":""},null,null,{"$f":"AND(AA64,W70<>EUconst_NA)","v":false},null,null,{"$f":"\"\"","v":""},0,{"$f":"AND(AA70=TRUE,OR(ISNUMBER(L70),NOT(ISNUMBER(Y70))))","v":false},false,null,null,null,false,{"$f":"L70>100%","v":false},null,"C2F6",{"$f":"IF(ISNUMBER(AO68),AO68*AE78,\"\")","v":0},{"$f":"IF(ISNUMBER(AP68),AP68*AE78,\"\")","v":0},null,null,null,null,null,null,null,null,null,null,null,null,null,null,null,null,null,null,null,{"$f":"OR(BJ64,W70=EUconst_NA)","v":true}]
[null,null,"vii.",{"$f":"Translations!$B$732","v":"B. VĮK"},null,null,"",null,{"$f":"IF(W71=EUconst_NA,\"\",INDEX(PFCUnits,6))","v":"(kg CF4)/(t Al mV)"},null,"",null,{"$f":"IF(AND(E59<>\"\",OR(F71=\"\",COUNT(K71:L71)=0),W71<>EUconst_NA),EUconst_ERR_Incomplete,IF(COUNTIF(AI71:AL71,TRUE)>0,EUconst_ERR_Inconsistent,\"\"))","v":""},null,null,null,null,{"$f":"EUconst_CNTR_EF&E59","v":"EF_"},null,"",null,2,{"$f":"IF(E59=\"\",\"\",IF(U59<>V71,EUconst_NA,INDEX(EUwideConstants!$N:$N,MATCH(R71,EUwideConstants!$Q:$Q,0))))","v":""},{"$f":"IF(ISBLANK(F71),\"\",IF(F71=EUconst_NA,\"\",INDEX(EUwideConstants!$H:$M,MATCH(R71,EUwideConstants!$Q:$Q,0),MATCH(F71,CNTR_TierList,0))))","v":""},{"$f":"IF(COUNTIF(EUconst_DefaultValues,X71)>0,MATCH(X71,EUconst_DefaultValues,0),\"\")","v":""},null,{"$f":"AND(AA64,W71<>EUconst_NA)","v":false},null,{"$f":"IF(AA71=TRUE,IF(T71=\"\",\"\",INDEX(MSPara_PFCMethB,MATCH(T71,PFCCellTypes,0),1)),\"\")","v":""},{"$f":"IF(AND(Y71<>\"\",ISNUMBER(AC71)),AC71,\"\")","v":""},0,{"$f":"AND(AA71=TRUE,OR(AND(F71<>\"\",NOT(ISNUMBER(Y71))),L71<>\"\",F71=\"\",AD71=\"\"))","v":false},false,null,null,null,false,null,null,null,null,null,null,null,null,null,null,null,null,null,null,null,null,null,null,null,null,null,null,null,null,{"$f":"OR(BJ64,W71=EUconst_NA)","v":true}]
[null,null,"viii.",{"$f":"Translations!$B$734","v":"F(C2F6)"},null,null,"",null,{"$f":"IF(W72=EUconst_NA,\"\",INDEX(PFCUnits,7))","v":"t C2F6/t CF4"},null,"",null,{"$f":"IF(AND(E59<>\"\",OR(F72=\"\",COUNT(K72:L72)=0),W72<>EUconst_NA),EUconst_ERR_Incomplete,IF(COUNTIF(AI72:AL72,TRUE)>0,EUconst_ERR_Inconsistent,\"\"))","v":""},null,null,null,null,{"$f":"EUconst_CNTR_EF&E59","v":"EF_"},null,"",null,{"$f":"\"\"","v":""},{"$f":"W64","v":""},{"$f":"IF(ISBLANK(F72),\"\",IF(F72=EUconst_NA,\"\",INDEX(EUwideConstants!$H:$M,MATCH(R72,EUwideConstants!$Q:$Q,0),MATCH(F72,CNTR_TierList,0))))","v":""},{"$f":"IF(COUNTIF(EUconst_DefaultValues,X72)>0,MATCH(X72,EUconst_DefaultValues,0),\"\")","v":""},null,{"$f":"AND(AA64,W72<>EUconst_NA)","v":false},null,{"$f":"IF(AA72=TRUE,IF(T72=\"\",\"\",INDEX(MSPara_PFCMethA,MATCH(T72,PFCCellTypes,0),2)),\"\")","v":""},{"$f":"IF(AND(Y72<>\"\",ISNUMBER(AC72)),AC72,\"\")","v":""},0,{"$f":"AND(AA72=TRUE,OR(AND(F72<>\"\",NOT(ISNUMBER(Y72))),L72<>\"\",F72=\"\",AD72=\"\"))","v":false},false,null,null,null,false,null,null,null,null,null,null,null,null,null,null,null,null,null,null,null,null,null,null,null,null,null,null,null,null,{"$f":"OR(BJ64,W72=EUconst_NA)","v":true}]
[]
[null,null,"ix.",{"$f":"Translations!$B$748","v":"Išmestas CF4 kiekis"},null,null,null,null,{"$f":"EUconst_t","v":"t"},null,null,{"$f":"IF(ISNUMBER(U59),INDEX(AO67:AP67,U59),\"\")","v":""}]
[null,null,"x.",{"$f":"Translations!$B$749","v":"Išmestas C2F6 kiekis"},null,null,null,null,{"$f":"EUconst_t","v":"t"},null,null,{"$f":"IF(ISNUMBER(U59),INDEX(AO68:AP68,U59),\"\")","v":""}]
[]
[null,null,"xi.",{"$f":"Translations!$B$736","v":"VAP(CF4)"},null,null,null,null,"t CO2e / t CF4",null,{"$f":"IF(L77=\"\",7390,\"\")","v":7390},null,null,null,null,null,null,null,null,null,null,null,null,null,null,null,null,null,null,null,{"$f":"IF(L77=\"\",K77,L77)","v":7390},null,null,null,null,null,null,null,null,null,null,null,null,null,null,null,null,null,null,null,null,null,null,null,null,null,null,null,null,null,null,{"$f":"BJ64","v":true}]
[null,null,"xii.",{"$f":"Translations!$B$738","v":"VAP(C2F6)"},null,null,null,null,"t CO2e / t C2F6",null,{"$f":"IF(L78=\"\",12200,\"\")","v":12200},null,null,null,null,null,null,null,null,null,null,null,null,null,null,null,null,null,null,null,{"$f":"IF(L78=\"\",K78,L78)","v":12200},null,null,null,null,null,null,null,null,null,null,null,null,null,null,null,null,null,null,null,null,null,null,null,null,null,null,null,null,null,null,{"$f":"BJ77","v":true}]
[]
[null,null,"xiii.",{"$f":"Translations!$B$748","v":"Išmestas CF4 kiekis"},null,null,null,null,"t CO2e",null,null,{"$f":"IF(ISNUMBER(U59),INDEX(AO69:AP69,U59),\"\")","v":""}]
[null,null,"xiv.",{"$f":"Translations!$B$749","v":"Išmestas C2F6 kiekis"},null,null,null,null,"t CO2e",null,null,{"$f":"IF(ISNUMBER(U59),INDEX(AO70:AP70,U59),\"\")","v":""}]
[]
[null,null,"xv.",{"$f":"Translations!$B$167","v":"Surinkimo efektyvumas"},null,null,null,null,"-",null,null,null,{"$f":"IF(AND(E59<>\"\",L83=\"\"),EUconst_ERR_Incomplete,IF(COUNTIF(AI83:AL83,TRUE)>0,EUconst_ERR_Inconsistent,\"\"))","v":""},null,null,null,null,null,null,null,null,null,null,null,null,null,null,null,null,null,null,null,null,null,null,null,null,{"$f":"L83>100%","v":false},null,null,null,null,null,null,null,null,null,null,null,null,null,null,null,null,null,null,null,null,null,null,null,{"$f":"BJ64","v":true}]
[]
[null,null,null,{"$f":"Translations!$B$674","v":"Pakopos galioja nuo:"},null,null,null,{"$f":"Translations!$B$675","v":"iki:"},null,null,null,null,null,null,null,null,null,null,null,null,null,null,null,null,null,null,null,null,null,null,null,null,null,null,null,null,null,null,null,null,null,null,null,null,null,null,null,null,null,null,null,null,null,null,null,null,null,null,null,null,null,{"$f":"BJ64","v":true}]
[]
[null,null,null,{"$f":"Translations!$B$160","v":"Pastabos:"},null,null,null,null,null,null,null,null,null,null,null,null,null,null,null,null,null,null,null,null,null,null,null,null,null,null,null,null,null,null,null,null,null,null,null,null,null,null,null,null,null,null,null,null,null,null,null,null,null,null,null,null,null,null,null,null,null,{"$f":"BJ85","v":true}]
[]
[]
[null,null,{"$f":"C58+1","v":2},null,null,null,null,null,null,null,null,null,{"$f":"Translations!$B$747","v":"Išmetamųjų teršalų kiekis:"},{"$f":"IF(COUNT(L112:L113,L115)=3,(L112+L113)/L115,\"\")","v":""},"t CO2e",null,{"$f":"EUconst_SumCO2 & \"_\" & EUconst_ProcessPFC","v":"SUM_CO2_Išmetamas PFC kiekis"},{"$f":"IF(ISBLANK(E90),\"\",MATCH(E90,CNTR_SourceStreamNames,0))","v":""},{"$f":"IF(ISBLANK(E90),\"\",INDEX(B_InstallationDescription!$D$65:$D$139,MATCH(E90,CNTR_SourceStreamNames,0)))","v":""},"is PFC?","Method",null,null,null,null,null,null,null,null,null,null,null,null,null,null,null,null,null,null,null,null,null,null,null,{"$f":"K96","v":0},{"$f":"AE98","v":0},{"$f":"AE99","v":0},{"$f":"AE100","v":0},{"$f":"AE101","v":0},{"$f":"AE102","v":0},{"$f":"AE103","v":0},{"$f":"AE104","v":0},{"$f":"L106","v":""},{"$f":"L107","v":""},{"$f":"AE109","v":7390},{"$f":"AE110","v":12200},{"$f":"L112","v":""},{"$f":"L113","v":""},{"$f":"L115","v":0},{"$f":"N90","v":""},null,{"$f":"CNTR_PFCRelevant=EUconst_NotRelevant","v":true}]
[null,null,null,null,{"$f":"IF(E90=\"\",\"\",IF(INDEX(B_InstallationDescription!$E$65:$E$139,MATCH(S90,B_InstallationDescription!$D$65:$D$139,0))>0,INDEX(B_InstallationDescription!$E$65:$E$139,MATCH(S90,B_InstallationDescription!$D$65:$D$139,0)),\"\"))","v":""},null,null,null,null,null,null,null,null,null,null,null,null,"Tiers",null,true,{"$f":"IF(E91=\"\",\"\",INDEX(CNTR_PFCMethod,MATCH(E90,CNTR_PFCSourceStreamNames,0)))","v":""},null,null,null,null,null,null,null,"Values",null,null,null,null,null,"Errors",null,null,null,null,"Calculation",null,null,null,"Accounting","AD:","A: Frequency","A: Duration","A: SEF(CF4)","B: AEO","B: CE","B: OVC","F(C2F6)","CF4 Emissions","C2F6 Emissions","GWP (CF4)","GWP (C2F6)","CF4 Emissions","C2F6 Emissions","Collection efficiency","CO2 fossil"]
[]
[null,null,null,null,{"$f":"IF(E90=\"\",\"\",HYPERLINK(\"#JUMP_14\",EUconst_FurtherGuidancePoint1))","v":""}]
[]
[null,null,null,null,null,{"$f":"Translations!$B$333","v":"Pakopa"},{"$f":"Translations!$B$672","v":"pakopos aprašas"},null,{"$f":"Translations!$B$158","v":"Vienetas"},null,{"$f":"Translations!$B$673","v":"Vertė"},null,{"$f":"Translations!$B$610","v":"klaida"},null,null,null,null,null,null,"Category from Sheet A",null,null,"tier required","text tier",null,null,"entries sheet A complete?",null,"typeI","default Value","Value used",null,null,null,null,null,null,null,null,null,null,null,null,null,null,null,null,null,null,null,null,null,null,null,null,null,null,null,null,null,null,"cond. form."]
[null,null,"i.",{"$f":"Translations!$B$622","v":"VD:"},null,null,{"$f":"IF(OR(ISBLANK(F96),F96=EUconst_NoTier),\"\",IF(X96=0,EUconst_NA,IF(ISERROR(X96),\"\",X96)))","v":""},null,{"$f":"EUconst_t","v":"t"},null,null,null,{"$f":"IF(AND(E91<>\"\",OR(F96=\"\",K96=\"\"),W96<>EUconst_NA),EUconst_ERR_Incomplete,IF(COUNTIF(AI96:AL96,TRUE)>0,EUconst_ERR_Inconsistent,\"\"))","v":""},null,null,null,null,{"$f":"EUconst_CNTR_ActivityData&E91","v":"ActivityData_"},null,{"$f":"IF(E90=\"\",\"\",INDEX(B_InstallationDescription!$I$65:$I$139,MATCH(S90,B_InstallationDescription!$D$65:$D$139,0)))","v":""},null,null,{"$f":"IF(E91=\"\",\"\",INDEX(EUwideConstants!$N:$N,MATCH(R96,EUwideConstants!$Q:$Q,0)))","v":""},{"$f":"IF(ISBLANK(F96),\"\",IF(F96=EUconst_NA,\"\",INDEX(EUwideConstants!$H:$M,MATCH(R96,EUwideConstants!$Q:$Q,0),MATCH(F96,CNTR_TierList,0))))","v":""},"default type",null,{"$f":"E90<>\"\"","v":false},null,null,null,{"$f":"IF(W96=EUconst_NA,1,IF(COUNT(K96:L96)=0,0,IF(L96=\"\",K96,L96)))","v":0},"cond. Form?","cond. Form?",null,null,null,"inconsistent entries?",null,null,null,null,null,null,null,null,null,null,null,null,null,null,null,null,null,null,null,null,null,null,null,null,{"$f":"OR(CNTR_PFCRelevant=EUconst_NotRelevant,AND(COUNTA(CNTR_ListRelevantSections)>0,E90=\"\"))","v":true}]
[null,null,null,null,null,null,null," "]
[null,null,"ii.",{"$f":"Translations!$B$722","v":"A. Dažnis"},null,null,{"$f":"IF(OR(ISBLANK(F98),F98=EUconst_NoTier),\"\",IF(X98=0,EUconst_NotApplicable,IF(ISERROR(X98),\"\",X98)))","v":""},null,{"$f":"IF(W98=EUconst_NA,\"\",INDEX(PFCUnits,1))","v":"1/(vienoje elektrolizės vonioje per parą)"},null,{"$f":"IF(L98=\"\",AD98,\"\")","v":""},null,{"$f":"IF(AND(E91<>\"\",OR(F98=\"\",L98=\"\"),W98<>EUconst_NA),EUconst_ERR_Incomplete,IF(COUNTIF(AI98:AL98,TRUE)>0,EUconst_ERR_Inconsistent,\"\"))","v":""},null,null,null,null,{"$f":"R96","v":"ActivityData_"},null,{"$f":"T96","v":""},null,1,{"$f":"IF(E91=\"\",\"\",IF(U91<>V98,EUconst_NA,INDEX(EUwideConstants!$N:$N,MATCH(R98,EUwideConstants!$Q:$Q,0))))","v":""},{"$f":"IF(ISBLANK(F98),\"\",IF(F98=EUconst_NA,\"\",INDEX(EUwideConstants!$H:$M,MATCH(R98,EUwideConstants!$Q:$Q,0),MATCH(F98,CNTR_TierList,0))))","v":""},null,null,{"$f":"AND(AA96,W98<>EUconst_NA)","v":false},null,{"$f":"IF(AA98=TRUE,IF(COUNTIF(MSPara_SourceStreamCategory,T98)=0,\"\",INDEX(MSPara_CalcFactorsMatrix,MATCH(T98,MSPara_SourceStreamCategory,0),MATCH(#REF!&\"_\"&1,MSPara_CalcFactors,0))),\"\")","v":""},{"$f":"\"\"","v":""},{"$f":"IF(AA98=TRUE,IF(COUNT(K98:L98)=0,0,IF(L98=\"\",K98,L98)),0)","v":0},{"$f":"AND(AA98=TRUE,OR(AND(F98<>\"\",NOT(ISNUMBER(Y98))),L98<>\"\",F98=\"\",AD98=\"\"))","v":false},{"$f":"AND(AA98=TRUE,NOT(AF98))","v":false},null,null,null,{"$f":"AND(L98<>\"\",W98=EUconst_NA)","v":false},null,null,null,"Method A","Method B",null,null,null,null,null,null,null,null,null,null,null,null,null,null,null,null,null,null,null,{"$f":"OR(BJ96,W98=EUconst_NA)","v":true}]
[null,null,"iii.",{"$f":"Translations!$B$724","v":"A. Trukmė"},null,null,"",null,{"$f":"IF(W99=EUconst_NA,\"\",INDEX(PFCUnits,2))","v":"min."},null,"",null,{"$f":"IF(AND(E91<>\"\",OR(F99=\"\",L99=\"\"),W99<>EUconst_NA),EUconst_ERR_Incomplete,IF(COUNTIF(AI99:AL99,TRUE)>0,EUconst_ERR_Inconsistent,\"\"))","v":""},null,null,null,null,{"$f":"R98","v":"ActivityData_"},null,{"$f":"T98","v":""},null,1,{"$f":"IF(E91=\"\",\"\",IF(U91<>V99,EUconst_NA,INDEX(EUwideConstants!$N:$N,MATCH(R99,EUwideConstants!$Q:$Q,0))))","v":""},{"$f":"IF(ISBLANK(F99),\"\",IF(F99=EUconst_NA,\"\",INDEX(EUwideConstants!$H:$M,MATCH(R99,EUwideConstants!$Q:$Q,0),MATCH(F99,CNTR_TierList,0))))","v":""},null,null,{"$f":"AND(AA96,W99<>EUconst_NA)","v":false},null,{"$f":"IF(AA99=TRUE,IF(COUNTIF(MSPara_SourceStreamCategory,T99)=0,\"\",INDEX(MSPara_CalcFactorsMatrix,MATCH(T99,MSPara_SourceStreamCategory,0),MATCH(#REF!&\"_\"&1,MSPara_CalcFactors,0))),\"\")","v":""},{"$f":"\"\"","v":""},0,{"$f":"AND(AA99=TRUE,OR(AND(F99<>\"\",NOT(ISNUMBER(Y99))),L99<>\"\",F99=\"\",AD99=\"\"))","v":false},false,null,null,null,false,null,null,"CF4",{"$f":"IF(ISNUMBER(U91),AE96*AE98*AE99*AE100/1000,\"\")","v":""},{"$f":"IF(ISNUMBER(U91),AE96*(AE101/IF(AE102=0,0.01,AE102))*AE103/1000,\"\")","v":""},null,null,null,null,null,null,null,null,null,null,null,null,null,null,null,null,null,null,null,{"$f":"OR(BJ96,W99=EUconst_NA)","v":true}]
[null,null,"iv.",{"$f":"Translations!$B$726","v":"A. NITF(CF4)"},null,null,"",null,{"$f":"IF(W100=EUconst_NA,\"\",INDEX(PFCUnits,3))","v":"(kg CF4/t Al)/(min./vienoje elektrolizės vonioje per parą)"},null,"",null,{"$f":"IF(AND(E91<>\"\",OR(F100=\"\",COUNT(K100:L100)=0),W100<>EUconst_NA),EUconst_ERR_Incomplete,IF(COUNTIF(AI100:AL100,TRUE)>0,EUconst_ERR_Inconsistent,\"\"))","v":""},null,null,null,null,{"$f":"EUconst_CNTR_EF&$E91","v":"EF_"},null,"",null,1,{"$f":"IF(E91=\"\",\"\",IF(U91<>V100,EUconst_NA,INDEX(EUwideConstants!$N:$N,MATCH(R100,EUwideConstants!$Q:$Q,0))))","v":""},{"$f":"IF(ISBLANK(F100),\"\",IF(F100=EUconst_NA,\"\",INDEX(EUwideConstants!$H:$M,MATCH(R100,EUwideConstants!$Q:$Q,0),MATCH(F100,CNTR_TierList,0))))","v":""},{"$f":"IF(COUNTIF(EUconst_DefaultValues,X100)>0,MATCH(X100,EUconst_DefaultValues,0),\"\")","v":""},null,{"$f":"AND(AA96,W100<>EUconst_NA)","v":false},null,{"$f":"IF(AA100=TRUE,IF(T100=\"\",\"\",INDEX(MSPara_PFCMethA,MATCH(T100,PFCCellTypes,0),1)),\"\")","v":""},{"$f":"IF(AND(Y100<>\"\",ISNUMBER(AC100)),AC100,\"\")","v":""},0,{"$f":"AND(AA100=TRUE,OR(AND(F100<>\"\",NOT(ISNUMBER(Y100))),L100<>\"\",F100=\"\",AD100=\"\"))","v":false},false,null,null,null,false,null,null,"C2F6",{"$f":"IF(AND(ISNUMBER(AO99),AO99>0),AO99*AE104,0)","v":0},{"$f":"IF(AND(ISNUMBER(AP99),AP99>0),AP99*AE104,0)","v":0},null,null,null,null,null,null,null,null,null,null,null,null,null,null,null,null,null,null,null,{"$f":"OR(BJ96,W100=EUconst_NA)","v":true}]
[null,null,"v.",{"$f":"Translations!$B$728","v":"B. AEV"},null,null,"",null,{"$f":"IF(W101=EUconst_NA,\"\",INDEX(PFCUnits,4))","v":"mV"},null,"",null,{"$f":"IF(AND(E91<>\"\",OR(F101=\"\",L101=\"\"),W101<>EUconst_NA),EUconst_ERR_Incomplete,IF(COUNTIF(AI101:AL101,TRUE)>0,EUconst_ERR_Inconsistent,\"\"))","v":""},null,null,null,null,{"$f":"R96","v":"ActivityData_"},null,"",null,2,{"$f":"IF(E91=\"\",\"\",IF(U91<>V101,EUconst_NA,INDEX(EUwideConstants!$N:$N,MATCH(R101,EUwideConstants!$Q:$Q,0))))","v":""},{"$f":"IF(ISBLANK(F101),\"\",IF(F101=EUconst_NA,\"\",INDEX(EUwideConstants!$H:$M,MATCH(R101,EUwideConstants!$Q:$Q,0),MATCH(F101,CNTR_TierList,0))))","v":""},null,null,{"$f":"AND(AA96,W101<>EUconst_NA)","v":false},null,null,{"$f":"\"\"","v":""},0,{"$f":"AND(AA101=TRUE,OR(ISNUMBER(L101),NOT(ISNUMBER(Y101))))","v":false},false,null,null,null,false,null,null,"CF4",{"$f":"IF(ISNUMBER(AO99),AO99*AE109,\"\")","v":""},{"$f":"IF(ISNUMBER(AP99),AP99*AE109,\"\")","v":""},null,null,null,null,null,null,null,null,null,null,null,null,null,null,null,null,null,null,null,{"$f":"OR(BJ96,W101=EUconst_NA)","v":true}]
[null,null,"vi.",{"$f":"Translations!$B$730","v":"B. EN"},null,null,"",null,{"$f":"IF(W102=EUconst_NA,\"\",\"-\")","v":"-"},null,"",null,{"$f":"IF(AND(E91<>\"\",OR(F102=\"\",L102=\"\"),W102<>EUconst_NA),EUconst_ERR_Incomplete,IF(COUNTIF(AI102:AL102,TRUE)>0,EUconst_ERR_Inconsistent,\"\"))","v":""},null,null,null,null,{"$f":"R101","v":"ActivityData_"},null,"",null,2,{"$f":"IF(E91=\"\",\"\",IF(U91<>V102,EUconst_NA,INDEX(EUwideConstants!$N:$N,MATCH(R102,EUwideConstants!$Q:$Q,0))))","v":""},{"$f":"IF(ISBLANK(F102),\"\",IF(F102=EUconst_NA,\"\",INDEX(EUwideConstants!$H:$M,MATCH(R102,EUwideConstants!$Q:$Q,0),MATCH(F102,CNTR_TierList,0))))","v":""},null,null,{"$f":"AND(AA96,W102<>EUconst_NA)","v":false},null,null,{"$f":"\"\"","v":""},0,{"$f":"AND(AA102=TRUE,OR(ISNUMBER(L102),NOT(ISNUMBER(Y102))))","v":false},false,null,null,null,false,{"$f":"L102>100%","v":false},null,"C2F6",{"$f":"IF(ISNUMBER(AO100),AO100*AE110,\"\")","v":0},{"$f":"IF(ISNUMBER(AP100),AP100*AE110,\"\")","v":0},null,null,null,null,null,null,null,null,null,null,null,null,null,null,null,null,null,null,null,{"$f":"OR(BJ96,W102=EUconst_NA)","v":true}]
[null,null,"vii.",{"$f":"Translations!$B$732","v":"B. VĮK"},null,null,"",null,{"$f":"IF(W103=EUconst_NA,\"\",INDEX(PFCUnits,6))","v":"(kg CF4)/(t Al mV)"},null,"",null,{"$f":"IF(AND(E91<>\"\",OR(F103=\"\",COUNT(K103:L103)=0),W103<>EUconst_NA),EUconst_ERR_Incomplete,IF(COUNTIF(AI103:AL103,TRUE)>0,EUconst_ERR_Inconsistent,\"\"))","v":""},null,null,null,null,{"$f":"EUconst_CNTR_EF&E91","v":"EF_"},null,"",null,2,{"$f":"IF(E91=\"\",\"\",IF(U91<>V103,EUconst_NA,INDEX(EUwideConstants!$N:$N,MATCH(R103,EUwideConstants!$Q:$Q,0))))","v":""},{"$f":"IF(ISBLANK(F103),\"\",IF(F103=EUconst_NA,\"\",INDEX(EUwideConstants!$H:$M,MATCH(R103,EUwideConstants!$Q:$Q,0),MATCH(F103,CNTR_TierList,0))))","v":""},{"$f":"IF(COUNTIF(EUconst_DefaultValues,X103)>0,MATCH(X103,EUconst_DefaultValues,0),\"\")","v":""},null,{"$f":"AND(AA96,W103<>EUconst_NA)","v":false},null,{"$f":"IF(AA103=TRUE,IF(T103=\"\",\"\",INDEX(MSPara_PFCMethB,MATCH(T103,PFCCellTypes,0),1)),\"\")","v":""},{"$f":"IF(AND(Y103<>\"\",ISNUMBER(AC103)),AC103,\"\")","v":""},0,{"$f":"AND(AA103=TRUE,OR(AND(F103<>\"\",NOT(ISNUMBER(Y103))),L103<>\"\",F103=\"\",AD103=\"\"))","v":false},false,null,null,null,false,null,null,null,null,null,null,null,null,null,null,null,null,null,null,null,null,null,null,null,null,null,null,null,null,{"$f":"OR(BJ96,W103=EUconst_NA)","v":true}]
[null,null,"viii.",{"$f":"Translations!$B$734","v":"F(C2F6)"},null,null,"",null,{"$f":"IF(W104=EUconst_NA,\"\",INDEX(PFCUnits,7))","v":"t C2F6/t CF4"},null,"",null,{"$f":"IF(AND(E91<>\"\",OR(F104=\"\",COUNT(K104:L104)=0),W104<>EUconst_NA),EUconst_ERR_Incomplete,IF(COUNTIF(AI104:AL104,TRUE)>0,EUconst_ERR_Inconsistent,\"\"))","v":""},null,null,null,null,{"$f":"EUconst_CNTR_EF&E91","v":"EF_"},null,"",null,{"$f":"\"\"","v":""},{"$f":"W96","v":""},{"$f":"IF(ISBLANK(F104),\"\",IF(F104=EUconst_NA,\"\",INDEX(EUwideConstants!$H:$M,MATCH(R104,EUwideConstants!$Q:$Q,0),MATCH(F104,CNTR_TierList,0))))","v":""},{"$f":"IF(COUNTIF(EUconst_DefaultValues,X104)>0,MATCH(X104,EUconst_DefaultValues,0),\"\")","v":""},null,{"$f":"AND(AA96,W104<>EUconst_NA)","v":false},null,{"$f":"IF(AA104=TRUE,IF(T104=\"\",\"\",INDEX(MSPara_PFCMethA,MATCH(T104,PFCCellTypes,0),2)),\"\")","v":""},{"$f":"IF(AND(Y104<>\"\",ISNUMBER(AC104)),AC104,\"\")","v":""},0,{"$f":"AND(AA104=TRUE,OR(AND(F104<>\"\",NOT(ISNUMBER(Y104))),L104<>\"\",F104=\"\",AD104=\"\"))","v":false},false,null,null,null,false,null,null,null,null,null,null,null,null,null,null,null,null,null,null,null,null,null,null,null,null,null,null,null,null,{"$f":"OR(BJ96,W104=EUconst_NA)","v":true}]
[]
[null,null,"ix.",{"$f":"Translations!$B$748","v":"Išmestas CF4 kiekis"},null,null,null,null,{"$f":"EUconst_t","v":"t"},null,null,{"$f":"IF(ISNUMBER(U91),INDEX(AO99:AP99,U91),\"\")","v":""}]
[null,null,"x.",{"$f":"Translations!$B$749","v":"Išmestas C2F6 kiekis"},null,null,null,null,{"$f":"EUconst_t","v":"t"},null,null,{"$f":"IF(ISNUMBER(U91),INDEX(AO100:AP100,U91),\"\")","v":""}]
[]
[null,null,"xi.",{"$f":"Translations!$B$736","v":"VAP(CF4)"},null,null,null,null,"t CO2e / t CF4",null,{"$f":"IF(L109=\"\",7390,\"\")","v":7390},null,null,null,null,null,null,null,null,null,null,null,null,null,null,null,null,null,null,null,{"$f":"IF(L109=\"\",K109,L109)","v":7390},null,null,null,null,null,null,null,null,null,null,null,null,null,null,null,null,null,null,null,null,null,null,null,null,null,null,null,null,null,null,{"$f":"BJ96","v":true}]
[null,null,"xii.",{"$f":"Translations!$B$738","v":"VAP(C2F6)"},null,null,null,null,"t CO2e / t C2F6",null,{"$f":"IF(L110=\"\",12200,\"\")","v":12200},null,null,null,null,null,null,null,null,null,null,null,null,null,null,null,null,null,null,null,{"$f":"IF(L110=\"\",K110,L110)","v":12200},null,null,null,null,null,null,null,null,null,null,null,null,null,null,null,null,null,null,null,null,null,null,null,null,null,null,null,null,null,null,{"$f":"BJ109","v":true}]
[]
[null,null,"xiii.",{"$f":"Translations!$B$748","v":"Išmestas CF4 kiekis"},null,null,null,null,"t CO2e",null,null,{"$f":"IF(ISNUMBER(U91),INDEX(AO101:AP101,U91),\"\")","v":""}]
[null,null,"xiv.",{"$f":"Translations!$B$749","v":"Išmestas C2F6 kiekis"},null,null,null,null,"t CO2e",null,null,{"$f":"IF(ISNUMBER(U91),INDEX(AO102:AP102,U91),\"\")","v":""}]
[]
[null,null,"xv.",{"$f":"Translations!$B$167","v":"Surinkimo efektyvumas"},null,null,null,null,"-",null,null,null,{"$f":"IF(AND(E91<>\"\",L115=\"\"),EUconst_ERR_Incomplete,IF(COUNTIF(AI115:AL115,TRUE)>0,EUconst_ERR_Inconsistent,\"\"))","v":""},null,null,null,null,null,null,null,null,null,null,null,null,null,null,null,null,null,null,null,null,null,null,null,null,{"$f":"L115>100%","v":false},null,null,null,null,null,null,null,null,null,null,null,null,null,null,null,null,null,null,null,null,null,null,null,{"$f":"BJ96","v":true}]
[]
[null,null,null,{"$f":"Translations!$B$674","v":"Pakopos galioja nuo:"},null,null,null,{"$f":"Translations!$B$675","v":"iki:"},null,null,null,null,null,null,null,null,null,null,null,null,null,null,null,null,null,null,null,null,null,null,null,null,null,null,null,null,null,null,null,null,null,null,null,null,null,null,null,null,null,null,null,null,null,null,null,null,null,null,null,null,null,{"$f":"BJ96","v":true}]
[]
[null,null,null,{"$f":"Translations!$B$160","v":"Pastabos:"},null,null,null,null,null,null,null,null,null,null,null,null,null,null,null,null,null,null,null,null,null,null,null,null,null,null,null,null,null,null,null,null,null,null,null,null,null,null,null,null,null,null,null,null,null,null,null,null,null,null,null,null,null,null,null,null,null,{"$f":"BJ117","v":true}]
[]
[]
[null,null,{"$f":"C90+1","v":3},null,null,null,null,null,null,null,null,null,{"$f":"Translations!$B$747","v":"Išmetamųjų teršalų kiekis:"},{"$f":"IF(COUNT(L144:L145,L147)=3,(L144+L145)/L147,\"\")","v":""},"t CO2e",null,{"$f":"EUconst_SumCO2 & \"_\" & EUconst_ProcessPFC","v":"SUM_CO2_Išmetamas PFC kiekis"},{"$f":"IF(ISBLANK(E122),\"\",MATCH(E122,CNTR_SourceStreamNames,0))","v":""},{"$f":"IF(ISBLANK(E122),\"\",INDEX(B_InstallationDescription!$D$65:$D$139,MATCH(E122,CNTR_SourceStreamNames,0)))","v":""},"is PFC?","Method",null,null,null,null,null,null,null,null,null,null,null,null,null,null,null,null,null,null,null,null,null,null,null,{"$f":"K128","v":0},{"$f":"AE130","v":0},{"$f":"AE131","v":0},{"$f":"AE132","v":0},{"$f":"AE133","v":0},{"$f":"AE134","v":0},{"$f":"AE135","v":0},{"$f":"AE136","v":0},{"$f":"L138","v":""},{"$f":"L139","v":""},{"$f":"AE141","v":7390},{"$f":"AE142","v":12200},{"$f":"L144","v":""},{"$f":"L145","v":""},{"$f":"L147","v":0},{"$f":"N122","v":""},null,{"$f":"CNTR_PFCRelevant=EUconst_NotRelevant","v":true}]
[null,null,null,null,{"$f":"IF(E122=\"\",\"\",IF(INDEX(B_InstallationDescription!$E$65:$E$139,MATCH(S122,B_InstallationDescription!$D$65:$D$139,0))>0,INDEX(B_InstallationDescription!$E$65:$E$139,MATCH(S122,B_InstallationDescription!$D$65:$D$139,0)),\"\"))","v":""},null,null,null,null,null,null,null,null,null,null,null,null,"Tiers",null,true,{"$f":"IF(E123=\"\",\"\",INDEX(CNTR_PFCMethod,MATCH(E122,CNTR_PFCSourceStreamNames,0)))","v":""},null,null,null,null,null,null,null,"Values",null,null,null,null,null,"Errors",null,null,null,null,"Calculation",null,null,null,"Accounting","AD:","A: Frequency","A: Duration","A: SEF(CF4)","B: AEO","B: CE","B: OVC","F(C2F6)","CF4 Emissions","C2F6 Emissions","GWP (CF4)","GWP (C2F6)","CF4 Emissions","C2F6 Emissions","Collection efficiency","CO2 fossil"]
[]
[null,null,null,null,{"$f":"IF(E122=\"\",\"\",HYPERLINK(\"#JUMP_14\",EUconst_FurtherGuidancePoint1))","v":""}]
[]
[null,null,null,null,null,{"$f":"Translations!$B$333","v":"Pakopa"},{"$f":"Translations!$B$672","v":"pakopos aprašas"},null,{"$f":"Translations!$B$158","v":"Vienetas"},null,{"$f":"Translations!$B$673","v":"Vertė"},null,{"$f":"Translations!$B$610","v":"klaida"},null,null,null,null,null,null,"Category from Sheet A",null,null,"tier required","text tier",null,null,"entries sheet A complete?",null,"typeI","default Value","Value used",null,null,null,null,null,null,null,null,null,null,null,null,null,null,null,null,null,null,null,null,null,null,null,null,null,null,null,null,null,null,"cond. form."]
[null,null,"i.",{"$f":"Translations!$B$622","v":"VD:"},null,null,{"$f":"IF(OR(ISBLANK(F128),F128=EUconst_NoTier),\"\",IF(X128=0,EUconst_NA,IF(ISERROR(X128),\"\",X128)))","v":""},null,{"$f":"EUconst_t","v":"t"},null,null,null,{"$f":"IF(AND(E123<>\"\",OR(F128=\"\",K128=\"\"),W128<>EUconst_NA),EUconst_ERR_Incomplete,IF(COUNTIF(AI128:AL128,TRUE)>0,EUconst_ERR_Inconsistent,\"\"))","v":""},null,null,null,null,{"$f":"EUconst_CNTR_ActivityData&E123","v":"ActivityData_"},null,{"$f":"IF(E122=\"\",\"\",INDEX(B_InstallationDescription!$I$65:$I$139,MATCH(S122,B_InstallationDescription!$D$65:$D$139,0)))","v":""},null,null,{"$f":"IF(E123=\"\",\"\",INDEX(EUwideConstants!$N:$N,MATCH(R128,EUwideConstants!$Q:$Q,0)))","v":""},{"$f":"IF(ISBLANK(F128),\"\",IF(F128=EUconst_NA,\"\",INDEX(EUwideConstants!$H:$M,MATCH(R128,EUwideConstants!$Q:$Q,0),MATCH(F128,CNTR_TierList,0))))","v":""},"default type",null,{"$f":"E122<>\"\"","v":false},null,null,null,{"$f":"IF(W128=EUconst_NA,1,IF(COUNT(K128:L128)=0,0,IF(L128=\"\",K128,L128)))","v":0},"cond. Form?","cond. Form?",null,null,null,"inconsistent entries?",null,null,null,null,null,null,null,null,null,null,null,null,null,null,null,null,null,null,null,null,null,null,null,null,{"$f":"OR(CNTR_PFCRelevant=EUconst_NotRelevant,AND(COUNTA(CNTR_ListRelevantSections)>0,E122=\"\"))","v":true}]
[null,null,null,null,null,null,null," "]
[null,null,"ii.",{"$f":"Translations!$B$722","v":"A. Dažnis"},null,null,{"$f":"IF(OR(ISBLANK(F130),F130=EUconst_NoTier),\"\",IF(X130=0,EUconst_NotApplicable,IF(ISERROR(X130),\"\",X130)))","v":""},null,{"$f":"IF(W130=EUconst_NA,\"\",INDEX(PFCUnits,1))","v":"1/(vienoje elektrolizės vonioje per parą)"},null,{"$f":"IF(L130=\"\",AD130,\"\")","v":""},null,{"$f":"IF(AND(E123<>\"\",OR(F130=\"\",L130=\"\"),W130<>EUconst_NA),EUconst_ERR_Incomplete,IF(COUNTIF(AI130:AL130,TRUE)>0,EUconst_ERR_Inconsistent,\"\"))","v":""},null,null,null,null,{"$f":"R128","v":"ActivityData_"},null,{"$f":"T128","v":""},null,1,{"$f":"IF(E123=\"\",\"\",IF(U123<>V130,EUconst_NA,INDEX(EUwideConstants!$N:$N,MATCH(R130,EUwideConstants!$Q:$Q,0))))","v":""},{"$f":"IF(ISBLANK(F130),\"\",IF(F130=EUconst_NA,\"\",INDEX(EUwideConstants!$H:$M,MATCH(R130,EUwideConstants!$Q:$Q,0),MATCH(F130,CNTR_TierList,0))))","v":""},null,null,{"$f":"AND(AA128,W130<>EUconst_NA)","v":false},null,{"$f":"IF(AA130=TRUE,IF(COUNTIF(MSPara_SourceStreamCategory,T130)=0,\"\",INDEX(MSPara_CalcFactorsMatrix,MATCH(T130,MSPara_SourceStreamCategory,0),MATCH(#REF!&\"_\"&1,MSPara_CalcFactors,0))),\"\")","v":""},{"$f":"\"\"","v":""},{"$f":"IF(AA130=TRUE,IF(COUNT(K130:L130)=0,0,IF(L130=\"\",K130,L130)),0)","v":0},{"$f":"AND(AA130=TRUE,OR(AND(F130<>\"\",NOT(ISNUMBER(Y130))),L130<>\"\",F130=\"\",AD130=\"\"))","v":false},{"$f":"AND(AA130=TRUE,NOT(AF130))","v":false},null,null,null,{"$f":"AND(L130<>\"\",W130=EUconst_NA)","v":false},null,null,null,"Method A","Method B",null,null,null,null,null,null,null,null,null,null,null,null,null,null,null,null,null,null,null,{"$f":"OR(BJ128,W130=EUconst_NA)","v":true}]
[null,null,"iii.",{"$f":"Translations!$B$724","v":"A. Trukmė"},null,null,"",null,{"$f":"IF(W131=EUconst_NA,\"\",INDEX(PFCUnits,2))","v":"min."},null,"",null,{"$f":"IF(AND(E123<>\"\",OR(F131=\"\",L131=\"\"),W131<>EUconst_NA),EUconst_ERR_Incomplete,IF(COUNTIF(AI131:AL131,TRUE)>0,EUconst_ERR_Inconsistent,\"\"))","v":""},null,null,null,null,{"$f":"R130","v":"ActivityData_"},null,{"$f":"T130","v":""},null,1,{"$f":"IF(E123=\"\",\"\",IF(U123<>V131,EUconst_NA,INDEX(EUwideConstants!$N:$N,MATCH(R131,EUwideConstants!$Q:$Q,0))))","v":""},{"$f":"IF(ISBLANK(F131),\"\",IF(F131=EUconst_NA,\"\",INDEX(EUwideConstants!$H:$M,MATCH(R131,EUwideConstants!$Q:$Q,0),MATCH(F131,CNTR_TierList,0))))","v":""},null,null,{"$f":"AND(AA128,W131<>EUconst_NA)","v":false},null,{"$f":"IF(AA131=TRUE,IF(COUNTIF(MSPara_SourceStreamCategory,T131)=0,\"\",INDEX(MSPara_CalcFactorsMatrix,MATCH(T131,MSPara_SourceStreamCategory,0),MATCH(#REF!&\"_\"&1,MSPara_CalcFactors,0))),\"\")","v":""},{"$f":"\"\"","v":""},0,{"$f":"AND(AA131=TRUE,OR(AND(F131<>\"\",NOT(ISNUMBER(Y131))),L131<>\"\",F131=\"\",AD131=\"\"))","v":false},false,null,null,null,false,null,null,"CF4",{"$f":"IF(ISNUMBER(U123),AE128*AE130*AE131*AE132/1000,\"\")","v":""},{"$f":"IF(ISNUMBER(U123),AE128*(AE133/IF(AE134=0,0.01,AE134))*AE135/1000,\"\")","v":""},null,null,null,null,null,null,null,null,null,null,null,null,null,null,null,null,null,null,null,{"$f":"OR(BJ128,W131=EUconst_NA)","v":true}]
[null,null,"iv.",{"$f":"Translations!$B$726","v":"A. NITF(CF4)"},null,null,"",null,{"$f":"IF(W132=EUconst_NA,\"\",INDEX(PFCUnits,3))","v":"(kg CF4/t Al)/(min./vienoje elektrolizės vonioje per parą)"},null,"",null,{"$f":"IF(AND(E123<>\"\",OR(F132=\"\",COUNT(K132:L132)=0),W132<>EUconst_NA),EUconst_ERR_Incomplete,IF(COUNTIF(AI132:AL132,TRUE)>0,EUconst_ERR_Inconsistent,\"\"))","v":""},null,null,null,null,{"$f":"EUconst_CNTR_EF&$E123","v":"EF_"},null,"",null,1,{"$f":"IF(E123=\"\",\"\",IF(U123<>V132,EUconst_NA,INDEX(EUwideConstants!$N:$N,MATCH(R132,EUwideConstants!$Q:$Q,0))))","v":""},{"$f":"IF(ISBLANK(F132),\"\",IF(F132=EUconst_NA,\"\",INDEX(EUwideConstants!$H:$M,MATCH(R132,EUwideConstants!$Q:$Q,0),MATCH(F132,CNTR_TierList,0))))","v":""},{"$f":"IF(COUNTIF(EUconst_DefaultValues,X132)>0,MATCH(X132,EUconst_DefaultValues,0),\"\")","v":""},null,{"$f":"AND(AA128,W132<>EUconst_NA)","v":false},null,{"$f":"IF(AA132=TRUE,IF(T132=\"\",\"\",INDEX(MSPara_PFCMethA,MATCH(T132,PFCCellTypes,0),1)),\"\")","v":""},{"$f":"IF(AND(Y132<>\"\",ISNUMBER(AC132)),AC132,\"\")","v":""},0,{"$f":"AND(AA132=TRUE,OR(AND(F132<>\"\",NOT(ISNUMBER(Y132))),L132<>\"\",F132=\"\",AD132=\"\"))","v":false},false,null,null,null,false,null,null,"C2F6",{"$f":"IF(AND(ISNUMBER(AO131),AO131>0),AO131*AE136,0)","v":0},{"$f":"IF(AND(ISNUMBER(AP131),AP131>0),AP131*AE136,0)","v":0},null,null,null,null,null,null,null,null,null,null,null,null,null,null,null,null,null,null,null,{"$f":"OR(BJ128,W132=EUconst_NA)","v":true}]
[null,null,"v.",{"$f":"Translations!$B$728","v":"B. AEV"},null,null,"",null,{"$f":"IF(W133=EUconst_NA,\"\",INDEX(PFCUnits,4))","v":"mV"},null,"",null,{"$f":"IF(AND(E123<>\"\",OR(F133=\"\",L133=\"\"),W133<>EUconst_NA),EUconst_ERR_Incomplete,IF(COUNTIF(AI133:AL133,TRUE)>0,EUconst_ERR_Inconsistent,\"\"))","v":""},null,null,null,null,{"$f":"R128","v":"ActivityData_"},null,"",null,2,{"$f":"IF(E123=\"\",\"\",IF(U123<>V133,EUconst_NA,INDEX(EUwideConstants!$N:$N,MATCH(R133,EUwideConstants!$Q:$Q,0))))","v":""},{"$f":"IF(ISBLANK(F133),\"\",IF(F133=EUconst_NA,\"\",INDEX(EUwideConstants!$H:$M,MATCH(R133,EUwideConstants!$Q:$Q,0),MATCH(F133,CNTR_TierList,0))))","v":""},null,null,{"$f":"AND(AA128,W133<>EUconst_NA)","v":false},null,null,{"$f":"\"\"","v":""},0,{"$f":"AND(AA133=TRUE,OR(ISNUMBER(L133),NOT(ISNUMBER(Y133))))","v":false},false,null,null,null,false,null,null,"CF4",{"$f":"IF(ISNUMBER(AO131),AO131*AE141,\"\")","v":""},{"$f":"IF(ISNUMBER(AP131),AP131*AE141,\"\")","v":""},null,null,null,null,null,null,null,null,null,null,null,null,null,null,null,null,null,null,null,{"$f":"OR(BJ128,W133=EUconst_NA)","v":true}]
[null,null,"vi.",{"$f":"Translations!$B$730","v":"B. EN"},null,null,"",null,{"$f":"IF(W134=EUconst_NA,\"\",\"-\")","v":"-"},null,"",null,{"$f":"IF(AND(E123<>\"\",OR(F134=\"\",L134=\"\"),W134<>EUconst_NA),EUconst_ERR_Incomplete,IF(COUNTIF(AI134:AL134,TRUE)>0,EUconst_ERR_Inconsistent,\"\"))","v":""},null,null,null,null,{"$f":"R133","v":"ActivityData_"},null,"",null,2,{"$f":"IF(E123=\"\",\"\",IF(U123<>V134,EUconst_NA,INDEX(EUwideConstants!$N:$N,MATCH(R134,EUwideConstants!$Q:$Q,0))))","v":""},{"$f":"IF(ISBLANK(F134),\"\",IF(F134=EUconst_NA,\"\",INDEX(EUwideConstants!$H:$M,MATCH(R134,EUwideConstants!$Q:$Q,0),MATCH(F134,CNTR_TierList,0))))","v":""},null,null,{"$f":"AND(AA128,W134<>EUconst_NA)","v":false},null,null,{"$f":"\"\"","v":""},0,{"$f":"AND(AA134=TRUE,OR(ISNUMBER(L134),NOT(ISNUMBER(Y134))))","v":false},false,null,null,null,false,{"$f":"L134>100%","v":false},null,"C2F6",{"$f":"IF(ISNUMBER(AO132),AO132*AE142,\"\")","v":0},{"$f":"IF(ISNUMBER(AP132),AP132*AE142,\"\")","v":0},null,null,null,null,null,null,null,null,null,null,null,null,null,null,null,null,null,null,null,{"$f":"OR(BJ128,W134=EUconst_NA)","v":true}]
[null,null,"vii.",{"$f":"Translations!$B$732","v":"B. VĮK"},null,null,"",null,{"$f":"IF(W135=EUconst_NA,\"\",INDEX(PFCUnits,6))","v":"(kg CF4)/(t Al mV)"},null,"",null,{"$f":"IF(AND(E123<>\"\",OR(F135=\"\",COUNT(K135:L135)=0),W135<>EUconst_NA),EUconst_ERR_Incomplete,IF(COUNTIF(AI135:AL135,TRUE)>0,EUconst_ERR_Inconsistent,\"\"))","v":""},null,null,null,null,{"$f":"EUconst_CNTR_EF&E123","v":"EF_"},null,"",null,2,{"$f":"IF(E123=\"\",\"\",IF(U123<>V135,EUconst_NA,INDEX(EUwideConstants!$N:$N,MATCH(R135,EUwideConstants!$Q:$Q,0))))","v":""},{"$f":"IF(ISBLANK(F135),\"\",IF(F135=EUconst_NA,\"\",INDEX(EUwideConstants!$H:$M,MATCH(R135,EUwideConstants!$Q:$Q,0),MATCH(F135,CNTR_TierList,0))))","v":""},{"$f":"IF(COUNTIF(EUconst_DefaultValues,X135)>0,MATCH(X135,EUconst_DefaultValues,0),\"\")","v":""},null,{"$f":"AND(AA128,W135<>EUconst_NA)","v":false},null,{"$f":"IF(AA135=TRUE,IF(T135=\"\",\"\",INDEX(MSPara_PFCMethB,MATCH(T135,PFCCellTypes,0),1)),\"\")","v":""},{"$f":"IF(AND(Y135<>\"\",ISNUMBER(AC135)),AC135,\"\")","v":""},0,{"$f":"AND(AA135=TRUE,OR(AND(F135<>\"\",NOT(ISNUMBER(Y135))),L135<>\"\",F135=\"\",AD135=\"\"))","v":false},false,null,null,null,false,null,null,null,null,null,null,null,null,null,null,null,null,null,null,null,null,null,null,null,null,null,null,null,null,{"$f":"OR(BJ128,W135=EUconst_NA)","v":true}]
[null,null,"viii.",{"$f":"Translations!$B$734","v":"F(C2F6)"},null,null,"",null,{"$f":"IF(W136=EUconst_NA,\"\",INDEX(PFCUnits,7))","v":"t C2F6/t CF4"},null,"",null,{"$f":"IF(AND(E123<>\"\",OR(F136=\"\",COUNT(K136:L136)=0),W136<>EUconst_NA),EUconst_ERR_Incomplete,IF(COUNTIF(AI136:AL136,TRUE)>0,EUconst_ERR_Inconsistent,\"\"))","v":""},null,null,null,null,{"$f":"EUconst_CNTR_EF&E123","v":"EF_"},null,"",null,{"$f":"\"\"","v":""},{"$f":"W128","v":""},{"$f":"IF(ISBLANK(F136),\"\",IF(F136=EUconst_NA,\"\",INDEX(EUwideConstants!$H:$M,MATCH(R136,EUwideConstants!$Q:$Q,0),MATCH(F136,CNTR_TierList,0))))","v":""},{"$f":"IF(COUNTIF(EUconst_DefaultValues,X136)>0,MATCH(X136,EUconst_DefaultValues,0),\"\")","v":""},null,{"$f":"AND(AA128,W136<>EUconst_NA)","v":false},null,{"$f":"IF(AA136=TRUE,IF(T136=\"\",\"\",INDEX(MSPara_PFCMethA,MATCH(T136,PFCCellTypes,0),2)),\"\")","v":""},{"$f":"IF(AND(Y136<>\"\",ISNUMBER(AC136)),AC136,\"\")","v":""},0,{"$f":"AND(AA136=TRUE,OR(AND(F136<>\"\",NOT(ISNUMBER(Y136))),L136<>\"\",F136=\"\",AD136=\"\"))","v":false},false,null,null,null,false,null,null,null,null,null,null,null,null,null,null,null,null,null,null,null,null,null,null,null,null,null,null,null,null,{"$f":"OR(BJ128,W136=EUconst_NA)","v":true}]
[]
[null,null,"ix.",{"$f":"Translations!$B$748","v":"Išmestas CF4 kiekis"},null,null,null,null,{"$f":"EUconst_t","v":"t"},null,null,{"$f":"IF(ISNUMBER(U123),INDEX(AO131:AP131,U123),\"\")","v":""}]
[null,null,"x.",{"$f":"Translations!$B$749","v":"Išmestas C2F6 kiekis"},null,null,null,null,{"$f":"EUconst_t","v":"t"},null,null,{"$f":"IF(ISNUMBER(U123),INDEX(AO132:AP132,U123),\"\")","v":""}]
[]
[null,null,"xi.",{"$f":"Translations!$B$736","v":"VAP(CF4)"},null,null,null,null,"t CO2e / t CF4",null,{"$f":"IF(L141=\"\",7390,\"\")","v":7390},null,null,null,null,null,null,null,null,null,null,null,null,null,null,null,null,null,null,null,{"$f":"IF(L141=\"\",K141,L141)","v":7390},null,null,null,null,null,null,null,null,null,null,null,null,null,null,null,null,null,null,null,null,null,null,null,null,null,null,null,null,null,null,{"$f":"BJ128","v":true}]
[null,null,"xii.",{"$f":"Translations!$B$738","v":"VAP(C2F6)"},null,null,null,null,"t CO2e / t C2F6",null,{"$f":"IF(L142=\"\",12200,\"\")","v":12200},null,null,null,null,null,null,null,null,null,null,null,null,null,null,null,null,null,null,null,{"$f":"IF(L142=\"\",K142,L142)","v":12200},null,null,null,null,null,null,null,null,null,null,null,null,null,null,null,null,null,null,null,null,null,null,null,null,null,null,null,null,null,null,{"$f":"BJ141","v":true}]
[]
[null,null,"xiii.",{"$f":"Translations!$B$748","v":"Išmestas CF4 kiekis"},null,null,null,null,"t CO2e",null,null,{"$f":"IF(ISNUMBER(U123),INDEX(AO133:AP133,U123),\"\")","v":""}]
[null,null,"xiv.",{"$f":"Translations!$B$749","v":"Išmestas C2F6 kiekis"},null,null,null,null,"t CO2e",null,null,{"$f":"IF(ISNUMBER(U123),INDEX(AO134:AP134,U123),\"\")","v":""}]
[]
[null,null,"xv.",{"$f":"Translations!$B$167","v":"Surinkimo efektyvumas"},null,null,null,null,"-",null,null,null,{"$f":"IF(AND(E123<>\"\",L147=\"\"),EUconst_ERR_Incomplete,IF(COUNTIF(AI147:AL147,TRUE)>0,EUconst_ERR_Inconsistent,\"\"))","v":""},null,null,null,null,null,null,null,null,null,null,null,null,null,null,null,null,null,null,null,null,null,null,null,null,{"$f":"L147>100%","v":false},null,null,null,null,null,null,null,null,null,null,null,null,null,null,null,null,null,null,null,null,null,null,null,{"$f":"BJ128","v":true}]
[]
[null,null,null,{"$f":"Translations!$B$674","v":"Pakopos galioja nuo:"},null,null,null,{"$f":"Translations!$B$675","v":"iki:"},null,null,null,null,null,null,null,null,null,null,null,null,null,null,null,null,null,null,null,null,null,null,null,null,null,null,null,null,null,null,null,null,null,null,null,null,null,null,null,null,null,null,null,null,null,null,null,null,null,null,null,null,null,{"$f":"BJ128","v":true}]
[]
[null,null,null,{"$f":"Translations!$B$160","v":"Pastabos:"},null,null,null,null,null,null,null,null,null,null,null,null,null,null,null,null,null,null,null,null,null,null,null,null,null,null,null,null,null,null,null,null,null,null,null,null,null,null,null,null,null,null,null,null,null,null,null,null,null,null,null,null,null,null,null,null,null,{"$f":"BJ149","v":true}]
[]
[]
[null,null,{"$f":"C122+1","v":4},null,null,null,null,null,null,null,null,null,{"$f":"Translations!$B$747","v":"Išmetamųjų teršalų kiekis:"},{"$f":"IF(COUNT(L176:L177,L179)=3,(L176+L177)/L179,\"\")","v":""},"t CO2e",null,{"$f":"EUconst_SumCO2 & \"_\" & EUconst_ProcessPFC","v":"SUM_CO2_Išmetamas PFC kiekis"},{"$f":"IF(ISBLANK(E154),\"\",MATCH(E154,CNTR_SourceStreamNames,0))","v":""},{"$f":"IF(ISBLANK(E154),\"\",INDEX(B_InstallationDescription!$D$65:$D$139,MATCH(E154,CNTR_SourceStreamNames,0)))","v":""},"is PFC?","Method",null,null,null,null,null,null,null,null,null,null,null,null,null,null,null,null,null,null,null,null,null,null,null,{"$f":"K160","v":0},{"$f":"AE162","v":0},{"$f":"AE163","v":0},{"$f":"AE164","v":0},{"$f":"AE165","v":0},{"$f":"AE166","v":0},{"$f":"AE167","v":0},{"$f":"AE168","v":0},{"$f":"L170","v":""},{"$f":"L171","v":""},{"$f":"AE173","v":7390},{"$f":"AE174","v":12200},{"$f":"L176","v":""},{"$f":"L177","v":""},{"$f":"L179","v":0},{"$f":"N154","v":""},null,{"$f":"CNTR_PFCRelevant=EUconst_NotRelevant","v":true}]
[null,null,null,null,{"$f":"IF(E154=\"\",\"\",IF(INDEX(B_InstallationDescription!$E$65:$E$139,MATCH(S154,B_InstallationDescription!$D$65:$D$139,0))>0,INDEX(B_InstallationDescription!$E$65:$E$139,MATCH(S154,B_InstallationDescription!$D$65:$D$139,0)),\"\"))","v":""},null,null,null,null,null,null,null,null,null,null,null,null,"Tiers",null,true,{"$f":"IF(E155=\"\",\"\",INDEX(CNTR_PFCMethod,MATCH(E154,CNTR_PFCSourceStreamNames,0)))","v":""},null,null,null,null,null,null,null,"Values",null,null,null,null,null,"Errors",null,null,null,null,"Calculation",null,null,null,"Accounting","AD:","A: Frequency","A: Duration","A: SEF(CF4)","B: AEO","B: CE","B: OVC","F(C2F6)","CF4 Emissions","C2F6 Emissions","GWP (CF4)","GWP (C2F6)","CF4 Emissions","C2F6 Emissions","Collection efficiency","CO2 fossil"]
[]
[null,null,null,null,{"$f":"IF(E154=\"\",\"\",HYPERLINK(\"#JUMP_14\",EUconst_FurtherGuidancePoint1))","v":""}]
[]
[null,null,null,null,null,{"$f":"Translations!$B$333","v":"Pakopa"},{"$f":"Translations!$B$672","v":"pakopos aprašas"},null,{"$f":"Translations!$B$158","v":"Vienetas"},null,{"$f":"Translations!$B$673","v":"Vertė"},null,{"$f":"Translations!$B$610","v":"klaida"},null,null,null,null,null,null,"Category from Sheet A",null,null,"tier required","text tier",null,null,"entries sheet A complete?",null,"typeI","default Value","Value used",null,null,null,null,null,null,null,null,null,null,null,null,null,null,null,null,null,null,null,null,null,null,null,null,null,null,null,null,null,null,"cond. form."]
[null,null,"i.",{"$f":"Translations!$B$622","v":"VD:"},null,null,{"$f":"IF(OR(ISBLANK(F160),F160=EUconst_NoTier),\"\",IF(X160=0,EUconst_NA,IF(ISERROR(X160),\"\",X160)))","v":""},null,{"$f":"EUconst_t","v":"t"},null,null,null,{"$f":"IF(AND(E155<>\"\",OR(F160=\"\",K160=\"\"),W160<>EUconst_NA),EUconst_ERR_Incomplete,IF(COUNTIF(AI160:AL160,TRUE)>0,EUconst_ERR_Inconsistent,\"\"))","v":""},null,null,null,null,{"$f":"EUconst_CNTR_ActivityData&E155","v":"ActivityData_"},null,{"$f":"IF(E154=\"\",\"\",INDEX(B_InstallationDescription!$I$65:$I$139,MATCH(S154,B_InstallationDescription!$D$65:$D$139,0)))","v":""},null,null,{"$f":"IF(E155=\"\",\"\",INDEX(EUwideConstants!$N:$N,MATCH(R160,EUwideConstants!$Q:$Q,0)))","v":""},{"$f":"IF(ISBLANK(F160),\"\",IF(F160=EUconst_NA,\"\",INDEX(EUwideConstants!$H:$M,MATCH(R160,EUwideConstants!$Q:$Q,0),MATCH(F160,CNTR_TierList,0))))","v":""},"default type",null,{"$f":"E154<>\"\"","v":false},null,null,null,{"$f":"IF(W160=EUconst_NA,1,IF(COUNT(K160:L160)=0,0,IF(L160=\"\",K160,L160)))","v":0},"cond. Form?","cond. Form?",null,null,null,"inconsistent entries?",null,null,null,null,null,null,null,null,null,null,null,null,null,null,null,null,null,null,null,null,null,null,null,null,{"$f":"OR(CNTR_PFCRelevant=EUconst_NotRelevant,AND(COUNTA(CNTR_ListRelevantSections)>0,E154=\"\"))","v":true}]
[null,null,null,null,null,null,null," "]
[null,null,"ii.",{"$f":"Translations!$B$722","v":"A. Dažnis"},null,null,{"$f":"IF(OR(ISBLANK(F162),F162=EUconst_NoTier),\"\",IF(X162=0,EUconst_NotApplicable,IF(ISERROR(X162),\"\",X162)))","v":""},null,{"$f":"IF(W162=EUconst_NA,\"\",INDEX(PFCUnits,1))","v":"1/(vienoje elektrolizės vonioje per parą)"},null,{"$f":"IF(L162=\"\",AD162,\"\")","v":""},null,{"$f":"IF(AND(E155<>\"\",OR(F162=\"\",L162=\"\"),W162<>EUconst_NA),EUconst_ERR_Incomplete,IF(COUNTIF(AI162:AL162,TRUE)>0,EUconst_ERR_Inconsistent,\"\"))","v":""},null,null,null,null,{"$f":"R160","v":"ActivityData_"},null,{"$f":"T160","v":""},null,1,{"$f":"IF(E155=\"\",\"\",IF(U155<>V162,EUconst_NA,INDEX(EUwideConstants!$N:$N,MATCH(R162,EUwideConstants!$Q:$Q,0))))","v":""},{"$f":"IF(ISBLANK(F162),\"\",IF(F162=EUconst_NA,\"\",INDEX(EUwideConstants!$H:$M,MATCH(R162,EUwideConstants!$Q:$Q,0),MATCH(F162,CNTR_TierList,0))))","v":""},null,null,{"$f":"AND(AA160,W162<>EUconst_NA)","v":false},null,{"$f":"IF(AA162=TRUE,IF(COUNTIF(MSPara_SourceStreamCategory,T162)=0,\"\",INDEX(MSPara_CalcFactorsMatrix,MATCH(T162,MSPara_SourceStreamCategory,0),MATCH(#REF!&\"_\"&1,MSPara_CalcFactors,0))),\"\")","v":""},{"$f":"\"\"","v":""},{"$f":"IF(AA162=TRUE,IF(COUNT(K162:L162)=0,0,IF(L162=\"\",K162,L162)),0)","v":0},{"$f":"AND(AA162=TRUE,OR(AND(F162<>\"\",NOT(ISNUMBER(Y162))),L162<>\"\",F162=\"\",AD162=\"\"))","v":false},{"$f":"AND(AA162=TRUE,NOT(AF162))","v":false},null,null,null,{"$f":"AND(L162<>\"\",W162=EUconst_NA)","v":false},null,null,null,"Method A","Method B",null,null,null,null,null,null,null,null,null,null,null,null,null,null,null,null,null,null,null,{"$f":"OR(BJ160,W162=EUconst_NA)","v":true}]
[null,null,"iii.",{"$f":"Translations!$B$724","v":"A. Trukmė"},null,null,"",null,{"$f":"IF(W163=EUconst_NA,\"\",INDEX(PFCUnits,2))","v":"min."},null,"",null,{"$f":"IF(AND(E155<>\"\",OR(F163=\"\",L163=\"\"),W163<>EUconst_NA),EUconst_ERR_Incomplete,IF(COUNTIF(AI163:AL163,TRUE)>0,EUconst_ERR_Inconsistent,\"\"))","v":""},null,null,null,null,{"$f":"R162","v":"ActivityData_"},null,{"$f":"T162","v":""},null,1,{"$f":"IF(E155=\"\",\"\",IF(U155<>V163,EUconst_NA,INDEX(EUwideConstants!$N:$N,MATCH(R163,EUwideConstants!$Q:$Q,0))))","v":""},{"$f":"IF(ISBLANK(F163),\"\",IF(F163=EUconst_NA,\"\",INDEX(EUwideConstants!$H:$M,MATCH(R163,EUwideConstants!$Q:$Q,0),MATCH(F163,CNTR_TierList,0))))","v":""},null,null,{"$f":"AND(AA160,W163<>EUconst_NA)","v":false},null,{"$f":"IF(AA163=TRUE,IF(COUNTIF(MSPara_SourceStreamCategory,T163)=0,\"\",INDEX(MSPara_CalcFactorsMatrix,MATCH(T163,MSPara_SourceStreamCategory,0),MATCH(#REF!&\"_\"&1,MSPara_CalcFactors,0))),\"\")","v":""},{"$f":"\"\"","v":""},0,{"$f":"AND(AA163=TRUE,OR(AND(F163<>\"\",NOT(ISNUMBER(Y163))),L163<>\"\",F163=\"\",AD163=\"\"))","v":false},false,null,null,null,false,null,null,"CF4",{"$f":"IF(ISNUMBER(U155),AE160*AE162*AE163*AE164/1000,\"\")","v":""},{"$f":"IF(ISNUMBER(U155),AE160*(AE165/IF(AE166=0,0.01,AE166))*AE167/1000,\"\")","v":""},null,null,null,null,null,null,null,null,null,null,null,null,null,null,null,null,null,null,null,{"$f":"OR(BJ160,W163=EUconst_NA)","v":true}]
[null,null,"iv.",{"$f":"Translations!$B$726","v":"A. NITF(CF4)"},null,null,"",null,{"$f":"IF(W164=EUconst_NA,\"\",INDEX(PFCUnits,3))","v":"(kg CF4/t Al)/(min./vienoje elektrolizės vonioje per parą)"},null,"",null,{"$f":"IF(AND(E155<>\"\",OR(F164=\"\",COUNT(K164:L164)=0),W164<>EUconst_NA),EUconst_ERR_Incomplete,IF(COUNTIF(AI164:AL164,TRUE)>0,EUconst_ERR_Inconsistent,\"\"))","v":""},null,null,null,null,{"$f":"EUconst_CNTR_EF&$E155","v":"EF_"},null,"",null,1,{"$f":"IF(E155=\"\",\"\",IF(U155<>V164,EUconst_NA,INDEX(EUwideConstants!$N:$N,MATCH(R164,EUwideConstants!$Q:$Q,0))))","v":""},{"$f":"IF(ISBLANK(F164),\"\",IF(F164=EUconst_NA,\"\",INDEX(EUwideConstants!$H:$M,MATCH(R164,EUwideConstants!$Q:$Q,0),MATCH(F164,CNTR_TierList,0))))","v":""},{"$f":"IF(COUNTIF(EUconst_DefaultValues,X164)>0,MATCH(X164,EUconst_DefaultValues,0),\"\")","v":""},null,{"$f":"AND(AA160,W164<>EUconst_NA)","v":false},null,{"$f":"IF(AA164=TRUE,IF(T164=\"\",\"\",INDEX(MSPara_PFCMethA,MATCH(T164,PFCCellTypes,0),1)),\"\")","v":""},{"$f":"IF(AND(Y164<>\"\",ISNUMBER(AC164)),AC164,\"\")","v":""},0,{"$f":"AND(AA164=TRUE,OR(AND(F164<>\"\",NOT(ISNUMBER(Y164))),L164<>\"\",F164=\"\",AD164=\"\"))","v":false},false,null,null,null,false,null,null,"C2F6",{"$f":"IF(AND(ISNUMBER(AO163),AO163>0),AO163*AE168,0)","v":0},{"$f":"IF(AND(ISNUMBER(AP163),AP163>0),AP163*AE168,0)","v":0},null,null,null,null,null,null,null,null,null,null,null,null,null,null,null,null,null,null,null,{"$f":"OR(BJ160,W164=EUconst_NA)","v":true}]
[null,null,"v.",{"$f":"Translations!$B$728","v":"B. AEV"},null,null,"",null,{"$f":"IF(W165=EUconst_NA,\"\",INDEX(PFCUnits,4))","v":"mV"},null,"",null,{"$f":"IF(AND(E155<>\"\",OR(F165=\"\",L165=\"\"),W165<>EUconst_NA),EUconst_ERR_Incomplete,IF(COUNTIF(AI165:AL165,TRUE)>0,EUconst_ERR_Inconsistent,\"\"))","v":""},null,null,null,null,{"$f":"R160","v":"ActivityData_"},null,"",null,2,{"$f":"IF(E155=\"\",\"\",IF(U155<>V165,EUconst_NA,INDEX(EUwideConstants!$N:$N,MATCH(R165,EUwideConstants!$Q:$Q,0))))","v":""},{"$f":"IF(ISBLANK(F165),\"\",IF(F165=EUconst_NA,\"\",INDEX(EUwideConstants!$H:$M,MATCH(R165,EUwideConstants!$Q:$Q,0),MATCH(F165,CNTR_TierList,0))))","v":""},null,null,{"$f":"AND(AA160,W165<>EUconst_NA)","v":false},null,null,{"$f":"\"\"","v":""},0,{"$f":"AND(AA165=TRUE,OR(ISNUMBER(L165),NOT(ISNUMBER(Y165))))","v":false},false,null,null,null,false,null,null,"CF4",{"$f":"IF(ISNUMBER(AO163),AO163*AE173,\"\")","v":""},{"$f":"IF(ISNUMBER(AP163),AP163*AE173,\"\")","v":""},null,null,null,null,null,null,null,null,null,null,null,null,null,null,null,null,null,null,null,{"$f":"OR(BJ160,W165=EUconst_NA)","v":true}]
[null,null,"vi.",{"$f":"Translations!$B$730","v":"B. EN"},null,null,"",null,{"$f":"IF(W166=EUconst_NA,\"\",\"-\")","v":"-"},null,"",null,{"$f":"IF(AND(E155<>\"\",OR(F166=\"\",L166=\"\"),W166<>EUconst_NA),EUconst_ERR_Incomplete,IF(COUNTIF(AI166:AL166,TRUE)>0,EUconst_ERR_Inconsistent,\"\"))","v":""},null,null,null,null,{"$f":"R165","v":"ActivityData_"},null,"",null,2,{"$f":"IF(E155=\"\",\"\",IF(U155<>V166,EUconst_NA,INDEX(EUwideConstants!$N:$N,MATCH(R166,EUwideConstants!$Q:$Q,0))))","v":""},{"$f":"IF(ISBLANK(F166),\"\",IF(F166=EUconst_NA,\"\",INDEX(EUwideConstants!$H:$M,MATCH(R166,EUwideConstants!$Q:$Q,0),MATCH(F166,CNTR_TierList,0))))","v":""},null,null,{"$f":"AND(AA160,W166<>EUconst_NA)","v":false},null,null,{"$f":"\"\"","v":""},0,{"$f":"AND(AA166=TRUE,OR(ISNUMBER(L166),NOT(ISNUMBER(Y166))))","v":false},false,null,null,null,false,{"$f":"L166>100%","v":false},null,"C2F6",{"$f":"IF(ISNUMBER(AO164),AO164*AE174,\"\")","v":0},{"$f":"IF(ISNUMBER(AP164),AP164*AE174,\"\")","v":0},null,null,null,null,null,null,null,null,null,null,null,null,null,null,null,null,null,null,null,{"$f":"OR(BJ160,W166=EUconst_NA)","v":true}]
[null,null,"vii.",{"$f":"Translations!$B$732","v":"B. VĮK"},null,null,"",null,{"$f":"IF(W167=EUconst_NA,\"\",INDEX(PFCUnits,6))","v":"(kg CF4)/(t Al mV)"},null,"",null,{"$f":"IF(AND(E155<>\"\",OR(F167=\"\",COUNT(K167:L167)=0),W167<>EUconst_NA),EUconst_ERR_Incomplete,IF(COUNTIF(AI167:AL167,TRUE)>0,EUconst_ERR_Inconsistent,\"\"))","v":""},null,null,null,null,{"$f":"EUconst_CNTR_EF&E155","v":"EF_"},null,"",null,2,{"$f":"IF(E155=\"\",\"\",IF(U155<>V167,EUconst_NA,INDEX(EUwideConstants!$N:$N,MATCH(R167,EUwideConstants!$Q:$Q,0))))","v":""},{"$f":"IF(ISBLANK(F167),\"\",IF(F167=EUconst_NA,\"\",INDEX(EUwideConstants!$H:$M,MATCH(R167,EUwideConstants!$Q:$Q,0),MATCH(F167,CNTR_TierList,0))))","v":""},{"$f":"IF(COUNTIF(EUconst_DefaultValues,X167)>0,MATCH(X167,EUconst_DefaultValues,0),\"\")","v":""},null,{"$f":"AND(AA160,W167<>EUconst_NA)","v":false},null,{"$f":"IF(AA167=TRUE,IF(T167=\"\",\"\",INDEX(MSPara_PFCMethB,MATCH(T167,PFCCellTypes,0),1)),\"\")","v":""},{"$f":"IF(AND(Y167<>\"\",ISNUMBER(AC167)),AC167,\"\")","v":""},0,{"$f":"AND(AA167=TRUE,OR(AND(F167<>\"\",NOT(ISNUMBER(Y167))),L167<>\"\",F167=\"\",AD167=\"\"))","v":false},false,null,null,null,false,null,null,null,null,null,null,null,null,null,null,null,null,null,null,null,null,null,null,null,null,null,null,null,null,{"$f":"OR(BJ160,W167=EUconst_NA)","v":true}]
[null,null,"viii.",{"$f":"Translations!$B$734","v":"F(C2F6)"},null,null,"",null,{"$f":"IF(W168=EUconst_NA,\"\",INDEX(PFCUnits,7))","v":"t C2F6/t CF4"},null,"",null,{"$f":"IF(AND(E155<>\"\",OR(F168=\"\",COUNT(K168:L168)=0),W168<>EUconst_NA),EUconst_ERR_Incomplete,IF(COUNTIF(AI168:AL168,TRUE)>0,EUconst_ERR_Inconsistent,\"\"))","v":""},null,null,null,null,{"$f":"EUconst_CNTR_EF&E155","v":"EF_"},null,"",null,{"$f":"\"\"","v":""},{"$f":"W160","v":""},{"$f":"IF(ISBLANK(F168),\"\",IF(F168=EUconst_NA,\"\",INDEX(EUwideConstants!$H:$M,MATCH(R168,EUwideConstants!$Q:$Q,0),MATCH(F168,CNTR_TierList,0))))","v":""},{"$f":"IF(COUNTIF(EUconst_DefaultValues,X168)>0,MATCH(X168,EUconst_DefaultValues,0),\"\")","v":""},null,{"$f":"AND(AA160,W168<>EUconst_NA)","v":false},null,{"$f":"IF(AA168=TRUE,IF(T168=\"\",\"\",INDEX(MSPara_PFCMethA,MATCH(T168,PFCCellTypes,0),2)),\"\")","v":""},{"$f":"IF(AND(Y168<>\"\",ISNUMBER(AC168)),AC168,\"\")","v":""},0,{"$f":"AND(AA168=TRUE,OR(AND(F168<>\"\",NOT(ISNUMBER(Y168))),L168<>\"\",F168=\"\",AD168=\"\"))","v":false},false,null,null,null,false,null,null,null,null,null,null,null,null,null,null,null,null,null,null,null,null,null,null,null,null,null,null,null,null,{"$f":"OR(BJ160,W168=EUconst_NA)","v":true}]
[]
[null,null,"ix.",{"$f":"Translations!$B$748","v":"Išmestas CF4 kiekis"},null,null,null,null,{"$f":"EUconst_t","v":"t"},null,null,{"$f":"IF(ISNUMBER(U155),INDEX(AO163:AP163,U155),\"\")","v":""}]
[null,null,"x.",{"$f":"Translations!$B$749","v":"Išmestas C2F6 kiekis"},null,null,null,null,{"$f":"EUconst_t","v":"t"},null,null,{"$f":"IF(ISNUMBER(U155),INDEX(AO164:AP164,U155),\"\")","v":""}]
[]
[null,null,"xi.",{"$f":"Translations!$B$736","v":"VAP(CF4)"},null,null,null,null,"t CO2e / t CF4",null,{"$f":"IF(L173=\"\",7390,\"\")","v":7390},null,null,null,null,null,null,null,null,null,null,null,null,null,null,null,null,null,null,null,{"$f":"IF(L173=\"\",K173,L173)","v":7390},null,null,null,null,null,null,null,null,null,null,null,null,null,null,null,null,null,null,null,null,null,null,null,null,null,null,null,null,null,null,{"$f":"BJ160","v":true}]
[null,null,"xii.",{"$f":"Translations!$B$738","v":"VAP(C2F6)"},null,null,null,null,"t CO2e / t C2F6",null,{"$f":"IF(L174=\"\",12200,\"\")","v":12200},null,null,null,null,null,null,null,null,null,null,null,null,null,null,null,null,null,null,null,{"$f":"IF(L174=\"\",K174,L174)","v":12200},null,null,null,null,null,null,null,null,null,null,null,null,null,null,null,null,null,null,null,null,null,null,null,null,null,null,null,null,null,null,{"$f":"BJ173","v":true}]
[]
[null,null,"xiii.",{"$f":"Translations!$B$748","v":"Išmestas CF4 kiekis"},null,null,null,null,"t CO2e",null,null,{"$f":"IF(ISNUMBER(U155),INDEX(AO165:AP165,U155),\"\")","v":""}]
[null,null,"xiv.",{"$f":"Translations!$B$749","v":"Išmestas C2F6 kiekis"},null,null,null,null,"t CO2e",null,null,{"$f":"IF(ISNUMBER(U155),INDEX(AO166:AP166,U155),\"\")","v":""}]
[]
[null,null,"xv.",{"$f":"Translations!$B$167","v":"Surinkimo efektyvumas"},null,null,null,null,"-",null,null,null,{"$f":"IF(AND(E155<>\"\",L179=\"\"),EUconst_ERR_Incomplete,IF(COUNTIF(AI179:AL179,TRUE)>0,EUconst_ERR_Inconsistent,\"\"))","v":""},null,null,null,null,null,null,null,null,null,null,null,null,null,null,null,null,null,null,null,null,null,null,null,null,{"$f":"L179>100%","v":false},null,null,null,null,null,null,null,null,null,null,null,null,null,null,null,null,null,null,null,null,null,null,null,{"$f":"BJ160","v":true}]
[]
[null,null,null,{"$f":"Translations!$B$674","v":"Pakopos galioja nuo:"},null,null,null,{"$f":"Translations!$B$675","v":"iki:"},null,null,null,null,null,null,null,null,null,null,null,null,null,null,null,null,null,null,null,null,null,null,null,null,null,null,null,null,null,null,null,null,null,null,null,null,null,null,null,null,null,null,null,null,null,null,null,null,null,null,null,null,null,{"$f":"BJ160","v":true}]
[]
[null,null,null,{"$f":"Translations!$B$160","v":"Pastabos:"},null,null,null,null,null,null,null,null,null,null,null,null,null,null,null,null,null,null,null,null,null,null,null,null,null,null,null,null,null,null,null,null,null,null,null,null,null,null,null,null,null,null,null,null,null,null,null,null,null,null,null,null,null,null,null,null,null,{"$f":"BJ181","v":true}]
[]
[]
[null,null,{"$f":"C154+1","v":5},null,null,null,null,null,null,null,null,null,{"$f":"Translations!$B$747","v":"Išmetamųjų teršalų kiekis:"},{"$f":"IF(COUNT(L208:L209,L211)=3,(L208+L209)/L211,\"\")","v":""},"t CO2e",null,{"$f":"EUconst_SumCO2 & \"_\" & EUconst_ProcessPFC","v":"SUM_CO2_Išmetamas PFC kiekis"},{"$f":"IF(ISBLANK(E186),\"\",MATCH(E186,CNTR_SourceStreamNames,0))","v":""},{"$f":"IF(ISBLANK(E186),\"\",INDEX(B_InstallationDescription!$D$65:$D$139,MATCH(E186,CNTR_SourceStreamNames,0)))","v":""},"is PFC?","Method",null,null,null,null,null,null,null,null,null,null,null,null,null,null,null,null,null,null,null,null,null,null,null,{"$f":"K192","v":0},{"$f":"AE194","v":0},{"$f":"AE195","v":0},{"$f":"AE196","v":0},{"$f":"AE197","v":0},{"$f":"AE198","v":0},{"$f":"AE199","v":0},{"$f":"AE200","v":0},{"$f":"L202","v":""},{"$f":"L203","v":""},{"$f":"AE205","v":7390},{"$f":"AE206","v":12200},{"$f":"L208","v":""},{"$f":"L209","v":""},{"$f":"L211","v":0},{"$f":"N186","v":""},null,{"$f":"CNTR_PFCRelevant=EUconst_NotRelevant","v":true}]
[null,null,null,null,{"$f":"IF(E186=\"\",\"\",IF(INDEX(B_InstallationDescription!$E$65:$E$139,MATCH(S186,B_InstallationDescription!$D$65:$D$139,0))>0,INDEX(B_InstallationDescription!$E$65:$E$139,MATCH(S186,B_InstallationDescription!$D$65:$D$139,0)),\"\"))","v":""},null,null,null,null,null,null,null,null,null,null,null,null,"Tiers",null,true,{"$f":"IF(E187=\"\",\"\",INDEX(CNTR_PFCMethod,MATCH(E186,CNTR_PFCSourceStreamNames,0)))","v":""},null,null,null,null,null,null,null,"Values",null,null,null,null,null,"Errors",null,null,null,null,"Calculation",null,null,null,"Accounting","AD:","A: Frequency","A: Duration","A: SEF(CF4)","B: AEO","B: CE","B: OVC","F(C2F6)","CF4 Emissions","C2F6 Emissions","GWP (CF4)","GWP (C2F6)","CF4 Emissions","C2F6 Emissions","Collection efficiency","CO2 fossil"]
[]
[null,null,null,null,{"$f":"IF(E186=\"\",\"\",HYPERLINK(\"#JUMP_14\",EUconst_FurtherGuidancePoint1))","v":""}]
[]
[null,null,null,null,null,{"$f":"Translations!$B$333","v":"Pakopa"},{"$f":"Translations!$B$672","v":"pakopos aprašas"},null,{"$f":"Translations!$B$158","v":"Vienetas"},null,{"$f":"Translations!$B$673","v":"Vertė"},null,{"$f":"Translations!$B$610","v":"klaida"},null,null,null,null,null,null,"Category from Sheet A",null,null,"tier required","text tier",null,null,"entries sheet A complete?",null,"typeI","default Value","Value used",null,null,null,null,null,null,null,null,null,null,null,null,null,null,null,null,null,null,null,null,null,null,null,null,null,null,null,null,null,null,"cond. form."]
[null,null,"i.",{"$f":"Translations!$B$622","v":"VD:"},null,null,{"$f":"IF(OR(ISBLANK(F192),F192=EUconst_NoTier),\"\",IF(X192=0,EUconst_NA,IF(ISERROR(X192),\"\",X192)))","v":""},null,{"$f":"EUconst_t","v":"t"},null,null,null,{"$f":"IF(AND(E187<>\"\",OR(F192=\"\",K192=\"\"),W192<>EUconst_NA),EUconst_ERR_Incomplete,IF(COUNTIF(AI192:AL192,TRUE)>0,EUconst_ERR_Inconsistent,\"\"))","v":""},null,null,null,null,{"$f":"EUconst_CNTR_ActivityData&E187","v":"ActivityData_"},null,{"$f":"IF(E186=\"\",\"\",INDEX(B_InstallationDescription!$I$65:$I$139,MATCH(S186,B_InstallationDescription!$D$65:$D$139,0)))","v":""},null,null,{"$f":"IF(E187=\"\",\"\",INDEX(EUwideConstants!$N:$N,MATCH(R192,EUwideConstants!$Q:$Q,0)))","v":""},{"$f":"IF(ISBLANK(F192),\"\",IF(F192=EUconst_NA,\"\",INDEX(EUwideConstants!$H:$M,MATCH(R192,EUwideConstants!$Q:$Q,0),MATCH(F192,CNTR_TierList,0))))","v":""},"default type",null,{"$f":"E186<>\"\"","v":false},null,null,null,{"$f":"IF(W192=EUconst_NA,1,IF(COUNT(K192:L192)=0,0,IF(L192=\"\",K192,L192)))","v":0},"cond. Form?","cond. Form?",null,null,null,"inconsistent entries?",null,null,null,null,null,null,null,null,null,null,null,null,null,null,null,null,null,null,null,null,null,null,null,null,{"$f":"OR(CNTR_PFCRelevant=EUconst_NotRelevant,AND(COUNTA(CNTR_ListRelevantSections)>0,E186=\"\"))","v":true}]
[null,null,null,null,null,null,null," "]
[null,null,"ii.",{"$f":"Translations!$B$722","v":"A. Dažnis"},null,null,{"$f":"IF(OR(ISBLANK(F194),F194=EUconst_NoTier),\"\",IF(X194=0,EUconst_NotApplicable,IF(ISERROR(X194),\"\",X194)))","v":""},null,{"$f":"IF(W194=EUconst_NA,\"\",INDEX(PFCUnits,1))","v":"1/(vienoje elektrolizės vonioje per parą)"},null,{"$f":"IF(L194=\"\",AD194,\"\")","v":""},null,{"$f":"IF(AND(E187<>\"\",OR(F194=\"\",L194=\"\"),W194<>EUconst_NA),EUconst_ERR_Incomplete,IF(COUNTIF(AI194:AL194,TRUE)>0,EUconst_ERR_Inconsistent,\"\"))","v":""},null,null,null,null,{"$f":"R192","v":"ActivityData_"},null,{"$f":"T192","v":""},null,1,{"$f":"IF(E187=\"\",\"\",IF(U187<>V194,EUconst_NA,INDEX(EUwideConstants!$N:$N,MATCH(R194,EUwideConstants!$Q:$Q,0))))","v":""},{"$f":"IF(ISBLANK(F194),\"\",IF(F194=EUconst_NA,\"\",INDEX(EUwideConstants!$H:$M,MATCH(R194,EUwideConstants!$Q:$Q,0),MATCH(F194,CNTR_TierList,0))))","v":""},null,null,{"$f":"AND(AA192,W194<>EUconst_NA)","v":false},null,{"$f":"IF(AA194=TRUE,IF(COUNTIF(MSPara_SourceStreamCategory,T194)=0,\"\",INDEX(MSPara_CalcFactorsMatrix,MATCH(T194,MSPara_SourceStreamCategory,0),MATCH(#REF!&\"_\"&1,MSPara_CalcFactors,0))),\"\")","v":""},{"$f":"\"\"","v":""},{"$f":"IF(AA194=TRUE,IF(COUNT(K194:L194)=0,0,IF(L194=\"\",K194,L194)),0)","v":0},{"$f":"AND(AA194=TRUE,OR(AND(F194<>\"\",NOT(ISNUMBER(Y194))),L194<>\"\",F194=\"\",AD194=\"\"))","v":false},{"$f":"AND(AA194=TRUE,NOT(AF194))","v":false},null,null,null,{"$f":"AND(L194<>\"\",W194=EUconst_NA)","v":false},null,null,null,"Method A","Method B",null,null,null,null,null,null,null,null,null,null,null,null,null,null,null,null,null,null,null,{"$f":"OR(BJ192,W194=EUconst_NA)","v":true}]
[null,null,"iii.",{"$f":"Translations!$B$724","v":"A. Trukmė"},null,null,"",null,{"$f":"IF(W195=EUconst_NA,\"\",INDEX(PFCUnits,2))","v":"min."},null,"",null,{"$f":"IF(AND(E187<>\"\",OR(F195=\"\",L195=\"\"),W195<>EUconst_NA),EUconst_ERR_Incomplete,IF(COUNTIF(AI195:AL195,TRUE)>0,EUconst_ERR_Inconsistent,\"\"))","v":""},null,null,null,null,{"$f":"R194","v":"ActivityData_"},null,{"$f":"T194","v":""},null,1,{"$f":"IF(E187=\"\",\"\",IF(U187<>V195,EUconst_NA,INDEX(EUwideConstants!$N:$N,MATCH(R195,EUwideConstants!$Q:$Q,0))))","v":""},{"$f":"IF(ISBLANK(F195),\"\",IF(F195=EUconst_NA,\"\",INDEX(EUwideConstants!$H:$M,MATCH(R195,EUwideConstants!$Q:$Q,0),MATCH(F195,CNTR_TierList,0))))","v":""},null,null,{"$f":"AND(AA192,W195<>EUconst_NA)","v":false},null,{"$f":"IF(AA195=TRUE,IF(COUNTIF(MSPara_SourceStreamCategory,T195)=0,\"\",INDEX(MSPara_CalcFactorsMatrix,MATCH(T195,MSPara_SourceStreamCategory,0),MATCH(#REF!&\"_\"&1,MSPara_CalcFactors,0))),\"\")","v":""},{"$f":"\"\"","v":""},0,{"$f":"AND(AA195=TRUE,OR(AND(F195<>\"\",NOT(ISNUMBER(Y195))),L195<>\"\",F195=\"\",AD195=\"\"))","v":false},false,null,null,null,false,null,null,"CF4",{"$f":"IF(ISNUMBER(U187),AE192*AE194*AE195*AE196/1000,\"\")","v":""},{"$f":"IF(ISNUMBER(U187),AE192*(AE197/IF(AE198=0,0.01,AE198))*AE199/1000,\"\")","v":""},null,null,null,null,null,null,null,null,null,null,null,null,null,null,null,null,null,null,null,{"$f":"OR(BJ192,W195=EUconst_NA)","v":true}]
[null,null,"iv.",{"$f":"Translations!$B$726","v":"A. NITF(CF4)"},null,null,"",null,{"$f":"IF(W196=EUconst_NA,\"\",INDEX(PFCUnits,3))","v":"(kg CF4/t Al)/(min./vienoje elektrolizės vonioje per parą)"},null,"",null,{"$f":"IF(AND(E187<>\"\",OR(F196=\"\",COUNT(K196:L196)=0),W196<>EUconst_NA),EUconst_ERR_Incomplete,IF(COUNTIF(AI196:AL196,TRUE)>0,EUconst_ERR_Inconsistent,\"\"))","v":""},null,null,null,null,{"$f":"EUconst_CNTR_EF&$E187","v":"EF_"},null,"",null,1,{"$f":"IF(E187=\"\",\"\",IF(U187<>V196,EUconst_NA,INDEX(EUwideConstants!$N:$N,MATCH(R196,EUwideConstants!$Q:$Q,0))))","v":""},{"$f":"IF(ISBLANK(F196),\"\",IF(F196=EUconst_NA,\"\",INDEX(EUwideConstants!$H:$M,MATCH(R196,EUwideConstants!$Q:$Q,0),MATCH(F196,CNTR_TierList,0))))","v":""},{"$f":"IF(COUNTIF(EUconst_DefaultValues,X196)>0,MATCH(X196,EUconst_DefaultValues,0),\"\")","v":""},null,{"$f":"AND(AA192,W196<>EUconst_NA)","v":false},null,{"$f":"IF(AA196=TRUE,IF(T196=\"\",\"\",INDEX(MSPara_PFCMethA,MATCH(T196,PFCCellTypes,0),1)),\"\")","v":""},{"$f":"IF(AND(Y196<>\"\",ISNUMBER(AC196)),AC196,\"\")","v":""},0,{"$f":"AND(AA196=TRUE,OR(AND(F196<>\"\",NOT(ISNUMBER(Y196))),L196<>\"\",F196=\"\",AD196=\"\"))","v":false},false,null,null,null,false,null,null,"C2F6",{"$f":"IF(AND(ISNUMBER(AO195),AO195>0),AO195*AE200,0)","v":0},{"$f":"IF(AND(ISNUMBER(AP195),AP195>0),AP195*AE200,0)","v":0},null,null,null,null,null,null,null,null,null,null,null,null,null,null,null,null,null,null,null,{"$f":"OR(BJ192,W196=EUconst_NA)","v":true}]
[null,null,"v.",{"$f":"Translations!$B$728","v":"B. AEV"},null,null,"",null,{"$f":"IF(W197=EUconst_NA,\"\",INDEX(PFCUnits,4))","v":"mV"},null,"",null,{"$f":"IF(AND(E187<>\"\",OR(F197=\"\",L197=\"\"),W197<>EUconst_NA),EUconst_ERR_Incomplete,IF(COUNTIF(AI197:AL197,TRUE)>0,EUconst_ERR_Inconsistent,\"\"))","v":""},null,null,null,null,{"$f":"R192","v":"ActivityData_"},null,"",null,2,{"$f":"IF(E187=\"\",\"\",IF(U187<>V197,EUconst_NA,INDEX(EUwideConstants!$N:$N,MATCH(R197,EUwideConstants!$Q:$Q,0))))","v":""},{"$f":"IF(ISBLANK(F197),\"\",IF(F197=EUconst_NA,\"\",INDEX(EUwideConstants!$H:$M,MATCH(R197,EUwideConstants!$Q:$Q,0),MATCH(F197,CNTR_TierList,0))))","v":""},null,null,{"$f":"AND(AA192,W197<>EUconst_NA)","v":false},null,null,{"$f":"\"\"","v":""},0,{"$f":"AND(AA197=TRUE,OR(ISNUMBER(L197),NOT(ISNUMBER(Y197))))","v":false},false,null,null,null,false,null,null,"CF4",{"$f":"IF(ISNUMBER(AO195),AO195*AE205,\"\")","v":""},{"$f":"IF(ISNUMBER(AP195),AP195*AE205,\"\")","v":""},null,null,null,null,null,null,null,null,null,null,null,null,null,null,null,null,null,null,null,{"$f":"OR(BJ192,W197=EUconst_NA)","v":true}]
[null,null,"vi.",{"$f":"Translations!$B$730","v":"B. EN"},null,null,"",null,{"$f":"IF(W198=EUconst_NA,\"\",\"-\")","v":"-"},null,"",null,{"$f":"IF(AND(E187<>\"\",OR(F198=\"\",L198=\"\"),W198<>EUconst_NA),EUconst_ERR_Incomplete,IF(COUNTIF(AI198:AL198,TRUE)>0,EUconst_ERR_Inconsistent,\"\"))","v":""},null,null,null,null,{"$f":"R197","v":"ActivityData_"},null,"",null,2,{"$f":"IF(E187=\"\",\"\",IF(U187<>V198,EUconst_NA,INDEX(EUwideConstants!$N:$N,MATCH(R198,EUwideConstants!$Q:$Q,0))))","v":""},{"$f":"IF(ISBLANK(F198),\"\",IF(F198=EUconst_NA,\"\",INDEX(EUwideConstants!$H:$M,MATCH(R198,EUwideConstants!$Q:$Q,0),MATCH(F198,CNTR_TierList,0))))","v":""},null,null,{"$f":"AND(AA192,W198<>EUconst_NA)","v":false},null,null,{"$f":"\"\"","v":""},0,{"$f":"AND(AA198=TRUE,OR(ISNUMBER(L198),NOT(ISNUMBER(Y198))))","v":false},false,null,null,null,false,{"$f":"L198>100%","v":false},null,"C2F6",{"$f":"IF(ISNUMBER(AO196),AO196*AE206,\"\")","v":0},{"$f":"IF(ISNUMBER(AP196),AP196*AE206,\"\")","v":0},null,null,null,null,null,null,null,null,null,null,null,null,null,null,null,null,null,null,null,{"$f":"OR(BJ192,W198=EUconst_NA)","v":true}]
[null,null,"vii.",{"$f":"Translations!$B$732","v":"B. VĮK"},null,null,"",null,{"$f":"IF(W199=EUconst_NA,\"\",INDEX(PFCUnits,6))","v":"(kg CF4)/(t Al mV)"},null,"",null,{"$f":"IF(AND(E187<>\"\",OR(F199=\"\",COUNT(K199:L199)=0),W199<>EUconst_NA),EUconst_ERR_Incomplete,IF(COUNTIF(AI199:AL199,TRUE)>0,EUconst_ERR_Inconsistent,\"\"))","v":""},null,null,null,null,{"$f":"EUconst_CNTR_EF&E187","v":"EF_"},null,"",null,2,{"$f":"IF(E187=\"\",\"\",IF(U187<>V199,EUconst_NA,INDEX(EUwideConstants!$N:$N,MATCH(R199,EUwideConstants!$Q:$Q,0))))","v":""},{"$f":"IF(ISBLANK(F199),\"\",IF(F199=EUconst_NA,\"\",INDEX(EUwideConstants!$H:$M,MATCH(R199,EUwideConstants!$Q:$Q,0),MATCH(F199,CNTR_TierList,0))))","v":""},{"$f":"IF(COUNTIF(EUconst_DefaultValues,X199)>0,MATCH(X199,EUconst_DefaultValues,0),\"\")","v":""},null,{"$f":"AND(AA192,W199<>EUconst_NA)","v":false},null,{"$f":"IF(AA199=TRUE,IF(T199=\"\",\"\",INDEX(MSPara_PFCMethB,MATCH(T199,PFCCellTypes,0),1)),\"\")","v":""},{"$f":"IF(AND(Y199<>\"\",ISNUMBER(AC199)),AC199,\"\")","v":""},0,{"$f":"AND(AA199=TRUE,OR(AND(F199<>\"\",NOT(ISNUMBER(Y199))),L199<>\"\",F199=\"\",AD199=\"\"))","v":false},false,null,null,null,false,null,null,null,null,null,null,null,null,null,null,null,null,null,null,null,null,null,null,null,null,null,null,null,null,{"$f":"OR(BJ192,W199=EUconst_NA)","v":true}]
[null,null,"viii.",{"$f":"Translations!$B$734","v":"F(C2F6)"},null,null,"",null,{"$f":"IF(W200=EUconst_NA,\"\",INDEX(PFCUnits,7))","v":"t C2F6/t CF4"},null,"",null,{"$f":"IF(AND(E187<>\"\",OR(F200=\"\",COUNT(K200:L200)=0),W200<>EUconst_NA),EUconst_ERR_Incomplete,IF(COUNTIF(AI200:AL200,TRUE)>0,EUconst_ERR_Inconsistent,\"\"))","v":""},null,null,null,null,{"$f":"EUconst_CNTR_EF&E187","v":"EF_"},null,"",null,{"$f":"\"\"","v":""},{"$f":"W192","v":""},{"$f":"IF(ISBLANK(F200),\"\",IF(F200=EUconst_NA,\"\",INDEX(EUwideConstants!$H:$M,MATCH(R200,EUwideConstants!$Q:$Q,0),MATCH(F200,CNTR_TierList,0))))","v":""},{"$f":"IF(COUNTIF(EUconst_DefaultValues,X200)>0,MATCH(X200,EUconst_DefaultValues,0),\"\")","v":""},null,{"$f":"AND(AA192,W200<>EUconst_NA)","v":false},null,{"$f":"IF(AA200=TRUE,IF(T200=\"\",\"\",INDEX(MSPara_PFCMethA,MATCH(T200,PFCCellTypes,0),2)),\"\")","v":""},{"$f":"IF(AND(Y200<>\"\",ISNUMBER(AC200)),AC200,\"\")","v":""},0,{"$f":"AND(AA200=TRUE,OR(AND(F200<>\"\",NOT(ISNUMBER(Y200))),L200<>\"\",F200=\"\",AD200=\"\"))","v":false},false,null,null,null,false,null,null,null,null,null,null,null,null,null,null,null,null,null,null,null,null,null,null,null,null,null,null,null,null,{"$f":"OR(BJ192,W200=EUconst_NA)","v":true}]
[]
[null,null,"ix.",{"$f":"Translations!$B$748","v":"Išmestas CF4 kiekis"},null,null,null,null,{"$f":"EUconst_t","v":"t"},null,null,{"$f":"IF(ISNUMBER(U187),INDEX(AO195:AP195,U187),\"\")","v":""}]
[null,null,"x.",{"$f":"Translations!$B$749","v":"Išmestas C2F6 kiekis"},null,null,null,null,{"$f":"EUconst_t","v":"t"},null,null,{"$f":"IF(ISNUMBER(U187),INDEX(AO196:AP196,U187),\"\")","v":""}]
[]
[null,null,"xi.",{"$f":"Translations!$B$736","v":"VAP(CF4)"},null,null,null,null,"t CO2e / t CF4",null,{"$f":"IF(L205=\"\",7390,\"\")","v":7390},null,null,null,null,null,null,null,null,null,null,null,null,null,null,null,null,null,null,null,{"$f":"IF(L205=\"\",K205,L205)","v":7390},null,null,null,null,null,null,null,null,null,null,null,null,null,null,null,null,null,null,null,null,null,null,null,null,null,null,null,null,null,null,{"$f":"BJ192","v":true}]
[null,null,"xii.",{"$f":"Translations!$B$738","v":"VAP(C2F6)"},null,null,null,null,"t CO2e / t C2F6",null,{"$f":"IF(L206=\"\",12200,\"\")","v":12200},null,null,null,null,null,null,null,null,null,null,null,null,null,null,null,null,null,null,null,{"$f":"IF(L206=\"\",K206,L206)","v":12200},null,null,null,null,null,null,null,null,null,null,null,null,null,null,null,null,null,null,null,null,null,null,null,null,null,null,null,null,null,null,{"$f":"BJ205","v":true}]
[]
[null,null,"xiii.",{"$f":"Translations!$B$748","v":"Išmestas CF4 kiekis"},null,null,null,null,"t CO2e",null,null,{"$f":"IF(ISNUMBER(U187),INDEX(AO197:AP197,U187),\"\")","v":""}]
[null,null,"xiv.",{"$f":"Translations!$B$749","v":"Išmestas C2F6 kiekis"},null,null,null,null,"t CO2e",null,null,{"$f":"IF(ISNUMBER(U187),INDEX(AO198:AP198,U187),\"\")","v":""}]
[]
[null,null,"xv.",{"$f":"Translations!$B$167","v":"Surinkimo efektyvumas"},null,null,null,null,"-",null,null,null,{"$f":"IF(AND(E187<>\"\",L211=\"\"),EUconst_ERR_Incomplete,IF(COUNTIF(AI211:AL211,TRUE)>0,EUconst_ERR_Inconsistent,\"\"))","v":""},null,null,null,null,null,null,null,null,null,null,null,null,null,null,null,null,null,null,null,null,null,null,null,null,{"$f":"L211>100%","v":false},null,null,null,null,null,null,null,null,null,null,null,null,null,null,null,null,null,null,null,null,null,null,null,{"$f":"BJ192","v":true}]
[]
[null,null,null,{"$f":"Translations!$B$674","v":"Pakopos galioja nuo:"},null,null,null,{"$f":"Translations!$B$675","v":"iki:"},null,null,null,null,null,null,null,null,null,null,null,null,null,null,null,null,null,null,null,null,null,null,null,null,null,null,null,null,null,null,null,null,null,null,null,null,null,null,null,null,null,null,null,null,null,null,null,null,null,null,null,null,null,{"$f":"BJ192","v":true}]
[]
[null,null,null,{"$f":"Translations!$B$160","v":"Pastabos:"},null,null,null,null,null,null,null,null,null,null,null,null,null,null,null,null,null,null,null,null,null,null,null,null,null,null,null,null,null,null,null,null,null,null,null,null,null,null,null,null,null,null,null,null,null,null,null,null,null,null,null,null,null,null,null,null,null,{"$f":"BJ213","v":true}]
[]
[]
[null,null,{"$f":"C186+1","v":6},null,null,null,null,null,null,null,null,null,{"$f":"Translations!$B$747","v":"Išmetamųjų teršalų kiekis:"},{"$f":"IF(COUNT(L240:L241,L243)=3,(L240+L241)/L243,\"\")","v":""},"t CO2e",null,{"$f":"EUconst_SumCO2 & \"_\" & EUconst_ProcessPFC","v":"SUM_CO2_Išmetamas PFC kiekis"},{"$f":"IF(ISBLANK(E218),\"\",MATCH(E218,CNTR_SourceStreamNames,0))","v":""},{"$f":"IF(ISBLANK(E218),\"\",INDEX(B_InstallationDescription!$D$65:$D$139,MATCH(E218,CNTR_SourceStreamNames,0)))","v":""},"is PFC?","Method",null,null,null,null,null,null,null,null,null,null,null,null,null,null,null,null,null,null,null,null,null,null,null,{"$f":"K224","v":0},{"$f":"AE226","v":0},{"$f":"AE227","v":0},{"$f":"AE228","v":0},{"$f":"AE229","v":0},{"$f":"AE230","v":0},{"$f":"AE231","v":0},{"$f":"AE232","v":0},{"$f":"L234","v":""},{"$f":"L235","v":""},{"$f":"AE237","v":7390},{"$f":"AE238","v":12200},{"$f":"L240","v":""},{"$f":"L241","v":""},{"$f":"L243","v":0},{"$f":"N218","v":""},null,{"$f":"CNTR_PFCRelevant=EUconst_NotRelevant","v":true}]
[null,null,null,null,{"$f":"IF(E218=\"\",\"\",IF(INDEX(B_InstallationDescription!$E$65:$E$139,MATCH(S218,B_InstallationDescription!$D$65:$D$139,0))>0,INDEX(B_InstallationDescription!$E$65:$E$139,MATCH(S218,B_InstallationDescription!$D$65:$D$139,0)),\"\"))","v":""},null,null,null,null,null,null,null,null,null,null,null,null,"Tiers",null,true,{"$f":"IF(E219=\"\",\"\",INDEX(CNTR_PFCMethod,MATCH(E218,CNTR_PFCSourceStreamNames,0)))","v":""},null,null,null,null,null,null,null,"Values",null,null,null,null,null,"Errors",null,null,null,null,"Calculation",null,null,null,"Accounting","AD:","A: Frequency","A: Duration","A: SEF(CF4)","B: AEO","B: CE","B: OVC","F(C2F6)","CF4 Emissions","C2F6 Emissions","GWP (CF4)","GWP (C2F6)","CF4 Emissions","C2F6 Emissions","Collection efficiency","CO2 fossil"]
[]
[null,null,null,null,{"$f":"IF(E218=\"\",\"\",HYPERLINK(\"#JUMP_14\",EUconst_FurtherGuidancePoint1))","v":""}]
[]
[null,null,null,null,null,{"$f":"Translations!$B$333","v":"Pakopa"},{"$f":"Translations!$B$672","v":"pakopos aprašas"},null,{"$f":"Translations!$B$158","v":"Vienetas"},null,{"$f":"Translations!$B$673","v":"Vertė"},null,{"$f":"Translations!$B$610","v":"klaida"},null,null,null,null,null,null,"Category from Sheet A",null,null,"tier required","text tier",null,null,"entries sheet A complete?",null,"typeI","default Value","Value used",null,null,null,null,null,null,null,null,null,null,null,null,null,null,null,null,null,null,null,null,null,null,null,null,null,null,null,null,null,null,"cond. form."]
[null,null,"i.",{"$f":"Translations!$B$622","v":"VD:"},null,null,{"$f":"IF(OR(ISBLANK(F224),F224=EUconst_NoTier),\"\",IF(X224=0,EUconst_NA,IF(ISERROR(X224),\"\",X224)))","v":""},null,{"$f":"EUconst_t","v":"t"},null,null,null,{"$f":"IF(AND(E219<>\"\",OR(F224=\"\",K224=\"\"),W224<>EUconst_NA),EUconst_ERR_Incomplete,IF(COUNTIF(AI224:AL224,TRUE)>0,EUconst_ERR_Inconsistent,\"\"))","v":""},null,null,null,null,{"$f":"EUconst_CNTR_ActivityData&E219","v":"ActivityData_"},null,{"$f":"IF(E218=\"\",\"\",INDEX(B_InstallationDescription!$I$65:$I$139,MATCH(S218,B_InstallationDescription!$D$65:$D$139,0)))","v":""},null,null,{"$f":"IF(E219=\"\",\"\",INDEX(EUwideConstants!$N:$N,MATCH(R224,EUwideConstants!$Q:$Q,0)))","v":""},{"$f":"IF(ISBLANK(F224),\"\",IF(F224=EUconst_NA,\"\",INDEX(EUwideConstants!$H:$M,MATCH(R224,EUwideConstants!$Q:$Q,0),MATCH(F224,CNTR_TierList,0))))","v":""},"default type",null,{"$f":"E218<>\"\"","v":false},null,null,null,{"$f":"IF(W224=EUconst_NA,1,IF(COUNT(K224:L224)=0,0,IF(L224=\"\",K224,L224)))","v":0},"cond. Form?","cond. Form?",null,null,null,"inconsistent entries?",null,null,null,null,null,null,null,null,null,null,null,null,null,null,null,null,null,null,null,null,null,null,null,null,{"$f":"OR(CNTR_PFCRelevant=EUconst_NotRelevant,AND(COUNTA(CNTR_ListRelevantSections)>0,E218=\"\"))","v":true}]
[null,null,null,null,null,null,null," "]
[null,null,"ii.",{"$f":"Translations!$B$722","v":"A. Dažnis"},null,null,{"$f":"IF(OR(ISBLANK(F226),F226=EUconst_NoTier),\"\",IF(X226=0,EUconst_NotApplicable,IF(ISERROR(X226),\"\",X226)))","v":""},null,{"$f":"IF(W226=EUconst_NA,\"\",INDEX(PFCUnits,1))","v":"1/(vienoje elektrolizės vonioje per parą)"},null,{"$f":"IF(L226=\"\",AD226,\"\")","v":""},null,{"$f":"IF(AND(E219<>\"\",OR(F226=\"\",L226=\"\"),W226<>EUconst_NA),EUconst_ERR_Incomplete,IF(COUNTIF(AI226:AL226,TRUE)>0,EUconst_ERR_Inconsistent,\"\"))","v":""},null,null,null,null,{"$f":"R224","v":"ActivityData_"},null,{"$f":"T224","v":""},null,1,{"$f":"IF(E219=\"\",\"\",IF(U219<>V226,EUconst_NA,INDEX(EUwideConstants!$N:$N,MATCH(R226,EUwideConstants!$Q:$Q,0))))","v":""},{"$f":"IF(ISBLANK(F226),\"\",IF(F226=EUconst_NA,\"\",INDEX(EUwideConstants!$H:$M,MATCH(R226,EUwideConstants!$Q:$Q,0),MATCH(F226,CNTR_TierList,0))))","v":""},null,null,{"$f":"AND(AA224,W226<>EUconst_NA)","v":false},null,{"$f":"IF(AA226=TRUE,IF(COUNTIF(MSPara_SourceStreamCategory,T226)=0,\"\",INDEX(MSPara_CalcFactorsMatrix,MATCH(T226,MSPara_SourceStreamCategory,0),MATCH(#REF!&\"_\"&1,MSPara_CalcFactors,0))),\"\")","v":""},{"$f":"\"\"","v":""},{"$f":"IF(AA226=TRUE,IF(COUNT(K226:L226)=0,0,IF(L226=\"\",K226,L226)),0)","v":0},{"$f":"AND(AA226=TRUE,OR(AND(F226<>\"\",NOT(ISNUMBER(Y226))),L226<>\"\",F226=\"\",AD226=\"\"))","v":false},{"$f":"AND(AA226=TRUE,NOT(AF226))","v":false},null,null,null,{"$f":"AND(L226<>\"\",W226=EUconst_NA)","v":false},null,null,null,"Method A","Method B",null,null,null,null,null,null,null,null,null,null,null,null,null,null,null,null,null,null,null,{"$f":"OR(BJ224,W226=EUconst_NA)","v":true}]
[null,null,"iii.",{"$f":"Translations!$B$724","v":"A. Trukmė"},null,null,"",null,{"$f":"IF(W227=EUconst_NA,\"\",INDEX(PFCUnits,2))","v":"min."},null,"",null,{"$f":"IF(AND(E219<>\"\",OR(F227=\"\",L227=\"\"),W227<>EUconst_NA),EUconst_ERR_Incomplete,IF(COUNTIF(AI227:AL227,TRUE)>0,EUconst_ERR_Inconsistent,\"\"))","v":""},null,null,null,null,{"$f":"R226","v":"ActivityData_"},null,{"$f":"T226","v":""},null,1,{"$f":"IF(E219=\"\",\"\",IF(U219<>V227,EUconst_NA,INDEX(EUwideConstants!$N:$N,MATCH(R227,EUwideConstants!$Q:$Q,0))))","v":""},{"$f":"IF(ISBLANK(F227),\"\",IF(F227=EUconst_NA,\"\",INDEX(EUwideConstants!$H:$M,MATCH(R227,EUwideConstants!$Q:$Q,0),MATCH(F227,CNTR_TierList,0))))","v":""},null,null,{"$f":"AND(AA224,W227<>EUconst_NA)","v":false},null,{"$f":"IF(AA227=TRUE,IF(COUNTIF(MSPara_SourceStreamCategory,T227)=0,\"\",INDEX(MSPara_CalcFactorsMatrix,MATCH(T227,MSPara_SourceStreamCategory,0),MATCH(#REF!&\"_\"&1,MSPara_CalcFactors,0))),\"\")","v":""},{"$f":"\"\"","v":""},0,{"$f":"AND(AA227=TRUE,OR(AND(F227<>\"\",NOT(ISNUMBER(Y227))),L227<>\"\",F227=\"\",AD227=\"\"))","v":false},false,null,null,null,false,null,null,"CF4",{"$f":"IF(ISNUMBER(U219),AE224*AE226*AE227*AE228/1000,\"\")","v":""},{"$f":"IF(ISNUMBER(U219),AE224*(AE229/IF(AE230=0,0.01,AE230))*AE231/1000,\"\")","v":""},null,null,null,null,null,null,null,null,null,null,null,null,null,null,null,null,null,null,null,{"$f":"OR(BJ224,W227=EUconst_NA)","v":true}]
[null,null,"iv.",{"$f":"Translations!$B$726","v":"A. NITF(CF4)"},null,null,"",null,{"$f":"IF(W228=EUconst_NA,\"\",INDEX(PFCUnits,3))","v":"(kg CF4/t Al)/(min./vienoje elektrolizės vonioje per parą)"},null,"",null,{"$f":"IF(AND(E219<>\"\",OR(F228=\"\",COUNT(K228:L228)=0),W228<>EUconst_NA),EUconst_ERR_Incomplete,IF(COUNTIF(AI228:AL228,TRUE)>0,EUconst_ERR_Inconsistent,\"\"))","v":""},null,null,null,null,{"$f":"EUconst_CNTR_EF&$E219","v":"EF_"},null,"",null,1,{"$f":"IF(E219=\"\",\"\",IF(U219<>V228,EUconst_NA,INDEX(EUwideConstants!$N:$N,MATCH(R228,EUwideConstants!$Q:$Q,0))))","v":""},{"$f":"IF(ISBLANK(F228),\"\",IF(F228=EUconst_NA,\"\",INDEX(EUwideConstants!$H:$M,MATCH(R228,EUwideConstants!$Q:$Q,0),MATCH(F228,CNTR_TierList,0))))","v":""},{"$f":"IF(COUNTIF(EUconst_DefaultValues,X228)>0,MATCH(X228,EUconst_DefaultValues,0),\"\")","v":""},null,{"$f":"AND(AA224,W228<>EUconst_NA)","v":false},null,{"$f":"IF(AA228=TRUE,IF(T228=\"\",\"\",INDEX(MSPara_PFCMethA,MATCH(T228,PFCCellTypes,0),1)),\"\")","v":""},{"$f":"IF(AND(Y228<>\"\",ISNUMBER(AC228)),AC228,\"\")","v":""},0,{"$f":"AND(AA228=TRUE,OR(AND(F228<>\"\",NOT(ISNUMBER(Y228))),L228<>\"\",F228=\"\",AD228=\"\"))","v":false},false,null,null,null,false,null,null,"C2F6",{"$f":"IF(AND(ISNUMBER(AO227),AO227>0),AO227*AE232,0)","v":0},{"$f":"IF(AND(ISNUMBER(AP227),AP227>0),AP227*AE232,0)","v":0},null,null,null,null,null,null,null,null,null,null,null,null,null,null,null,null,null,null,null,{"$f":"OR(BJ224,W228=EUconst_NA)","v":true}]
[null,null,"v.",{"$f":"Translations!$B$728","v":"B. AEV"},null,null,"",null,{"$f":"IF(W229=EUconst_NA,\"\",INDEX(PFCUnits,4))","v":"mV"},null,"",null,{"$f":"IF(AND(E219<>\"\",OR(F229=\"\",L229=\"\"),W229<>EUconst_NA),EUconst_ERR_Incomplete,IF(COUNTIF(AI229:AL229,TRUE)>0,EUconst_ERR_Inconsistent,\"\"))","v":""},null,null,null,null,{"$f":"R224","v":"ActivityData_"},null,"",null,2,{"$f":"IF(E219=\"\",\"\",IF(U219<>V229,EUconst_NA,INDEX(EUwideConstants!$N:$N,MATCH(R229,EUwideConstants!$Q:$Q,0))))","v":""},{"$f":"IF(ISBLANK(F229),\"\",IF(F229=EUconst_NA,\"\",INDEX(EUwideConstants!$H:$M,MATCH(R229,EUwideConstants!$Q:$Q,0),MATCH(F229,CNTR_TierList,0))))","v":""},null,null,{"$f":"AND(AA224,W229<>EUconst_NA)","v":false},null,null,{"$f":"\"\"","v":""},0,{"$f":"AND(AA229=TRUE,OR(ISNUMBER(L229),NOT(ISNUMBER(Y229))))","v":false},false,null,null,null,false,null,null,"CF4",{"$f":"IF(ISNUMBER(AO227),AO227*AE237,\"\")","v":""},{"$f":"IF(ISNUMBER(AP227),AP227*AE237,\"\")","v":""},null,null,null,null,null,null,null,null,null,null,null,null,null,null,null,null,null,null,null,{"$f":"OR(BJ224,W229=EUconst_NA)","v":true}]
[null,null,"vi.",{"$f":"Translations!$B$730","v":"B. EN"},null,null,"",null,{"$f":"IF(W230=EUconst_NA,\"\",\"-\")","v":"-"},null,"",null,{"$f":"IF(AND(E219<>\"\",OR(F230=\"\",L230=\"\"),W230<>EUconst_NA),EUconst_ERR_Incomplete,IF(COUNTIF(AI230:AL230,TRUE)>0,EUconst_ERR_Inconsistent,\"\"))","v":""},null,null,null,null,{"$f":"R229","v":"ActivityData_"},null,"",null,2,{"$f":"IF(E219=\"\",\"\",IF(U219<>V230,EUconst_NA,INDEX(EUwideConstants!$N:$N,MATCH(R230,EUwideConstants!$Q:$Q,0))))","v":""},{"$f":"IF(ISBLANK(F230),\"\",IF(F230=EUconst_NA,\"\",INDEX(EUwideConstants!$H:$M,MATCH(R230,EUwideConstants!$Q:$Q,0),MATCH(F230,CNTR_TierList,0))))","v":""},null,null,{"$f":"AND(AA224,W230<>EUconst_NA)","v":false},null,null,{"$f":"\"\"","v":""},0,{"$f":"AND(AA230=TRUE,OR(ISNUMBER(L230),NOT(ISNUMBER(Y230))))","v":false},false,null,null,null,false,{"$f":"L230>100%","v":false},null,"C2F6",{"$f":"IF(ISNUMBER(AO228),AO228*AE238,\"\")","v":0},{"$f":"IF(ISNUMBER(AP228),AP228*AE238,\"\")","v":0},null,null,null,null,null,null,null,null,null,null,null,null,null,null,null,null,null,null,null,{"$f":"OR(BJ224,W230=EUconst_NA)","v":true}]
[null,null,"vii.",{"$f":"Translations!$B$732","v":"B. VĮK"},null,null,"",null,{"$f":"IF(W231=EUconst_NA,\"\",INDEX(PFCUnits,6))","v":"(kg CF4)/(t Al mV)"},null,"",null,{"$f":"IF(AND(E219<>\"\",OR(F231=\"\",COUNT(K231:L231)=0),W231<>EUconst_NA),EUconst_ERR_Incomplete,IF(COUNTIF(AI231:AL231,TRUE)>0,EUconst_ERR_Inconsistent,\"\"))","v":""},null,null,null,null,{"$f":"EUconst_CNTR_EF&E219","v":"EF_"},null,"",null,2,{"$f":"IF(E219=\"\",\"\",IF(U219<>V231,EUconst_NA,INDEX(EUwideConstants!$N:$N,MATCH(R231,EUwideConstants!$Q:$Q,0))))","v":""},{"$f":"IF(ISBLANK(F231),\"\",IF(F231=EUconst_NA,\"\",INDEX(EUwideConstants!$H:$M,MATCH(R231,EUwideConstants!$Q:$Q,0),MATCH(F231,CNTR_TierList,0))))","v":""},{"$f":"IF(COUNTIF(EUconst_DefaultValues,X231)>0,MATCH(X231,EUconst_DefaultValues,0),\"\")","v":""},null,{"$f":"AND(AA224,W231<>EUconst_NA)","v":false},null,{"$f":"IF(AA231=TRUE,IF(T231=\"\",\"\",INDEX(MSPara_PFCMethB,MATCH(T231,PFCCellTypes,0),1)),\"\")","v":""},{"$f":"IF(AND(Y231<>\"\",ISNUMBER(AC231)),AC231,\"\")","v":""},0,{"$f":"AND(AA231=TRUE,OR(AND(F231<>\"\",NOT(ISNUMBER(Y231))),L231<>\"\",F231=\"\",AD231=\"\"))","v":false},false,null,null,null,false,null,null,null,null,null,null,null,null,null,null,null,null,null,null,null,null,null,null,null,null,null,null,null,null,{"$f":"OR(BJ224,W231=EUconst_NA)","v":true}]
[null,null,"viii.",{"$f":"Translations!$B$734","v":"F(C2F6)"},null,null,"",null,{"$f":"IF(W232=EUconst_NA,\"\",INDEX(PFCUnits,7))","v":"t C2F6/t CF4"},null,"",null,{"$f":"IF(AND(E219<>\"\",OR(F232=\"\",COUNT(K232:L232)=0),W232<>EUconst_NA),EUconst_ERR_Incomplete,IF(COUNTIF(AI232:AL232,TRUE)>0,EUconst_ERR_Inconsistent,\"\"))","v":""},null,null,null,null,{"$f":"EUconst_CNTR_EF&E219","v":"EF_"},null,"",null,{"$f":"\"\"","v":""},{"$f":"W224","v":""},{"$f":"IF(ISBLANK(F232),\"\",IF(F232=EUconst_NA,\"\",INDEX(EUwideConstants!$H:$M,MATCH(R232,EUwideConstants!$Q:$Q,0),MATCH(F232,CNTR_TierList,0))))","v":""},{"$f":"IF(COUNTIF(EUconst_DefaultValues,X232)>0,MATCH(X232,EUconst_DefaultValues,0),\"\")","v":""},null,{"$f":"AND(AA224,W232<>EUconst_NA)","v":false},null,{"$f":"IF(AA232=TRUE,IF(T232=\"\",\"\",INDEX(MSPara_PFCMethA,MATCH(T232,PFCCellTypes,0),2)),\"\")","v":""},{"$f":"IF(AND(Y232<>\"\",ISNUMBER(AC232)),AC232,\"\")","v":""},0,{"$f":"AND(AA232=TRUE,OR(AND(F232<>\"\",NOT(ISNUMBER(Y232))),L232<>\"\",F232=\"\",AD232=\"\"))","v":false},false,null,null,null,false,null,null,null,null,null,null,null,null,null,null,null,null,null,null,null,null,null,null,null,null,null,null,null,null,{"$f":"OR(BJ224,W232=EUconst_NA)","v":true}]
[]
[null,null,"ix.",{"$f":"Translations!$B$748","v":"Išmestas CF4 kiekis"},null,null,null,null,{"$f":"EUconst_t","v":"t"},null,null,{"$f":"IF(ISNUMBER(U219),INDEX(AO227:AP227,U219),\"\")","v":""}]
[null,null,"x.",{"$f":"Translations!$B$749","v":"Išmestas C2F6 kiekis"},null,null,null,null,{"$f":"EUconst_t","v":"t"},null,null,{"$f":"IF(ISNUMBER(U219),INDEX(AO228:AP228,U219),\"\")","v":""}]
[]
[null,null,"xi.",{"$f":"Translations!$B$736","v":"VAP(CF4)"},null,null,null,null,"t CO2e / t CF4",null,{"$f":"IF(L237=\"\",7390,\"\")","v":7390},null,null,null,null,null,null,null,null,null,null,null,null,null,null,null,null,null,null,null,{"$f":"IF(L237=\"\",K237,L237)","v":7390},null,null,null,null,null,null,null,null,null,null,null,null,null,null,null,null,null,null,null,null,null,null,null,null,null,null,null,null,null,null,{"$f":"BJ224","v":true}]
[null,null,"xii.",{"$f":"Translations!$B$738","v":"VAP(C2F6)"},null,null,null,null,"t CO2e / t C2F6",null,{"$f":"IF(L238=\"\",12200,\"\")","v":12200},null,null,null,null,null,null,null,null,null,null,null,null,null,null,null,null,null,null,null,{"$f":"IF(L238=\"\",K238,L238)","v":12200},null,null,null,null,null,null,null,null,null,null,null,null,null,null,null,null,null,null,null,null,null,null,null,null,null,null,null,null,null,null,{"$f":"BJ237","v":true}]
[]
[null,null,"xiii.",{"$f":"Translations!$B$748","v":"Išmestas CF4 kiekis"},null,null,null,null,"t CO2e",null,null,{"$f":"IF(ISNUMBER(U219),INDEX(AO229:AP229,U219),\"\")","v":""}]
[null,null,"xiv.",{"$f":"Translations!$B$749","v":"Išmestas C2F6 kiekis"},null,null,null,null,"t CO2e",null,null,{"$f":"IF(ISNUMBER(U219),INDEX(AO230:AP230,U219),\"\")","v":""}]
[]
[null,null,"xv.",{"$f":"Translations!$B$167","v":"Surinkimo efektyvumas"},null,null,null,null,"-",null,null,null,{"$f":"IF(AND(E219<>\"\",L243=\"\"),EUconst_ERR_Incomplete,IF(COUNTIF(AI243:AL243,TRUE)>0,EUconst_ERR_Inconsistent,\"\"))","v":""},null,null,null,null,null,null,null,null,null,null,null,null,null,null,null,null,null,null,null,null,null,null,null,null,{"$f":"L243>100%","v":false},null,null,null,null,null,null,null,null,null,null,null,null,null,null,null,null,null,null,null,null,null,null,null,{"$f":"BJ224","v":true}]
[]
[null,null,null,{"$f":"Translations!$B$674","v":"Pakopos galioja nuo:"},null,null,null,{"$f":"Translations!$B$675","v":"iki:"},null,null,null,null,null,null,null,null,null,null,null,null,null,null,null,null,null,null,null,null,null,null,null,null,null,null,null,null,null,null,null,null,null,null,null,null,null,null,null,null,null,null,null,null,null,null,null,null,null,null,null,null,null,{"$f":"BJ224","v":true}]
[]
[null,null,null,{"$f":"Translations!$B$160","v":"Pastabos:"},null,null,null,null,null,null,null,null,null,null,null,null,null,null,null,null,null,null,null,null,null,null,null,null,null,null,null,null,null,null,null,null,null,null,null,null,null,null,null,null,null,null,null,null,null,null,null,null,null,null,null,null,null,null,null,null,null,{"$f":"BJ245","v":true}]
[]
[]
[null,null,{"$f":"C218+1","v":7},null,null,null,null,null,null,null,null,null,{"$f":"Translations!$B$747","v":"Išmetamųjų teršalų kiekis:"},{"$f":"IF(COUNT(L272:L273,L275)=3,(L272+L273)/L275,\"\")","v":""},"t CO2e",null,{"$f":"EUconst_SumCO2 & \"_\" & EUconst_ProcessPFC","v":"SUM_CO2_Išmetamas PFC kiekis"},{"$f":"IF(ISBLANK(E250),\"\",MATCH(E250,CNTR_SourceStreamNames,0))","v":""},{"$f":"IF(ISBLANK(E250),\"\",INDEX(B_InstallationDescription!$D$65:$D$139,MATCH(E250,CNTR_SourceStreamNames,0)))","v":""},"is PFC?","Method",null,null,null,null,null,null,null,null,null,null,null,null,null,null,null,null,null,null,null,null,null,null,null,{"$f":"K256","v":0},{"$f":"AE258","v":0},{"$f":"AE259","v":0},{"$f":"AE260","v":0},{"$f":"AE261","v":0},{"$f":"AE262","v":0},{"$f":"AE263","v":0},{"$f":"AE264","v":0},{"$f":"L266","v":""},{"$f":"L267","v":""},{"$f":"AE269","v":7390},{"$f":"AE270","v":12200},{"$f":"L272","v":""},{"$f":"L273","v":""},{"$f":"L275","v":0},{"$f":"N250","v":""},null,{"$f":"CNTR_PFCRelevant=EUconst_NotRelevant","v":true}]
[null,null,null,null,{"$f":"IF(E250=\"\",\"\",IF(INDEX(B_InstallationDescription!$E$65:$E$139,MATCH(S250,B_InstallationDescription!$D$65:$D$139,0))>0,INDEX(B_InstallationDescription!$E$65:$E$139,MATCH(S250,B_InstallationDescription!$D$65:$D$139,0)),\"\"))","v":""},null,null,null,null,null,null,null,null,null,null,null,null,"Tiers",null,true,{"$f":"IF(E251=\"\",\"\",INDEX(CNTR_PFCMethod,MATCH(E250,CNTR_PFCSourceStreamNames,0)))","v":""},null,null,null,null,null,null,null,"Values",null,null,null,null,null,"Errors",null,null,null,null,"Calculation",null,null,null,"Accounting","AD:","A: Frequency","A: Duration","A: SEF(CF4)","B: AEO","B: CE","B: OVC","F(C2F6)","CF4 Emissions","C2F6 Emissions","GWP (CF4)","GWP (C2F6)","CF4 Emissions","C2F6 Emissions","Collection efficiency","CO2 fossil"]
[]
[null,null,null,null,{"$f":"IF(E250=\"\",\"\",HYPERLINK(\"#JUMP_14\",EUconst_FurtherGuidancePoint1))","v":""}]
[]
[null,null,null,null,null,{"$f":"Translations!$B$333","v":"Pakopa"},{"$f":"Translations!$B$672","v":"pakopos aprašas"},null,{"$f":"Translations!$B$158","v":"Vienetas"},null,{"$f":"Translations!$B$673","v":"Vertė"},null,{"$f":"Translations!$B$610","v":"klaida"},null,null,null,null,null,null,"Category from Sheet A",null,null,"tier required","text tier",null,null,"entries sheet A complete?",null,"typeI","default Value","Value used",null,null,null,null,null,null,null,null,null,null,null,null,null,null,null,null,null,null,null,null,null,null,null,null,null,null,null,null,null,null,"cond. form."]
[null,null,"i.",{"$f":"Translations!$B$622","v":"VD:"},null,null,{"$f":"IF(OR(ISBLANK(F256),F256=EUconst_NoTier),\"\",IF(X256=0,EUconst_NA,IF(ISERROR(X256),\"\",X256)))","v":""},null,{"$f":"EUconst_t","v":"t"},null,null,null,{"$f":"IF(AND(E251<>\"\",OR(F256=\"\",K256=\"\"),W256<>EUconst_NA),EUconst_ERR_Incomplete,IF(COUNTIF(AI256:AL256,TRUE)>0,EUconst_ERR_Inconsistent,\"\"))","v":""},null,null,null,null,{"$f":"EUconst_CNTR_ActivityData&E251","v":"ActivityData_"},null,{"$f":"IF(E250=\"\",\"\",INDEX(B_InstallationDescription!$I$65:$I$139,MATCH(S250,B_InstallationDescription!$D$65:$D$139,0)))","v":""},null,null,{"$f":"IF(E251=\"\",\"\",INDEX(EUwideConstants!$N:$N,MATCH(R256,EUwideConstants!$Q:$Q,0)))","v":""},{"$f":"IF(ISBLANK(F256),\"\",IF(F256=EUconst_NA,\"\",INDEX(EUwideConstants!$H:$M,MATCH(R256,EUwideConstants!$Q:$Q,0),MATCH(F256,CNTR_TierList,0))))","v":""},"default type",null,{"$f":"E250<>\"\"","v":false},null,null,null,{"$f":"IF(W256=EUconst_NA,1,IF(COUNT(K256:L256)=0,0,IF(L256=\"\",K256,L256)))","v":0},"cond. Form?","cond. Form?",null,null,null,"inconsistent entries?",null,null,null,null,null,null,null,null,null,null,null,null,null,null,null,null,null,null,null,null,null,null,null,null,{"$f":"OR(CNTR_PFCRelevant=EUconst_NotRelevant,AND(COUNTA(CNTR_ListRelevantSections)>0,E250=\"\"))","v":true}]
[null,null,null,null,null,null,null," "]
[null,null,"ii.",{"$f":"Translations!$B$722","v":"A. Dažnis"},null,null,{"$f":"IF(OR(ISBLANK(F258),F258=EUconst_NoTier),\"\",IF(X258=0,EUconst_NotApplicable,IF(ISERROR(X258),\"\",X258)))","v":""},null,{"$f":"IF(W258=EUconst_NA,\"\",INDEX(PFCUnits,1))","v":"1/(vienoje elektrolizės vonioje per parą)"},null,{"$f":"IF(L258=\"\",AD258,\"\")","v":""},null,{"$f":"IF(AND(E251<>\"\",OR(F258=\"\",L258=\"\"),W258<>EUconst_NA),EUconst_ERR_Incomplete,IF(COUNTIF(AI258:AL258,TRUE)>0,EUconst_ERR_Inconsistent,\"\"))","v":""},null,null,null,null,{"$f":"R256","v":"ActivityData_"},null,{"$f":"T256","v":""},null,1,{"$f":"IF(E251=\"\",\"\",IF(U251<>V258,EUconst_NA,INDEX(EUwideConstants!$N:$N,MATCH(R258,EUwideConstants!$Q:$Q,0))))","v":""},{"$f":"IF(ISBLANK(F258),\"\",IF(F258=EUconst_NA,\"\",INDEX(EUwideConstants!$H:$M,MATCH(R258,EUwideConstants!$Q:$Q,0),MATCH(F258,CNTR_TierList,0))))","v":""},null,null,{"$f":"AND(AA256,W258<>EUconst_NA)","v":false},null,{"$f":"IF(AA258=TRUE,IF(COUNTIF(MSPara_SourceStreamCategory,T258)=0,\"\",INDEX(MSPara_CalcFactorsMatrix,MATCH(T258,MSPara_SourceStreamCategory,0),MATCH(#REF!&\"_\"&1,MSPara_CalcFactors,0))),\"\")","v":""},{"$f":"\"\"","v":""},{"$f":"IF(AA258=TRUE,IF(COUNT(K258:L258)=0,0,IF(L258=\"\",K258,L258)),0)","v":0},{"$f":"AND(AA258=TRUE,OR(AND(F258<>\"\",NOT(ISNUMBER(Y258))),L258<>\"\",F258=\"\",AD258=\"\"))","v":false},{"$f":"AND(AA258=TRUE,NOT(AF258))","v":false},null,null,null,{"$f":"AND(L258<>\"\",W258=EUconst_NA)","v":false},null,null,null,"Method A","Method B",null,null,null,null,null,null,null,null,null,null,null,null,null,null,null,null,null,null,null,{"$f":"OR(BJ256,W258=EUconst_NA)","v":true}]
[null,null,"iii.",{"$f":"Translations!$B$724","v":"A. Trukmė"},null,null,"",null,{"$f":"IF(W259=EUconst_NA,\"\",INDEX(PFCUnits,2))","v":"min."},null,"",null,{"$f":"IF(AND(E251<>\"\",OR(F259=\"\",L259=\"\"),W259<>EUconst_NA),EUconst_ERR_Incomplete,IF(COUNTIF(AI259:AL259,TRUE)>0,EUconst_ERR_Inconsistent,\"\"))","v":""},null,null,null,null,{"$f":"R258","v":"ActivityData_"},null,{"$f":"T258","v":""},null,1,{"$f":"IF(E251=\"\",\"\",IF(U251<>V259,EUconst_NA,INDEX(EUwideConstants!$N:$N,MATCH(R259,EUwideConstants!$Q:$Q,0))))","v":""},{"$f":"IF(ISBLANK(F259),\"\",IF(F259=EUconst_NA,\"\",INDEX(EUwideConstants!$H:$M,MATCH(R259,EUwideConstants!$Q:$Q,0),MATCH(F259,CNTR_TierList,0))))","v":""},null,null,{"$f":"AND(AA256,W259<>EUconst_NA)","v":false},null,{"$f":"IF(AA259=TRUE,IF(COUNTIF(MSPara_SourceStreamCategory,T259)=0,\"\",INDEX(MSPara_CalcFactorsMatrix,MATCH(T259,MSPara_SourceStreamCategory,0),MATCH(#REF!&\"_\"&1,MSPara_CalcFactors,0))),\"\")","v":""},{"$f":"\"\"","v":""},0,{"$f":"AND(AA259=TRUE,OR(AND(F259<>\"\",NOT(ISNUMBER(Y259))),L259<>\"\",F259=\"\",AD259=\"\"))","v":false},false,null,null,null,false,null,null,"CF4",{"$f":"IF(ISNUMBER(U251),AE256*AE258*AE259*AE260/1000,\"\")","v":""},{"$f":"IF(ISNUMBER(U251),AE256*(AE261/IF(AE262=0,0.01,AE262))*AE263/1000,\"\")","v":""},null,null,null,null,null,null,null,null,null,null,null,null,null,null,null,null,null,null,null,{"$f":"OR(BJ256,W259=EUconst_NA)","v":true}]
[null,null,"iv.",{"$f":"Translations!$B$726","v":"A. NITF(CF4)"},null,null,"",null,{"$f":"IF(W260=EUconst_NA,\"\",INDEX(PFCUnits,3))","v":"(kg CF4/t Al)/(min./vienoje elektrolizės vonioje per parą)"},null,"",null,{"$f":"IF(AND(E251<>\"\",OR(F260=\"\",COUNT(K260:L260)=0),W260<>EUconst_NA),EUconst_ERR_Incomplete,IF(COUNTIF(AI260:AL260,TRUE)>0,EUconst_ERR_Inconsistent,\"\"))","v":""},null,null,null,null,{"$f":"EUconst_CNTR_EF&$E251","v":"EF_"},null,"",null,1,{"$f":"IF(E251=\"\",\"\",IF(U251<>V260,EUconst_NA,INDEX(EUwideConstants!$N:$N,MATCH(R260,EUwideConstants!$Q:$Q,0))))","v":""},{"$f":"IF(ISBLANK(F260),\"\",IF(F260=EUconst_NA,\"\",INDEX(EUwideConstants!$H:$M,MATCH(R260,EUwideConstants!$Q:$Q,0),MATCH(F260,CNTR_TierList,0))))","v":""},{"$f":"IF(COUNTIF(EUconst_DefaultValues,X260)>0,MATCH(X260,EUconst_DefaultValues,0),\"\")","v":""},null,{"$f":"AND(AA256,W260<>EUconst_NA)","v":false},null,{"$f":"IF(AA260=TRUE,IF(T260=\"\",\"\",INDEX(MSPara_PFCMethA,MATCH(T260,PFCCellTypes,0),1)),\"\")","v":""},{"$f":"IF(AND(Y260<>\"\",ISNUMBER(AC260)),AC260,\"\")","v":""},0,{"$f":"AND(AA260=TRUE,OR(AND(F260<>\"\",NOT(ISNUMBER(Y260))),L260<>\"\",F260=\"\",AD260=\"\"))","v":false},false,null,null,null,false,null,null,"C2F6",{"$f":"IF(AND(ISNUMBER(AO259),AO259>0),AO259*AE264,0)","v":0},{"$f":"IF(AND(ISNUMBER(AP259),AP259>0),AP259*AE264,0)","v":0},null,null,null,null,null,null,null,null,null,null,null,null,null,null,null,null,null,null,null,{"$f":"OR(BJ256,W260=EUconst_NA)","v":true}]
[null,null,"v.",{"$f":"Translations!$B$728","v":"B. AEV"},null,null,"",null,{"$f":"IF(W261=EUconst_NA,\"\",INDEX(PFCUnits,4))","v":"mV"},null,"",null,{"$f":"IF(AND(E251<>\"\",OR(F261=\"\",L261=\"\"),W261<>EUconst_NA),EUconst_ERR_Incomplete,IF(COUNTIF(AI261:AL261,TRUE)>0,EUconst_ERR_Inconsistent,\"\"))","v":""},null,null,null,null,{"$f":"R256","v":"ActivityData_"},null,"",null,2,{"$f":"IF(E251=\"\",\"\",IF(U251<>V261,EUconst_NA,INDEX(EUwideConstants!$N:$N,MATCH(R261,EUwideConstants!$Q:$Q,0))))","v":""},{"$f":"IF(ISBLANK(F261),\"\",IF(F261=EUconst_NA,\"\",INDEX(EUwideConstants!$H:$M,MATCH(R261,EUwideConstants!$Q:$Q,0),MATCH(F261,CNTR_TierList,0))))","v":""},null,null,{"$f":"AND(AA256,W261<>EUconst_NA)","v":false},null,null,{"$f":"\"\"","v":""},0,{"$f":"AND(AA261=TRUE,OR(ISNUMBER(L261),NOT(ISNUMBER(Y261))))","v":false},false,null,null,null,false,null,null,"CF4",{"$f":"IF(ISNUMBER(AO259),AO259*AE269,\"\")","v":""},{"$f":"IF(ISNUMBER(AP259),AP259*AE269,\"\")","v":""},null,null,null,null,null,null,null,null,null,null,null,null,null,null,null,null,null,null,null,{"$f":"OR(BJ256,W261=EUconst_NA)","v":true}]
[null,null,"vi.",{"$f":"Translations!$B$730","v":"B. EN"},null,null,"",null,{"$f":"IF(W262=EUconst_NA,\"\",\"-\")","v":"-"},null,"",null,{"$f":"IF(AND(E251<>\"\",OR(F262=\"\",L262=\"\"),W262<>EUconst_NA),EUconst_ERR_Incomplete,IF(COUNTIF(AI262:AL262,TRUE)>0,EUconst_ERR_Inconsistent,\"\"))","v":""},null,null,null,null,{"$f":"R261","v":"ActivityData_"},null,"",null,2,{"$f":"IF(E251=\"\",\"\",IF(U251<>V262,EUconst_NA,INDEX(EUwideConstants!$N:$N,MATCH(R262,EUwideConstants!$Q:$Q,0))))","v":""},{"$f":"IF(ISBLANK(F262),\"\",IF(F262=EUconst_NA,\"\",INDEX(EUwideConstants!$H:$M,MATCH(R262,EUwideConstants!$Q:$Q,0),MATCH(F262,CNTR_TierList,0))))","v":""},null,null,{"$f":"AND(AA256,W262<>EUconst_NA)","v":false},null,null,{"$f":"\"\"","v":""},0,{"$f":"AND(AA262=TRUE,OR(ISNUMBER(L262),NOT(ISNUMBER(Y262))))","v":false},false,null,null,null,false,{"$f":"L262>100%","v":false},null,"C2F6",{"$f":"IF(ISNUMBER(AO260),AO260*AE270,\"\")","v":0},{"$f":"IF(ISNUMBER(AP260),AP260*AE270,\"\")","v":0},null,null,null,null,null,null,null,null,null,null,null,null,null,null,null,null,null,null,null,{"$f":"OR(BJ256,W262=EUconst_NA)","v":true}]
[null,null,"vii.",{"$f":"Translations!$B$732","v":"B. VĮK"},null,null,"",null,{"$f":"IF(W263=EUconst_NA,\"\",INDEX(PFCUnits,6))","v":"(kg CF4)/(t Al mV)"},null,"",null,{"$f":"IF(AND(E251<>\"\",OR(F263=\"\",COUNT(K263:L263)=0),W263<>EUconst_NA),EUconst_ERR_Incomplete,IF(COUNTIF(AI263:AL263,TRUE)>0,EUconst_ERR_Inconsistent,\"\"))","v":""},null,null,null,null,{"$f":"EUconst_CNTR_EF&E251","v":"EF_"},null,"",null,2,{"$f":"IF(E251=\"\",\"\",IF(U251<>V263,EUconst_NA,INDEX(EUwideConstants!$N:$N,MATCH(R263,EUwideConstants!$Q:$Q,0))))","v":""},{"$f":"IF(ISBLANK(F263),\"\",IF(F263=EUconst_NA,\"\",INDEX(EUwideConstants!$H:$M,MATCH(R263,EUwideConstants!$Q:$Q,0),MATCH(F263,CNTR_TierList,0))))","v":""},{"$f":"IF(COUNTIF(EUconst_DefaultValues,X263)>0,MATCH(X263,EUconst_DefaultValues,0),\"\")","v":""},null,{"$f":"AND(AA256,W263<>EUconst_NA)","v":false},null,{"$f":"IF(AA263=TRUE,IF(T263=\"\",\"\",INDEX(MSPara_PFCMethB,MATCH(T263,PFCCellTypes,0),1)),\"\")","v":""},{"$f":"IF(AND(Y263<>\"\",ISNUMBER(AC263)),AC263,\"\")","v":""},0,{"$f":"AND(AA263=TRUE,OR(AND(F263<>\"\",NOT(ISNUMBER(Y263))),L263<>\"\",F263=\"\",AD263=\"\"))","v":false},false,null,null,null,false,null,null,null,null,null,null,null,null,null,null,null,null,null,null,null,null,null,null,null,null,null,null,null,null,{"$f":"OR(BJ256,W263=EUconst_NA)","v":true}]
[null,null,"viii.",{"$f":"Translations!$B$734","v":"F(C2F6)"},null,null,"",null,{"$f":"IF(W264=EUconst_NA,\"\",INDEX(PFCUnits,7))","v":"t C2F6/t CF4"},null,"",null,{"$f":"IF(AND(E251<>\"\",OR(F264=\"\",COUNT(K264:L264)=0),W264<>EUconst_NA),EUconst_ERR_Incomplete,IF(COUNTIF(AI264:AL264,TRUE)>0,EUconst_ERR_Inconsistent,\"\"))","v":""},null,null,null,null,{"$f":"EUconst_CNTR_EF&E251","v":"EF_"},null,"",null,{"$f":"\"\"","v":""},{"$f":"W256","v":""},{"$f":"IF(ISBLANK(F264),\"\",IF(F264=EUconst_NA,\"\",INDEX(EUwideConstants!$H:$M,MATCH(R264,EUwideConstants!$Q:$Q,0),MATCH(F264,CNTR_TierList,0))))","v":""},{"$f":"IF(COUNTIF(EUconst_DefaultValues,X264)>0,MATCH(X264,EUconst_DefaultValues,0),\"\")","v":""},null,{"$f":"AND(AA256,W264<>EUconst_NA)","v":false},null,{"$f":"IF(AA264=TRUE,IF(T264=\"\",\"\",INDEX(MSPara_PFCMethA,MATCH(T264,PFCCellTypes,0),2)),\"\")","v":""},{"$f":"IF(AND(Y264<>\"\",ISNUMBER(AC264)),AC264,\"\")","v":""},0,{"$f":"AND(AA264=TRUE,OR(AND(F264<>\"\",NOT(ISNUMBER(Y264))),L264<>\"\",F264=\"\",AD264=\"\"))","v":false},false,null,null,null,false,null,null,null,null,null,null,null,null,null,null,null,null,null,null,null,null,null,null,null,null,null,null,null,null,{"$f":"OR(BJ256,W264=EUconst_NA)","v":true}]
[]
[null,null,"ix.",{"$f":"Translations!$B$748","v":"Išmestas CF4 kiekis"},null,null,null,null,{"$f":"EUconst_t","v":"t"},null,null,{"$f":"IF(ISNUMBER(U251),INDEX(AO259:AP259,U251),\"\")","v":""}]
[null,null,"x.",{"$f":"Translations!$B$749","v":"Išmestas C2F6 kiekis"},null,null,null,null,{"$f":"EUconst_t","v":"t"},null,null,{"$f":"IF(ISNUMBER(U251),INDEX(AO260:AP260,U251),\"\")","v":""}]
[]
[null,null,"xi.",{"$f":"Translations!$B$736","v":"VAP(CF4)"},null,null,null,null,"t CO2e / t CF4",null,{"$f":"IF(L269=\"\",7390,\"\")","v":7390},null,null,null,null,null,null,null,null,null,null,null,null,null,null,null,null,null,null,null,{"$f":"IF(L269=\"\",K269,L269)","v":7390},null,null,null,null,null,null,null,null,null,null,null,null,null,null,null,null,null,null,null,null,null,null,null,null,null,null,null,null,null,null,{"$f":"BJ256","v":true}]
[null,null,"xii.",{"$f":"Translations!$B$738","v":"VAP(C2F6)"},null,null,null,null,"t CO2e / t C2F6",null,{"$f":"IF(L270=\"\",12200,\"\")","v":12200},null,null,null,null,null,null,null,null,null,null,null,null,null,null,null,null,null,null,null,{"$f":"IF(L270=\"\",K270,L270)","v":12200},null,null,null,null,null,null,null,null,null,null,null,null,null,null,null,null,null,null,null,null,null,null,null,null,null,null,null,null,null,null,{"$f":"BJ269","v":true}]
[]
[null,null,"xiii.",{"$f":"Translations!$B$748","v":"Išmestas CF4 kiekis"},null,null,null,null,"t CO2e",null,null,{"$f":"IF(ISNUMBER(U251),INDEX(AO261:AP261,U251),\"\")","v":""}]
[null,null,"xiv.",{"$f":"Translations!$B$749","v":"Išmestas C2F6 kiekis"},null,null,null,null,"t CO2e",null,null,{"$f":"IF(ISNUMBER(U251),INDEX(AO262:AP262,U251),\"\")","v":""}]
[]
[null,null,"xv.",{"$f":"Translations!$B$167","v":"Surinkimo efektyvumas"},null,null,null,null,"-",null,null,null,{"$f":"IF(AND(E251<>\"\",L275=\"\"),EUconst_ERR_Incomplete,IF(COUNTIF(AI275:AL275,TRUE)>0,EUconst_ERR_Inconsistent,\"\"))","v":""},null,null,null,null,null,null,null,null,null,null,null,null,null,null,null,null,null,null,null,null,null,null,null,null,{"$f":"L275>100%","v":false},null,null,null,null,null,null,null,null,null,null,null,null,null,null,null,null,null,null,null,null,null,null,null,{"$f":"BJ256","v":true}]
[]
[null,null,null,{"$f":"Translations!$B$674","v":"Pakopos galioja nuo:"},null,null,null,{"$f":"Translations!$B$675","v":"iki:"},null,null,null,null,null,null,null,null,null,null,null,null,null,null,null,null,null,null,null,null,null,null,null,null,null,null,null,null,null,null,null,null,null,null,null,null,null,null,null,null,null,null,null,null,null,null,null,null,null,null,null,null,null,{"$f":"BJ256","v":true}]
[]
[null,null,null,{"$f":"Translations!$B$160","v":"Pastabos:"},null,null,null,null,null,null,null,null,null,null,null,null,null,null,null,null,null,null,null,null,null,null,null,null,null,null,null,null,null,null,null,null,null,null,null,null,null,null,null,null,null,null,null,null,null,null,null,null,null,null,null,null,null,null,null,null,null,{"$f":"BJ277","v":true}]
[]
[]
[null,null,{"$f":"C250+1","v":8},null,null,null,null,null,null,null,null,null,{"$f":"Translations!$B$747","v":"Išmetamųjų teršalų kiekis:"},{"$f":"IF(COUNT(L304:L305,L307)=3,(L304+L305)/L307,\"\")","v":""},"t CO2e",null,{"$f":"EUconst_SumCO2 & \"_\" & EUconst_ProcessPFC","v":"SUM_CO2_Išmetamas PFC kiekis"},{"$f":"IF(ISBLANK(E282),\"\",MATCH(E282,CNTR_SourceStreamNames,0))","v":""},{"$f":"IF(ISBLANK(E282),\"\",INDEX(B_InstallationDescription!$D$65:$D$139,MATCH(E282,CNTR_SourceStreamNames,0)))","v":""},"is PFC?","Method",null,null,null,null,null,null,null,null,null,null,null,null,null,null,null,null,null,null,null,null,null,null,null,{"$f":"K288","v":0},{"$f":"AE290","v":0},{"$f":"AE291","v":0},{"$f":"AE292","v":0},{"$f":"AE293","v":0},{"$f":"AE294","v":0},{"$f":"AE295","v":0},{"$f":"AE296","v":0},{"$f":"L298","v":""},{"$f":"L299","v":""},{"$f":"AE301","v":7390},{"$f":"AE302","v":12200},{"$f":"L304","v":""},{"$f":"L305","v":""},{"$f":"L307","v":0},{"$f":"N282","v":""},null,{"$f":"CNTR_PFCRelevant=EUconst_NotRelevant","v":true}]
[null,null,null,null,{"$f":"IF(E282=\"\",\"\",IF(INDEX(B_InstallationDescription!$E$65:$E$139,MATCH(S282,B_InstallationDescription!$D$65:$D$139,0))>0,INDEX(B_InstallationDescription!$E$65:$E$139,MATCH(S282,B_InstallationDescription!$D$65:$D$139,0)),\"\"))","v":""},null,null,null,null,null,null,null,null,null,null,null,null,"Tiers",null,true,{"$f":"IF(E283=\"\",\"\",INDEX(CNTR_PFCMethod,MATCH(E282,CNTR_PFCSourceStreamNames,0)))","v":""},null,null,null,null,null,null,null,"Values",null,null,null,null,null,"Errors",null,null,null,null,"Calculation",null,null,null,"Accounting","AD:","A: Frequency","A: Duration","A: SEF(CF4)","B: AEO","B: CE","B: OVC","F(C2F6)","CF4 Emissions","C2F6 Emissions","GWP (CF4)","GWP (C2F6)","CF4 Emissions","C2F6 Emissions","Collection efficiency","CO2 fossil"]
[]
[null,null,null,null,{"$f":"IF(E282=\"\",\"\",HYPERLINK(\"#JUMP_14\",EUconst_FurtherGuidancePoint1))","v":""}]
[]
[null,null,null,null,null,{"$f":"Translations!$B$333","v":"Pakopa"},{"$f":"Translations!$B$672","v":"pakopos aprašas"},null,{"$f":"Translations!$B$158","v":"Vienetas"},null,{"$f":"Translations!$B$673","v":"Vertė"},null,{"$f":"Translations!$B$610","v":"klaida"},null,null,null,null,null,null,"Category from Sheet A",null,null,"tier required","text tier",null,null,"entries sheet A complete?",null,"typeI","default Value","Value used",null,null,null,null,null,null,null,null,null,null,null,null,null,null,null,null,null,null,null,null,null,null,null,null,null,null,null,null,null,null,"cond. form."]
[null,null,"i.",{"$f":"Translations!$B$622","v":"VD:"},null,null,{"$f":"IF(OR(ISBLANK(F288),F288=EUconst_NoTier),\"\",IF(X288=0,EUconst_NA,IF(ISERROR(X288),\"\",X288)))","v":""},null,{"$f":"EUconst_t","v":"t"},null,null,null,{"$f":"IF(AND(E283<>\"\",OR(F288=\"\",K288=\"\"),W288<>EUconst_NA),EUconst_ERR_Incomplete,IF(COUNTIF(AI288:AL288,TRUE)>0,EUconst_ERR_Inconsistent,\"\"))","v":""},null,null,null,null,{"$f":"EUconst_CNTR_ActivityData&E283","v":"ActivityData_"},null,{"$f":"IF(E282=\"\",\"\",INDEX(B_InstallationDescription!$I$65:$I$139,MATCH(S282,B_InstallationDescription!$D$65:$D$139,0)))","v":""},null,null,{"$f":"IF(E283=\"\",\"\",INDEX(EUwideConstants!$N:$N,MATCH(R288,EUwideConstants!$Q:$Q,0)))","v":""},{"$f":"IF(ISBLANK(F288),\"\",IF(F288=EUconst_NA,\"\",INDEX(EUwideConstants!$H:$M,MATCH(R288,EUwideConstants!$Q:$Q,0),MATCH(F288,CNTR_TierList,0))))","v":""},"default type",null,{"$f":"E282<>\"\"","v":false},null,null,null,{"$f":"IF(W288=EUconst_NA,1,IF(COUNT(K288:L288)=0,0,IF(L288=\"\",K288,L288)))","v":0},"cond. Form?","cond. Form?",null,null,null,"inconsistent entries?",null,null,null,null,null,null,null,null,null,null,null,null,null,null,null,null,null,null,null,null,null,null,null,null,{"$f":"OR(CNTR_PFCRelevant=EUconst_NotRelevant,AND(COUNTA(CNTR_ListRelevantSections)>0,E282=\"\"))","v":true}]
[null,null,null,null,null,null,null," "]
[null,null,"ii.",{"$f":"Translations!$B$722","v":"A. Dažnis"},null,null,{"$f":"IF(OR(ISBLANK(F290),F290=EUconst_NoTier),\"\",IF(X290=0,EUconst_NotApplicable,IF(ISERROR(X290),\"\",X290)))","v":""},null,{"$f":"IF(W290=EUconst_NA,\"\",INDEX(PFCUnits,1))","v":"1/(vienoje elektrolizės vonioje per parą)"},null,{"$f":"IF(L290=\"\",AD290,\"\")","v":""},null,{"$f":"IF(AND(E283<>\"\",OR(F290=\"\",L290=\"\"),W290<>EUconst_NA),EUconst_ERR_Incomplete,IF(COUNTIF(AI290:AL290,TRUE)>0,EUconst_ERR_Inconsistent,\"\"))","v":""},null,null,null,null,{"$f":"R288","v":"ActivityData_"},null,{"$f":"T288","v":""},null,1,{"$f":"IF(E283=\"\",\"\",IF(U283<>V290,EUconst_NA,INDEX(EUwideConstants!$N:$N,MATCH(R290,EUwideConstants!$Q:$Q,0))))","v":""},{"$f":"IF(ISBLANK(F290),\"\",IF(F290=EUconst_NA,\"\",INDEX(EUwideConstants!$H:$M,MATCH(R290,EUwideConstants!$Q:$Q,0),MATCH(F290,CNTR_TierList,0))))","v":""},null,null,{"$f":"AND(AA288,W290<>EUconst_NA)","v":false},null,{"$f":"IF(AA290=TRUE,IF(COUNTIF(MSPara_SourceStreamCategory,T290)=0,\"\",INDEX(MSPara_CalcFactorsMatrix,MATCH(T290,MSPara_SourceStreamCategory,0),MATCH(#REF!&\"_\"&1,MSPara_CalcFactors,0))),\"\")","v":""},{"$f":"\"\"","v":""},{"$f":"IF(AA290=TRUE,IF(COUNT(K290:L290)=0,0,IF(L290=\"\",K290,L290)),0)","v":0},{"$f":"AND(AA290=TRUE,OR(AND(F290<>\"\",NOT(ISNUMBER(Y290))),L290<>\"\",F290=\"\",AD290=\"\"))","v":false},{"$f":"AND(AA290=TRUE,NOT(AF290))","v":false},null,null,null,{"$f":"AND(L290<>\"\",W290=EUconst_NA)","v":false},null,null,null,"Method A","Method B",null,null,null,null,null,null,null,null,null,null,null,null,null,null,null,null,null,null,null,{"$f":"OR(BJ288,W290=EUconst_NA)","v":true}]
[null,null,"iii.",{"$f":"Translations!$B$724","v":"A. Trukmė"},null,null,"",null,{"$f":"IF(W291=EUconst_NA,\"\",INDEX(PFCUnits,2))","v":"min."},null,"",null,{"$f":"IF(AND(E283<>\"\",OR(F291=\"\",L291=\"\"),W291<>EUconst_NA),EUconst_ERR_Incomplete,IF(COUNTIF(AI291:AL291,TRUE)>0,EUconst_ERR_Inconsistent,\"\"))","v":""},null,null,null,null,{"$f":"R290","v":"ActivityData_"},null,{"$f":"T290","v":""},null,1,{"$f":"IF(E283=\"\",\"\",IF(U283<>V291,EUconst_NA,INDEX(EUwideConstants!$N:$N,MATCH(R291,EUwideConstants!$Q:$Q,0))))","v":""},{"$f":"IF(ISBLANK(F291),\"\",IF(F291=EUconst_NA,\"\",INDEX(EUwideConstants!$H:$M,MATCH(R291,EUwideConstants!$Q:$Q,0),MATCH(F291,CNTR_TierList,0))))","v":""},null,null,{"$f":"AND(AA288,W291<>EUconst_NA)","v":false},null,{"$f":"IF(AA291=TRUE,IF(COUNTIF(MSPara_SourceStreamCategory,T291)=0,\"\",INDEX(MSPara_CalcFactorsMatrix,MATCH(T291,MSPara_SourceStreamCategory,0),MATCH(#REF!&\"_\"&1,MSPara_CalcFactors,0))),\"\")","v":""},{"$f":"\"\"","v":""},0,{"$f":"AND(AA291=TRUE,OR(AND(F291<>\"\",NOT(ISNUMBER(Y291))),L291<>\"\",F291=\"\",AD291=\"\"))","v":false},false,null,null,null,false,null,null,"CF4",{"$f":"IF(ISNUMBER(U283),AE288*AE290*AE291*AE292/1000,\"\")","v":""},{"$f":"IF(ISNUMBER(U283),AE288*(AE293/IF(AE294=0,0.01,AE294))*AE295/1000,\"\")","v":""},null,null,null,null,null,null,null,null,null,null,null,null,null,null,null,null,null,null,null,{"$f":"OR(BJ288,W291=EUconst_NA)","v":true}]
[null,null,"iv.",{"$f":"Translations!$B$726","v":"A. NITF(CF4)"},null,null,"",null,{"$f":"IF(W292=EUconst_NA,\"\",INDEX(PFCUnits,3))","v":"(kg CF4/t Al)/(min./vienoje elektrolizės vonioje per parą)"},null,"",null,{"$f":"IF(AND(E283<>\"\",OR(F292=\"\",COUNT(K292:L292)=0),W292<>EUconst_NA),EUconst_ERR_Incomplete,IF(COUNTIF(AI292:AL292,TRUE)>0,EUconst_ERR_Inconsistent,\"\"))","v":""},null,null,null,null,{"$f":"EUconst_CNTR_EF&$E283","v":"EF_"},null,"",null,1,{"$f":"IF(E283=\"\",\"\",IF(U283<>V292,EUconst_NA,INDEX(EUwideConstants!$N:$N,MATCH(R292,EUwideConstants!$Q:$Q,0))))","v":""},{"$f":"IF(ISBLANK(F292),\"\",IF(F292=EUconst_NA,\"\",INDEX(EUwideConstants!$H:$M,MATCH(R292,EUwideConstants!$Q:$Q,0),MATCH(F292,CNTR_TierList,0))))","v":""},{"$f":"IF(COUNTIF(EUconst_DefaultValues,X292)>0,MATCH(X292,EUconst_DefaultValues,0),\"\")","v":""},null,{"$f":"AND(AA288,W292<>EUconst_NA)","v":false},null,{"$f":"IF(AA292=TRUE,IF(T292=\"\",\"\",INDEX(MSPara_PFCMethA,MATCH(T292,PFCCellTypes,0),1)),\"\")","v":""},{"$f":"IF(AND(Y292<>\"\",ISNUMBER(AC292)),AC292,\"\")","v":""},0,{"$f":"AND(AA292=TRUE,OR(AND(F292<>\"\",NOT(ISNUMBER(Y292))),L292<>\"\",F292=\"\",AD292=\"\"))","v":false},false,null,null,null,false,null,null,"C2F6",{"$f":"IF(AND(ISNUMBER(AO291),AO291>0),AO291*AE296,0)","v":0},{"$f":"IF(AND(ISNUMBER(AP291),AP291>0),AP291*AE296,0)","v":0},null,null,null,null,null,null,null,null,null,null,null,null,null,null,null,null,null,null,null,{"$f":"OR(BJ288,W292=EUconst_NA)","v":true}]
[null,null,"v.",{"$f":"Translations!$B$728","v":"B. AEV"},null,null,"",null,{"$f":"IF(W293=EUconst_NA,\"\",INDEX(PFCUnits,4))","v":"mV"},null,"",null,{"$f":"IF(AND(E283<>\"\",OR(F293=\"\",L293=\"\"),W293<>EUconst_NA),EUconst_ERR_Incomplete,IF(COUNTIF(AI293:AL293,TRUE)>0,EUconst_ERR_Inconsistent,\"\"))","v":""},null,null,null,null,{"$f":"R288","v":"ActivityData_"},null,"",null,2,{"$f":"IF(E283=\"\",\"\",IF(U283<>V293,EUconst_NA,INDEX(EUwideConstants!$N:$N,MATCH(R293,EUwideConstants!$Q:$Q,0))))","v":""},{"$f":"IF(ISBLANK(F293),\"\",IF(F293=EUconst_NA,\"\",INDEX(EUwideConstants!$H:$M,MATCH(R293,EUwideConstants!$Q:$Q,0),MATCH(F293,CNTR_TierList,0))))","v":""},null,null,{"$f":"AND(AA288,W293<>EUconst_NA)","v":false},null,null,{"$f":"\"\"","v":""},0,{"$f":"AND(AA293=TRUE,OR(ISNUMBER(L293),NOT(ISNUMBER(Y293))))","v":false},false,null,null,null,false,null,null,"CF4",{"$f":"IF(ISNUMBER(AO291),AO291*AE301,\"\")","v":""},{"$f":"IF(ISNUMBER(AP291),AP291*AE301,\"\")","v":""},null,null,null,null,null,null,null,null,null,null,null,null,null,null,null,null,null,null,null,{"$f":"OR(BJ288,W293=EUconst_NA)","v":true}]
[null,null,"vi.",{"$f":"Translations!$B$730","v":"B. EN"},null,null,"",null,{"$f":"IF(W294=EUconst_NA,\"\",\"-\")","v":"-"},null,"",null,{"$f":"IF(AND(E283<>\"\",OR(F294=\"\",L294=\"\"),W294<>EUconst_NA),EUconst_ERR_Incomplete,IF(COUNTIF(AI294:AL294,TRUE)>0,EUconst_ERR_Inconsistent,\"\"))","v":""},null,null,null,null,{"$f":"R293","v":"ActivityData_"},null,"",null,2,{"$f":"IF(E283=\"\",\"\",IF(U283<>V294,EUconst_NA,INDEX(EUwideConstants!$N:$N,MATCH(R294,EUwideConstants!$Q:$Q,0))))","v":""},{"$f":"IF(ISBLANK(F294),\"\",IF(F294=EUconst_NA,\"\",INDEX(EUwideConstants!$H:$M,MATCH(R294,EUwideConstants!$Q:$Q,0),MATCH(F294,CNTR_TierList,0))))","v":""},null,null,{"$f":"AND(AA288,W294<>EUconst_NA)","v":false},null,null,{"$f":"\"\"","v":""},0,{"$f":"AND(AA294=TRUE,OR(ISNUMBER(L294),NOT(ISNUMBER(Y294))))","v":false},false,null,null,null,false,{"$f":"L294>100%","v":false},null,"C2F6",{"$f":"IF(ISNUMBER(AO292),AO292*AE302,\"\")","v":0},{"$f":"IF(ISNUMBER(AP292),AP292*AE302,\"\")","v":0},null,null,null,null,null,null,null,null,null,null,null,null,null,null,null,null,null,null,null,{"$f":"OR(BJ288,W294=EUconst_NA)","v":true}]
[null,null,"vii.",{"$f":"Translations!$B$732","v":"B. VĮK"},null,null,"",null,{"$f":"IF(W295=EUconst_NA,\"\",INDEX(PFCUnits,6))","v":"(kg CF4)/(t Al mV)"},null,"",null,{"$f":"IF(AND(E283<>\"\",OR(F295=\"\",COUNT(K295:L295)=0),W295<>EUconst_NA),EUconst_ERR_Incomplete,IF(COUNTIF(AI295:AL295,TRUE)>0,EUconst_ERR_Inconsistent,\"\"))","v":""},null,null,null,null,{"$f":"EUconst_CNTR_EF&E283","v":"EF_"},null,"",null,2,{"$f":"IF(E283=\"\",\"\",IF(U283<>V295,EUconst_NA,INDEX(EUwideConstants!$N:$N,MATCH(R295,EUwideConstants!$Q:$Q,0))))","v":""},{"$f":"IF(ISBLANK(F295),\"\",IF(F295=EUconst_NA,\"\",INDEX(EUwideConstants!$H:$M,MATCH(R295,EUwideConstants!$Q:$Q,0),MATCH(F295,CNTR_TierList,0))))","v":""},{"$f":"IF(COUNTIF(EUconst_DefaultValues,X295)>0,MATCH(X295,EUconst_DefaultValues,0),\"\")","v":""},null,{"$f":"AND(AA288,W295<>EUconst_NA)","v":false},null,{"$f":"IF(AA295=TRUE,IF(T295=\"\",\"\",INDEX(MSPara_PFCMethB,MATCH(T295,PFCCellTypes,0),1)),\"\")","v":""},{"$f":"IF(AND(Y295<>\"\",ISNUMBER(AC295)),AC295,\"\")","v":""},0,{"$f":"AND(AA295=TRUE,OR(AND(F295<>\"\",NOT(ISNUMBER(Y295))),L295<>\"\",F295=\"\",AD295=\"\"))","v":false},false,null,null,null,false,null,null,null,null,null,null,null,null,null,null,null,null,null,null,null,null,null,null,null,null,null,null,null,null,{"$f":"OR(BJ288,W295=EUconst_NA)","v":true}]
[null,null,"viii.",{"$f":"Translations!$B$734","v":"F(C2F6)"},null,null,"",null,{"$f":"IF(W296=EUconst_NA,\"\",INDEX(PFCUnits,7))","v":"t C2F6/t CF4"},null,"",null,{"$f":"IF(AND(E283<>\"\",OR(F296=\"\",COUNT(K296:L296)=0),W296<>EUconst_NA),EUconst_ERR_Incomplete,IF(COUNTIF(AI296:AL296,TRUE)>0,EUconst_ERR_Inconsistent,\"\"))","v":""},null,null,null,null,{"$f":"EUconst_CNTR_EF&E283","v":"EF_"},null,"",null,{"$f":"\"\"","v":""},{"$f":"W288","v":""},{"$f":"IF(ISBLANK(F296),\"\",IF(F296=EUconst_NA,\"\",INDEX(EUwideConstants!$H:$M,MATCH(R296,EUwideConstants!$Q:$Q,0),MATCH(F296,CNTR_TierList,0))))","v":""},{"$f":"IF(COUNTIF(EUconst_DefaultValues,X296)>0,MATCH(X296,EUconst_DefaultValues,0),\"\")","v":""},null,{"$f":"AND(AA288,W296<>EUconst_NA)","v":false},null,{"$f":"IF(AA296=TRUE,IF(T296=\"\",\"\",INDEX(MSPara_PFCMethA,MATCH(T296,PFCCellTypes,0),2)),\"\")","v":""},{"$f":"IF(AND(Y296<>\"\",ISNUMBER(AC296)),AC296,\"\")","v":""},0,{"$f":"AND(AA296=TRUE,OR(AND(F296<>\"\",NOT(ISNUMBER(Y296))),L296<>\"\",F296=\"\",AD296=\"\"))","v":false},false,null,null,null,false,null,null,null,null,null,null,null,null,null,null,null,null,null,null,null,null,null,null,null,null,null,null,null,null,{"$f":"OR(BJ288,W296=EUconst_NA)","v":true}]
[]
[null,null,"ix.",{"$f":"Translations!$B$748","v":"Išmestas CF4 kiekis"},null,null,null,null,{"$f":"EUconst_t","v":"t"},null,null,{"$f":"IF(ISNUMBER(U283),INDEX(AO291:AP291,U283),\"\")","v":""}]
[null,null,"x.",{"$f":"Translations!$B$749","v":"Išmestas C2F6 kiekis"},null,null,null,null,{"$f":"EUconst_t","v":"t"},null,null,{"$f":"IF(ISNUMBER(U283),INDEX(AO292:AP292,U283),\"\")","v":""}]
[]
[null,null,"xi.",{"$f":"Translations!$B$736","v":"VAP(CF4)"},null,null,null,null,"t CO2e / t CF4",null,{"$f":"IF(L301=\"\",7390,\"\")","v":7390},null,null,null,null,null,null,null,null,null,null,null,null,null,null,null,null,null,null,null,{"$f":"IF(L301=\"\",K301,L301)","v":7390},null,null,null,null,null,null,null,null,null,null,null,null,null,null,null,null,null,null,null,null,null,null,null,null,null,null,null,null,null,null,{"$f":"BJ288","v":true}]
[null,null,"xii.",{"$f":"Translations!$B$738","v":"VAP(C2F6)"},null,null,null,null,"t CO2e / t C2F6",null,{"$f":"IF(L302=\"\",12200,\"\")","v":12200},null,null,null,null,null,null,null,null,null,null,null,null,null,null,null,null,null,null,null,{"$f":"IF(L302=\"\",K302,L302)","v":12200},null,null,null,null,null,null,null,null,null,null,null,null,null,null,null,null,null,null,null,null,null,null,null,null,null,null,null,null,null,null,{"$f":"BJ301","v":true}]
[]
[null,null,"xiii.",{"$f":"Translations!$B$748","v":"Išmestas CF4 kiekis"},null,null,null,null,"t CO2e",null,null,{"$f":"IF(ISNUMBER(U283),INDEX(AO293:AP293,U283),\"\")","v":""}]
[null,null,"xiv.",{"$f":"Translations!$B$749","v":"Išmestas C2F6 kiekis"},null,null,null,null,"t CO2e",null,null,{"$f":"IF(ISNUMBER(U283),INDEX(AO294:AP294,U283),\"\")","v":""}]
[]
[null,null,"xv.",{"$f":"Translations!$B$167","v":"Surinkimo efektyvumas"},null,null,null,null,"-",null,null,null,{"$f":"IF(AND(E283<>\"\",L307=\"\"),EUconst_ERR_Incomplete,IF(COUNTIF(AI307:AL307,TRUE)>0,EUconst_ERR_Inconsistent,\"\"))","v":""},null,null,null,null,null,null,null,null,null,null,null,null,null,null,null,null,null,null,null,null,null,null,null,null,{"$f":"L307>100%","v":false},null,null,null,null,null,null,null,null,null,null,null,null,null,null,null,null,null,null,null,null,null,null,null,{"$f":"BJ288","v":true}]
[]
[null,null,null,{"$f":"Translations!$B$674","v":"Pakopos galioja nuo:"},null,null,null,{"$f":"Translations!$B$675","v":"iki:"},null,null,null,null,null,null,null,null,null,null,null,null,null,null,null,null,null,null,null,null,null,null,null,null,null,null,null,null,null,null,null,null,null,null,null,null,null,null,null,null,null,null,null,null,null,null,null,null,null,null,null,null,null,{"$f":"BJ288","v":true}]
[]
[null,null,null,{"$f":"Translations!$B$160","v":"Pastabos:"},null,null,null,null,null,null,null,null,null,null,null,null,null,null,null,null,null,null,null,null,null,null,null,null,null,null,null,null,null,null,null,null,null,null,null,null,null,null,null,null,null,null,null,null,null,null,null,null,null,null,null,null,null,null,null,null,null,{"$f":"BJ309","v":true}]
[]
[]
[null,null,{"$f":"C282+1","v":9},null,null,null,null,null,null,null,null,null,{"$f":"Translations!$B$747","v":"Išmetamųjų teršalų kiekis:"},{"$f":"IF(COUNT(L336:L337,L339)=3,(L336+L337)/L339,\"\")","v":""},"t CO2e",null,{"$f":"EUconst_SumCO2 & \"_\" & EUconst_ProcessPFC","v":"SUM_CO2_Išmetamas PFC kiekis"},{"$f":"IF(ISBLANK(E314),\"\",MATCH(E314,CNTR_SourceStreamNames,0))","v":""},{"$f":"IF(ISBLANK(E314),\"\",INDEX(B_InstallationDescription!$D$65:$D$139,MATCH(E314,CNTR_SourceStreamNames,0)))","v":""},"is PFC?","Method",null,null,null,null,null,null,null,null,null,null,null,null,null,null,null,null,null,null,null,null,null,null,null,{"$f":"K320","v":0},{"$f":"AE322","v":0},{"$f":"AE323","v":0},{"$f":"AE324","v":0},{"$f":"AE325","v":0},{"$f":"AE326","v":0},{"$f":"AE327","v":0},{"$f":"AE328","v":0},{"$f":"L330","v":""},{"$f":"L331","v":""},{"$f":"AE333","v":7390},{"$f":"AE334","v":12200},{"$f":"L336","v":""},{"$f":"L337","v":""},{"$f":"L339","v":0},{"$f":"N314","v":""},null,{"$f":"CNTR_PFCRelevant=EUconst_NotRelevant","v":true}]
[null,null,null,null,{"$f":"IF(E314=\"\",\"\",IF(INDEX(B_InstallationDescription!$E$65:$E$139,MATCH(S314,B_InstallationDescription!$D$65:$D$139,0))>0,INDEX(B_InstallationDescription!$E$65:$E$139,MATCH(S314,B_InstallationDescription!$D$65:$D$139,0)),\"\"))","v":""},null,null,null,null,null,null,null,null,null,null,null,null,"Tiers",null,true,{"$f":"IF(E315=\"\",\"\",INDEX(CNTR_PFCMethod,MATCH(E314,CNTR_PFCSourceStreamNames,0)))","v":""},null,null,null,null,null,null,null,"Values",null,null,null,null,null,"Errors",null,null,null,null,"Calculation",null,null,null,"Accounting","AD:","A: Frequency","A: Duration","A: SEF(CF4)","B: AEO","B: CE","B: OVC","F(C2F6)","CF4 Emissions","C2F6 Emissions","GWP (CF4)","GWP (C2F6)","CF4 Emissions","C2F6 Emissions","Collection efficiency","CO2 fossil"]
[]
[null,null,null,null,{"$f":"IF(E314=\"\",\"\",HYPERLINK(\"#JUMP_14\",EUconst_FurtherGuidancePoint1))","v":""}]
[]
[null,null,null,null,null,{"$f":"Translations!$B$333","v":"Pakopa"},{"$f":"Translations!$B$672","v":"pakopos aprašas"},null,{"$f":"Translations!$B$158","v":"Vienetas"},null,{"$f":"Translations!$B$673","v":"Vertė"},null,{"$f":"Translations!$B$610","v":"klaida"},null,null,null,null,null,null,"Category from Sheet A",null,null,"tier required","text tier",null,null,"entries sheet A complete?",null,"typeI","default Value","Value used",null,null,null,null,null,null,null,null,null,null,null,null,null,null,null,null,null,null,null,null,null,null,null,null,null,null,null,null,null,null,"cond. form."]
[null,null,"i.",{"$f":"Translations!$B$622","v":"VD:"},null,null,{"$f":"IF(OR(ISBLANK(F320),F320=EUconst_NoTier),\"\",IF(X320=0,EUconst_NA,IF(ISERROR(X320),\"\",X320)))","v":""},null,{"$f":"EUconst_t","v":"t"},null,null,null,{"$f":"IF(AND(E315<>\"\",OR(F320=\"\",K320=\"\"),W320<>EUconst_NA),EUconst_ERR_Incomplete,IF(COUNTIF(AI320:AL320,TRUE)>0,EUconst_ERR_Inconsistent,\"\"))","v":""},null,null,null,null,{"$f":"EUconst_CNTR_ActivityData&E315","v":"ActivityData_"},null,{"$f":"IF(E314=\"\",\"\",INDEX(B_InstallationDescription!$I$65:$I$139,MATCH(S314,B_InstallationDescription!$D$65:$D$139,0)))","v":""},null,null,{"$f":"IF(E315=\"\",\"\",INDEX(EUwideConstants!$N:$N,MATCH(R320,EUwideConstants!$Q:$Q,0)))","v":""},{"$f":"IF(ISBLANK(F320),\"\",IF(F320=EUconst_NA,\"\",INDEX(EUwideConstants!$H:$M,MATCH(R320,EUwideConstants!$Q:$Q,0),MATCH(F320,CNTR_TierList,0))))","v":""},"default type",null,{"$f":"E314<>\"\"","v":false},null,null,null,{"$f":"IF(W320=EUconst_NA,1,IF(COUNT(K320:L320)=0,0,IF(L320=\"\",K320,L320)))","v":0},"cond. Form?","cond. Form?",null,null,null,"inconsistent entries?",null,null,null,null,null,null,null,null,null,null,null,null,null,null,null,null,null,null,null,null,null,null,null,null,{"$f":"OR(CNTR_PFCRelevant=EUconst_NotRelevant,AND(COUNTA(CNTR_ListRelevantSections)>0,E314=\"\"))","v":true}]
[null,null,null,null,null,null,null," "]
[null,null,"ii.",{"$f":"Translations!$B$722","v":"A. Dažnis"},null,null,{"$f":"IF(OR(ISBLANK(F322),F322=EUconst_NoTier),\"\",IF(X322=0,EUconst_NotApplicable,IF(ISERROR(X322),\"\",X322)))","v":""},null,{"$f":"IF(W322=EUconst_NA,\"\",INDEX(PFCUnits,1))","v":"1/(vienoje elektrolizės vonioje per parą)"},null,{"$f":"IF(L322=\"\",AD322,\"\")","v":""},null,{"$f":"IF(AND(E315<>\"\",OR(F322=\"\",L322=\"\"),W322<>EUconst_NA),EUconst_ERR_Incomplete,IF(COUNTIF(AI322:AL322,TRUE)>0,EUconst_ERR_Inconsistent,\"\"))","v":""},null,null,null,null,{"$f":"R320","v":"ActivityData_"},null,{"$f":"T320","v":""},null,1,{"$f":"IF(E315=\"\",\"\",IF(U315<>V322,EUconst_NA,INDEX(EUwideConstants!$N:$N,MATCH(R322,EUwideConstants!$Q:$Q,0))))","v":""},{"$f":"IF(ISBLANK(F322),\"\",IF(F322=EUconst_NA,\"\",INDEX(EUwideConstants!$H:$M,MATCH(R322,EUwideConstants!$Q:$Q,0),MATCH(F322,CNTR_TierList,0))))","v":""},null,null,{"$f":"AND(AA320,W322<>EUconst_NA)","v":false},null,{"$f":"IF(AA322=TRUE,IF(COUNTIF(MSPara_SourceStreamCategory,T322)=0,\"\",INDEX(MSPara_CalcFactorsMatrix,MATCH(T322,MSPara_SourceStreamCategory,0),MATCH(#REF!&\"_\"&1,MSPara_CalcFactors,0))),\"\")","v":""},{"$f":"\"\"","v":""},{"$f":"IF(AA322=TRUE,IF(COUNT(K322:L322)=0,0,IF(L322=\"\",K322,L322)),0)","v":0},{"$f":"AND(AA322=TRUE,OR(AND(F322<>\"\",NOT(ISNUMBER(Y322))),L322<>\"\",F322=\"\",AD322=\"\"))","v":false},{"$f":"AND(AA322=TRUE,NOT(AF322))","v":false},null,null,null,{"$f":"AND(L322<>\"\",W322=EUconst_NA)","v":false},null,null,null,"Method A","Method B",null,null,null,null,null,null,null,null,null,null,null,null,null,null,null,null,null,null,null,{"$f":"OR(BJ320,W322=EUconst_NA)","v":true}]
[null,null,"iii.",{"$f":"Translations!$B$724","v":"A. Trukmė"},null,null,"",null,{"$f":"IF(W323=EUconst_NA,\"\",INDEX(PFCUnits,2))","v":"min."},null,"",null,{"$f":"IF(AND(E315<>\"\",OR(F323=\"\",L323=\"\"),W323<>EUconst_NA),EUconst_ERR_Incomplete,IF(COUNTIF(AI323:AL323,TRUE)>0,EUconst_ERR_Inconsistent,\"\"))","v":""},null,null,null,null,{"$f":"R322","v":"ActivityData_"},null,{"$f":"T322","v":""},null,1,{"$f":"IF(E315=\"\",\"\",IF(U315<>V323,EUconst_NA,INDEX(EUwideConstants!$N:$N,MATCH(R323,EUwideConstants!$Q:$Q,0))))","v":""},{"$f":"IF(ISBLANK(F323),\"\",IF(F323=EUconst_NA,\"\",INDEX(EUwideConstants!$H:$M,MATCH(R323,EUwideConstants!$Q:$Q,0),MATCH(F323,CNTR_TierList,0))))","v":""},null,null,{"$f":"AND(AA320,W323<>EUconst_NA)","v":false},null,{"$f":"IF(AA323=TRUE,IF(COUNTIF(MSPara_SourceStreamCategory,T323)=0,\"\",INDEX(MSPara_CalcFactorsMatrix,MATCH(T323,MSPara_SourceStreamCategory,0),MATCH(#REF!&\"_\"&1,MSPara_CalcFactors,0))),\"\")","v":""},{"$f":"\"\"","v":""},0,{"$f":"AND(AA323=TRUE,OR(AND(F323<>\"\",NOT(ISNUMBER(Y323))),L323<>\"\",F323=\"\",AD323=\"\"))","v":false},false,null,null,null,false,null,null,"CF4",{"$f":"IF(ISNUMBER(U315),AE320*AE322*AE323*AE324/1000,\"\")","v":""},{"$f":"IF(ISNUMBER(U315),AE320*(AE325/IF(AE326=0,0.01,AE326))*AE327/1000,\"\")","v":""},null,null,null,null,null,null,null,null,null,null,null,null,null,null,null,null,null,null,null,{"$f":"OR(BJ320,W323=EUconst_NA)","v":true}]
[null,null,"iv.",{"$f":"Translations!$B$726","v":"A. NITF(CF4)"},null,null,"",null,{"$f":"IF(W324=EUconst_NA,\"\",INDEX(PFCUnits,3))","v":"(kg CF4/t Al)/(min./vienoje elektrolizės vonioje per parą)"},null,"",null,{"$f":"IF(AND(E315<>\"\",OR(F324=\"\",COUNT(K324:L324)=0),W324<>EUconst_NA),EUconst_ERR_Incomplete,IF(COUNTIF(AI324:AL324,TRUE)>0,EUconst_ERR_Inconsistent,\"\"))","v":""},null,null,null,null,{"$f":"EUconst_CNTR_EF&$E315","v":"EF_"},null,"",null,1,{"$f":"IF(E315=\"\",\"\",IF(U315<>V324,EUconst_NA,INDEX(EUwideConstants!$N:$N,MATCH(R324,EUwideConstants!$Q:$Q,0))))","v":""},{"$f":"IF(ISBLANK(F324),\"\",IF(F324=EUconst_NA,\"\",INDEX(EUwideConstants!$H:$M,MATCH(R324,EUwideConstants!$Q:$Q,0),MATCH(F324,CNTR_TierList,0))))","v":""},{"$f":"IF(COUNTIF(EUconst_DefaultValues,X324)>0,MATCH(X324,EUconst_DefaultValues,0),\"\")","v":""},null,{"$f":"AND(AA320,W324<>EUconst_NA)","v":false},null,{"$f":"IF(AA324=TRUE,IF(T324=\"\",\"\",INDEX(MSPara_PFCMethA,MATCH(T324,PFCCellTypes,0),1)),\"\")","v":""},{"$f":"IF(AND(Y324<>\"\",ISNUMBER(AC324)),AC324,\"\")","v":""},0,{"$f":"AND(AA324=TRUE,OR(AND(F324<>\"\",NOT(ISNUMBER(Y324))),L324<>\"\",F324=\"\",AD324=\"\"))","v":false},false,null,null,null,false,null,null,"C2F6",{"$f":"IF(AND(ISNUMBER(AO323),AO323>0),AO323*AE328,0)","v":0},{"$f":"IF(AND(ISNUMBER(AP323),AP323>0),AP323*AE328,0)","v":0},null,null,null,null,null,null,null,null,null,null,null,null,null,null,null,null,null,null,null,{"$f":"OR(BJ320,W324=EUconst_NA)","v":true}]
[null,null,"v.",{"$f":"Translations!$B$728","v":"B. AEV"},null,null,"",null,{"$f":"IF(W325=EUconst_NA,\"\",INDEX(PFCUnits,4))","v":"mV"},null,"",null,{"$f":"IF(AND(E315<>\"\",OR(F325=\"\",L325=\"\"),W325<>EUconst_NA),EUconst_ERR_Incomplete,IF(COUNTIF(AI325:AL325,TRUE)>0,EUconst_ERR_Inconsistent,\"\"))","v":""},null,null,null,null,{"$f":"R320","v":"ActivityData_"},null,"",null,2,{"$f":"IF(E315=\"\",\"\",IF(U315<>V325,EUconst_NA,INDEX(EUwideConstants!$N:$N,MATCH(R325,EUwideConstants!$Q:$Q,0))))","v":""},{"$f":"IF(ISBLANK(F325),\"\",IF(F325=EUconst_NA,\"\",INDEX(EUwideConstants!$H:$M,MATCH(R325,EUwideConstants!$Q:$Q,0),MATCH(F325,CNTR_TierList,0))))","v":""},null,null,{"$f":"AND(AA320,W325<>EUconst_NA)","v":false},null,null,{"$f":"\"\"","v":""},0,{"$f":"AND(AA325=TRUE,OR(ISNUMBER(L325),NOT(ISNUMBER(Y325))))","v":false},false,null,null,null,false,null,null,"CF4",{"$f":"IF(ISNUMBER(AO323),AO323*AE333,\"\")","v":""},{"$f":"IF(ISNUMBER(AP323),AP323*AE333,\"\")","v":""},null,null,null,null,null,null,null,null,null,null,null,null,null,null,null,null,null,null,null,{"$f":"OR(BJ320,W325=EUconst_NA)","v":true}]
[null,null,"vi.",{"$f":"Translations!$B$730","v":"B. EN"},null,null,"",null,{"$f":"IF(W326=EUconst_NA,\"\",\"-\")","v":"-"},null,"",null,{"$f":"IF(AND(E315<>\"\",OR(F326=\"\",L326=\"\"),W326<>EUconst_NA),EUconst_ERR_Incomplete,IF(COUNTIF(AI326:AL326,TRUE)>0,EUconst_ERR_Inconsistent,\"\"))","v":""},null,null,null,null,{"$f":"R325","v":"ActivityData_"},null,"",null,2,{"$f":"IF(E315=\"\",\"\",IF(U315<>V326,EUconst_NA,INDEX(EUwideConstants!$N:$N,MATCH(R326,EUwideConstants!$Q:$Q,0))))","v":""},{"$f":"IF(ISBLANK(F326),\"\",IF(F326=EUconst_NA,\"\",INDEX(EUwideConstants!$H:$M,MATCH(R326,EUwideConstants!$Q:$Q,0),MATCH(F326,CNTR_TierList,0))))","v":""},null,null,{"$f":"AND(AA320,W326<>EUconst_NA)","v":false},null,null,{"$f":"\"\"","v":""},0,{"$f":"AND(AA326=TRUE,OR(ISNUMBER(L326),NOT(ISNUMBER(Y326))))","v":false},false,null,null,null,false,{"$f":"L326>100%","v":false},null,"C2F6",{"$f":"IF(ISNUMBER(AO324),AO324*AE334,\"\")","v":0},{"$f":"IF(ISNUMBER(AP324),AP324*AE334,\"\")","v":0},null,null,null,null,null,null,null,null,null,null,null,null,null,null,null,null,null,null,null,{"$f":"OR(BJ320,W326=EUconst_NA)","v":true}]
[null,null,"vii.",{"$f":"Translations!$B$732","v":"B. VĮK"},null,null,"",null,{"$f":"IF(W327=EUconst_NA,\"\",INDEX(PFCUnits,6))","v":"(kg CF4)/(t Al mV)"},null,"",null,{"$f":"IF(AND(E315<>\"\",OR(F327=\"\",COUNT(K327:L327)=0),W327<>EUconst_NA),EUconst_ERR_Incomplete,IF(COUNTIF(AI327:AL327,TRUE)>0,EUconst_ERR_Inconsistent,\"\"))","v":""},null,null,null,null,{"$f":"EUconst_CNTR_EF&E315","v":"EF_"},null,"",null,2,{"$f":"IF(E315=\"\",\"\",IF(U315<>V327,EUconst_NA,INDEX(EUwideConstants!$N:$N,MATCH(R327,EUwideConstants!$Q:$Q,0))))","v":""},{"$f":"IF(ISBLANK(F327),\"\",IF(F327=EUconst_NA,\"\",INDEX(EUwideConstants!$H:$M,MATCH(R327,EUwideConstants!$Q:$Q,0),MATCH(F327,CNTR_TierList,0))))","v":""},{"$f":"IF(COUNTIF(EUconst_DefaultValues,X327)>0,MATCH(X327,EUconst_DefaultValues,0),\"\")","v":""},null,{"$f":"AND(AA320,W327<>EUconst_NA)","v":false},null,{"$f":"IF(AA327=TRUE,IF(T327=\"\",\"\",INDEX(MSPara_PFCMethB,MATCH(T327,PFCCellTypes,0),1)),\"\")","v":""},{"$f":"IF(AND(Y327<>\"\",ISNUMBER(AC327)),AC327,\"\")","v":""},0,{"$f":"AND(AA327=TRUE,OR(AND(F327<>\"\",NOT(ISNUMBER(Y327))),L327<>\"\",F327=\"\",AD327=\"\"))","v":false},false,null,null,null,false,null,null,null,null,null,null,null,null,null,null,null,null,null,null,null,null,null,null,null,null,null,null,null,null,{"$f":"OR(BJ320,W327=EUconst_NA)","v":true}]
[null,null,"viii.",{"$f":"Translations!$B$734","v":"F(C2F6)"},null,null,"",null,{"$f":"IF(W328=EUconst_NA,\"\",INDEX(PFCUnits,7))","v":"t C2F6/t CF4"},null,"",null,{"$f":"IF(AND(E315<>\"\",OR(F328=\"\",COUNT(K328:L328)=0),W328<>EUconst_NA),EUconst_ERR_Incomplete,IF(COUNTIF(AI328:AL328,TRUE)>0,EUconst_ERR_Inconsistent,\"\"))","v":""},null,null,null,null,{"$f":"EUconst_CNTR_EF&E315","v":"EF_"},null,"",null,{"$f":"\"\"","v":""},{"$f":"W320","v":""},{"$f":"IF(ISBLANK(F328),\"\",IF(F328=EUconst_NA,\"\",INDEX(EUwideConstants!$H:$M,MATCH(R328,EUwideConstants!$Q:$Q,0),MATCH(F328,CNTR_TierList,0))))","v":""},{"$f":"IF(COUNTIF(EUconst_DefaultValues,X328)>0,MATCH(X328,EUconst_DefaultValues,0),\"\")","v":""},null,{"$f":"AND(AA320,W328<>EUconst_NA)","v":false},null,{"$f":"IF(AA328=TRUE,IF(T328=\"\",\"\",INDEX(MSPara_PFCMethA,MATCH(T328,PFCCellTypes,0),2)),\"\")","v":""},{"$f":"IF(AND(Y328<>\"\",ISNUMBER(AC328)),AC328,\"\")","v":""},0,{"$f":"AND(AA328=TRUE,OR(AND(F328<>\"\",NOT(ISNUMBER(Y328))),L328<>\"\",F328=\"\",AD328=\"\"))","v":false},false,null,null,null,false,null,null,null,null,null,null,null,null,null,null,null,null,null,null,null,null,null,null,null,null,null,null,null,null,{"$f":"OR(BJ320,W328=EUconst_NA)","v":true}]
[]
[null,null,"ix.",{"$f":"Translations!$B$748","v":"Išmestas CF4 kiekis"},null,null,null,null,{"$f":"EUconst_t","v":"t"},null,null,{"$f":"IF(ISNUMBER(U315),INDEX(AO323:AP323,U315),\"\")","v":""}]
[null,null,"x.",{"$f":"Translations!$B$749","v":"Išmestas C2F6 kiekis"},null,null,null,null,{"$f":"EUconst_t","v":"t"},null,null,{"$f":"IF(ISNUMBER(U315),INDEX(AO324:AP324,U315),\"\")","v":""}]
[]
[null,null,"xi.",{"$f":"Translations!$B$736","v":"VAP(CF4)"},null,null,null,null,"t CO2e / t CF4",null,{"$f":"IF(L333=\"\",7390,\"\")","v":7390},null,null,null,null,null,null,null,null,null,null,null,null,null,null,null,null,null,null,null,{"$f":"IF(L333=\"\",K333,L333)","v":7390},null,null,null,null,null,null,null,null,null,null,null,null,null,null,null,null,null,null,null,null,null,null,null,null,null,null,null,null,null,null,{"$f":"BJ320","v":true}]
[null,null,"xii.",{"$f":"Translations!$B$738","v":"VAP(C2F6)"},null,null,null,null,"t CO2e / t C2F6",null,{"$f":"IF(L334=\"\",12200,\"\")","v":12200},null,null,null,null,null,null,null,null,null,null,null,null,null,null,null,null,null,null,null,{"$f":"IF(L334=\"\",K334,L334)","v":12200},null,null,null,null,null,null,null,null,null,null,null,null,null,null,null,null,null,null,null,null,null,null,null,null,null,null,null,null,null,null,{"$f":"BJ333","v":true}]
[]
[null,null,"xiii.",{"$f":"Translations!$B$748","v":"Išmestas CF4 kiekis"},null,null,null,null,"t CO2e",null,null,{"$f":"IF(ISNUMBER(U315),INDEX(AO325:AP325,U315),\"\")","v":""}]
[null,null,"xiv.",{"$f":"Translations!$B$749","v":"Išmestas C2F6 kiekis"},null,null,null,null,"t CO2e",null,null,{"$f":"IF(ISNUMBER(U315),INDEX(AO326:AP326,U315),\"\")","v":""}]
[]
[null,null,"xv.",{"$f":"Translations!$B$167","v":"Surinkimo efektyvumas"},null,null,null,null,"-",null,null,null,{"$f":"IF(AND(E315<>\"\",L339=\"\"),EUconst_ERR_Incomplete,IF(COUNTIF(AI339:AL339,TRUE)>0,EUconst_ERR_Inconsistent,\"\"))","v":""},null,null,null,null,null,null,null,null,null,null,null,null,null,null,null,null,null,null,null,null,null,null,null,null,{"$f":"L339>100%","v":false},null,null,null,null,null,null,null,null,null,null,null,null,null,null,null,null,null,null,null,null,null,null,null,{"$f":"BJ320","v":true}]
[]
[null,null,null,{"$f":"Translations!$B$674","v":"Pakopos galioja nuo:"},null,null,null,{"$f":"Translations!$B$675","v":"iki:"},null,null,null,null,null,null,null,null,null,null,null,null,null,null,null,null,null,null,null,null,null,null,null,null,null,null,null,null,null,null,null,null,null,null,null,null,null,null,null,null,null,null,null,null,null,null,null,null,null,null,null,null,null,{"$f":"BJ320","v":true}]
[]
[null,null,null,{"$f":"Translations!$B$160","v":"Pastabos:"},null,null,null,null,null,null,null,null,null,null,null,null,null,null,null,null,null,null,null,null,null,null,null,null,null,null,null,null,null,null,null,null,null,null,null,null,null,null,null,null,null,null,null,null,null,null,null,null,null,null,null,null,null,null,null,null,null,{"$f":"BJ341","v":true}]
[]
[]
[null,null,{"$f":"C314+1","v":10},null,null,null,null,null,null,null,null,null,{"$f":"Translations!$B$747","v":"Išmetamųjų teršalų kiekis:"},{"$f":"IF(COUNT(L368:L369,L371)=3,(L368+L369)/L371,\"\")","v":""},"t CO2e",null,{"$f":"EUconst_SumCO2 & \"_\" & EUconst_ProcessPFC","v":"SUM_CO2_Išmetamas PFC kiekis"},{"$f":"IF(ISBLANK(E346),\"\",MATCH(E346,CNTR_SourceStreamNames,0))","v":""},{"$f":"IF(ISBLANK(E346),\"\",INDEX(B_InstallationDescription!$D$65:$D$139,MATCH(E346,CNTR_SourceStreamNames,0)))","v":""},"is PFC?","Method",null,null,null,null,null,null,null,null,null,null,null,null,null,null,null,null,null,null,null,null,null,null,null,{"$f":"K352","v":0},{"$f":"AE354","v":0},{"$f":"AE355","v":0},{"$f":"AE356","v":0},{"$f":"AE357","v":0},{"$f":"AE358","v":0},{"$f":"AE359","v":0},{"$f":"AE360","v":0},{"$f":"L362","v":""},{"$f":"L363","v":""},{"$f":"AE365","v":7390},{"$f":"AE366","v":12200},{"$f":"L368","v":""},{"$f":"L369","v":""},{"$f":"L371","v":0},{"$f":"N346","v":""},null,{"$f":"CNTR_PFCRelevant=EUconst_NotRelevant","v":true}]
[null,null,null,null,{"$f":"IF(E346=\"\",\"\",IF(INDEX(B_InstallationDescription!$E$65:$E$139,MATCH(S346,B_InstallationDescription!$D$65:$D$139,0))>0,INDEX(B_InstallationDescription!$E$65:$E$139,MATCH(S346,B_InstallationDescription!$D$65:$D$139,0)),\"\"))","v":""},null,null,null,null,null,null,null,null,null,null,null,null,"Tiers",null,true,{"$f":"IF(E347=\"\",\"\",INDEX(CNTR_PFCMethod,MATCH(E346,CNTR_PFCSourceStreamNames,0)))","v":""},null,null,null,null,null,null,null,"Values",null,null,null,null,null,"Errors",null,null,null,null,"Calculation",null,null,null,"Accounting","AD:","A: Frequency","A: Duration","A: SEF(CF4)","B: AEO","B: CE","B: OVC","F(C2F6)","CF4 Emissions","C2F6 Emissions","GWP (CF4)","GWP (C2F6)","CF4 Emissions","C2F6 Emissions","Collection efficiency","CO2 fossil"]
[]
[null,null,null,null,{"$f":"IF(E346=\"\",\"\",HYPERLINK(\"#JUMP_14\",EUconst_FurtherGuidancePoint1))","v":""}]
[]
[null,null,null,null,null,{"$f":"Translations!$B$333","v":"Pakopa"},{"$f":"Translations!$B$672","v":"pakopos aprašas"},null,{"$f":"Translations!$B$158","v":"Vienetas"},null,{"$f":"Translations!$B$673","v":"Vertė"},null,{"$f":"Translations!$B$610","v":"klaida"},null,null,null,null,null,null,"Category from Sheet A",null,null,"tier required","text tier",null,null,"entries sheet A complete?",null,"typeI","default Value","Value used",null,null,null,null,null,null,null,null,null,null,null,null,null,null,null,null,null,null,null,null,null,null,null,null,null,null,null,null,null,null,"cond. form."]
[null,null,"i.",{"$f":"Translations!$B$622","v":"VD:"},null,null,{"$f":"IF(OR(ISBLANK(F352),F352=EUconst_NoTier),\"\",IF(X352=0,EUconst_NA,IF(ISERROR(X352),\"\",X352)))","v":""},null,{"$f":"EUconst_t","v":"t"},null,null,null,{"$f":"IF(AND(E347<>\"\",OR(F352=\"\",K352=\"\"),W352<>EUconst_NA),EUconst_ERR_Incomplete,IF(COUNTIF(AI352:AL352,TRUE)>0,EUconst_ERR_Inconsistent,\"\"))","v":""},null,null,null,null,{"$f":"EUconst_CNTR_ActivityData&E347","v":"ActivityData_"},null,{"$f":"IF(E346=\"\",\"\",INDEX(B_InstallationDescription!$I$65:$I$139,MATCH(S346,B_InstallationDescription!$D$65:$D$139,0)))","v":""},null,null,{"$f":"IF(E347=\"\",\"\",INDEX(EUwideConstants!$N:$N,MATCH(R352,EUwideConstants!$Q:$Q,0)))","v":""},{"$f":"IF(ISBLANK(F352),\"\",IF(F352=EUconst_NA,\"\",INDEX(EUwideConstants!$H:$M,MATCH(R352,EUwideConstants!$Q:$Q,0),MATCH(F352,CNTR_TierList,0))))","v":""},"default type",null,{"$f":"E346<>\"\"","v":false},null,null,null,{"$f":"IF(W352=EUconst_NA,1,IF(COUNT(K352:L352)=0,0,IF(L352=\"\",K352,L352)))","v":0},"cond. Form?","cond. Form?",null,null,null,"inconsistent entries?",null,null,null,null,null,null,null,null,null,null,null,null,null,null,null,null,null,null,null,null,null,null,null,null,{"$f":"OR(CNTR_PFCRelevant=EUconst_NotRelevant,AND(COUNTA(CNTR_ListRelevantSections)>0,E346=\"\"))","v":true}]
[null,null,null,null,null,null,null," "]
[null,null,"ii.",{"$f":"Translations!$B$722","v":"A. Dažnis"},null,null,{"$f":"IF(OR(ISBLANK(F354),F354=EUconst_NoTier),\"\",IF(X354=0,EUconst_NotApplicable,IF(ISERROR(X354),\"\",X354)))","v":""},null,{"$f":"IF(W354=EUconst_NA,\"\",INDEX(PFCUnits,1))","v":"1/(vienoje elektrolizės vonioje per parą)"},null,{"$f":"IF(L354=\"\",AD354,\"\")","v":""},null,{"$f":"IF(AND(E347<>\"\",OR(F354=\"\",L354=\"\"),W354<>EUconst_NA),EUconst_ERR_Incomplete,IF(COUNTIF(AI354:AL354,TRUE)>0,EUconst_ERR_Inconsistent,\"\"))","v":""},null,null,null,null,{"$f":"R352","v":"ActivityData_"},null,{"$f":"T352","v":""},null,1,{"$f":"IF(E347=\"\",\"\",IF(U347<>V354,EUconst_NA,INDEX(EUwideConstants!$N:$N,MATCH(R354,EUwideConstants!$Q:$Q,0))))","v":""},{"$f":"IF(ISBLANK(F354),\"\",IF(F354=EUconst_NA,\"\",INDEX(EUwideConstants!$H:$M,MATCH(R354,EUwideConstants!$Q:$Q,0),MATCH(F354,CNTR_TierList,0))))","v":""},null,null,{"$f":"AND(AA352,W354<>EUconst_NA)","v":false},null,{"$f":"IF(AA354=TRUE,IF(COUNTIF(MSPara_SourceStreamCategory,T354)=0,\"\",INDEX(MSPara_CalcFactorsMatrix,MATCH(T354,MSPara_SourceStreamCategory,0),MATCH(#REF!&\"_\"&1,MSPara_CalcFactors,0))),\"\")","v":""},{"$f":"\"\"","v":""},{"$f":"IF(AA354=TRUE,IF(COUNT(K354:L354)=0,0,IF(L354=\"\",K354,L354)),0)","v":0},{"$f":"AND(AA354=TRUE,OR(AND(F354<>\"\",NOT(ISNUMBER(Y354))),L354<>\"\",F354=\"\",AD354=\"\"))","v":false},{"$f":"AND(AA354=TRUE,NOT(AF354))","v":false},null,null,null,{"$f":"AND(L354<>\"\",W354=EUconst_NA)","v":false},null,null,null,"Method A","Method B",null,null,null,null,null,null,null,null,null,null,null,null,null,null,null,null,null,null,null,{"$f":"OR(BJ352,W354=EUconst_NA)","v":true}]
[null,null,"iii.",{"$f":"Translations!$B$724","v":"A. Trukmė"},null,null,"",null,{"$f":"IF(W355=EUconst_NA,\"\",INDEX(PFCUnits,2))","v":"min."},null,"",null,{"$f":"IF(AND(E347<>\"\",OR(F355=\"\",L355=\"\"),W355<>EUconst_NA),EUconst_ERR_Incomplete,IF(COUNTIF(AI355:AL355,TRUE)>0,EUconst_ERR_Inconsistent,\"\"))","v":""},null,null,null,null,{"$f":"R354","v":"ActivityData_"},null,{"$f":"T354","v":""},null,1,{"$f":"IF(E347=\"\",\"\",IF(U347<>V355,EUconst_NA,INDEX(EUwideConstants!$N:$N,MATCH(R355,EUwideConstants!$Q:$Q,0))))","v":""},{"$f":"IF(ISBLANK(F355),\"\",IF(F355=EUconst_NA,\"\",INDEX(EUwideConstants!$H:$M,MATCH(R355,EUwideConstants!$Q:$Q,0),MATCH(F355,CNTR_TierList,0))))","v":""},null,null,{"$f":"AND(AA352,W355<>EUconst_NA)","v":false},null,{"$f":"IF(AA355=TRUE,IF(COUNTIF(MSPara_SourceStreamCategory,T355)=0,\"\",INDEX(MSPara_CalcFactorsMatrix,MATCH(T355,MSPara_SourceStreamCategory,0),MATCH(#REF!&\"_\"&1,MSPara_CalcFactors,0))),\"\")","v":""},{"$f":"\"\"","v":""},0,{"$f":"AND(AA355=TRUE,OR(AND(F355<>\"\",NOT(ISNUMBER(Y355))),L355<>\"\",F355=\"\",AD355=\"\"))","v":false},false,null,null,null,false,null,null,"CF4",{"$f":"IF(ISNUMBER(U347),AE352*AE354*AE355*AE356/1000,\"\")","v":""},{"$f":"IF(ISNUMBER(U347),AE352*(AE357/IF(AE358=0,0.01,AE358))*AE359/1000,\"\")","v":""},null,null,null,null,null,null,null,null,null,null,null,null,null,null,null,null,null,null,null,{"$f":"OR(BJ352,W355=EUconst_NA)","v":true}]
[null,null,"iv.",{"$f":"Translations!$B$726","v":"A. NITF(CF4)"},null,null,"",null,{"$f":"IF(W356=EUconst_NA,\"\",INDEX(PFCUnits,3))","v":"(kg CF4/t Al)/(min./vienoje elektrolizės vonioje per parą)"},null,"",null,{"$f":"IF(AND(E347<>\"\",OR(F356=\"\",COUNT(K356:L356)=0),W356<>EUconst_NA),EUconst_ERR_Incomplete,IF(COUNTIF(AI356:AL356,TRUE)>0,EUconst_ERR_Inconsistent,\"\"))","v":""},null,null,null,null,{"$f":"EUconst_CNTR_EF&$E347","v":"EF_"},null,"",null,1,{"$f":"IF(E347=\"\",\"\",IF(U347<>V356,EUconst_NA,INDEX(EUwideConstants!$N:$N,MATCH(R356,EUwideConstants!$Q:$Q,0))))","v":""},{"$f":"IF(ISBLANK(F356),\"\",IF(F356=EUconst_NA,\"\",INDEX(EUwideConstants!$H:$M,MATCH(R356,EUwideConstants!$Q:$Q,0),MATCH(F356,CNTR_TierList,0))))","v":""},{"$f":"IF(COUNTIF(EUconst_DefaultValues,X356)>0,MATCH(X356,EUconst_DefaultValues,0),\"\")","v":""},null,{"$f":"AND(AA352,W356<>EUconst_NA)","v":false},null,{"$f":"IF(AA356=TRUE,IF(T356=\"\",\"\",INDEX(MSPara_PFCMethA,MATCH(T356,PFCCellTypes,0),1)),\"\")","v":""},{"$f":"IF(AND(Y356<>\"\",ISNUMBER(AC356)),AC356,\"\")","v":""},0,{"$f":"AND(AA356=TRUE,OR(AND(F356<>\"\",NOT(ISNUMBER(Y356))),L356<>\"\",F356=\"\",AD356=\"\"))","v":false},false,null,null,null,false,null,null,"C2F6",{"$f":"IF(AND(ISNUMBER(AO355),AO355>0),AO355*AE360,0)","v":0},{"$f":"IF(AND(ISNUMBER(AP355),AP355>0),AP355*AE360,0)","v":0},null,null,null,null,null,null,null,null,null,null,null,null,null,null,null,null,null,null,null,{"$f":"OR(BJ352,W356=EUconst_NA)","v":true}]
[null,null,"v.",{"$f":"Translations!$B$728","v":"B. AEV"},null,null,"",null,{"$f":"IF(W357=EUconst_NA,\"\",INDEX(PFCUnits,4))","v":"mV"},null,"",null,{"$f":"IF(AND(E347<>\"\",OR(F357=\"\",L357=\"\"),W357<>EUconst_NA),EUconst_ERR_Incomplete,IF(COUNTIF(AI357:AL357,TRUE)>0,EUconst_ERR_Inconsistent,\"\"))","v":""},null,null,null,null,{"$f":"R352","v":"ActivityData_"},null,"",null,2,{"$f":"IF(E347=\"\",\"\",IF(U347<>V357,EUconst_NA,INDEX(EUwideConstants!$N:$N,MATCH(R357,EUwideConstants!$Q:$Q,0))))","v":""},{"$f":"IF(ISBLANK(F357),\"\",IF(F357=EUconst_NA,\"\",INDEX(EUwideConstants!$H:$M,MATCH(R357,EUwideConstants!$Q:$Q,0),MATCH(F357,CNTR_TierList,0))))","v":""},null,null,{"$f":"AND(AA352,W357<>EUconst_NA)","v":false},null,null,{"$f":"\"\"","v":""},0,{"$f":"AND(AA357=TRUE,OR(ISNUMBER(L357),NOT(ISNUMBER(Y357))))","v":false},false,null,null,null,false,null,null,"CF4",{"$f":"IF(ISNUMBER(AO355),AO355*AE365,\"\")","v":""},{"$f":"IF(ISNUMBER(AP355),AP355*AE365,\"\")","v":""},null,null,null,null,null,null,null,null,null,null,null,null,null,null,null,null,null,null,null,{"$f":"OR(BJ352,W357=EUconst_NA)","v":true}]
[null,null,"vi.",{"$f":"Translations!$B$730","v":"B. EN"},null,null,"",null,{"$f":"IF(W358=EUconst_NA,\"\",\"-\")","v":"-"},null,"",null,{"$f":"IF(AND(E347<>\"\",OR(F358=\"\",L358=\"\"),W358<>EUconst_NA),EUconst_ERR_Incomplete,IF(COUNTIF(AI358:AL358,TRUE)>0,EUconst_ERR_Inconsistent,\"\"))","v":""},null,null,null,null,{"$f":"R357","v":"ActivityData_"},null,"",null,2,{"$f":"IF(E347=\"\",\"\",IF(U347<>V358,EUconst_NA,INDEX(EUwideConstants!$N:$N,MATCH(R358,EUwideConstants!$Q:$Q,0))))","v":""},{"$f":"IF(ISBLANK(F358),\"\",IF(F358=EUconst_NA,\"\",INDEX(EUwideConstants!$H:$M,MATCH(R358,EUwideConstants!$Q:$Q,0),MATCH(F358,CNTR_TierList,0))))","v":""},null,null,{"$f":"AND(AA352,W358<>EUconst_NA)","v":false},null,null,{"$f":"\"\"","v":""},0,{"$f":"AND(AA358=TRUE,OR(ISNUMBER(L358),NOT(ISNUMBER(Y358))))","v":false},false,null,null,null,false,{"$f":"L358>100%","v":false},null,"C2F6",{"$f":"IF(ISNUMBER(AO356),AO356*AE366,\"\")","v":0},{"$f":"IF(ISNUMBER(AP356),AP356*AE366,\"\")","v":0},null,null,null,null,null,null,null,null,null,null,null,null,null,null,null,null,null,null,null,{"$f":"OR(BJ352,W358=EUconst_NA)","v":true}]
[null,null,"vii.",{"$f":"Translations!$B$732","v":"B. VĮK"},null,null,"",null,{"$f":"IF(W359=EUconst_NA,\"\",INDEX(PFCUnits,6))","v":"(kg CF4)/(t Al mV)"},null,"",null,{"$f":"IF(AND(E347<>\"\",OR(F359=\"\",COUNT(K359:L359)=0),W359<>EUconst_NA),EUconst_ERR_Incomplete,IF(COUNTIF(AI359:AL359,TRUE)>0,EUconst_ERR_Inconsistent,\"\"))","v":""},null,null,null,null,{"$f":"EUconst_CNTR_EF&E347","v":"EF_"},null,"",null,2,{"$f":"IF(E347=\"\",\"\",IF(U347<>V359,EUconst_NA,INDEX(EUwideConstants!$N:$N,MATCH(R359,EUwideConstants!$Q:$Q,0))))","v":""},{"$f":"IF(ISBLANK(F359),\"\",IF(F359=EUconst_NA,\"\",INDEX(EUwideConstants!$H:$M,MATCH(R359,EUwideConstants!$Q:$Q,0),MATCH(F359,CNTR_TierList,0))))","v":""},{"$f":"IF(COUNTIF(EUconst_DefaultValues,X359)>0,MATCH(X359,EUconst_DefaultValues,0),\"\")","v":""},null,{"$f":"AND(AA352,W359<>EUconst_NA)","v":false},null,{"$f":"IF(AA359=TRUE,IF(T359=\"\",\"\",INDEX(MSPara_PFCMethB,MATCH(T359,PFCCellTypes,0),1)),\"\")","v":""},{"$f":"IF(AND(Y359<>\"\",ISNUMBER(AC359)),AC359,\"\")","v":""},0,{"$f":"AND(AA359=TRUE,OR(AND(F359<>\"\",NOT(ISNUMBER(Y359))),L359<>\"\",F359=\"\",AD359=\"\"))","v":false},false,null,null,null,false,null,null,null,null,null,null,null,null,null,null,null,null,null,null,null,null,null,null,null,null,null,null,null,null,{"$f":"OR(BJ352,W359=EUconst_NA)","v":true}]
[null,null,"viii.",{"$f":"Translations!$B$734","v":"F(C2F6)"},null,null,"",null,{"$f":"IF(W360=EUconst_NA,\"\",INDEX(PFCUnits,7))","v":"t C2F6/t CF4"},null,"",null,{"$f":"IF(AND(E347<>\"\",OR(F360=\"\",COUNT(K360:L360)=0),W360<>EUconst_NA),EUconst_ERR_Incomplete,IF(COUNTIF(AI360:AL360,TRUE)>0,EUconst_ERR_Inconsistent,\"\"))","v":""},null,null,null,null,{"$f":"EUconst_CNTR_EF&E347","v":"EF_"},null,"",null,{"$f":"\"\"","v":""},{"$f":"W352","v":""},{"$f":"IF(ISBLANK(F360),\"\",IF(F360=EUconst_NA,\"\",INDEX(EUwideConstants!$H:$M,MATCH(R360,EUwideConstants!$Q:$Q,0),MATCH(F360,CNTR_TierList,0))))","v":""},{"$f":"IF(COUNTIF(EUconst_DefaultValues,X360)>0,MATCH(X360,EUconst_DefaultValues,0),\"\")","v":""},null,{"$f":"AND(AA352,W360<>EUconst_NA)","v":false},null,{"$f":"IF(AA360=TRUE,IF(T360=\"\",\"\",INDEX(MSPara_PFCMethA,MATCH(T360,PFCCellTypes,0),2)),\"\")","v":""},{"$f":"IF(AND(Y360<>\"\",ISNUMBER(AC360)),AC360,\"\")","v":""},0,{"$f":"AND(AA360=TRUE,OR(AND(F360<>\"\",NOT(ISNUMBER(Y360))),L360<>\"\",F360=\"\",AD360=\"\"))","v":false},false,null,null,null,false,null,null,null,null,null,null,null,null,null,null,null,null,null,null,null,null,null,null,null,null,null,null,null,null,{"$f":"OR(BJ352,W360=EUconst_NA)","v":true}]
[]
[null,null,"ix.",{"$f":"Translations!$B$748","v":"Išmestas CF4 kiekis"},null,null,null,null,{"$f":"EUconst_t","v":"t"},null,null,{"$f":"IF(ISNUMBER(U347),INDEX(AO355:AP355,U347),\"\")","v":""}]
[null,null,"x.",{"$f":"Translations!$B$749","v":"Išmestas C2F6 kiekis"},null,null,null,null,{"$f":"EUconst_t","v":"t"},null,null,{"$f":"IF(ISNUMBER(U347),INDEX(AO356:AP356,U347),\"\")","v":""}]
[]
[null,null,"xi.",{"$f":"Translations!$B$736","v":"VAP(CF4)"},null,null,null,null,"t CO2e / t CF4",null,{"$f":"IF(L365=\"\",7390,\"\")","v":7390},null,null,null,null,null,null,null,null,null,null,null,null,null,null,null,null,null,null,null,{"$f":"IF(L365=\"\",K365,L365)","v":7390},null,null,null,null,null,null,null,null,null,null,null,null,null,null,null,null,null,null,null,null,null,null,null,null,null,null,null,null,null,null,{"$f":"BJ352","v":true}]
[null,null,"xii.",{"$f":"Translations!$B$738","v":"VAP(C2F6)"},null,null,null,null,"t CO2e / t C2F6",null,{"$f":"IF(L366=\"\",12200,\"\")","v":12200},null,null,null,null,null,null,null,null,null,null,null,null,null,null,null,null,null,null,null,{"$f":"IF(L366=\"\",K366,L366)","v":12200},null,null,null,null,null,null,null,null,null,null,null,null,null,null,null,null,null,null,null,null,null,null,null,null,null,null,null,null,null,null,{"$f":"BJ365","v":true}]
[]
[null,null,"xiii.",{"$f":"Translations!$B$748","v":"Išmestas CF4 kiekis"},null,null,null,null,"t CO2e",null,null,{"$f":"IF(ISNUMBER(U347),INDEX(AO357:AP357,U347),\"\")","v":""}]
[null,null,"xiv.",{"$f":"Translations!$B$749","v":"Išmestas C2F6 kiekis"},null,null,null,null,"t CO2e",null,null,{"$f":"IF(ISNUMBER(U347),INDEX(AO358:AP358,U347),\"\")","v":""}]
[]
[null,null,"xv.",{"$f":"Translations!$B$167","v":"Surinkimo efektyvumas"},null,null,null,null,"-",null,null,null,{"$f":"IF(AND(E347<>\"\",L371=\"\"),EUconst_ERR_Incomplete,IF(COUNTIF(AI371:AL371,TRUE)>0,EUconst_ERR_Inconsistent,\"\"))","v":""},null,null,null,null,null,null,null,null,null,null,null,null,null,null,null,null,null,null,null,null,null,null,null,null,{"$f":"L371>100%","v":false},null,null,null,null,null,null,null,null,null,null,null,null,null,null,null,null,null,null,null,null,null,null,null,{"$f":"BJ352","v":true}]
[]
[null,null,null,{"$f":"Translations!$B$674","v":"Pakopos galioja nuo:"},null,null,null,{"$f":"Translations!$B$675","v":"iki:"},null,null,null,null,null,null,null,null,null,null,null,null,null,null,null,null,null,null,null,null,null,null,null,null,null,null,null,null,null,null,null,null,null,null,null,null,null,null,null,null,null,null,null,null,null,null,null,null,null,null,null,null,null,{"$f":"BJ352","v":true}]
[]
[null,null,null,{"$f":"Translations!$B$160","v":"Pastabos:"},null,null,null,null,null,null,null,null,null,null,null,null,null,null,null,null,null,null,null,null,null,null,null,null,null,null,null,null,null,null,null,null,null,null,null,null,null,null,null,null,null,null,null,null,null,null,null,null,null,null,null,null,null,null,null,null,null,{"$f":"BJ373","v":true}]
[]
[]
[null,null,null,null,null,{"$f":"EUconst_MsgNextSheet","v":"<<< Į kitą lapą pereisite paspaudę čia >>> "}]
[]
[]
["ausblenden","End","End","End","End","End","End","End","End","End","End","End","End","End","End",null,"End","End","End",null,null,null,"End","End",null,null,null,null,null,null,null,null,null,null,null,null,null,null,null,null,null,null,null,null,null,null,null,null,null,null,null,null,null,null,null,null,null,null,null,null,null,"End"]
["ausblenden"]
["ausblenden",null,null,null,null,null,null,null,"source stream",null,null,null,"Range"]
["ausblenden",null,null,null,null,1,{"$f":"INDEX(CNTR_PFCSourceStreamNames,F384)","v":"netaik."},{"$f":"IF(G384=EUconst_NA,\"\",MAX($H$383:H383)+1)","v":""},{"$f":"IF(COUNTIF($H$384:$H$393,F384)=0,\"\",INDEX($G$384:$G$393,MATCH(F384,$H$384:$H$393,0)))","v":""},null,null,null,{"$f":"IF(COUNT($H$384:$H$393)=0,\"\",\"$I$\"&ROW(I384)&\":$I$\"& ROW($I$384)-1+MAX(1,$H$384:$H$393))","v":""}]
["ausblenden",null,null,null,null,2,"netaik.",{"$f":"IF(G385=EUconst_NA,\"\",MAX($H$56:H384)+1)","v":""},{"$f":"IF(COUNTIF($H$384:$H$393,F385)=0,\"\",INDEX($G$384:$G$393,MATCH(F385,$H$384:$H$393,0)))","v":""}]
["ausblenden",null,null,null,null,3,"netaik.",{"$f":"IF(G386=EUconst_NA,\"\",MAX($H$56:H385)+1)","v":""},""]
["ausblenden",null,null,null,null,4,"netaik.",{"$f":"IF(G387=EUconst_NA,\"\",MAX($H$56:H386)+1)","v":""},""]
["ausblenden",null,null,null,null,5,"netaik.",{"$f":"IF(G388=EUconst_NA,\"\",MAX($H$56:H387)+1)","v":""},""]
["ausblenden",null,null,null,null,6,"netaik.",{"$f":"IF(G389=EUconst_NA,\"\",MAX($H$56:H388)+1)","v":""},""]
["ausblenden",null,null,null,null,7,"netaik.",{"$f":"IF(G390=EUconst_NA,\"\",MAX($H$56:H389)+1)","v":""},""]
["ausblenden",null,null,null,null,8,"netaik.",{"$f":"IF(G391=EUconst_NA,\"\",MAX($H$56:H390)+1)","v":""},""]
["ausblenden",null,null,null,null,9,"netaik.",{"$f":"IF(G392=EUconst_NA,\"\",MAX($H$56:H391)+1)","v":""},""]
["ausblenden",null,null,null,null,10,"netaik.",{"$f":"IF(G393=EUconst_NA,\"\",MAX($H$56:H392)+1)","v":""},""]
["ausblenden"]

{"sheet":"G_DataGaps","index":8,"n_rows":163,"n_cols":78,"rows_kept":163,"cut":false,"hidden":false,"merged":[[51,3,51,6],[19,9,19,12],[51,9,51,12],[52,3,52,6],[61,3,61,6],[61,9,61,12],[59,9,59,12],[56,3,56,6],[56,9,56,12],[39,3,39,6],[39,9,39,12],[40,3,40,6],[31,3,31,6],[31,9,31,12],[32,3,32,6],[38,3,38,6],[38,9,38,12],[60,3,60,6],[60,9,60,12],[58,3,58,6],[58,9,58,12],[59,3,59,6],[42,3,42,6],[43,9,43,12],[64,5,64,11],[20,9,20,12],[20,3,20,6],[21,3,21,6],[21,9,21,12],[16,5,16,13],[7,3,7,13],[13,5,13,13],[15,5,15,13],[25,3,25,6],[25,9,25,12],[26,3,26,6],[26,9,26,12],[27,3,27,6],[27,9,27,12],[22,3,22,6],[22,9,22,12],[23,3,23,6],[23,9,23,12],[24,3,24,6],[24,9,24,12],[28,9,28,12],[41,3,41,6],[41,9,41,12],[1,1,3,3],[1,4,1,5],[1,6,1,7],[1,8,1,9],[1,10,1,11],[1,12,1,13],[2,4,2,5],[2,6,2,7],[2,8,2,9],[2,10,2,11],[2,12,2,13],[3,4,3,5],[3,6,3,7],[3,8,3,9],[3,10,3,11],[3,12,3,13],[44,3,44,6],[44,9,44,12],[5,2,5,10],[9,4,9,13],[10,5,10,13],[12,5,12,13],[11,5,11,13],[14,5,14,13],[13,4,14,4],[19,3,19,6],[28,3,28,6],[36,3,36,6],[36,9,36,12],[33,3,33,6],[33,9,33,12],[34,3,34,6],[34,9,34,12],[32,9,32,12],[29,3,29,6],[29,9,29,12],[30,3,30,6],[30,9,30,12],[35,3,35,6],[35,9,35,12],[57,3,57,6],[57,9,57,12],[54,3,54,6],[54,9,54,12],[55,3,55,6],[55,9,55,12],[37,3,37,6],[37,9,37,12],[40,9,40,12],[47,3,47,6],[47,9,47,12],[48,3,48,6],[48,9,48,12],[52,9,52,12],[49,3,49,6],[49,9,49,12],[53,3,53,6],[53,9,53,12],[42,9,42,12],[46,3,46,6],[46,9,46,12],[43,3,43,6],[45,3,45,6],[45,9,45,12]]}
["ausblenden",null,null,null,null,null,null,null,null,null,null,null,null,null,null,"ausblenden","ausblenden","ausblenden","ausblenden","ausblenden","ausblenden","ausblenden","ausblenden","ausblenden","ausblenden","ausblenden","ausblenden","ausblenden","ausblenden","ausblenden","ausblenden","ausblenden","ausblenden","ausblenden","ausblenden","ausblenden","ausblenden","ausblenden","ausblenden","ausblenden","ausblenden","ausblenden","ausblenden","ausblenden","ausblenden","ausblenden","ausblenden","ausblenden","ausblenden","ausblenden","ausblenden","ausblenden","ausblenden","ausblenden","ausblenden","ausblenden","ausblenden","ausblenden","ausblenden","ausblenden","ausblenden","ausblenden","ausblenden","ausblenden","ausblenden","ausblenden","ausblenden","ausblenden","ausblenden","ausblenden","ausblenden","ausblenden","ausblenden","ausblenden","ausblenden","ausblenden","ausblenden","ausblenden"]
[null,{"$f":"Translations!$B$750","v":"G. Data Gaps (Duomenų spragos)"},null,null,{"$f":"Translations!$B$23","v":"Naršymo laukas"},null,{"$f":"Translations!$B$24","v":"Turinys"},null,{"$f":"Translations!$B$25","v":"Ankstesnis lapas"},null,{"$f":"Translations!$B$26","v":"Kitas lapas"}]
[null,null,null,null,{"$f":"Translations!$B$27","v":"Lapo viršus"}]
[null,null,null,null,{"$f":"Translations!$B$28","v":"Lapo galas"}]
[]
[null,null,{"$f":"Translations!$B$750","v":"G. Data Gaps (Duomenų spragos)"}]
[]
[null,null,13,{"$f":"Translations!$B$751","v":"Ataskaitiniais metais nustatytos duomenų spragos"}]
[]
[null,null,null,null,{"$f":"Translations!$B$621","v":"Santrumpos:"}]
[null,null,null,null,{"$f":"Translations!$B$752","v":"Sukėliklio pavadinimas arba kitoks identifikatorius"},{"$f":"Translations!$B$753","v":"Iš išskleidžiamojo sąrašo pasirinkite sukėliklį arba įveskite kitokius tapatybės duomenis, kuriais būtų nurodyta (pvz., „su alternatyviu metodu susijusios spragos“), su kokiu kuru, medžiaga, procesu arba stebėsenos metodu susijusi duomenų spraga."}]
[null,null,null,null,{"$f":"Translations!$B$754","v":"Taršos šaltinio pavadinimas arba kitoks identifikatorius"},{"$f":"Translations!$B$755","v":"Iš išskleidžiamojo sąrašo pasirinkite taršos šaltinį (jeigu taikomi matavimu grindžiami metodai) arba įveskite kitokius tapatybės duomenis, kuriais būtų nurodyta (pvz., „su alternatyviu metodu susijusios spragos“), su kokiu kuru, medžiaga, procesu arba stebėsenos metodu susijusi duomenų spraga."}]
[null,null,null,null,{"$f":"Translations!$B$756","v":"nuo/iki"},{"$f":"Translations!$B$757","v":"Įveskite kiekvienos duomenų spragos pradžios ir pabaigos datą."}]
[null,null,null,null,{"$f":"Translations!$B$758","v":"Aprašas, priežastys ir metodai"},{"$f":"Translations!$B$759","v":"Čia glaustai apibūdinkite, kokių duomenų spragų atsirado, pateikite jų atsiradimo priežastis ir aprašykite, kaip šios spragos buvo užpildytos laikantis 65 straipsnio 1 dalies. Jeigu reikia daugiau vietos, lape „H_AdditionalInformation“ („H. Papildoma informacija“) galite pateikti daugiau priežasčių ir aprašų."}]
[null,null,null,null,null,{"$f":"Translations!$B$760","v":"Jeigu pakaitinių duomenų apytikslio nustatymo metodas dar neįtrauktas į stebėsenos planą, pateikite išsamų apytikslio nustatymo metodo aprašą su įrodymais, kad taikant tokią metodiką atitinkamu laikotarpiu nebus nustatytas per mažas išmetamųjų ŠESD kiekis."}]
[null,null,null,null,{"$f":"Translations!$B$761","v":"Apytiksliai nustatytas išmetamųjų ŠESD kiekis"},{"$f":"Translations!$B$762","v":"Čia įrašykite išmetamųjų ŠESD kiekį, apskaičiuotą remiantis pakaitiniais duomenimis. Atkreipkite dėmesį, kad čia įrašytas apytiksliai nustatytas išmetamųjų ŠESD kiekis bus naudojamas tik kaip papildoma informacija ir nebus įtrauktas į kituose lapuose pateikiamą išmetamųjų ŠESD kiekį. Tai reiškia, kad į išmetamųjų ŠESD kiekį, įrašomą pirmesniuose lapuose, turi būti ĮTRAUKTI pakaitiniai duomenys."}]
[null,null,null,null,null,{"$f":"Translations!$B$763","v":"Pavyzdys. Prarasti vienos sukėliklio partijos ITF duomenys (pvz., proceso metu išsiskiriančios ŠESD). Pakaitinis šios partijos ITF nustatytas remiantis konservatyviais įverčiais. Lape „C_SourceStreams“ („C. Sukėlikliai“) įvedamas ITF bus svertinis visų partijų, įskaitant tą partiją, apie kurią trūksta duomenų) ITF vidurkis. Be to, užpildant duomenų spragas čia įrašomas apytiksliai nustatytas išmetamųjų ŠESD kiekis turėtų būti susijęs tik su partija, apie kurią trūksta duomenų. T. y. išmetamųjų ŠESD kiekis (duomenų spraga) = VD (partijos, apie kurią trūksta duomenų, dydis) x ITF (apskaičiuotas remiantis pakaitiniais duomenimis)."}]
[]
[]
[null,null,null,{"$f":"Translations!$B$752","v":"Sukėliklio pavadinimas arba kitoks identifikatorius"},null,null,null,{"$f":"Translations!$B$764","v":"nuo"},{"$f":"Translations!$B$765","v":"iki"},{"$f":"Translations!$B$758","v":"Aprašas, priežastys ir metodai"},null,null,null,{"$f":"Translations!$B$766","v":"Apytiksliai nustatytas išmetamųjų ŠESD kiekis \n(CO2(e) tonos)"}]
[null,null,1]
[null,null,2]
[null,null,3]
[null,null,4]
[null,null,5]
[null,null,6]
[null,null,7]
[null,null,8]
[null,null,9]
[null,null,10]
[null,null,11]
[null,null,12]
[null,null,13]
[null,null,14]
[null,null,15]
[null,null,16]
[null,null,17]
[null,null,18]
[null,null,19]
[null,null,20]
[null,null,21]
[null,null,22]
[null,null,23]
[null,null,24]
[null,null,25]
[null,null,26]
[null,null,27]
[null,null,28]
[null,null,29]
[null,null,30]
[]
[null,null,null,{"$f":"Translations!$B$754","v":"Taršos šaltinio pavadinimas arba kitoks identifikatorius"},null,null,null,{"$f":"Translations!$B$764","v":"nuo"},{"$f":"Translations!$B$765","v":"iki"},{"$f":"Translations!$B$758","v":"Aprašas, priežastys ir metodai"},null,null,null,{"$f":"Translations!$B$766","v":"Apytiksliai nustatytas išmetamųjų ŠESD kiekis \n(CO2(e) tonos)"}]
[null,null,1]
[null,null,2]
[null,null,3]
[null,null,4]
[null,null,5]
[null,null,6]
[null,null,7]
[null,null,8]
[null,null,9]
[null,null,10]
[]
[]
[null,null,null,null,null,{"$f":"EUconst_MsgNextSheet","v":"<<< Į kitą lapą pereisite paspaudę čia >>> "}]
[]
["ausblenden","End","End","End","End","End","End","End","End","End","End","End","End","End","End",null,null,null,"End","End","End",null,null,null,"End","End",null,null,null,null,null,null,null,null,"End",null,null,null,null,null,null,null,null,null,null,null,null,null,null,null,null,null,null,null,null,null,null,null,null,null,null,null,null,null,null,null,null,null,null,null,null,null,null,null,null,null,null,"End"]
["ausblenden"]
["ausblenden",null,null,null,null,null,null,null,{"$f":"C_SourceStreams!I175","v":"source stream"},null,null,null,{"$f":"C_SourceStreams!M175","v":"Range"}]
["ausblenden",null,null,null,null,{"$f":"C_SourceStreams!F176","v":1},{"$f":"C_SourceStreams!G176","v":"F1. Dujinis – Gamtinės dujos"},{"$f":"C_SourceStreams!H176","v":1},{"$f":"C_SourceStreams!I176","v":"F1. Dujinis – Gamtinės dujos"},null,null,null,{"$f":"IF(COUNT(H70:H144)=0,\"\",\"$I$\"&ROW(I70)&\":$I$\"& ROW(I70)-1+MAX(1,H70:H144))","v":"$I$70:$I$72"}]
["ausblenden",null,null,null,null,{"$f":"C_SourceStreams!F177","v":2},{"$f":"C_SourceStreams!G177","v":"F2. Skystasis – Sunkusis mazutas; Mazutas"},{"$f":"C_SourceStreams!H177","v":2},{"$f":"C_SourceStreams!I177","v":"F2. Skystasis – Sunkusis mazutas; Mazutas"}]
["ausblenden",null,null,null,null,{"$f":"C_SourceStreams!F178","v":3},{"$f":"C_SourceStreams!G178","v":"F3. Kietasis – Mediena (ne atliekos); Mediena"},{"$f":"C_SourceStreams!H178","v":3},{"$f":"C_SourceStreams!I178","v":"F3. Kietasis – Mediena (ne atliekos); Mediena"}]
["ausblenden",null,null,null,null,{"$f":"C_SourceStreams!F179","v":4},{"$f":"C_SourceStreams!G179","v":"netaik."},{"$f":"C_SourceStreams!H179","v":""},{"$f":"C_SourceStreams!I179","v":""}]
["ausblenden",null,null,null,null,{"$f":"C_SourceStreams!F180","v":5},{"$f":"C_SourceStreams!G180","v":"netaik."},{"$f":"C_SourceStreams!H180","v":""},{"$f":"C_SourceStreams!I180","v":""}]
["ausblenden",null,null,null,null,{"$f":"C_SourceStreams!F181","v":6},{"$f":"C_SourceStreams!G181","v":"netaik."},{"$f":"C_SourceStreams!H181","v":""},{"$f":"C_SourceStreams!I181","v":""}]
["ausblenden",null,null,null,null,{"$f":"C_SourceStreams!F182","v":7},{"$f":"C_SourceStreams!G182","v":"netaik."},{"$f":"C_SourceStreams!H182","v":""},{"$f":"C_SourceStreams!I182","v":""}]
["ausblenden",null,null,null,null,{"$f":"C_SourceStreams!F183","v":8},{"$f":"C_SourceStreams!G183","v":"netaik."},{"$f":"C_SourceStreams!H183","v":""},{"$f":"C_SourceStreams!I183","v":""}]
["ausblenden",null,null,null,null,{"$f":"C_SourceStreams!F184","v":9},{"$f":"C_SourceStreams!G184","v":"netaik."},{"$f":"C_SourceStreams!H184","v":""},{"$f":"C_SourceStreams!I184","v":""}]
["ausblenden",null,null,null,null,{"$f":"C_SourceStreams!F185","v":10},{"$f":"C_SourceStreams!G185","v":"netaik."},{"$f":"C_SourceStreams!H185","v":""},{"$f":"C_SourceStreams!I185","v":""}]
["ausblenden",null,null,null,null,{"$f":"C_SourceStreams!F186","v":11},{"$f":"C_SourceStreams!G186","v":"netaik."},{"$f":"C_SourceStreams!H186","v":""},{"$f":"C_SourceStreams!I186","v":""}]
["ausblenden",null,null,null,null,{"$f":"C_SourceStreams!F187","v":12},{"$f":"C_SourceStreams!G187","v":"netaik."},{"$f":"C_SourceStreams!H187","v":""},{"$f":"C_SourceStreams!I187","v":""}]
["ausblenden",null,null,null,null,{"$f":"C_SourceStreams!F188","v":13},{"$f":"C_SourceStreams!G188","v":"netaik."},{"$f":"C_SourceStreams!H188","v":""},{"$f":"C_SourceStreams!I188","v":""}]
["ausblenden",null,null,null,null,{"$f":"C_SourceStreams!F189","v":14},{"$f":"C_SourceStreams!G189","v":"netaik."},{"$f":"C_SourceStreams!H189","v":""},{"$f":"C_SourceStreams!I189","v":""}]
["ausblenden",null,null,null,null,{"$f":"C_SourceStreams!F190","v":15},{"$f":"C_SourceStreams!G190","v":"netaik."},{"$f":"C_SourceStreams!H190","v":""},{"$f":"C_SourceStreams!I190","v":""}]
["ausblenden",null,null,null,null,{"$f":"C_SourceStreams!F191","v":16},{"$f":"C_SourceStreams!G191","v":"netaik."},{"$f":"C_SourceStreams!H191","v":""},{"$f":"C_SourceStreams!I191","v":""}]
["ausblenden",null,null,null,null,{"$f":"C_SourceStreams!F192","v":17},{"$f":"C_SourceStreams!G192","v":"netaik."},{"$f":"C_SourceStreams!H192","v":""},{"$f":"C_SourceStreams!I192","v":""}]
["ausblenden",null,null,null,null,{"$f":"C_SourceStreams!F193","v":18},{"$f":"C_SourceStreams!G193","v":"netaik."},{"$f":"C_SourceStreams!H193","v":""},{"$f":"C_SourceStreams!I193","v":""}]
["ausblenden",null,null,null,null,{"$f":"C_SourceStreams!F194","v":19},{"$f":"C_SourceStreams!G194","v":"netaik."},{"$f":"C_SourceStreams!H194","v":""},{"$f":"C_SourceStreams!I194","v":""}]
["ausblenden",null,null,null,null,{"$f":"C_SourceStreams!F195","v":20},{"$f":"C_SourceStreams!G195","v":"netaik."},{"$f":"C_SourceStreams!H195","v":""},{"$f":"C_SourceStreams!I195","v":""}]
["ausblenden",null,null,null,null,{"$f":"C_SourceStreams!F196","v":21},{"$f":"C_SourceStreams!G196","v":"netaik."},{"$f":"C_SourceStreams!H196","v":""},{"$f":"C_SourceStreams!I196","v":""}]
["ausblenden",null,null,null,null,{"$f":"C_SourceStreams!F197","v":22},{"$f":"C_SourceStreams!G197","v":"netaik."},{"$f":"C_SourceStreams!H197","v":""},{"$f":"C_SourceStreams!I197","v":""}]
["ausblenden",null,null,null,null,{"$f":"C_SourceStreams!F198","v":23},{"$f":"C_SourceStreams!G198","v":"netaik."},{"$f":"C_SourceStreams!H198","v":""},{"$f":"C_SourceStreams!I198","v":""}]
["ausblenden",null,null,null,null,{"$f":"C_SourceStreams!F199","v":24},{"$f":"C_SourceStreams!G199","v":"netaik."},{"$f":"C_SourceStreams!H199","v":""},{"$f":"C_SourceStreams!I199","v":""}]
["ausblenden",null,null,null,null,{"$f":"C_SourceStreams!F200","v":25},{"$f":"C_SourceStreams!G200","v":"netaik."},{"$f":"C_SourceStreams!H200","v":""},{"$f":"C_SourceStreams!I200","v":""}]
["ausblenden",null,null,null,null,{"$f":"C_SourceStreams!F201","v":26},{"$f":"C_SourceStreams!G201","v":"netaik."},{"$f":"C_SourceStreams!H201","v":""},{"$f":"C_SourceStreams!I201","v":""}]
["ausblenden",null,null,null,null,{"$f":"C_SourceStreams!F202","v":27},{"$f":"C_SourceStreams!G202","v":"netaik."},{"$f":"C_SourceStreams!H202","v":""},{"$f":"C_SourceStreams!I202","v":""}]
["ausblenden",null,null,null,null,{"$f":"C_SourceStreams!F203","v":28},{"$f":"C_SourceStreams!G203","v":"netaik."},{"$f":"C_SourceStreams!H203","v":""},{"$f":"C_SourceStreams!I203","v":""}]
["ausblenden",null,null,null,null,{"$f":"C_SourceStreams!F204","v":29},{"$f":"C_SourceStreams!G204","v":"netaik."},{"$f":"C_SourceStreams!H204","v":""},{"$f":"C_SourceStreams!I204","v":""}]
["ausblenden",null,null,null,null,{"$f":"C_SourceStreams!F205","v":30},{"$f":"C_SourceStreams!G205","v":"netaik."},{"$f":"C_SourceStreams!H205","v":""},{"$f":"C_SourceStreams!I205","v":""}]
["ausblenden",null,null,null,null,{"$f":"C_SourceStreams!F206","v":31},{"$f":"C_SourceStreams!G206","v":"netaik."},{"$f":"C_SourceStreams!H206","v":""},{"$f":"C_SourceStreams!I206","v":""}]
["ausblenden",null,null,null,null,{"$f":"C_SourceStreams!F207","v":32},{"$f":"C_SourceStreams!G207","v":"netaik."},{"$f":"C_SourceStreams!H207","v":""},{"$f":"C_SourceStreams!I207","v":""}]
["ausblenden",null,null,null,null,{"$f":"C_SourceStreams!F208","v":33},{"$f":"C_SourceStreams!G208","v":"netaik."},{"$f":"C_SourceStreams!H208","v":""},{"$f":"C_SourceStreams!I208","v":""}]
["ausblenden",null,null,null,null,{"$f":"C_SourceStreams!F209","v":34},{"$f":"C_SourceStreams!G209","v":"netaik."},{"$f":"C_SourceStreams!H209","v":""},{"$f":"C_SourceStreams!I209","v":""}]
["ausblenden",null,null,null,null,{"$f":"C_SourceStreams!F210","v":35},{"$f":"C_SourceStreams!G210","v":"netaik."},{"$f":"C_SourceStreams!H210","v":""},{"$f":"C_SourceStreams!I210","v":""}]
["ausblenden",null,null,null,null,{"$f":"C_SourceStreams!F211","v":36},{"$f":"C_SourceStreams!G211","v":"netaik."},{"$f":"C_SourceStreams!H211","v":""},{"$f":"C_SourceStreams!I211","v":""}]
["ausblenden",null,null,null,null,{"$f":"C_SourceStreams!F212","v":37},{"$f":"C_SourceStreams!G212","v":"netaik."},{"$f":"C_SourceStreams!H212","v":""},{"$f":"C_SourceStreams!I212","v":""}]
["ausblenden",null,null,null,null,{"$f":"C_SourceStreams!F213","v":38},{"$f":"C_SourceStreams!G213","v":"netaik."},{"$f":"C_SourceStreams!H213","v":""},{"$f":"C_SourceStreams!I213","v":""}]
["ausblenden",null,null,null,null,{"$f":"C_SourceStreams!F214","v":39},{"$f":"C_SourceStreams!G214","v":"netaik."},{"$f":"C_SourceStreams!H214","v":""},{"$f":"C_SourceStreams!I214","v":""}]
["ausblenden",null,null,null,null,{"$f":"C_SourceStreams!F215","v":40},{"$f":"C_SourceStreams!G215","v":"netaik."},{"$f":"C_SourceStreams!H215","v":""},{"$f":"C_SourceStreams!I215","v":""}]
["ausblenden",null,null,null,null,{"$f":"C_SourceStreams!F216","v":41},{"$f":"C_SourceStreams!G216","v":"netaik."},{"$f":"C_SourceStreams!H216","v":""},{"$f":"C_SourceStreams!I216","v":""}]
["ausblenden",null,null,null,null,{"$f":"C_SourceStreams!F217","v":42},{"$f":"C_SourceStreams!G217","v":"netaik."},{"$f":"C_SourceStreams!H217","v":""},{"$f":"C_SourceStreams!I217","v":""}]
["ausblenden",null,null,null,null,{"$f":"C_SourceStreams!F218","v":43},{"$f":"C_SourceStreams!G218","v":"netaik."},{"$f":"C_SourceStreams!H218","v":""},{"$f":"C_SourceStreams!I218","v":""}]
["ausblenden",null,null,null,null,{"$f":"C_SourceStreams!F219","v":44},{"$f":"C_SourceStreams!G219","v":"netaik."},{"$f":"C_SourceStreams!H219","v":""},{"$f":"C_SourceStreams!I219","v":""}]
["ausblenden",null,null,null,null,{"$f":"C_SourceStreams!F220","v":45},{"$f":"C_SourceStreams!G220","v":"netaik."},{"$f":"C_SourceStreams!H220","v":""},{"$f":"C_SourceStreams!I220","v":""}]
["ausblenden",null,null,null,null,{"$f":"C_SourceStreams!F221","v":46},{"$f":"C_SourceStreams!G221","v":"netaik."},{"$f":"C_SourceStreams!H221","v":""},{"$f":"C_SourceStreams!I221","v":""}]
["ausblenden",null,null,null,null,{"$f":"C_SourceStreams!F222","v":47},{"$f":"C_SourceStreams!G222","v":"netaik."},{"$f":"C_SourceStreams!H222","v":""},{"$f":"C_SourceStreams!I222","v":""}]
["ausblenden",null,null,null,null,{"$f":"C_SourceStreams!F223","v":48},{"$f":"C_SourceStreams!G223","v":"netaik."},{"$f":"C_SourceStreams!H223","v":""},{"$f":"C_SourceStreams!I223","v":""}]
["ausblenden",null,null,null,null,{"$f":"C_SourceStreams!F224","v":49},{"$f":"C_SourceStreams!G224","v":"netaik."},{"$f":"C_SourceStreams!H224","v":""},{"$f":"C_SourceStreams!I224","v":""}]
["ausblenden",null,null,null,null,{"$f":"C_SourceStreams!F225","v":50},{"$f":"C_SourceStreams!G225","v":"netaik."},{"$f":"C_SourceStreams!H225","v":""},{"$f":"C_SourceStreams!I225","v":""}]
["ausblenden",null,null,null,null,{"$f":"C_SourceStreams!F226","v":51},{"$f":"C_SourceStreams!G226","v":"netaik."},{"$f":"C_SourceStreams!H226","v":""},{"$f":"C_SourceStreams!I226","v":""}]
["ausblenden",null,null,null,null,{"$f":"C_SourceStreams!F227","v":52},{"$f":"C_SourceStreams!G227","v":"netaik."},{"$f":"C_SourceStreams!H227","v":""},{"$f":"C_SourceStreams!I227","v":""}]
["ausblenden",null,null,null,null,{"$f":"C_SourceStreams!F228","v":53},{"$f":"C_SourceStreams!G228","v":"netaik."},{"$f":"C_SourceStreams!H228","v":""},{"$f":"C_SourceStreams!I228","v":""}]
["ausblenden",null,null,null,null,{"$f":"C_SourceStreams!F229","v":54},{"$f":"C_SourceStreams!G229","v":"netaik."},{"$f":"C_SourceStreams!H229","v":""},{"$f":"C_SourceStreams!I229","v":""}]
["ausblenden",null,null,null,null,{"$f":"C_SourceStreams!F230","v":55},{"$f":"C_SourceStreams!G230","v":"netaik."},{"$f":"C_SourceStreams!H230","v":""},{"$f":"C_SourceStreams!I230","v":""}]
["ausblenden",null,null,null,null,{"$f":"C_SourceStreams!F231","v":56},{"$f":"C_SourceStreams!G231","v":"netaik."},{"$f":"C_SourceStreams!H231","v":""},{"$f":"C_SourceStreams!I231","v":""}]
["ausblenden",null,null,null,null,{"$f":"C_SourceStreams!F232","v":57},{"$f":"C_SourceStreams!G232","v":"netaik."},{"$f":"C_SourceStreams!H232","v":""},{"$f":"C_SourceStreams!I232","v":""}]
["ausblenden",null,null,null,null,{"$f":"C_SourceStreams!F233","v":58},{"$f":"C_SourceStreams!G233","v":"netaik."},{"$f":"C_SourceStreams!H233","v":""},{"$f":"C_SourceStreams!I233","v":""}]
["ausblenden",null,null,null,null,{"$f":"C_SourceStreams!F234","v":59},{"$f":"C_SourceStreams!G234","v":"netaik."},{"$f":"C_SourceStreams!H234","v":""},{"$f":"C_SourceStreams!I234","v":""}]
["ausblenden",null,null,null,null,{"$f":"C_SourceStreams!F235","v":60},{"$f":"C_SourceStreams!G235","v":"netaik."},{"$f":"C_SourceStreams!H235","v":""},{"$f":"C_SourceStreams!I235","v":""}]
["ausblenden",null,null,null,null,{"$f":"C_SourceStreams!F236","v":61},{"$f":"C_SourceStreams!G236","v":"netaik."},{"$f":"C_SourceStreams!H236","v":""},{"$f":"C_SourceStreams!I236","v":""}]
["ausblenden",null,null,null,null,{"$f":"C_SourceStreams!F237","v":62},{"$f":"C_SourceStreams!G237","v":"netaik."},{"$f":"C_SourceStreams!H237","v":""},{"$f":"C_SourceStreams!I237","v":""}]
["ausblenden",null,null,null,null,{"$f":"C_SourceStreams!F238","v":63},{"$f":"C_SourceStreams!G238","v":"netaik."},{"$f":"C_SourceStreams!H238","v":""},{"$f":"C_SourceStreams!I238","v":""}]
["ausblenden",null,null,null,null,{"$f":"C_SourceStreams!F239","v":64},{"$f":"C_SourceStreams!G239","v":"netaik."},{"$f":"C_SourceStreams!H239","v":""},{"$f":"C_SourceStreams!I239","v":""}]
["ausblenden",null,null,null,null,{"$f":"C_SourceStreams!F240","v":65},{"$f":"C_SourceStreams!G240","v":"netaik."},{"$f":"C_SourceStreams!H240","v":""},{"$f":"C_SourceStreams!I240","v":""}]
["ausblenden",null,null,null,null,{"$f":"C_SourceStreams!F241","v":66},{"$f":"C_SourceStreams!G241","v":"netaik."},{"$f":"C_SourceStreams!H241","v":""},{"$f":"C_SourceStreams!I241","v":""}]
["ausblenden",null,null,null,null,{"$f":"C_SourceStreams!F242","v":67},{"$f":"C_SourceStreams!G242","v":"netaik."},{"$f":"C_SourceStreams!H242","v":""},{"$f":"C_SourceStreams!I242","v":""}]
["ausblenden",null,null,null,null,{"$f":"C_SourceStreams!F243","v":68},{"$f":"C_SourceStreams!G243","v":"netaik."},{"$f":"C_SourceStreams!H243","v":""},{"$f":"C_SourceStreams!I243","v":""}]
["ausblenden",null,null,null,null,{"$f":"C_SourceStreams!F244","v":69},{"$f":"C_SourceStreams!G244","v":"netaik."},{"$f":"C_SourceStreams!H244","v":""},{"$f":"C_SourceStreams!I244","v":""}]
["ausblenden",null,null,null,null,{"$f":"C_SourceStreams!F245","v":70},{"$f":"C_SourceStreams!G245","v":"netaik."},{"$f":"C_SourceStreams!H245","v":""},{"$f":"C_SourceStreams!I245","v":""}]
["ausblenden",null,null,null,null,{"$f":"C_SourceStreams!F246","v":71},{"$f":"C_SourceStreams!G246","v":"netaik."},{"$f":"C_SourceStreams!H246","v":""},{"$f":"C_SourceStreams!I246","v":""}]
["ausblenden",null,null,null,null,{"$f":"C_SourceStreams!F247","v":72},{"$f":"C_SourceStreams!G247","v":"netaik."},{"$f":"C_SourceStreams!H247","v":""},{"$f":"C_SourceStreams!I247","v":""}]
["ausblenden",null,null,null,null,{"$f":"C_SourceStreams!F248","v":73},{"$f":"C_SourceStreams!G248","v":"netaik."},{"$f":"C_SourceStreams!H248","v":""},{"$f":"C_SourceStreams!I248","v":""}]
["ausblenden",null,null,null,null,{"$f":"C_SourceStreams!F249","v":74},{"$f":"C_SourceStreams!G249","v":"netaik."},{"$f":"C_SourceStreams!H249","v":""},{"$f":"C_SourceStreams!I249","v":""}]
["ausblenden",null,null,null,null,{"$f":"C_SourceStreams!F250","v":75},{"$f":"C_SourceStreams!G250","v":"netaik."},{"$f":"C_SourceStreams!H250","v":""},{"$f":"C_SourceStreams!I250","v":""}]
["ausblenden"]
["ausblenden"]
["ausblenden"]
["ausblenden",null,null,null,null,null,null,null,{"$f":"D_MeasurementBasedApproaches!I378","v":"source stream"},null,null,null,{"$f":"D_MeasurementBasedApproaches!M378","v":"Range"}]
["ausblenden",null,null,null,null,{"$f":"D_MeasurementBasedApproaches!F379","v":1},{"$f":"D_MeasurementBasedApproaches!G379","v":"netaik."},{"$f":"D_MeasurementBasedApproaches!H379","v":""},{"$f":"D_MeasurementBasedApproaches!I379","v":""},null,null,null,{"$f":"IF(COUNT(H149:H158)=0,\"\",\"$I$\"&ROW(I149)&\":$I$\"& ROW(I149)-1+MAX(1,H149:H158))","v":""}]
["ausblenden",null,null,null,null,{"$f":"D_MeasurementBasedApproaches!F380","v":2},{"$f":"D_MeasurementBasedApproaches!G380","v":"netaik."},{"$f":"D_MeasurementBasedApproaches!H380","v":""},{"$f":"D_MeasurementBasedApproaches!I380","v":""}]
["ausblenden",null,null,null,null,{"$f":"D_MeasurementBasedApproaches!F381","v":3},{"$f":"D_MeasurementBasedApproaches!G381","v":"netaik."},{"$f":"D_MeasurementBasedApproaches!H381","v":""},{"$f":"D_MeasurementBasedApproaches!I381","v":""}]
["ausblenden",null,null,null,null,{"$f":"D_MeasurementBasedApproaches!F382","v":4},{"$f":"D_MeasurementBasedApproaches!G382","v":"netaik."},{"$f":"D_MeasurementBasedApproaches!H382","v":""},{"$f":"D_MeasurementBasedApproaches!I382","v":""}]
["ausblenden",null,null,null,null,{"$f":"D_MeasurementBasedApproaches!F383","v":5},{"$f":"D_MeasurementBasedApproaches!G383","v":"netaik."},{"$f":"D_MeasurementBasedApproaches!H383","v":""},{"$f":"D_MeasurementBasedApproaches!I383","v":""}]
["ausblenden",null,null,null,null,{"$f":"D_MeasurementBasedApproaches!F384","v":6},{"$f":"D_MeasurementBasedApproaches!G384","v":"netaik."},{"$f":"D_MeasurementBasedApproaches!H384","v":""},{"$f":"D_MeasurementBasedApproaches!I384","v":""}]
["ausblenden",null,null,null,null,{"$f":"D_MeasurementBasedApproaches!F385","v":7},{"$f":"D_MeasurementBasedApproaches!G385","v":"netaik."},{"$f":"D_MeasurementBasedApproaches!H385","v":""},{"$f":"D_MeasurementBasedApproaches!I385","v":""}]
["ausblenden",null,null,null,null,{"$f":"D_MeasurementBasedApproaches!F386","v":8},{"$f":"D_MeasurementBasedApproaches!G386","v":"netaik."},{"$f":"D_MeasurementBasedApproaches!H386","v":""},{"$f":"D_MeasurementBasedApproaches!I386","v":""}]
["ausblenden",null,null,null,null,{"$f":"D_MeasurementBasedApproaches!F387","v":9},{"$f":"D_MeasurementBasedApproaches!G387","v":"netaik."},{"$f":"D_MeasurementBasedApproaches!H387","v":""},{"$f":"D_MeasurementBasedApproaches!I387","v":""}]
["ausblenden",null,null,null,null,{"$f":"D_MeasurementBasedApproaches!F388","v":10},{"$f":"D_MeasurementBasedApproaches!G388","v":"netaik."},{"$f":"D_MeasurementBasedApproaches!H388","v":""},{"$f":"D_MeasurementBasedApproaches!I388","v":""}]
["ausblenden"]
["ausblenden"]
["ausblenden"]
["ausblenden"]
["ausblenden"]

{"sheet":"H_AdditionalInformation","index":9,"n_rows":62,"n_cols":18,"rows_kept":62,"cut":false,"hidden":false,"merged":[[55,2,55,3],[55,4,55,11],[54,2,54,3],[54,4,54,11],[52,2,52,3],[52,4,52,11],[53,2,53,3],[53,4,53,11],[49,2,49,3],[47,4,47,11],[48,2,48,3],[48,4,48,11],[40,2,40,12],[49,4,49,11],[50,2,50,3],[50,4,50,11],[51,2,51,3],[51,4,51,11],[47,2,47,3],[35,4,35,11],[36,2,36,3],[36,4,36,11],[46,2,46,3],[46,4,46,11],[37,2,37,3],[37,4,37,11],[38,2,38,3],[38,4,38,11],[42,2,42,11],[43,2,43,11],[45,2,45,3],[45,4,45,11],[1,5,1,6],[1,7,1,8],[1,9,1,10],[2,3,2,4],[2,7,2,8],[3,3,3,4],[3,5,3,6],[24,2,24,12],[26,2,26,11],[5,1,5,9],[12,6,12,8],[12,2,12,5],[12,10,12,11],[13,10,13,11],[13,6,13,8],[13,2,13,5],[1,11,1,12],[3,11,3,12],[3,7,3,8],[3,9,3,10],[1,0,3,2],[1,3,1,4],[17,2,17,5],[17,6,17,8],[87,1,87,12],[83,1,83,12],[84,1,84,12],[85,1,85,12],[86,1,86,12],[82,1,82,12],[70,1,70,12],[78,1,78,12],[71,1,71,12],[72,1,72,12],[73,1,73,12],[74,1,74,12],[77,1,77,12],[80,1,80,12],[79,1,79,12],[75,1,75,12],[76,1,76,12],[81,1,81,12],[67,1,67,12],[68,1,68,12],[69,1,69,12],[63,1,63,12],[64,1,64,12],[57,1,57,9],[59,2,59,12],[61,1,61,12],[62,1,62,12],[14,10,14,11],[15,2,15,5],[15,6,15,8],[15,10,15,11],[2,9,2,10],[2,11,2,12],[2,5,2,6],[65,1,65,12],[66,1,66,12],[28,2,28,3],[28,4,28,11],[29,2,29,3],[29,4,29,11],[30,2,30,3],[30,4,30,11],[31,2,31,3],[31,4,31,11],[32,2,32,3],[32,4,32,11],[33,2,33,3],[33,4,33,11],[34,2,34,3],[34,4,34,11],[35,2,35,3],[22,2,22,5],[22,6,22,8],[22,10,22,11],[7,2,7,12],[9,2,9,11],[10,2,10,11],[20,2,20,5],[20,6,20,8],[20,10,20,11],[21,2,21,5],[21,6,21,8],[21,10,21,11],[18,2,18,5],[18,6,18,8],[18,10,18,11],[19,2,19,5],[19,6,19,8],[19,10,19,11],[16,2,16,5],[16,6,16,8],[16,10,16,11],[17,10,17,11],[14,2,14,5],[14,6,14,8]]}
["ausblenden",null,null,null,null,null,null,null,null,null,null,null,null,null,"ausblenden","ausblenden","ausblenden","ausblenden"]
["H. Additional Information",null,null,{"$f":"Translations!$B$23","v":"Naršymo laukas"},null,{"$f":"Translations!$B$24","v":"Turinys"},null,{"$f":"Translations!$B$25","v":"Ankstesnis lapas"},null,{"$f":"Translations!$B$26","v":"Kitas lapas"}]
[null,null,null,{"$f":"Translations!$B$27","v":"Lapo viršus"},null,{"$f":"Translations!$B$767","v":"Išsami informacija apie gamybą"},null,{"$f":"Translations!$B$505","v":"Apibrėžtys ir santrumpos"},null,{"$f":"Translations!$B$768","v":"Papildoma informacija"},null,{"$f":"Translations!$B$11","v":"Pastabos"}]
[]
[]
[null,{"$f":"Translations!$B$769","v":"H. Further Information on this report (Papildoma informacija apie šią ataskaitą)"}]
[]
[null,14,{"$f":"Translations!$B$767","v":"Išsami informacija apie gamybą"}]
[]
[null,null,{"$f":"Translations!$B$770","v":"Čia pateikite informaciją apie produktus, įskaitant (centrinį) šildymą arba elektros energijos gamybą, kurie gaminami įrenginyje."}]
[null,null,{"$f":"Translations!$B$771","v":"Pateikite su konkrečia valstybe nare susijusias rekomendacijas, ypač apie šios informacijos būklę, kiek tai susiję su įvertinimu."}]
[]
[null,null,{"$f":"Translations!$B$772","v":"Produkto identifikatorius (pavadinimas)"},null,null,null,{"$f":"Translations!$B$773","v":"PRODCOM kodas"},null,null,{"$f":"Translations!$B$158","v":"Vienetas"},{"$f":"Translations!$B$774","v":"Veiklos lygis"},null,null,null,null,null,null,"cond. Form"]
[null,1,null,null,null,null,null,null,null,null,null,null,null,null,null,null,null,{"$f":"MSPara_ProductionMandatory","v":false}]
[null,2,null,null,null,null,null,null,null,null,null,null,null,null,null,null,null,{"$f":"R14","v":false}]
[null,3,null,null,null,null,null,null,null,null,null,null,null,null,null,null,null,{"$f":"R15","v":false}]
[null,4,null,null,null,null,null,null,null,null,null,null,null,null,null,null,null,false]
[null,5,null,null,null,null,null,null,null,null,null,null,null,null,null,null,null,false]
[null,6,null,null,null,null,null,null,null,null,null,null,null,null,null,null,null,false]
[null,7,null,null,null,null,null,null,null,null,null,null,null,null,null,null,null,false]
[null,8,null,null,null,null,null,null,null,null,null,null,null,null,null,null,null,false]
[null,9,null,null,null,null,null,null,null,null,null,null,null,null,null,null,null,false]
[null,10,null,null,null,null,null,null,null,null,null,null,null,null,null,null,null,false]
[]
[null,15,{"$f":"Translations!$B$9","v":"Vartojamų sąvokų ir santrumpų sąrašas"}]
[]
[null,null,{"$f":"Translations!$B$775","v":"Pateikite santrumpų, akronimų arba apibrėžčių, kuriuos naudojote rengdami šią metinę išmetamųjų ŠESD kiekio ataskaitą, sąrašą."}]
[]
[null,null,{"$f":"Translations!$B$172","v":"Santrumpa"},null,{"$f":"Translations!$B$173","v":"Apibrėžtis"}]
[]
[]
[]
[]
[]
[]
[]
[]
[]
[]
[]
[null,16,{"$f":"Translations!$B$10","v":"Papildoma informacija"}]
[]
[null,null,{"$f":"Translations!$B$776","v":"Jeigu teikiate kokią nors kitą informaciją, į kurią Jūsų pageidavimu turėtume atsižvelgti vertindami Jūsų ataskaitą, nurodykite tai čia. Jeigu įmanoma, šią informaciją pateikite elektroniniu formatu. Informaciją galite teikti „Microsoft Word“, „Excel“ arba „Adobe Acrobat“ formatais."}]
[null,null,{"$f":"Translations!$B$777","v":"Rekomenduojame neteikti nesvarbios informacijos, nes dėl to gali sulėtėti procesas. Teikiami papildomi dokumentai turėtų būti aiškiai nurodyti toliau, pateikiant rinkmenų pavadinimus (jeigu dokumentai elektroniniai) arba dokumentų numerius (jeigu jie popieriniai). Prireikus kreipkitės į kompetentingą instituciją."}]
[]
[null,null,{"$f":"Translations!$B$174","v":"Rinkmenos pavadinimas / nuoroda"},null,{"$f":"Translations!$B$175","v":"Dokumento aprašymas"}]
[]
[]
[]
[]
[]
[]
[]
[]
[]
[]
[]
[null,{"$f":"Translations!$B$778","v":"Su konkrečia valstybe nare susijusi papildoma informacija"}]
[]
[null,17,{"$f":"Translations!$B$11","v":"Pastabos"}]
[]
[null,{"$f":"Translations!$B$176","v":"Vieta tolesnėms pastaboms:"}]

{"sheet":"I_Summary","index":10,"n_rows":73,"n_cols":29,"rows_kept":73,"cut":false,"hidden":false,"merged":[[1,1,3,3],[1,4,1,5],[1,6,1,7],[1,8,1,9],[1,10,1,11],[16,4,16,8],[5,2,5,11],[9,4,9,7],[3,4,3,5],[3,6,3,7],[3,8,3,9],[7,10,7,11],[2,4,2,5],[2,6,2,7],[2,8,2,9],[2,10,2,11],[3,10,3,11],[42,9,42,10],[44,9,44,10],[9,8,9,11],[11,8,11,11],[12,8,12,11],[15,4,15,8],[17,4,17,8],[18,4,18,8],[19,4,19,8],[11,4,11,7],[12,4,12,7],[39,9,39,10],[14,4,14,8],[56,10,56,11],[57,10,57,11],[58,10,58,11],[59,10,59,11],[50,7,50,9],[51,7,51,9],[52,7,52,9],[53,7,53,9],[54,7,54,9],[55,7,55,9],[50,10,50,11],[51,10,51,11],[52,10,52,11],[53,10,53,11],[54,10,54,11],[55,10,55,11],[63,7,63,9],[56,7,56,9],[57,7,57,9],[58,7,58,9],[59,7,59,9],[50,4,50,6],[51,4,51,6],[52,4,52,6],[53,4,53,6],[54,4,54,6],[55,4,55,6],[50,17,50,19],[50,20,50,22],[50,23,50,24],[51,17,51,19],[51,20,51,22],[51,23,51,24],[52,17,52,19],[70,4,70,6],[70,7,70,9],[70,10,70,11],[68,4,68,6],[68,7,68,9],[68,10,68,11],[69,4,69,6],[69,7,69,9],[69,10,69,11],[66,4,66,6],[66,7,66,9],[66,10,66,11],[67,4,67,6],[67,7,67,9],[67,10,67,11],[63,10,63,11],[64,4,64,6],[52,20,52,22],[52,23,52,24],[53,17,53,19],[53,20,53,22],[53,23,53,24],[54,17,54,19],[54,20,54,22],[54,23,54,24],[72,4,72,6],[72,7,72,9],[72,10,72,11],[71,4,71,6],[71,7,71,9],[71,10,71,11],[64,7,64,9],[64,10,64,11],[65,4,65,6],[65,7,65,9],[65,10,65,11],[56,4,56,6],[57,4,57,6],[58,4,58,6],[59,4,59,6],[63,4,63,6],[57,17,57,19],[57,20,57,22],[57,23,57,24],[58,17,58,19],[58,20,58,22],[58,23,58,24],[55,17,55,19],[55,20,55,22],[55,23,55,24],[56,17,56,19],[56,20,56,22],[56,23,56,24],[64,17,64,19],[64,20,64,22],[64,23,64,24],[65,17,65,19],[65,20,65,22],[65,23,65,24],[59,17,59,19],[59,20,59,22],[59,23,59,24],[63,17,63,19],[63,20,63,22],[63,23,63,24],[68,17,68,19],[68,20,68,22],[68,23,68,24],[69,17,69,19],[69,20,69,22],[69,23,69,24],[66,17,66,19],[66,20,66,22],[66,23,66,24],[67,17,67,19],[67,20,67,22],[67,23,67,24],[72,17,72,19],[72,20,72,22],[72,23,72,24],[70,17,70,19],[70,20,70,22],[70,23,70,24],[71,17,71,19],[71,20,71,22],[71,23,71,24]]}
["ausblenden",null,null,null,null,null,null,null,null,null,null,null,null,"ausblenden","ausblenden","ausblenden","ausblenden","ausblenden","ausblenden","ausblenden","ausblenden","ausblenden","ausblenden","ausblenden","ausblenden","ausblenden","ausblenden","ausblenden","ausblenden"]
[null,{"$f":"Translations!$B$506","v":"I. Santrauka"},null,null,{"$f":"Translations!$B$23","v":"Naršymo laukas"},null,{"$f":"Translations!$B$24","v":"Turinys"},null,{"$f":"Translations!$B$25","v":"Ankstesnis lapas"}]
[]
[]
[]
[null,null,{"$f":"Translations!$B$779","v":"Pagal Direktyvą 2003/87/EB teikiamos metinės išmetamųjų šiltnamio efektą sukeliančių dujų kiekio ataskaitos santrauka "}]
[]
[null,null,null,null,null,null,null,null,null,{"$f":"Translations!$B$780","v":"Ataskaitiniai metai:"},{"$f":"IF(ISBLANK('A_Operator&Inst.ID'!$J$9),\"\",'A_Operator&Inst.ID'!$J$9)","v":2014}]
[]
[null,null,null,null,{"$f":"Translations!$B$541","v":"Veiklos vykdytojo pavadinimas:"},null,null,null,{"$f":"IF(ISBLANK('A_Operator&Inst.ID'!$I$26),\"\",'A_Operator&Inst.ID'!$I$26)","v":"UAB “UTENOS ŠILUMOS TINKLAI”"}]
[]
[null,null,null,null,{"$f":"Translations!$B$13","v":"Įrenginio pavadinimas"},null,null,null,{"$f":"IF(ISBLANK('A_Operator&Inst.ID'!I43),\"\",'A_Operator&Inst.ID'!I43)","v":"Utenos rajoninė katilinė"}]
[null,null,null,null,{"$f":"Translations!$B$549","v":"Unikalus įrenginio identifikatorius:"},null,null,null,{"$f":"IF(ISBLANK('A_Operator&Inst.ID'!I45),\"\",'A_Operator&Inst.ID'!I45)","v":"LT000000000000057"}]
[]
[null,null,null,null,{"$f":"Translations!$B$107","v":"I priedo veikla"},null,null,null,null,{"$f":"Translations!$B$108","v":"Bendras veiklos pajėgumas "},{"$f":"Translations!$B$109","v":"Pajėgumo vienetai"},{"$f":"Translations!$B$110","v":"Išmestos ŠESD"}]
[null,null,null,"A1",{"$f":"IF(ISBLANK(B_InstallationDescription!E24),\"\",B_InstallationDescription!E24)","v":"Kuro deginimas"},null,null,null,null,{"$f":"IF(ISBLANK(B_InstallationDescription!L24),\"\",B_InstallationDescription!L24)","v":103},{"$f":"IF(ISBLANK(B_InstallationDescription!M24),\"\",B_InstallationDescription!M24)","v":"MW (šil ir el.)"},{"$f":"IF(ISBLANK(B_InstallationDescription!N24),\"\",B_InstallationDescription!N24)","v":"CO2"}]
[null,null,null,"A2",{"$f":"IF(ISBLANK(B_InstallationDescription!E25),\"\",B_InstallationDescription!E25)","v":""},null,null,null,null,{"$f":"IF(ISBLANK(B_InstallationDescription!L25),\"\",B_InstallationDescription!L25)","v":""},{"$f":"IF(ISBLANK(B_InstallationDescription!M25),\"\",B_InstallationDescription!M25)","v":""},{"$f":"IF(ISBLANK(B_InstallationDescription!N25),\"\",B_InstallationDescription!N25)","v":""}]
[null,null,null,"A3",{"$f":"IF(ISBLANK(B_InstallationDescription!E26),\"\",B_InstallationDescription!E26)","v":""},null,null,null,null,{"$f":"IF(ISBLANK(B_InstallationDescription!L26),\"\",B_InstallationDescription!L26)","v":""},{"$f":"IF(ISBLANK(B_InstallationDescription!M26),\"\",B_InstallationDescription!M26)","v":""},{"$f":"IF(ISBLANK(B_InstallationDescription!N26),\"\",B_InstallationDescription!N26)","v":""}]
[null,null,null,"A4",{"$f":"IF(ISBLANK(B_InstallationDescription!E27),\"\",B_InstallationDescription!E27)","v":""},null,null,null,null,{"$f":"IF(ISBLANK(B_InstallationDescription!L27),\"\",B_InstallationDescription!L27)","v":""},{"$f":"IF(ISBLANK(B_InstallationDescription!M27),\"\",B_InstallationDescription!M27)","v":""},{"$f":"IF(ISBLANK(B_InstallationDescription!N27),\"\",B_InstallationDescription!N27)","v":""}]
[null,null,null,"A5",{"$f":"IF(ISBLANK(B_InstallationDescription!E28),\"\",B_InstallationDescription!E28)","v":""},null,null,null,null,{"$f":"IF(ISBLANK(B_InstallationDescription!L28),\"\",B_InstallationDescription!L28)","v":""},{"$f":"IF(ISBLANK(B_InstallationDescription!M28),\"\",B_InstallationDescription!M28)","v":""},{"$f":"IF(ISBLANK(B_InstallationDescription!N28),\"\",B_InstallationDescription!N28)","v":""}]
[]
[null,null,null,null,null,null,null,null,null,{"$f":"Translations!$B$781","v":"Papildoma informacija:"}]
[null,null,null,null,null,null,null,{"$f":"Translations!$B$782","v":"Išmetamųjų ŠESD kiekis (iškastinis kuras)"},{"$f":"Translations!$B$783","v":"Energetinė vertė (iškastinis kuras)"},{"$f":"Translations!$B$784","v":"Išmetamųjų ŠESD kiekis (biomasė)"},{"$f":"Translations!$B$785","v":"Energetinė vertė (biomasė)"},{"$f":"Translations!$B$786","v":"Išmetamųjų ŠESD kiekis (netvari biomasė)"}]
[null,null,null,null,null,null,null,"t CO2e","TJ","t CO2","TJ","t CO2",null,null,null,null,null,null,null,"Emissions (fossil)","Energy content (fossil)","Emissions (biomass)","Energy content (biomass)","Emissions (non-sust.biomass)"]
[null,null,null,null,{"$f":"Translations!$B$580","v":"Sukėlikliai"},null,null,{"$f":"IF(COUNT(H26:H29)>0,SUM(H26:H29),\"\")","v":3604.8186650943999},{"$f":"IF(COUNT(I26:I29)>0,SUM(I26:I29),\"\")","v":58.680584840000002},{"$f":"IF(COUNT(J26:J29)>0,SUM(J26:J29),\"\")","v":0},{"$f":"IF(COUNT(K26:K29)>0,SUM(K26:K29),\"\")","v":879.67807200000004},{"$f":"IF(COUNT(L26:L29)>0,SUM(L26:L29),\"\")","v":0},null,null,null,null,null,null,null,{"$f":"IF(COUNT(T26:T29)>0,SUM(T26:T29),\"\")","v":3604.8186650943999},{"$f":"IF(COUNT(U26:U29)>0,SUM(U26:U29),\"\")","v":58.680584840000002},{"$f":"IF(COUNT(V26:V29)>0,SUM(V26:V29),\"\")","v":0},{"$f":"IF(COUNT(W26:W29)>0,SUM(W26:W29),\"\")","v":879.67807200000004},{"$f":"IF(COUNT(X26:X29)>0,SUM(X26:X29),\"\")","v":0}]
[null,null,null,null,null,{"$f":"EUconst_Fuel","v":"Degimas"},null,{"$f":"IF(SUM($T26:$X26)=0,\"\",T26)","v":3604.8186650943999},58.680584840000002,0,879.67807200000004,0,null,null,null,null,null,{"$f":"EUconst_Fuel","v":"Degimas"},null,{"$f":"SUMIF(J_Accounting!$D:$D,$R26,J_Accounting!AU:AU)","v":3604.8186650943999},{"$f":"SUMIF(J_Accounting!$D:$D,$R26,J_Accounting!AX:AX)","v":58.680584840000002},{"$f":"SUMIF(J_Accounting!$D:$D,$R26,J_Accounting!AV:AV)","v":0},{"$f":"SUMIF(J_Accounting!$D:$D,$R26,J_Accounting!AY:AY)","v":879.67807200000004},{"$f":"SUMIF(J_Accounting!$D:$D,$R26,J_Accounting!AW:AW)","v":0}]
[null,null,null,null,null,{"$f":"EUconst_ProcessCarbonate","v":"Proceso metu išsiskiriančios ŠESD"},null,"","","","","",null,null,null,null,null,{"$f":"EUconst_ProcessCarbonate","v":"Proceso metu išsiskiriančios ŠESD"},null,{"$f":"SUMIF(J_Accounting!$D:$D,$R27,J_Accounting!AU:AU)","v":0},{"$f":"SUMIF(J_Accounting!$D:$D,$R27,J_Accounting!AX:AX)","v":0},{"$f":"SUMIF(J_Accounting!$D:$D,$R27,J_Accounting!AV:AV)","v":0},{"$f":"SUMIF(J_Accounting!$D:$D,$R27,J_Accounting!AY:AY)","v":0},{"$f":"SUMIF(J_Accounting!$D:$D,$R27,J_Accounting!AW:AW)","v":0}]
[null,null,null,null,null,{"$f":"EUconst_MassBalance","v":"Masės balansas"},null,"","","","","",null,null,null,null,null,{"$f":"EUconst_MassBalance","v":"Masės balansas"},null,{"$f":"SUMIF(J_Accounting!$D:$D,$R28,J_Accounting!AU:AU)","v":0},{"$f":"SUMIF(J_Accounting!$D:$D,$R28,J_Accounting!AX:AX)","v":0},{"$f":"SUMIF(J_Accounting!$D:$D,$R28,J_Accounting!AV:AV)","v":0},{"$f":"SUMIF(J_Accounting!$D:$D,$R28,J_Accounting!AY:AY)","v":0},{"$f":"SUMIF(J_Accounting!$D:$D,$R28,J_Accounting!AW:AW)","v":0}]
[null,null,null,null,null,{"$f":"EUconst_ProcessPFC","v":"Išmetamas PFC kiekis"},null,{"$f":"IF(SUM($T29:$X29)=0,\"\",T29)","v":""},{"$f":"IF(SUM($T29:$X29)=0,\"\",U29)","v":""},null,null,null,null,null,null,null,null,{"$f":"EUconst_ProcessPFC","v":"Išmetamas PFC kiekis"},null,{"$f":"SUMIF(J_Accounting!$D:$D,$R29,J_Accounting!AU:AU)","v":0}]
[]
[null,null,null,null,{"$f":"Translations!$B$487","v":"Matavimas"},null,null,{"$f":"IF(COUNT(H32:H34)>0,SUM(H32:H34),\"\")","v":""},{"$f":"IF(COUNT(I32:I34)>0,SUM(I32:I34),\"\")","v":""},{"$f":"IF(COUNT(J32:J34)>0,SUM(J32:J34),\"\")","v":""},{"$f":"IF(COUNT(K32:K34)>0,SUM(K32:K34),\"\")","v":""},{"$f":"IF(COUNT(L32:L34)>0,SUM(L32:L34),\"\")","v":""},null,null,null,null,null,null,null,{"$f":"IF(COUNT(T32:T34)>0,SUM(T32:T34),\"\")","v":0},{"$f":"IF(COUNT(U32:U34)>0,SUM(U32:U34),\"\")","v":0},{"$f":"IF(COUNT(V32:V34)>0,SUM(V32:V34),\"\")","v":0},{"$f":"IF(COUNT(W32:W34)>0,SUM(W32:W34),\"\")","v":0},{"$f":"IF(COUNT(X32:X34)>0,SUM(X32:X34),\"\")","v":0}]
[null,null,null,null,null,{"$f":"INDEX(EUconst_CEMSType,1)","v":"CO2"},null,{"$f":"IF(SUM($T32:$X32)=0,\"\",T32)","v":""},"","","","",null,null,null,null,null,{"$f":"INDEX(EUconst_CEMSType,1)","v":"CO2"},null,{"$f":"SUMIF(J_Accounting!$D:$D,$R32,J_Accounting!AU:AU)","v":0},{"$f":"SUMIF(J_Accounting!$D:$D,$R32,J_Accounting!AX:AX)","v":0},{"$f":"SUMIF(J_Accounting!$D:$D,$R32,J_Accounting!AV:AV)","v":0},{"$f":"SUMIF(J_Accounting!$D:$D,$R32,J_Accounting!AY:AY)","v":0},{"$f":"SUMIF(J_Accounting!$D:$D,$R32,J_Accounting!AW:AW)","v":0}]
[null,null,null,null,null,{"$f":"INDEX(EUconst_CEMSType,2)","v":"N2O"},null,"","",null,null,null,null,null,null,null,null,{"$f":"INDEX(EUconst_CEMSType,2)","v":"N2O"},null,{"$f":"SUMIF(J_Accounting!$D:$D,$R33,J_Accounting!AU:AU)","v":0},{"$f":"SUMIF(J_Accounting!$D:$D,$R33,J_Accounting!AX:AX)","v":0},{"$f":"SUMIF(J_Accounting!$D:$D,$R33,J_Accounting!AV:AV)","v":0},{"$f":"SUMIF(J_Accounting!$D:$D,$R33,J_Accounting!AY:AY)","v":0},{"$f":"SUMIF(J_Accounting!$D:$D,$R33,J_Accounting!AW:AW)","v":0}]
[null,null,null,null,null,{"$f":"INDEX(EUconst_CEMSType,3)","v":"CO2 perdavimas"},null,{"$f":"IF(SUM($T34:$X34)=0,\"\",T34)","v":""},"","","","",null,null,null,null,null,{"$f":"INDEX(EUconst_CEMSType,3)","v":"CO2 perdavimas"},null,{"$f":"SUMIF(J_Accounting!$D:$D,$R34,J_Accounting!AU:AU)","v":0},{"$f":"SUMIF(J_Accounting!$D:$D,$R34,J_Accounting!AX:AX)","v":0},{"$f":"SUMIF(J_Accounting!$D:$D,$R34,J_Accounting!AV:AV)","v":0},{"$f":"SUMIF(J_Accounting!$D:$D,$R34,J_Accounting!AY:AY)","v":0},{"$f":"SUMIF(J_Accounting!$D:$D,$R34,J_Accounting!AW:AW)","v":0}]
[]
[null,null,null,null,{"$f":"EUconst_FallBack","v":"Alternatyvus metodas"},null,null,{"$f":"IF(SUM($T36:$X36)=0,\"\",T36)","v":""},"","","","",null,null,null,null,null,null,null,{"$f":"SUMIF(J_Accounting!$D:$D,$E36,J_Accounting!AU:AU)","v":0},{"$f":"SUMIF(J_Accounting!$D:$D,$E36,J_Accounting!AX:AX)","v":0},{"$f":"SUMIF(J_Accounting!$D:$D,$E36,J_Accounting!AV:AV)","v":0},{"$f":"SUMIF(J_Accounting!$D:$D,$E36,J_Accounting!AY:AY)","v":0},{"$f":"SUMIF(J_Accounting!$D:$D,$E36,J_Accounting!AW:AW)","v":0}]
[]
[null,null,null,null,{"$f":"Translations!$B$787","v":"Suma"},null,null,{"$f":"IF(COUNT(H25:H36)>0,SUM(H25,H31,H36),\"\")","v":3604.8186650943999},{"$f":"IF(COUNT(I25:I36)>0,SUM(I25,I31,I36),\"\")","v":58.680584840000002},{"$f":"IF(COUNT(J25:J36)>0,SUM(J25,J31,J36),\"\")","v":0},{"$f":"IF(COUNT(K25:K36)>0,SUM(K25,K31,K36),\"\")","v":879.67807200000004},{"$f":"IF(COUNT(L25:L36)>0,SUM(L25,L31,L36),\"\")","v":0}]
[]
[null,null,null,null,{"$f":"Translations!$B$788","v":"Bendras įrenginio išmetamųjų ŠESD kiekis:"},null,null,null,null,{"$f":"ROUND(SUM(H25,H31,H36),0)","v":3605},null," t CO2e"]
[null,null,null,null,null,null,null,null,null,null,null,{"$f":"Translations!$B$789","v":"Tai veiklos vykdytojo atsisakytinų apyvartinių taršos leidimų kiekis."}]
[]
[null,null,null,null,{"$f":"Translations!$B$790","v":"Papildoma informacija: bendras deginant (tvarią) biomasę išmestas ŠESD kiekis"},null,null,null,null,{"$f":"ROUND(SUM(J25,J31,J36),0)","v":0},null," t CO2e"]
[]
[null,null,null,null,{"$f":"Translations!$B$791","v":"Papildoma informacija: bendras deginant netvarią biomasę išmestas ŠESD kiekis"},null,null,null,null,{"$f":"ROUND(SUM(L25,L31,L36),0)","v":0},null," t CO2e"]
[]
[null,null,null,null,{"$f":"Translations!$B$792","v":"Papildoma informacija: perduotas CO2 kiekis"}]
[]
[null,null,null,null,{"$f":"Translations!$B$793","v":"Įrenginių perduotas CO2 gautas iš"}]
[null,null,null,null,{"$f":"Translations!$B$794","v":"Įrenginio identifikatorius"},null,null,{"$f":"Translations!$B$168","v":"Įrenginio pavadinimas"},null,null,{"$f":"Translations!$B$795","v":"Veiklos vykdytojo pavadinimas"}]
[null,null,null,null,{"$f":"IF(R51=0,\"\",R51)","v":""},null,null,{"$f":"IF(U51=0,\"\",U51)","v":""},null,null,{"$f":"IF(X51=0,\"\",X51)","v":""},null,null,null,null,null,null,{"$f":"IF(COUNTIF(D_MeasurementBasedApproaches!$Q:$Q,ROWS($Q$51:$Q51) & \"_\" & EUconst_CNTR_CCSInstID & INDEX(EUconst_CO2TransferTypes,4))=0,\"\",INDEX(D_MeasurementBasedApproaches!$I:$I,MATCH(ROWS($Q$51:$Q51) & \"_\" & EUconst_CNTR_CCSInstID & INDEX(EUconst_CO2TransferTypes,4),D_MeasurementBasedApproaches!$Q:$Q,0)))","v":""},null,null,{"$f":"IF(COUNTIF(D_MeasurementBasedApproaches!$Q:$Q,ROWS($Q$51:$Q51) & \"_\" & EUconst_CNTR_CCSInstName & INDEX(EUconst_CO2TransferTypes,4))=0,\"\",INDEX(D_MeasurementBasedApproaches!$I:$I,MATCH(ROWS($Q$51:$Q51) & \"_\" & EUconst_CNTR_CCSInstName & INDEX(EUconst_CO2TransferTypes,4),D_MeasurementBasedApproaches!$Q:$Q,0)))","v":""},null,null,{"$f":"IF(COUNTIF(D_MeasurementBasedApproaches!$Q:$Q,ROWS($Q$51:$Q51) & \"_\" & EUconst_CNTR_CCSOpName & INDEX(EUconst_CO2TransferTypes,4))=0,\"\",INDEX(D_MeasurementBasedApproaches!$I:$I,MATCH(ROWS($Q$51:$Q51) & \"_\" & EUconst_CNTR_CCSOpName & INDEX(EUconst_CO2TransferTypes,4),D_MeasurementBasedApproaches!$Q:$Q,0)))","v":""}]
[null,null,null,null,{"$f":"IF(R52=0,\"\",R52)","v":""},null,null,"",null,null,"",null,null,null,null,null,null,{"$f":"IF(COUNTIF(D_MeasurementBasedApproaches!$Q:$Q,ROWS($Q$51:$Q52) & \"_\" & EUconst_CNTR_CCSInstID & INDEX(EUconst_CO2TransferTypes,4))=0,\"\",INDEX(D_MeasurementBasedApproaches!$I:$I,MATCH(ROWS($Q$51:$Q52) & \"_\" & EUconst_CNTR_CCSInstID & INDEX(EUconst_CO2TransferTypes,4),D_MeasurementBasedApproaches!$Q:$Q,0)))","v":""},null,null,{"$f":"IF(COUNTIF(D_MeasurementBasedApproaches!$Q:$Q,ROWS($Q$51:$Q52) & \"_\" & EUconst_CNTR_CCSInstName & INDEX(EUconst_CO2TransferTypes,4))=0,\"\",INDEX(D_MeasurementBasedApproaches!$I:$I,MATCH(ROWS($Q$51:$Q52) & \"_\" & EUconst_CNTR_CCSInstName & INDEX(EUconst_CO2TransferTypes,4),D_MeasurementBasedApproaches!$Q:$Q,0)))","v":""},null,null,{"$f":"IF(COUNTIF(D_MeasurementBasedApproaches!$Q:$Q,ROWS($Q$51:$Q52) & \"_\" & EUconst_CNTR_CCSOpName & INDEX(EUconst_CO2TransferTypes,4))=0,\"\",INDEX(D_MeasurementBasedApproaches!$I:$I,MATCH(ROWS($Q$51:$Q52) & \"_\" & EUconst_CNTR_CCSOpName & INDEX(EUconst_CO2TransferTypes,4),D_MeasurementBasedApproaches!$Q:$Q,0)))","v":""}]
[null,null,null,null,"",null,null,"",null,null,"",null,null,null,null,null,null,{"$f":"IF(COUNTIF(D_MeasurementBasedApproaches!$Q:$Q,ROWS($Q$51:$Q53) & \"_\" & EUconst_CNTR_CCSInstID & INDEX(EUconst_CO2TransferTypes,4))=0,\"\",INDEX(D_MeasurementBasedApproaches!$I:$I,MATCH(ROWS($Q$51:$Q53) & \"_\" & EUconst_CNTR_CCSInstID & INDEX(EUconst_CO2TransferTypes,4),D_MeasurementBasedApproaches!$Q:$Q,0)))","v":""},null,null,{"$f":"IF(COUNTIF(D_MeasurementBasedApproaches!$Q:$Q,ROWS($Q$51:$Q53) & \"_\" & EUconst_CNTR_CCSInstName & INDEX(EUconst_CO2TransferTypes,4))=0,\"\",INDEX(D_MeasurementBasedApproaches!$I:$I,MATCH(ROWS($Q$51:$Q53) & \"_\" & EUconst_CNTR_CCSInstName & INDEX(EUconst_CO2TransferTypes,4),D_MeasurementBasedApproaches!$Q:$Q,0)))","v":""},null,null,{"$f":"IF(COUNTIF(D_MeasurementBasedApproaches!$Q:$Q,ROWS($Q$51:$Q53) & \"_\" & EUconst_CNTR_CCSOpName & INDEX(EUconst_CO2TransferTypes,4))=0,\"\",INDEX(D_MeasurementBasedApproaches!$I:$I,MATCH(ROWS($Q$51:$Q53) & \"_\" & EUconst_CNTR_CCSOpName & INDEX(EUconst_CO2TransferTypes,4),D_MeasurementBasedApproaches!$Q:$Q,0)))","v":""}]
[null,null,null,null,"",null,null,"",null,null,"",null,null,null,null,null,null,{"$f":"IF(COUNTIF(D_MeasurementBasedApproaches!$Q:$Q,ROWS($Q$51:$Q54) & \"_\" & EUconst_CNTR_CCSInstID & INDEX(EUconst_CO2TransferTypes,4))=0,\"\",INDEX(D_MeasurementBasedApproaches!$I:$I,MATCH(ROWS($Q$51:$Q54) & \"_\" & EUconst_CNTR_CCSInstID & INDEX(EUconst_CO2TransferTypes,4),D_MeasurementBasedApproaches!$Q:$Q,0)))","v":""},null,null,{"$f":"IF(COUNTIF(D_MeasurementBasedApproaches!$Q:$Q,ROWS($Q$51:$Q54) & \"_\" & EUconst_CNTR_CCSInstName & INDEX(EUconst_CO2TransferTypes,4))=0,\"\",INDEX(D_MeasurementBasedApproaches!$I:$I,MATCH(ROWS($Q$51:$Q54) & \"_\" & EUconst_CNTR_CCSInstName & INDEX(EUconst_CO2TransferTypes,4),D_MeasurementBasedApproaches!$Q:$Q,0)))","v":""},null,null,{"$f":"IF(COUNTIF(D_MeasurementBasedApproaches!$Q:$Q,ROWS($Q$51:$Q54) & \"_\" & EUconst_CNTR_CCSOpName & INDEX(EUconst_CO2TransferTypes,4))=0,\"\",INDEX(D_MeasurementBasedApproaches!$I:$I,MATCH(ROWS($Q$51:$Q54) & \"_\" & EUconst_CNTR_CCSOpName & INDEX(EUconst_CO2TransferTypes,4),D_MeasurementBasedApproaches!$Q:$Q,0)))","v":""}]
[null,null,null,null,"",null,null,"",null,null,"",null,null,null,null,null,null,{"$f":"IF(COUNTIF(D_MeasurementBasedApproaches!$Q:$Q,ROWS($Q$51:$Q55) & \"_\" & EUconst_CNTR_CCSInstID & INDEX(EUconst_CO2TransferTypes,4))=0,\"\",INDEX(D_MeasurementBasedApproaches!$I:$I,MATCH(ROWS($Q$51:$Q55) & \"_\" & EUconst_CNTR_CCSInstID & INDEX(EUconst_CO2TransferTypes,4),D_MeasurementBasedApproaches!$Q:$Q,0)))","v":""},null,null,{"$f":"IF(COUNTIF(D_MeasurementBasedApproaches!$Q:$Q,ROWS($Q$51:$Q55) & \"_\" & EUconst_CNTR_CCSInstName & INDEX(EUconst_CO2TransferTypes,4))=0,\"\",INDEX(D_MeasurementBasedApproaches!$I:$I,MATCH(ROWS($Q$51:$Q55) & \"_\" & EUconst_CNTR_CCSInstName & INDEX(EUconst_CO2TransferTypes,4),D_MeasurementBasedApproaches!$Q:$Q,0)))","v":""},null,null,{"$f":"IF(COUNTIF(D_MeasurementBasedApproaches!$Q:$Q,ROWS($Q$51:$Q55) & \"_\" & EUconst_CNTR_CCSOpName & INDEX(EUconst_CO2TransferTypes,4))=0,\"\",INDEX(D_MeasurementBasedApproaches!$I:$I,MATCH(ROWS($Q$51:$Q55) & \"_\" & EUconst_CNTR_CCSOpName & INDEX(EUconst_CO2TransferTypes,4),D_MeasurementBasedApproaches!$Q:$Q,0)))","v":""}]
[null,null,null,null,"",null,null,"",null,null,"",null,null,null,null,null,null,{"$f":"IF(COUNTIF(D_MeasurementBasedApproaches!$Q:$Q,ROWS($Q$51:$Q56) & \"_\" & EUconst_CNTR_CCSInstID & INDEX(EUconst_CO2TransferTypes,4))=0,\"\",INDEX(D_MeasurementBasedApproaches!$I:$I,MATCH(ROWS($Q$51:$Q56) & \"_\" & EUconst_CNTR_CCSInstID & INDEX(EUconst_CO2TransferTypes,4),D_MeasurementBasedApproaches!$Q:$Q,0)))","v":""},null,null,{"$f":"IF(COUNTIF(D_MeasurementBasedApproaches!$Q:$Q,ROWS($Q$51:$Q56) & \"_\" & EUconst_CNTR_CCSInstName & INDEX(EUconst_CO2TransferTypes,4))=0,\"\",INDEX(D_MeasurementBasedApproaches!$I:$I,MATCH(ROWS($Q$51:$Q56) & \"_\" & EUconst_CNTR_CCSInstName & INDEX(EUconst_CO2TransferTypes,4),D_MeasurementBasedApproaches!$Q:$Q,0)))","v":""},null,null,{"$f":"IF(COUNTIF(D_MeasurementBasedApproaches!$Q:$Q,ROWS($Q$51:$Q56) & \"_\" & EUconst_CNTR_CCSOpName & INDEX(EUconst_CO2TransferTypes,4))=0,\"\",INDEX(D_MeasurementBasedApproaches!$I:$I,MATCH(ROWS($Q$51:$Q56) & \"_\" & EUconst_CNTR_CCSOpName & INDEX(EUconst_CO2TransferTypes,4),D_MeasurementBasedApproaches!$Q:$Q,0)))","v":""}]
[null,null,null,null,"",null,null,"",null,null,"",null,null,null,null,null,null,{"$f":"IF(COUNTIF(D_MeasurementBasedApproaches!$Q:$Q,ROWS($Q$51:$Q57) & \"_\" & EUconst_CNTR_CCSInstID & INDEX(EUconst_CO2TransferTypes,4))=0,\"\",INDEX(D_MeasurementBasedApproaches!$I:$I,MATCH(ROWS($Q$51:$Q57) & \"_\" & EUconst_CNTR_CCSInstID & INDEX(EUconst_CO2TransferTypes,4),D_MeasurementBasedApproaches!$Q:$Q,0)))","v":""},null,null,{"$f":"IF(COUNTIF(D_MeasurementBasedApproaches!$Q:$Q,ROWS($Q$51:$Q57) & \"_\" & EUconst_CNTR_CCSInstName & INDEX(EUconst_CO2TransferTypes,4))=0,\"\",INDEX(D_MeasurementBasedApproaches!$I:$I,MATCH(ROWS($Q$51:$Q57) & \"_\" & EUconst_CNTR_CCSInstName & INDEX(EUconst_CO2TransferTypes,4),D_MeasurementBasedApproaches!$Q:$Q,0)))","v":""},null,null,{"$f":"IF(COUNTIF(D_MeasurementBasedApproaches!$Q:$Q,ROWS($Q$51:$Q57) & \"_\" & EUconst_CNTR_CCSOpName & INDEX(EUconst_CO2TransferTypes,4))=0,\"\",INDEX(D_MeasurementBasedApproaches!$I:$I,MATCH(ROWS($Q$51:$Q57) & \"_\" & EUconst_CNTR_CCSOpName & INDEX(EUconst_CO2TransferTypes,4),D_MeasurementBasedApproaches!$Q:$Q,0)))","v":""}]
[null,null,null,null,"",null,null,"",null,null,"",null,null,null,null,null,null,{"$f":"IF(COUNTIF(D_MeasurementBasedApproaches!$Q:$Q,ROWS($Q$51:$Q58) & \"_\" & EUconst_CNTR_CCSInstID & INDEX(EUconst_CO2TransferTypes,4))=0,\"\",INDEX(D_MeasurementBasedApproaches!$I:$I,MATCH(ROWS($Q$51:$Q58) & \"_\" & EUconst_CNTR_CCSInstID & INDEX(EUconst_CO2TransferTypes,4),D_MeasurementBasedApproaches!$Q:$Q,0)))","v":""},null,null,{"$f":"IF(COUNTIF(D_MeasurementBasedApproaches!$Q:$Q,ROWS($Q$51:$Q58) & \"_\" & EUconst_CNTR_CCSInstName & INDEX(EUconst_CO2TransferTypes,4))=0,\"\",INDEX(D_MeasurementBasedApproaches!$I:$I,MATCH(ROWS($Q$51:$Q58) & \"_\" & EUconst_CNTR_CCSInstName & INDEX(EUconst_CO2TransferTypes,4),D_MeasurementBasedApproaches!$Q:$Q,0)))","v":""},null,null,{"$f":"IF(COUNTIF(D_MeasurementBasedApproaches!$Q:$Q,ROWS($Q$51:$Q58) & \"_\" & EUconst_CNTR_CCSOpName & INDEX(EUconst_CO2TransferTypes,4))=0,\"\",INDEX(D_MeasurementBasedApproaches!$I:$I,MATCH(ROWS($Q$51:$Q58) & \"_\" & EUconst_CNTR_CCSOpName & INDEX(EUconst_CO2TransferTypes,4),D_MeasurementBasedApproaches!$Q:$Q,0)))","v":""}]
[null,null,null,null,"",null,null,"",null,null,"",null,null,null,null,null,null,{"$f":"IF(COUNTIF(D_MeasurementBasedApproaches!$Q:$Q,ROWS($Q$51:$Q59) & \"_\" & EUconst_CNTR_CCSInstID & INDEX(EUconst_CO2TransferTypes,4))=0,\"\",INDEX(D_MeasurementBasedApproaches!$I:$I,MATCH(ROWS($Q$51:$Q59) & \"_\" & EUconst_CNTR_CCSInstID & INDEX(EUconst_CO2TransferTypes,4),D_MeasurementBasedApproaches!$Q:$Q,0)))","v":""},null,null,{"$f":"IF(COUNTIF(D_MeasurementBasedApproaches!$Q:$Q,ROWS($Q$51:$Q59) & \"_\" & EUconst_CNTR_CCSInstName & INDEX(EUconst_CO2TransferTypes,4))=0,\"\",INDEX(D_MeasurementBasedApproaches!$I:$I,MATCH(ROWS($Q$51:$Q59) & \"_\" & EUconst_CNTR_CCSInstName & INDEX(EUconst_CO2TransferTypes,4),D_MeasurementBasedApproaches!$Q:$Q,0)))","v":""},null,null,{"$f":"IF(COUNTIF(D_MeasurementBasedApproaches!$Q:$Q,ROWS($Q$51:$Q59) & \"_\" & EUconst_CNTR_CCSOpName & INDEX(EUconst_CO2TransferTypes,4))=0,\"\",INDEX(D_MeasurementBasedApproaches!$I:$I,MATCH(ROWS($Q$51:$Q59) & \"_\" & EUconst_CNTR_CCSOpName & INDEX(EUconst_CO2TransferTypes,4),D_MeasurementBasedApproaches!$Q:$Q,0)))","v":""}]
[null,null,null,null,"",null,null,"",null,null,"",null,null,null,null,null,null,{"$f":"IF(COUNTIF(D_MeasurementBasedApproaches!$Q:$Q,ROWS($Q$51:$Q60) & \"_\" & EUconst_CNTR_CCSInstID & INDEX(EUconst_CO2TransferTypes,4))=0,\"\",INDEX(D_MeasurementBasedApproaches!$I:$I,MATCH(ROWS($Q$51:$Q60) & \"_\" & EUconst_CNTR_CCSInstID & INDEX(EUconst_CO2TransferTypes,4),D_MeasurementBasedApproaches!$Q:$Q,0)))","v":""},null,null,{"$f":"IF(COUNTIF(D_MeasurementBasedApproaches!$Q:$Q,ROWS($Q$51:$Q60) & \"_\" & EUconst_CNTR_CCSInstName & INDEX(EUconst_CO2TransferTypes,4))=0,\"\",INDEX(D_MeasurementBasedApproaches!$I:$I,MATCH(ROWS($Q$51:$Q60) & \"_\" & EUconst_CNTR_CCSInstName & INDEX(EUconst_CO2TransferTypes,4),D_MeasurementBasedApproaches!$Q:$Q,0)))","v":""},null,null,{"$f":"IF(COUNTIF(D_MeasurementBasedApproaches!$Q:$Q,ROWS($Q$51:$Q60) & \"_\" & EUconst_CNTR_CCSOpName & INDEX(EUconst_CO2TransferTypes,4))=0,\"\",INDEX(D_MeasurementBasedApproaches!$I:$I,MATCH(ROWS($Q$51:$Q60) & \"_\" & EUconst_CNTR_CCSOpName & INDEX(EUconst_CO2TransferTypes,4),D_MeasurementBasedApproaches!$Q:$Q,0)))","v":""}]
[]
[null,null,null,null,{"$f":"Translations!$B$796","v":"Įrenginių perduotas CO2 buvo perduotas"}]
[null,null,null,null,{"$f":"Translations!$B$794","v":"Įrenginio identifikatorius"},null,null,{"$f":"Translations!$B$168","v":"Įrenginio pavadinimas"},null,null,{"$f":"Translations!$B$795","v":"Veiklos vykdytojo pavadinimas"}]
[null,null,null,null,{"$f":"IF(R64=0,\"\",R64)","v":""},null,null,{"$f":"IF(U64=0,\"\",U64)","v":""},null,null,{"$f":"IF(X64=0,\"\",X64)","v":""},null,null,null,null,null,null,{"$f":"IF(COUNTIF(D_MeasurementBasedApproaches!$Q:$Q,ROWS($Q$64:$Q64) & \"_\" & EUconst_CNTR_CCSInstID & INDEX(EUconst_CO2TransferTypes,5))=0,\"\",INDEX(D_MeasurementBasedApproaches!$I:$I,MATCH(ROWS($Q$64:$Q64) & \"_\" & EUconst_CNTR_CCSInstID & INDEX(EUconst_CO2TransferTypes,5),D_MeasurementBasedApproaches!$Q:$Q,0)))","v":""},null,null,{"$f":"IF(COUNTIF(D_MeasurementBasedApproaches!$Q:$Q,ROWS($Q$64:$Q64) & \"_\" & EUconst_CNTR_CCSInstName & INDEX(EUconst_CO2TransferTypes,5))=0,\"\",INDEX(D_MeasurementBasedApproaches!$I:$I,MATCH(ROWS($Q$64:$Q64) & \"_\" & EUconst_CNTR_CCSInstName & INDEX(EUconst_CO2TransferTypes,5),D_MeasurementBasedApproaches!$Q:$Q,0)))","v":""},null,null,{"$f":"IF(COUNTIF(D_MeasurementBasedApproaches!$Q:$Q,ROWS($Q$64:$Q64) & \"_\" & EUconst_CNTR_CCSOpName & INDEX(EUconst_CO2TransferTypes,5))=0,\"\",INDEX(D_MeasurementBasedApproaches!$I:$I,MATCH(ROWS($Q$64:$Q64) & \"_\" & EUconst_CNTR_CCSOpName & INDEX(EUconst_CO2TransferTypes,5),D_MeasurementBasedApproaches!$Q:$Q,0)))","v":""}]
[null,null,null,null,{"$f":"IF(R65=0,\"\",R65)","v":""},null,null,"",null,null,"",null,null,null,null,null,null,{"$f":"IF(COUNTIF(D_MeasurementBasedApproaches!$Q:$Q,ROWS($Q$64:$Q65) & \"_\" & EUconst_CNTR_CCSInstID & INDEX(EUconst_CO2TransferTypes,5))=0,\"\",INDEX(D_MeasurementBasedApproaches!$I:$I,MATCH(ROWS($Q$64:$Q65) & \"_\" & EUconst_CNTR_CCSInstID & INDEX(EUconst_CO2TransferTypes,5),D_MeasurementBasedApproaches!$Q:$Q,0)))","v":""},null,null,{"$f":"IF(COUNTIF(D_MeasurementBasedApproaches!$Q:$Q,ROWS($Q$64:$Q65) & \"_\" & EUconst_CNTR_CCSInstName & INDEX(EUconst_CO2TransferTypes,5))=0,\"\",INDEX(D_MeasurementBasedApproaches!$I:$I,MATCH(ROWS($Q$64:$Q65) & \"_\" & EUconst_CNTR_CCSInstName & INDEX(EUconst_CO2TransferTypes,5),D_MeasurementBasedApproaches!$Q:$Q,0)))","v":""},null,null,{"$f":"IF(COUNTIF(D_MeasurementBasedApproaches!$Q:$Q,ROWS($Q$64:$Q65) & \"_\" & EUconst_CNTR_CCSOpName & INDEX(EUconst_CO2TransferTypes,5))=0,\"\",INDEX(D_MeasurementBasedApproaches!$I:$I,MATCH(ROWS($Q$64:$Q65) & \"_\" & EUconst_CNTR_CCSOpName & INDEX(EUconst_CO2TransferTypes,5),D_MeasurementBasedApproaches!$Q:$Q,0)))","v":""}]
[null,null,null,null,"",null,null,"",null,null,"",null,null,null,null,null,null,{"$f":"IF(COUNTIF(D_MeasurementBasedApproaches!$Q:$Q,ROWS($Q$64:$Q66) & \"_\" & EUconst_CNTR_CCSInstID & INDEX(EUconst_CO2TransferTypes,5))=0,\"\",INDEX(D_MeasurementBasedApproaches!$I:$I,MATCH(ROWS($Q$64:$Q66) & \"_\" & EUconst_CNTR_CCSInstID & INDEX(EUconst_CO2TransferTypes,5),D_MeasurementBasedApproaches!$Q:$Q,0)))","v":""},null,null,{"$f":"IF(COUNTIF(D_MeasurementBasedApproaches!$Q:$Q,ROWS($Q$64:$Q66) & \"_\" & EUconst_CNTR_CCSInstName & INDEX(EUconst_CO2TransferTypes,5))=0,\"\",INDEX(D_MeasurementBasedApproaches!$I:$I,MATCH(ROWS($Q$64:$Q66) & \"_\" & EUconst_CNTR_CCSInstName & INDEX(EUconst_CO2TransferTypes,5),D_MeasurementBasedApproaches!$Q:$Q,0)))","v":""},null,null,{"$f":"IF(COUNTIF(D_MeasurementBasedApproaches!$Q:$Q,ROWS($Q$64:$Q66) & \"_\" & EUconst_CNTR_CCSOpName & INDEX(EUconst_CO2TransferTypes,5))=0,\"\",INDEX(D_MeasurementBasedApproaches!$I:$I,MATCH(ROWS($Q$64:$Q66) & \"_\" & EUconst_CNTR_CCSOpName & INDEX(EUconst_CO2TransferTypes,5),D_MeasurementBasedApproaches!$Q:$Q,0)))","v":""}]
[null,null,null,null,"",null,null,"",null,null,"",null,null,null,null,null,null,{"$f":"IF(COUNTIF(D_MeasurementBasedApproaches!$Q:$Q,ROWS($Q$64:$Q67) & \"_\" & EUconst_CNTR_CCSInstID & INDEX(EUconst_CO2TransferTypes,5))=0,\"\",INDEX(D_MeasurementBasedApproaches!$I:$I,MATCH(ROWS($Q$64:$Q67) & \"_\" & EUconst_CNTR_CCSInstID & INDEX(EUconst_CO2TransferTypes,5),D_MeasurementBasedApproaches!$Q:$Q,0)))","v":""},null,null,{"$f":"IF(COUNTIF(D_MeasurementBasedApproaches!$Q:$Q,ROWS($Q$64:$Q67) & \"_\" & EUconst_CNTR_CCSInstName & INDEX(EUconst_CO2TransferTypes,5))=0,\"\",INDEX(D_MeasurementBasedApproaches!$I:$I,MATCH(ROWS($Q$64:$Q67) & \"_\" & EUconst_CNTR_CCSInstName & INDEX(EUconst_CO2TransferTypes,5),D_MeasurementBasedApproaches!$Q:$Q,0)))","v":""},null,null,{"$f":"IF(COUNTIF(D_MeasurementBasedApproaches!$Q:$Q,ROWS($Q$64:$Q67) & \"_\" & EUconst_CNTR_CCSOpName & INDEX(EUconst_CO2TransferTypes,5))=0,\"\",INDEX(D_MeasurementBasedApproaches!$I:$I,MATCH(ROWS($Q$64:$Q67) & \"_\" & EUconst_CNTR_CCSOpName & INDEX(EUconst_CO2TransferTypes,5),D_MeasurementBasedApproaches!$Q:$Q,0)))","v":""}]
[null,null,null,null,"",null,null,"",null,null,"",null,null,null,null,null,null,{"$f":"IF(COUNTIF(D_MeasurementBasedApproaches!$Q:$Q,ROWS($Q$64:$Q68) & \"_\" & EUconst_CNTR_CCSInstID & INDEX(EUconst_CO2TransferTypes,5))=0,\"\",INDEX(D_MeasurementBasedApproaches!$I:$I,MATCH(ROWS($Q$64:$Q68) & \"_\" & EUconst_CNTR_CCSInstID & INDEX(EUconst_CO2TransferTypes,5),D_MeasurementBasedApproaches!$Q:$Q,0)))","v":""},null,null,{"$f":"IF(COUNTIF(D_MeasurementBasedApproaches!$Q:$Q,ROWS($Q$64:$Q68) & \"_\" & EUconst_CNTR_CCSInstName & INDEX(EUconst_CO2TransferTypes,5))=0,\"\",INDEX(D_MeasurementBasedApproaches!$I:$I,MATCH(ROWS($Q$64:$Q68) & \"_\" & EUconst_CNTR_CCSInstName & INDEX(EUconst_CO2TransferTypes,5),D_MeasurementBasedApproaches!$Q:$Q,0)))","v":""},null,null,{"$f":"IF(COUNTIF(D_MeasurementBasedApproaches!$Q:$Q,ROWS($Q$64:$Q68) & \"_\" & EUconst_CNTR_CCSOpName & INDEX(EUconst_CO2TransferTypes,5))=0,\"\",INDEX(D_MeasurementBasedApproaches!$I:$I,MATCH(ROWS($Q$64:$Q68) & \"_\" & EUconst_CNTR_CCSOpName & INDEX(EUconst_CO2TransferTypes,5),D_MeasurementBasedApproaches!$Q:$Q,0)))","v":""}]
[null,null,null,null,"",null,null,"",null,null,"",null,null,null,null,null,null,{"$f":"IF(COUNTIF(D_MeasurementBasedApproaches!$Q:$Q,ROWS($Q$64:$Q69) & \"_\" & EUconst_CNTR_CCSInstID & INDEX(EUconst_CO2TransferTypes,5))=0,\"\",INDEX(D_MeasurementBasedApproaches!$I:$I,MATCH(ROWS($Q$64:$Q69) & \"_\" & EUconst_CNTR_CCSInstID & INDEX(EUconst_CO2TransferTypes,5),D_MeasurementBasedApproaches!$Q:$Q,0)))","v":""},null,null,{"$f":"IF(COUNTIF(D_MeasurementBasedApproaches!$Q:$Q,ROWS($Q$64:$Q69) & \"_\" & EUconst_CNTR_CCSInstName & INDEX(EUconst_CO2TransferTypes,5))=0,\"\",INDEX(D_MeasurementBasedApproaches!$I:$I,MATCH(ROWS($Q$64:$Q69) & \"_\" & EUconst_CNTR_CCSInstName & INDEX(EUconst_CO2TransferTypes,5),D_MeasurementBasedApproaches!$Q:$Q,0)))","v":""},null,null,{"$f":"IF(COUNTIF(D_MeasurementBasedApproaches!$Q:$Q,ROWS($Q$64:$Q69) & \"_\" & EUconst_CNTR_CCSOpName & INDEX(EUconst_CO2TransferTypes,5))=0,\"\",INDEX(D_MeasurementBasedApproaches!$I:$I,MATCH(ROWS($Q$64:$Q69) & \"_\" & EUconst_CNTR_CCSOpName & INDEX(EUconst_CO2TransferTypes,5),D_MeasurementBasedApproaches!$Q:$Q,0)))","v":""}]
[null,null,null,null,"",null,null,"",null,null,"",null,null,null,null,null,null,{"$f":"IF(COUNTIF(D_MeasurementBasedApproaches!$Q:$Q,ROWS($Q$64:$Q70) & \"_\" & EUconst_CNTR_CCSInstID & INDEX(EUconst_CO2TransferTypes,5))=0,\"\",INDEX(D_MeasurementBasedApproaches!$I:$I,MATCH(ROWS($Q$64:$Q70) & \"_\" & EUconst_CNTR_CCSInstID & INDEX(EUconst_CO2TransferTypes,5),D_MeasurementBasedApproaches!$Q:$Q,0)))","v":""},null,null,{"$f":"IF(COUNTIF(D_MeasurementBasedApproaches!$Q:$Q,ROWS($Q$64:$Q70) & \"_\" & EUconst_CNTR_CCSInstName & INDEX(EUconst_CO2TransferTypes,5))=0,\"\",INDEX(D_MeasurementBasedApproaches!$I:$I,MATCH(ROWS($Q$64:$Q70) & \"_\" & EUconst_CNTR_CCSInstName & INDEX(EUconst_CO2TransferTypes,5),D_MeasurementBasedApproaches!$Q:$Q,0)))","v":""},null,null,{"$f":"IF(COUNTIF(D_MeasurementBasedApproaches!$Q:$Q,ROWS($Q$64:$Q70) & \"_\" & EUconst_CNTR_CCSOpName & INDEX(EUconst_CO2TransferTypes,5))=0,\"\",INDEX(D_MeasurementBasedApproaches!$I:$I,MATCH(ROWS($Q$64:$Q70) & \"_\" & EUconst_CNTR_CCSOpName & INDEX(EUconst_CO2TransferTypes,5),D_MeasurementBasedApproaches!$Q:$Q,0)))","v":""}]
[null,null,null,null,"",null,null,"",null,null,"",null,null,null,null,null,null,{"$f":"IF(COUNTIF(D_MeasurementBasedApproaches!$Q:$Q,ROWS($Q$64:$Q71) & \"_\" & EUconst_CNTR_CCSInstID & INDEX(EUconst_CO2TransferTypes,5))=0,\"\",INDEX(D_MeasurementBasedApproaches!$I:$I,MATCH(ROWS($Q$64:$Q71) & \"_\" & EUconst_CNTR_CCSInstID & INDEX(EUconst_CO2TransferTypes,5),D_MeasurementBasedApproaches!$Q:$Q,0)))","v":""},null,null,{"$f":"IF(COUNTIF(D_MeasurementBasedApproaches!$Q:$Q,ROWS($Q$64:$Q71) & \"_\" & EUconst_CNTR_CCSInstName & INDEX(EUconst_CO2TransferTypes,5))=0,\"\",INDEX(D_MeasurementBasedApproaches!$I:$I,MATCH(ROWS($Q$64:$Q71) & \"_\" & EUconst_CNTR_CCSInstName & INDEX(EUconst_CO2TransferTypes,5),D_MeasurementBasedApproaches!$Q:$Q,0)))","v":""},null,null,{"$f":"IF(COUNTIF(D_MeasurementBasedApproaches!$Q:$Q,ROWS($Q$64:$Q71) & \"_\" & EUconst_CNTR_CCSOpName & INDEX(EUconst_CO2TransferTypes,5))=0,\"\",INDEX(D_MeasurementBasedApproaches!$I:$I,MATCH(ROWS($Q$64:$Q71) & \"_\" & EUconst_CNTR_CCSOpName & INDEX(EUconst_CO2TransferTypes,5),D_MeasurementBasedApproaches!$Q:$Q,0)))","v":""}]
[null,null,null,null,"",null,null,"",null,null,"",null,null,null,null,null,null,{"$f":"IF(COUNTIF(D_MeasurementBasedApproaches!$Q:$Q,ROWS($Q$64:$Q72) & \"_\" & EUconst_CNTR_CCSInstID & INDEX(EUconst_CO2TransferTypes,5))=0,\"\",INDEX(D_MeasurementBasedApproaches!$I:$I,MATCH(ROWS($Q$64:$Q72) & \"_\" & EUconst_CNTR_CCSInstID & INDEX(EUconst_CO2TransferTypes,5),D_MeasurementBasedApproaches!$Q:$Q,0)))","v":""},null,null,{"$f":"IF(COUNTIF(D_MeasurementBasedApproaches!$Q:$Q,ROWS($Q$64:$Q72) & \"_\" & EUconst_CNTR_CCSInstName & INDEX(EUconst_CO2TransferTypes,5))=0,\"\",INDEX(D_MeasurementBasedApproaches!$I:$I,MATCH(ROWS($Q$64:$Q72) & \"_\" & EUconst_CNTR_CCSInstName & INDEX(EUconst_CO2TransferTypes,5),D_MeasurementBasedApproaches!$Q:$Q,0)))","v":""},null,null,{"$f":"IF(COUNTIF(D_MeasurementBasedApproaches!$Q:$Q,ROWS($Q$64:$Q72) & \"_\" & EUconst_CNTR_CCSOpName & INDEX(EUconst_CO2TransferTypes,5))=0,\"\",INDEX(D_MeasurementBasedApproaches!$I:$I,MATCH(ROWS($Q$64:$Q72) & \"_\" & EUconst_CNTR_CCSOpName & INDEX(EUconst_CO2TransferTypes,5),D_MeasurementBasedApproaches!$Q:$Q,0)))","v":""}]
[null,null,null,null,"",null,null,"",null,null,"",null,null,null,null,null,null,{"$f":"IF(COUNTIF(D_MeasurementBasedApproaches!$Q:$Q,ROWS($Q$64:$Q73) & \"_\" & EUconst_CNTR_CCSInstID & INDEX(EUconst_CO2TransferTypes,5))=0,\"\",INDEX(D_MeasurementBasedApproaches!$I:$I,MATCH(ROWS($Q$64:$Q73) & \"_\" & EUconst_CNTR_CCSInstID & INDEX(EUconst_CO2TransferTypes,5),D_MeasurementBasedApproaches!$Q:$Q,0)))","v":""},null,null,{"$f":"IF(COUNTIF(D_MeasurementBasedApproaches!$Q:$Q,ROWS($Q$64:$Q73) & \"_\" & EUconst_CNTR_CCSInstName & INDEX(EUconst_CO2TransferTypes,5))=0,\"\",INDEX(D_MeasurementBasedApproaches!$I:$I,MATCH(ROWS($Q$64:$Q73) & \"_\" & EUconst_CNTR_CCSInstName & INDEX(EUconst_CO2TransferTypes,5),D_MeasurementBasedApproaches!$Q:$Q,0)))","v":""},null,null,{"$f":"IF(COUNTIF(D_MeasurementBasedApproaches!$Q:$Q,ROWS($Q$64:$Q73) & \"_\" & EUconst_CNTR_CCSOpName & INDEX(EUconst_CO2TransferTypes,5))=0,\"\",INDEX(D_MeasurementBasedApproaches!$I:$I,MATCH(ROWS($Q$64:$Q73) & \"_\" & EUconst_CNTR_CCSOpName & INDEX(EUconst_CO2TransferTypes,5),D_MeasurementBasedApproaches!$Q:$Q,0)))","v":""}]

{"sheet":"J_Accounting","index":11,"n_rows":108,"n_cols":53,"rows_kept":108,"cut":false,"hidden":false,"merged":[]}
["ausblenden",null,null,null,null,null,null,null,null,null,null,null,null,null,null,null,null,null,null,null,null,null,null,null,null,null,null,null,null,null,null,null,null,null,null,null,null,null,null,null,null,null,null,null,null,null,null,null,null,null,null,null,"ausblenden"]
[null,null,null,{"$f":"Translations!$B$797","v":"Sukėlikliai (išskyrus išmetamą PFC kiekį)"}]
[null,null,"#",{"$f":"Translations!$B$798","v":"Metodas"},{"$f":"Translations!$B$799","v":"Pavadinimas"},{"$f":"Translations!$B$166","v":"Veiklos duomenys"},{"$f":"Translations!$B$800","v":"VD mato vienetas"},{"$f":"Translations!$B$468","v":"GŠV"},{"$f":"Translations!$B$801","v":"GŠV mato vienetas"},{"$f":"Translations!$B$802","v":"ITF"},{"$f":"Translations!$B$803","v":"ITF mato vienetas"},{"$f":"Translations!$B$139","v":"C-turinys"},{"$f":"Translations!$B$804","v":"C kiekio mato vienetas"},{"$f":"Translations!$B$805","v":"Oksid. koeficientas"},{"$f":"Translations!$B$806","v":"OksK mato vienetas"},{"$f":"Translations!$B$807","v":"Konv. koeficientas"},{"$f":"Translations!$B$808","v":"KonvK mato vienetas"},{"$f":"Translations!$B$140","v":"Biomasės kiekis"},{"$f":"Translations!$B$809","v":"BioC mato vienetas"},{"$f":"Translations!$B$810","v":"netvarios BioC"},{"$f":"Translations!$B$811","v":"netvarios BioC mato vienetas"},{"$f":"Translations!$B$812","v":"valandinės ŠESD konc. vidurkis"},{"$f":"Translations!$B$813","v":"valandinės ŠESD konc. mato vienetas"},{"$f":"Translations!$B$814","v":"veikimo valandos"},{"$f":"Translations!$B$815","v":"veikimo valandų mato vienetas"},{"$f":"Translations!$B$816","v":"Kaminų dujos (vidurkis)"},{"$f":"Translations!$B$817","v":"Kaminų dujų (vidurkio) mato vienetas"},{"$f":"Translations!$B$818","v":"Kaminų dujos (iš viso)"},{"$f":"Translations!$B$819","v":"Kaminų dujų (viso kiekio) mato vienetas"},{"$f":"Translations!$B$820","v":"Metinis ŠESD kiekis"},{"$f":"Translations!$B$821","v":"Metinio ŠESD kiekio mato vienetas"},{"$f":"Translations!$B$822","v":"VAP (t CO2(e)/t)"},{"$f":"Translations!$B$722","v":"A. Dažnis"},{"$f":"Translations!$B$724","v":"A. Trukmė"},{"$f":"Translations!$B$726","v":"A. NITF(CF4)"},{"$f":"Translations!$B$728","v":"B. AEV"},{"$f":"Translations!$B$730","v":"B. EN"},{"$f":"Translations!$B$732","v":"B. VĮK"},{"$f":"Translations!$B$734","v":"F(C2F6)"},{"$f":"Translations!$B$823","v":"Išmestas CF4 kiekis (t CF4)"},{"$f":"Translations!$B$824","v":"Išmestas C2F6 kiekis (t C2F6)"},{"$f":"Translations!$B$825","v":"VAP (CF4) (t CO2(e)/t)"},{"$f":"Translations!$B$826","v":"VAP (C2F6) (t CO2(e)/t)"},{"$f":"Translations!$B$827","v":"Išmestas CF4 kiekis (CO2(e) tonos)"},{"$f":"Translations!$B$828","v":"Išmestas C2F6 kiekis (CO2(e) tonos)"},{"$f":"Translations!$B$829","v":"Surinkimo veiksmingumas, proc."},{"$f":"Translations!$B$830","v":"Iškastinio kuro kilmės CO2(e) (t)"},{"$f":"Translations!$B$831","v":"Biomasės kilmės CO2(e) (t)"},{"$f":"Translations!$B$832","v":"Netvarios biomasės kilmės CO2(e) (t)"},{"$f":"Translations!$B$833","v":"Energetinė vertė (iškast. kuras), TJ"},{"$f":"Translations!$B$834","v":"Energetinė vertė (biomasė), TJ"},null,"Fehler?"]
[null,null,1,{"$f":"IF($BA4,\"\",INDEX(C_SourceStreams!$K$61:$K$173,MATCH($C4,C_SourceStreams!$C$61:$C$173,0)))","v":"Degimas"},{"$f":"IF($BA4,\"\",INDEX(C_SourceStreams!$E$61:$E$173,MATCH($C4,C_SourceStreams!$C$61:$C$173,0)))","v":"F1. Dujinis – Gamtinės dujos"},{"$f":"IF($BA4,\"\",INDEX(C_SourceStreams!BH$61:BH$173,MATCH($C4,C_SourceStreams!$C$61:$C$173,0)))","v":1253.92},{"$f":"IF($BA4,\"\",INDEX(C_SourceStreams!BI$61:BI$173,MATCH($C4,C_SourceStreams!$C$61:$C$173,0)))","v":"t"},{"$f":"IF($BA4,\"\",INDEX(C_SourceStreams!BL$61:BL$173,MATCH($C4,C_SourceStreams!$C$61:$C$173,0)))","v":33.76},{"$f":"IF($BA4,\"\",INDEX(C_SourceStreams!BM$61:BM$173,MATCH($C4,C_SourceStreams!$C$61:$C$173,0)))","v":"GJ/t"},{"$f":"IF($BA4,\"\",INDEX(C_SourceStreams!BJ$61:BJ$173,MATCH($C4,C_SourceStreams!$C$61:$C$173,0)))","v":55.186999999999998},{"$f":"IF($BA4,\"\",INDEX(C_SourceStreams!BK$61:BK$173,MATCH($C4,C_SourceStreams!$C$61:$C$173,0)))","v":"tCO2/TJ"},{"$f":"IF($BA4,\"\",INDEX(C_SourceStreams!BP$61:BP$173,MATCH($C4,C_SourceStreams!$C$61:$C$173,0)))","v":0},{"$f":"IF($BA4,\"\",INDEX(C_SourceStreams!BQ$61:BQ$173,MATCH($C4,C_SourceStreams!$C$61:$C$173,0)))","v":""},{"$f":"IF($BA4,\"\",INDEX(C_SourceStreams!BN$61:BN$173,MATCH($C4,C_SourceStreams!$C$61:$C$173,0))*100)","v":100},{"$f":"IF($BA4,\"\",\"%\")","v":"%"},{"$f":"IF($BA4,\"\",INDEX(C_SourceStreams!BO$61:BO$173,MATCH($C4,C_SourceStreams!$C$61:$C$173,0))*100)","v":100},{"$f":"IF($BA4,\"\",\"%\")","v":"%"},{"$f":"IF($BA4,\"\",INDEX(C_SourceStreams!BR$61:BR$173,MATCH($C4,C_SourceStreams!$C$61:$C$173,0))*100)","v":0},{"$f":"IF($BA4,\"\",\"%\")","v":"%"},{"$f":"IF($BA4,\"\",INDEX(C_SourceStreams!BS$61:BS$173,MATCH($C4,C_SourceStreams!$C$61:$C$173,0))*100)","v":0},{"$f":"IF($BA4,\"\",\"%\")","v":"%"},null,null,null,null,null,null,null,null,null,null,null,null,null,null,null,null,null,null,null,null,null,null,null,null,null,{"$f":"IF($BA4,\"\",INDEX(C_SourceStreams!BT$61:BT$173,MATCH($C4,C_SourceStreams!$C$61:$C$173,0)))","v":2336.1948034304},{"$f":"IF($BA4,\"\",INDEX(C_SourceStreams!BU$61:BU$173,MATCH($C4,C_SourceStreams!$C$61:$C$173,0)))","v":0},{"$f":"IF($BA4,\"\",INDEX(C_SourceStreams!BV$61:BV$173,MATCH($C4,C_SourceStreams!$C$61:$C$173,0)))","v":0},{"$f":"IF($BA4,\"\",INDEX(C_SourceStreams!BW$61:BW$173,MATCH($C4,C_SourceStreams!$C$61:$C$173,0)))","v":42.3323392},{"$f":"IF($BA4,\"\",INDEX(C_SourceStreams!BX$61:BX$173,MATCH($C4,C_SourceStreams!$C$61:$C$173,0)))","v":0},null,{"$f":"IF(ISERROR(INDEX(C_SourceStreams!$K$28:$K$10055,MATCH(C4,C_SourceStreams!$C$28:$C$10055,0))),TRUE,INDEX(C_SourceStreams!$K$28:$K$10055,MATCH(C4,C_SourceStreams!$C$28:$C$10055,0))=\"\")","v":false}]
[null,null,2,{"$f":"IF($BA5,\"\",INDEX(C_SourceStreams!$K$61:$K$173,MATCH($C5,C_SourceStreams!$C$61:$C$173,0)))","v":"Degimas"},{"$f":"IF($BA5,\"\",INDEX(C_SourceStreams!$E$61:$E$173,MATCH($C5,C_SourceStreams!$C$61:$C$173,0)))","v":"F2. Skystasis – Sunkusis mazutas; Mazutas"},{"$f":"IF($BA5,\"\",INDEX(C_SourceStreams!BH$61:BH$173,MATCH($C5,C_SourceStreams!$C$61:$C$173,0)))","v":408.09399999999999},{"$f":"IF($BA5,\"\",INDEX(C_SourceStreams!BI$61:BI$173,MATCH($C5,C_SourceStreams!$C$61:$C$173,0)))","v":"t"},{"$f":"IF($BA5,\"\",INDEX(C_SourceStreams!BL$61:BL$173,MATCH($C5,C_SourceStreams!$C$61:$C$173,0)))","v":40.06},{"$f":"IF($BA5,\"\",INDEX(C_SourceStreams!BM$61:BM$173,MATCH($C5,C_SourceStreams!$C$61:$C$173,0)))","v":"GJ/t"},{"$f":"IF($BA5,\"\",INDEX(C_SourceStreams!BJ$61:BJ$173,MATCH($C5,C_SourceStreams!$C$61:$C$173,0)))","v":77.599999999999994},{"$f":"IF($BA5,\"\",INDEX(C_SourceStreams!BK$61:BK$173,MATCH($C5,C_SourceStreams!$C$61:$C$173,0)))","v":"tCO2/TJ"},{"$f":"IF($BA5,\"\",INDEX(C_SourceStreams!BP$61:BP$173,MATCH($C5,C_SourceStreams!$C$61:$C$173,0)))","v":0},{"$f":"IF($BA5,\"\",INDEX(C_SourceStreams!BQ$61:BQ$173,MATCH($C5,C_SourceStreams!$C$61:$C$173,0)))","v":""},{"$f":"IF($BA5,\"\",INDEX(C_SourceStreams!BN$61:BN$173,MATCH($C5,C_SourceStreams!$C$61:$C$173,0))*100)","v":100},{"$f":"IF($BA5,\"\",\"%\")","v":"%"},{"$f":"IF($BA5,\"\",INDEX(C_SourceStreams!BO$61:BO$173,MATCH($C5,C_SourceStreams!$C$61:$C$173,0))*100)","v":100},{"$f":"IF($BA5,\"\",\"%\")","v":"%"},{"$f":"IF($BA5,\"\",INDEX(C_SourceStreams!BR$61:BR$173,MATCH($C5,C_SourceStreams!$C$61:$C$173,0))*100)","v":0},{"$f":"IF($BA5,\"\",\"%\")","v":"%"},{"$f":"IF($BA5,\"\",INDEX(C_SourceStreams!BS$61:BS$173,MATCH($C5,C_SourceStreams!$C$61:$C$173,0))*100)","v":0},{"$f":"IF($BA5,\"\",\"%\")","v":"%"},null,null,null,null,null,null,null,null,null,null,null,null,null,null,null,null,null,null,null,null,null,null,null,null,null,{"$f":"IF($BA5,\"\",INDEX(C_SourceStreams!BT$61:BT$173,MATCH($C5,C_SourceStreams!$C$61:$C$173,0)))","v":1268.6238616640001},{"$f":"IF($BA5,\"\",INDEX(C_SourceStreams!BU$61:BU$173,MATCH($C5,C_SourceStreams!$C$61:$C$173,0)))","v":0},{"$f":"IF($BA5,\"\",INDEX(C_SourceStreams!BV$61:BV$173,MATCH($C5,C_SourceStreams!$C$61:$C$173,0)))","v":0},{"$f":"IF($BA5,\"\",INDEX(C_SourceStreams!BW$61:BW$173,MATCH($C5,C_SourceStreams!$C$61:$C$173,0)))","v":16.348245640000002},{"$f":"IF($BA5,\"\",INDEX(C_SourceStreams!BX$61:BX$173,MATCH($C5,C_SourceStreams!$C$61:$C$173,0)))","v":0},null,{"$f":"IF(ISERROR(INDEX(C_SourceStreams!$K$28:$K$10055,MATCH(C5,C_SourceStreams!$C$28:$C$10055,0))),TRUE,INDEX(C_SourceStreams!$K$28:$K$10055,MATCH(C5,C_SourceStreams!$C$28:$C$10055,0))=\"\")","v":false}]
[null,null,3,{"$f":"IF($BA6,\"\",INDEX(C_SourceStreams!$K$61:$K$173,MATCH($C6,C_SourceStreams!$C$61:$C$173,0)))","v":"Degimas"},{"$f":"IF($BA6,\"\",INDEX(C_SourceStreams!$E$61:$E$173,MATCH($C6,C_SourceStreams!$C$61:$C$173,0)))","v":"F3. Kietasis – Mediena (ne atliekos); Mediena"},{"$f":"IF($BA6,\"\",INDEX(C_SourceStreams!BH$61:BH$173,MATCH($C6,C_SourceStreams!$C$61:$C$173,0)))","v":56389.62},{"$f":"IF($BA6,\"\",INDEX(C_SourceStreams!BI$61:BI$173,MATCH($C6,C_SourceStreams!$C$61:$C$173,0)))","v":"t"},{"$f":"IF($BA6,\"\",INDEX(C_SourceStreams!BL$61:BL$173,MATCH($C6,C_SourceStreams!$C$61:$C$173,0)))","v":15.6},{"$f":"IF($BA6,\"\",INDEX(C_SourceStreams!BM$61:BM$173,MATCH($C6,C_SourceStreams!$C$61:$C$173,0)))","v":"GJ/t"},{"$f":"IF($BA6,\"\",INDEX(C_SourceStreams!BJ$61:BJ$173,MATCH($C6,C_SourceStreams!$C$61:$C$173,0)))","v":0},{"$f":"IF($BA6,\"\",INDEX(C_SourceStreams!BK$61:BK$173,MATCH($C6,C_SourceStreams!$C$61:$C$173,0)))","v":"tCO2/TJ"},{"$f":"IF($BA6,\"\",INDEX(C_SourceStreams!BP$61:BP$173,MATCH($C6,C_SourceStreams!$C$61:$C$173,0)))","v":0},{"$f":"IF($BA6,\"\",INDEX(C_SourceStreams!BQ$61:BQ$173,MATCH($C6,C_SourceStreams!$C$61:$C$173,0)))","v":""},{"$f":"IF($BA6,\"\",INDEX(C_SourceStreams!BN$61:BN$173,MATCH($C6,C_SourceStreams!$C$61:$C$173,0))*100)","v":100},"%",{"$f":"IF($BA6,\"\",INDEX(C_SourceStreams!BO$61:BO$173,MATCH($C6,C_SourceStreams!$C$61:$C$173,0))*100)","v":100},"%",{"$f":"IF($BA6,\"\",INDEX(C_SourceStreams!BR$61:BR$173,MATCH($C6,C_SourceStreams!$C$61:$C$173,0))*100)","v":100},"%",{"$f":"IF($BA6,\"\",INDEX(C_SourceStreams!BS$61:BS$173,MATCH($C6,C_SourceStreams!$C$61:$C$173,0))*100)","v":0},"%",null,null,null,null,null,null,null,null,null,null,null,null,null,null,null,null,null,null,null,null,null,null,null,null,null,{"$f":"IF($BA6,\"\",INDEX(C_SourceStreams!BT$61:BT$173,MATCH($C6,C_SourceStreams!$C$61:$C$173,0)))","v":0},{"$f":"IF($BA6,\"\",INDEX(C_SourceStreams!BU$61:BU$173,MATCH($C6,C_SourceStreams!$C$61:$C$173,0)))","v":0},{"$f":"IF($BA6,\"\",INDEX(C_SourceStreams!BV$61:BV$173,MATCH($C6,C_SourceStreams!$C$61:$C$173,0)))","v":0},{"$f":"IF($BA6,\"\",INDEX(C_SourceStreams!BW$61:BW$173,MATCH($C6,C_SourceStreams!$C$61:$C$173,0)))","v":0},{"$f":"IF($BA6,\"\",INDEX(C_SourceStreams!BX$61:BX$173,MATCH($C6,C_SourceStreams!$C$61:$C$173,0)))","v":879.67807200000004},null,{"$f":"IF(ISERROR(INDEX(C_SourceStreams!$K$28:$K$10055,MATCH(C6,C_SourceStreams!$C$28:$C$10055,0))),TRUE,INDEX(C_SourceStreams!$K$28:$K$10055,MATCH(C6,C_SourceStreams!$C$28:$C$10055,0))=\"\")","v":false}]
[null,null,4,{"$f":"IF($BA7,\"\",INDEX(C_SourceStreams!$K$61:$K$173,MATCH($C7,C_SourceStreams!$C$61:$C$173,0)))","v":""},{"$f":"IF($BA7,\"\",INDEX(C_SourceStreams!$E$61:$E$173,MATCH($C7,C_SourceStreams!$C$61:$C$173,0)))","v":""},{"$f":"IF($BA7,\"\",INDEX(C_SourceStreams!BH$61:BH$173,MATCH($C7,C_SourceStreams!$C$61:$C$173,0)))","v":""},{"$f":"IF($BA7,\"\",INDEX(C_SourceStreams!BI$61:BI$173,MATCH($C7,C_SourceStreams!$C$61:$C$173,0)))","v":""},{"$f":"IF($BA7,\"\",INDEX(C_SourceStreams!BL$61:BL$173,MATCH($C7,C_SourceStreams!$C$61:$C$173,0)))","v":""},{"$f":"IF($BA7,\"\",INDEX(C_SourceStreams!BM$61:BM$173,MATCH($C7,C_SourceStreams!$C$61:$C$173,0)))","v":""},{"$f":"IF($BA7,\"\",INDEX(C_SourceStreams!BJ$61:BJ$173,MATCH($C7,C_SourceStreams!$C$61:$C$173,0)))","v":""},{"$f":"IF($BA7,\"\",INDEX(C_SourceStreams!BK$61:BK$173,MATCH($C7,C_SourceStreams!$C$61:$C$173,0)))","v":""},{"$f":"IF($BA7,\"\",INDEX(C_SourceStreams!BP$61:BP$173,MATCH($C7,C_SourceStreams!$C$61:$C$173,0)))","v":""},{"$f":"IF($BA7,\"\",INDEX(C_SourceStreams!BQ$61:BQ$173,MATCH($C7,C_SourceStreams!$C$61:$C$173,0)))","v":""},{"$f":"IF($BA7,\"\",INDEX(C_SourceStreams!BN$61:BN$173,MATCH($C7,C_SourceStreams!$C$61:$C$173,0))*100)","v":""},"",{"$f":"IF($BA7,\"\",INDEX(C_SourceStreams!BO$61:BO$173,MATCH($C7,C_SourceStreams!$C$61:$C$173,0))*100)","v":""},"",{"$f":"IF($BA7,\"\",INDEX(C_SourceStreams!BR$61:BR$173,MATCH($C7,C_SourceStreams!$C$61:$C$173,0))*100)","v":""},"",{"$f":"IF($BA7,\"\",INDEX(C_SourceStreams!BS$61:BS$173,MATCH($C7,C_SourceStreams!$C$61:$C$173,0))*100)","v":""},"",null,null,null,null,null,null,null,null,null,null,null,null,null,null,null,null,null,null,null,null,null,null,null,null,null,{"$f":"IF($BA7,\"\",INDEX(C_SourceStreams!BT$61:BT$173,MATCH($C7,C_SourceStreams!$C$61:$C$173,0)))","v":""},{"$f":"IF($BA7,\"\",INDEX(C_SourceStreams!BU$61:BU$173,MATCH($C7,C_SourceStreams!$C$61:$C$173,0)))","v":""},{"$f":"IF($BA7,\"\",INDEX(C_SourceStreams!BV$61:BV$173,MATCH($C7,C_SourceStreams!$C$61:$C$173,0)))","v":""},{"$f":"IF($BA7,\"\",INDEX(C_SourceStreams!BW$61:BW$173,MATCH($C7,C_SourceStreams!$C$61:$C$173,0)))","v":""},{"$f":"IF($BA7,\"\",INDEX(C_SourceStreams!BX$61:BX$173,MATCH($C7,C_SourceStreams!$C$61:$C$173,0)))","v":""},null,{"$f":"IF(ISERROR(INDEX(C_SourceStreams!$K$28:$K$10055,MATCH(C7,C_SourceStreams!$C$28:$C$10055,0))),TRUE,INDEX(C_SourceStreams!$K$28:$K$10055,MATCH(C7,C_SourceStreams!$C$28:$C$10055,0))=\"\")","v":true}]
[null,null,5,{"$f":"IF($BA8,\"\",INDEX(C_SourceStreams!$K$61:$K$173,MATCH($C8,C_SourceStreams!$C$61:$C$173,0)))","v":""},{"$f":"IF($BA8,\"\",INDEX(C_SourceStreams!$E$61:$E$173,MATCH($C8,C_SourceStreams!$C$61:$C$173,0)))","v":""},{"$f":"IF($BA8,\"\",INDEX(C_SourceStreams!BH$61:BH$173,MATCH($C8,C_SourceStreams!$C$61:$C$173,0)))","v":""},{"$f":"IF($BA8,\"\",INDEX(C_SourceStreams!BI$61:BI$173,MATCH($C8,C_SourceStreams!$C$61:$C$173,0)))","v":""},{"$f":"IF($BA8,\"\",INDEX(C_SourceStreams!BL$61:BL$173,MATCH($C8,C_SourceStreams!$C$61:$C$173,0)))","v":""},{"$f":"IF($BA8,\"\",INDEX(C_SourceStreams!BM$61:BM$173,MATCH($C8,C_SourceStreams!$C$61:$C$173,0)))","v":""},{"$f":"IF($BA8,\"\",INDEX(C_SourceStreams!BJ$61:BJ$173,MATCH($C8,C_SourceStreams!$C$61:$C$173,0)))","v":""},{"$f":"IF($BA8,\"\",INDEX(C_SourceStreams!BK$61:BK$173,MATCH($C8,C_SourceStreams!$C$61:$C$173,0)))","v":""},{"$f":"IF($BA8,\"\",INDEX(C_SourceStreams!BP$61:BP$173,MATCH($C8,C_SourceStreams!$C$61:$C$173,0)))","v":""},{"$f":"IF($BA8,\"\",INDEX(C_SourceStreams!BQ$61:BQ$173,MATCH($C8,C_SourceStreams!$C$61:$C$173,0)))","v":""},{"$f":"IF($BA8,\"\",INDEX(C_SourceStreams!BN$61:BN$173,MATCH($C8,C_SourceStreams!$C$61:$C$173,0))*100)","v":""},"",{"$f":"IF($BA8,\"\",INDEX(C_SourceStreams!BO$61:BO$173,MATCH($C8,C_SourceStreams!$C$61:$C$173,0))*100)","v":""},"",{"$f":"IF($BA8,\"\",INDEX(C_SourceStreams!BR$61:BR$173,MATCH($C8,C_SourceStreams!$C$61:$C$173,0))*100)","v":""},"",{"$f":"IF($BA8,\"\",INDEX(C_SourceStreams!BS$61:BS$173,MATCH($C8,C_SourceStreams!$C$61:$C$173,0))*100)","v":""},"",null,null,null,null,null,null,null,null,null,null,null,null,null,null,null,null,null,null,null,null,null,null,null,null,null,{"$f":"IF($BA8,\"\",INDEX(C_SourceStreams!BT$61:BT$173,MATCH($C8,C_SourceStreams!$C$61:$C$173,0)))","v":""},{"$f":"IF($BA8,\"\",INDEX(C_SourceStreams!BU$61:BU$173,MATCH($C8,C_SourceStreams!$C$61:$C$173,0)))","v":""},{"$f":"IF($BA8,\"\",INDEX(C_SourceStreams!BV$61:BV$173,MATCH($C8,C_SourceStreams!$C$61:$C$173,0)))","v":""},{"$f":"IF($BA8,\"\",INDEX(C_SourceStreams!BW$61:BW$173,MATCH($C8,C_SourceStreams!$C$61:$C$173,0)))","v":""},{"$f":"IF($BA8,\"\",INDEX(C_SourceStreams!BX$61:BX$173,MATCH($C8,C_SourceStreams!$C$61:$C$173,0)))","v":""},null,{"$f":"IF(ISERROR(INDEX(C_SourceStreams!$K$28:$K$10055,MATCH(C8,C_SourceStreams!$C$28:$C$10055,0))),TRUE,INDEX(C_SourceStreams!$K$28:$K$10055,MATCH(C8,C_SourceStreams!$C$28:$C$10055,0))=\"\")","v":true}]
[null,null,6,{"$f":"IF($BA9,\"\",INDEX(C_SourceStreams!$K$61:$K$173,MATCH($C9,C_SourceStreams!$C$61:$C$173,0)))","v":""},{"$f":"IF($BA9,\"\",INDEX(C_SourceStreams!$E$61:$E$173,MATCH($C9,C_SourceStreams!$C$61:$C$173,0)))","v":""},{"$f":"IF($BA9,\"\",INDEX(C_SourceStreams!BH$61:BH$173,MATCH($C9,C_SourceStreams!$C$61:$C$173,0)))","v":""},{"$f":"IF($BA9,\"\",INDEX(C_SourceStreams!BI$61:BI$173,MATCH($C9,C_SourceStreams!$C$61:$C$173,0)))","v":""},{"$f":"IF($BA9,\"\",INDEX(C_SourceStreams!BL$61:BL$173,MATCH($C9,C_SourceStreams!$C$61:$C$173,0)))","v":""},{"$f":"IF($BA9,\"\",INDEX(C_SourceStreams!BM$61:BM$173,MATCH($C9,C_SourceStreams!$C$61:$C$173,0)))","v":""},{"$f":"IF($BA9,\"\",INDEX(C_SourceStreams!BJ$61:BJ$173,MATCH($C9,C_SourceStreams!$C$61:$C$173,0)))","v":""},{"$f":"IF($BA9,\"\",INDEX(C_SourceStreams!BK$61:BK$173,MATCH($C9,C_SourceStreams!$C$61:$C$173,0)))","v":""},{"$f":"IF($BA9,\"\",INDEX(C_SourceStreams!BP$61:BP$173,MATCH($C9,C_SourceStreams!$C$61:$C$173,0)))","v":""},{"$f":"IF($BA9,\"\",INDEX(C_SourceStreams!BQ$61:BQ$173,MATCH($C9,C_SourceStreams!$C$61:$C$173,0)))","v":""},{"$f":"IF($BA9,\"\",INDEX(C_SourceStreams!BN$61:BN$173,MATCH($C9,C_SourceStreams!$C$61:$C$173,0))*100)","v":""},"",{"$f":"IF($BA9,\"\",INDEX(C_SourceStreams!BO$61:BO$173,MATCH($C9,C_SourceStreams!$C$61:$C$173,0))*100)","v":""},"",{"$f":"IF($BA9,\"\",INDEX(C_SourceStreams!BR$61:BR$173,MATCH($C9,C_SourceStreams!$C$61:$C$173,0))*100)","v":""},"",{"$f":"IF($BA9,\"\",INDEX(C_SourceStreams!BS$61:BS$173,MATCH($C9,C_SourceStreams!$C$61:$C$173,0))*100)","v":""},"",null,null,null,null,null,null,null,null,null,null,null,null,null,null,null,null,null,null,null,null,null,null,null,null,null,{"$f":"IF($BA9,\"\",INDEX(C_SourceStreams!BT$61:BT$173,MATCH($C9,C_SourceStreams!$C$61:$C$173,0)))","v":""},{"$f":"IF($BA9,\"\",INDEX(C_SourceStreams!BU$61:BU$173,MATCH($C9,C_SourceStreams!$C$61:$C$173,0)))","v":""},{"$f":"IF($BA9,\"\",INDEX(C_SourceStreams!BV$61:BV$173,MATCH($C9,C_SourceStreams!$C$61:$C$173,0)))","v":""},{"$f":"IF($BA9,\"\",INDEX(C_SourceStreams!BW$61:BW$173,MATCH($C9,C_SourceStreams!$C$61:$C$173,0)))","v":""},{"$f":"IF($BA9,\"\",INDEX(C_SourceStreams!BX$61:BX$173,MATCH($C9,C_SourceStreams!$C$61:$C$173,0)))","v":""},null,{"$f":"IF(ISERROR(INDEX(C_SourceStreams!$K$28:$K$10055,MATCH(C9,C_SourceStreams!$C$28:$C$10055,0))),TRUE,INDEX(C_SourceStreams!$K$28:$K$10055,MATCH(C9,C_SourceStreams!$C$28:$C$10055,0))=\"\")","v":true}]
[null,null,7,{"$f":"IF($BA10,\"\",INDEX(C_SourceStreams!$K$61:$K$173,MATCH($C10,C_SourceStreams!$C$61:$C$173,0)))","v":""},{"$f":"IF($BA10,\"\",INDEX(C_SourceStreams!$E$61:$E$173,MATCH($C10,C_SourceStreams!$C$61:$C$173,0)))","v":""},{"$f":"IF($BA10,\"\",INDEX(C_SourceStreams!BH$61:BH$173,MATCH($C10,C_SourceStreams!$C$61:$C$173,0)))","v":""},{"$f":"IF($BA10,\"\",INDEX(C_SourceStreams!BI$61:BI$173,MATCH($C10,C_SourceStreams!$C$61:$C$173,0)))","v":""},{"$f":"IF($BA10,\"\",INDEX(C_SourceStreams!BL$61:BL$173,MATCH($C10,C_SourceStreams!$C$61:$C$173,0)))","v":""},{"$f":"IF($BA10,\"\",INDEX(C_SourceStreams!BM$61:BM$173,MATCH($C10,C_SourceStreams!$C$61:$C$173,0)))","v":""},{"$f":"IF($BA10,\"\",INDEX(C_SourceStreams!BJ$61:BJ$173,MATCH($C10,C_SourceStreams!$C$61:$C$173,0)))","v":""},{"$f":"IF($BA10,\"\",INDEX(C_SourceStreams!BK$61:BK$173,MATCH($C10,C_SourceStreams!$C$61:$C$173,0)))","v":""},{"$f":"IF($BA10,\"\",INDEX(C_SourceStreams!BP$61:BP$173,MATCH($C10,C_SourceStreams!$C$61:$C$173,0)))","v":""},{"$f":"IF($BA10,\"\",INDEX(C_SourceStreams!BQ$61:BQ$173,MATCH($C10,C_SourceStreams!$C$61:$C$173,0)))","v":""},{"$f":"IF($BA10,\"\",INDEX(C_SourceStreams!BN$61:BN$173,MATCH($C10,C_SourceStreams!$C$61:$C$173,0))*100)","v":""},"",{"$f":"IF($BA10,\"\",INDEX(C_SourceStreams!BO$61:BO$173,MATCH($C10,C_SourceStreams!$C$61:$C$173,0))*100)","v":""},"",{"$f":"IF($BA10,\"\",INDEX(C_SourceStreams!BR$61:BR$173,MATCH($C10,C_SourceStreams!$C$61:$C$173,0))*100)","v":""},"",{"$f":"IF($BA10,\"\",INDEX(C_SourceStreams!BS$61:BS$173,MATCH($C10,C_SourceStreams!$C$61:$C$173,0))*100)","v":""},"",null,null,null,null,null,null,null,null,null,null,null,null,null,null,null,null,null,null,null,null,null,null,null,null,null,{"$f":"IF($BA10,\"\",INDEX(C_SourceStreams!BT$61:BT$173,MATCH($C10,C_SourceStreams!$C$61:$C$173,0)))","v":""},{"$f":"IF($BA10,\"\",INDEX(C_SourceStreams!BU$61:BU$173,MATCH($C10,C_SourceStreams!$C$61:$C$173,0)))","v":""},{"$f":"IF($BA10,\"\",INDEX(C_SourceStreams!BV$61:BV$173,MATCH($C10,C_SourceStreams!$C$61:$C$173,0)))","v":""},{"$f":"IF($BA10,\"\",INDEX(C_SourceStreams!BW$61:BW$173,MATCH($C10,C_SourceStreams!$C$61:$C$173,0)))","v":""},{"$f":"IF($BA10,\"\",INDEX(C_SourceStreams!BX$61:BX$173,MATCH($C10,C_SourceStreams!$C$61:$C$173,0)))","v":""},null,{"$f":"IF(ISERROR(INDEX(C_SourceStreams!$K$28:$K$10055,MATCH(C10,C_SourceStreams!$C$28:$C$10055,0))),TRUE,INDEX(C_SourceStreams!$K$28:$K$10055,MATCH(C10,C_SourceStreams!$C$28:$C$10055,0))=\"\")","v":true}]
[null,null,8,{"$f":"IF($BA11,\"\",INDEX(C_SourceStreams!$K$61:$K$173,MATCH($C11,C_SourceStreams!$C$61:$C$173,0)))","v":""},{"$f":"IF($BA11,\"\",INDEX(C_SourceStreams!$E$61:$E$173,MATCH($C11,C_SourceStreams!$C$61:$C$173,0)))","v":""},{"$f":"IF($BA11,\"\",INDEX(C_SourceStreams!BH$61:BH$173,MATCH($C11,C_SourceStreams!$C$61:$C$173,0)))","v":""},{"$f":"IF($BA11,\"\",INDEX(C_SourceStreams!BI$61:BI$173,MATCH($C11,C_SourceStreams!$C$61:$C$173,0)))","v":""},{"$f":"IF($BA11,\"\",INDEX(C_SourceStreams!BL$61:BL$173,MATCH($C11,C_SourceStreams!$C$61:$C$173,0)))","v":""},{"$f":"IF($BA11,\"\",INDEX(C_SourceStreams!BM$61:BM$173,MATCH($C11,C_SourceStreams!$C$61:$C$173,0)))","v":""},{"$f":"IF($BA11,\"\",INDEX(C_SourceStreams!BJ$61:BJ$173,MATCH($C11,C_SourceStreams!$C$61:$C$173,0)))","v":""},{"$f":"IF($BA11,\"\",INDEX(C_SourceStreams!BK$61:BK$173,MATCH($C11,C_SourceStreams!$C$61:$C$173,0)))","v":""},{"$f":"IF($BA11,\"\",INDEX(C_SourceStreams!BP$61:BP$173,MATCH($C11,C_SourceStreams!$C$61:$C$173,0)))","v":""},{"$f":"IF($BA11,\"\",INDEX(C_SourceStreams!BQ$61:BQ$173,MATCH($C11,C_SourceStreams!$C$61:$C$173,0)))","v":""},{"$f":"IF($BA11,\"\",INDEX(C_SourceStreams!BN$61:BN$173,MATCH($C11,C_SourceStreams!$C$61:$C$173,0))*100)","v":""},"",{"$f":"IF($BA11,\"\",INDEX(C_SourceStreams!BO$61:BO$173,MATCH($C11,C_SourceStreams!$C$61:$C$173,0))*100)","v":""},"",{"$f":"IF($BA11,\"\",INDEX(C_SourceStreams!BR$61:BR$173,MATCH($C11,C_SourceStreams!$C$61:$C$173,0))*100)","v":""},"",{"$f":"IF($BA11,\"\",INDEX(C_SourceStreams!BS$61:BS$173,MATCH($C11,C_SourceStreams!$C$61:$C$173,0))*100)","v":""},"",null,null,null,null,null,null,null,null,null,null,null,null,null,null,null,null,null,null,null,null,null,null,null,null,null,{"$f":"IF($BA11,\"\",INDEX(C_SourceStreams!BT$61:BT$173,MATCH($C11,C_SourceStreams!$C$61:$C$173,0)))","v":""},{"$f":"IF($BA11,\"\",INDEX(C_SourceStreams!BU$61:BU$173,MATCH($C11,C_SourceStreams!$C$61:$C$173,0)))","v":""},{"$f":"IF($BA11,\"\",INDEX(C_SourceStreams!BV$61:BV$173,MATCH($C11,C_SourceStreams!$C$61:$C$173,0)))","v":""},{"$f":"IF($BA11,\"\",INDEX(C_SourceStreams!BW$61:BW$173,MATCH($C11,C_SourceStreams!$C$61:$C$173,0)))","v":""},{"$f":"IF($BA11,\"\",INDEX(C_SourceStreams!BX$61:BX$173,MATCH($C11,C_SourceStreams!$C$61:$C$173,0)))","v":""},null,{"$f":"IF(ISERROR(INDEX(C_SourceStreams!$K$28:$K$10055,MATCH(C11,C_SourceStreams!$C$28:$C$10055,0))),TRUE,INDEX(C_SourceStreams!$K$28:$K$10055,MATCH(C11,C_SourceStreams!$C$28:$C$10055,0))=\"\")","v":true}]
[null,null,9,{"$f":"IF($BA12,\"\",INDEX(C_SourceStreams!$K$61:$K$173,MATCH($C12,C_SourceStreams!$C$61:$C$173,0)))","v":""},{"$f":"IF($BA12,\"\",INDEX(C_SourceStreams!$E$61:$E$173,MATCH($C12,C_SourceStreams!$C$61:$C$173,0)))","v":""},{"$f":"IF($BA12,\"\",INDEX(C_SourceStreams!BH$61:BH$173,MATCH($C12,C_SourceStreams!$C$61:$C$173,0)))","v":""},{"$f":"IF($BA12,\"\",INDEX(C_SourceStreams!BI$61:BI$173,MATCH($C12,C_SourceStreams!$C$61:$C$173,0)))","v":""},{"$f":"IF($BA12,\"\",INDEX(C_SourceStreams!BL$61:BL$173,MATCH($C12,C_SourceStreams!$C$61:$C$173,0)))","v":""},{"$f":"IF($BA12,\"\",INDEX(C_SourceStreams!BM$61:BM$173,MATCH($C12,C_SourceStreams!$C$61:$C$173,0)))","v":""},{"$f":"IF($BA12,\"\",INDEX(C_SourceStreams!BJ$61:BJ$173,MATCH($C12,C_SourceStreams!$C$61:$C$173,0)))","v":""},{"$f":"IF($BA12,\"\",INDEX(C_SourceStreams!BK$61:BK$173,MATCH($C12,C_SourceStreams!$C$61:$C$173,0)))","v":""},{"$f":"IF($BA12,\"\",INDEX(C_SourceStreams!BP$61:BP$173,MATCH($C12,C_SourceStreams!$C$61:$C$173,0)))","v":""},{"$f":"IF($BA12,\"\",INDEX(C_SourceStreams!BQ$61:BQ$173,MATCH($C12,C_SourceStreams!$C$61:$C$173,0)))","v":""},{"$f":"IF($BA12,\"\",INDEX(C_SourceStreams!BN$61:BN$173,MATCH($C12,C_SourceStreams!$C$61:$C$173,0))*100)","v":""},"",{"$f":"IF($BA12,\"\",INDEX(C_SourceStreams!BO$61:BO$173,MATCH($C12,C_SourceStreams!$C$61:$C$173,0))*100)","v":""},"",{"$f":"IF($BA12,\"\",INDEX(C_SourceStreams!BR$61:BR$173,MATCH($C12,C_SourceStreams!$C$61:$C$173,0))*100)","v":""},"",{"$f":"IF($BA12,\"\",INDEX(C_SourceStreams!BS$61:BS$173,MATCH($C12,C_SourceStreams!$C$61:$C$173,0))*100)","v":""},"",null,null,null,null,null,null,null,null,null,null,null,null,null,null,null,null,null,null,null,null,null,null,null,null,null,{"$f":"IF($BA12,\"\",INDEX(C_SourceStreams!BT$61:BT$173,MATCH($C12,C_SourceStreams!$C$61:$C$173,0)))","v":""},{"$f":"IF($BA12,\"\",INDEX(C_SourceStreams!BU$61:BU$173,MATCH($C12,C_SourceStreams!$C$61:$C$173,0)))","v":""},{"$f":"IF($BA12,\"\",INDEX(C_SourceStreams!BV$61:BV$173,MATCH($C12,C_SourceStreams!$C$61:$C$173,0)))","v":""},{"$f":"IF($BA12,\"\",INDEX(C_SourceStreams!BW$61:BW$173,MATCH($C12,C_SourceStreams!$C$61:$C$173,0)))","v":""},{"$f":"IF($BA12,\"\",INDEX(C_SourceStreams!BX$61:BX$173,MATCH($C12,C_SourceStreams!$C$61:$C$173,0)))","v":""},null,{"$f":"IF(ISERROR(INDEX(C_SourceStreams!$K$28:$K$10055,MATCH(C12,C_SourceStreams!$C$28:$C$10055,0))),TRUE,INDEX(C_SourceStreams!$K$28:$K$10055,MATCH(C12,C_SourceStreams!$C$28:$C$10055,0))=\"\")","v":true}]
[null,null,10,{"$f":"IF($BA13,\"\",INDEX(C_SourceStreams!$K$61:$K$173,MATCH($C13,C_SourceStreams!$C$61:$C$173,0)))","v":""},{"$f":"IF($BA13,\"\",INDEX(C_SourceStreams!$E$61:$E$173,MATCH($C13,C_SourceStreams!$C$61:$C$173,0)))","v":""},{"$f":"IF($BA13,\"\",INDEX(C_SourceStreams!BH$61:BH$173,MATCH($C13,C_SourceStreams!$C$61:$C$173,0)))","v":""},{"$f":"IF($BA13,\"\",INDEX(C_SourceStreams!BI$61:BI$173,MATCH($C13,C_SourceStreams!$C$61:$C$173,0)))","v":""},{"$f":"IF($BA13,\"\",INDEX(C_SourceStreams!BL$61:BL$173,MATCH($C13,C_SourceStreams!$C$61:$C$173,0)))","v":""},{"$f":"IF($BA13,\"\",INDEX(C_SourceStreams!BM$61:BM$173,MATCH($C13,C_SourceStreams!$C$61:$C$173,0)))","v":""},{"$f":"IF($BA13,\"\",INDEX(C_SourceStreams!BJ$61:BJ$173,MATCH($C13,C_SourceStreams!$C$61:$C$173,0)))","v":""},{"$f":"IF($BA13,\"\",INDEX(C_SourceStreams!BK$61:BK$173,MATCH($C13,C_SourceStreams!$C$61:$C$173,0)))","v":""},{"$f":"IF($BA13,\"\",INDEX(C_SourceStreams!BP$61:BP$173,MATCH($C13,C_SourceStreams!$C$61:$C$173,0)))","v":""},{"$f":"IF($BA13,\"\",INDEX(C_SourceStreams!BQ$61:BQ$173,MATCH($C13,C_SourceStreams!$C$61:$C$173,0)))","v":""},{"$f":"IF($BA13,\"\",INDEX(C_SourceStreams!BN$61:BN$173,MATCH($C13,C_SourceStreams!$C$61:$C$173,0))*100)","v":""},"",{"$f":"IF($BA13,\"\",INDEX(C_SourceStreams!BO$61:BO$173,MATCH($C13,C_SourceStreams!$C$61:$C$173,0))*100)","v":""},"",{"$f":"IF($BA13,\"\",INDEX(C_SourceStreams!BR$61:BR$173,MATCH($C13,C_SourceStreams!$C$61:$C$173,0))*100)","v":""},"",{"$f":"IF($BA13,\"\",INDEX(C_SourceStreams!BS$61:BS$173,MATCH($C13,C_SourceStreams!$C$61:$C$173,0))*100)","v":""},"",null,null,null,null,null,null,null,null,null,null,null,null,null,null,null,null,null,null,null,null,null,null,null,null,null,{"$f":"IF($BA13,\"\",INDEX(C_SourceStreams!BT$61:BT$173,MATCH($C13,C_SourceStreams!$C$61:$C$173,0)))","v":""},{"$f":"IF($BA13,\"\",INDEX(C_SourceStreams!BU$61:BU$173,MATCH($C13,C_SourceStreams!$C$61:$C$173,0)))","v":""},{"$f":"IF($BA13,\"\",INDEX(C_SourceStreams!BV$61:BV$173,MATCH($C13,C_SourceStreams!$C$61:$C$173,0)))","v":""},{"$f":"IF($BA13,\"\",INDEX(C_SourceStreams!BW$61:BW$173,MATCH($C13,C_SourceStreams!$C$61:$C$173,0)))","v":""},{"$f":"IF($BA13,\"\",INDEX(C_SourceStreams!BX$61:BX$173,MATCH($C13,C_SourceStreams!$C$61:$C$173,0)))","v":""},null,{"$f":"IF(ISERROR(INDEX(C_SourceStreams!$K$28:$K$10055,MATCH(C13,C_SourceStreams!$C$28:$C$10055,0))),TRUE,INDEX(C_SourceStreams!$K$28:$K$10055,MATCH(C13,C_SourceStreams!$C$28:$C$10055,0))=\"\")","v":true}]
[null,null,11,{"$f":"IF($BA14,\"\",INDEX(C_SourceStreams!$K$61:$K$173,MATCH($C14,C_SourceStreams!$C$61:$C$173,0)))","v":""},{"$f":"IF($BA14,\"\",INDEX(C_SourceStreams!$E$61:$E$173,MATCH($C14,C_SourceStreams!$C$61:$C$173,0)))","v":""},{"$f":"IF($BA14,\"\",INDEX(C_SourceStreams!BH$61:BH$173,MATCH($C14,C_SourceStreams!$C$61:$C$173,0)))","v":""},{"$f":"IF($BA14,\"\",INDEX(C_SourceStreams!BI$61:BI$173,MATCH($C14,C_SourceStreams!$C$61:$C$173,0)))","v":""},{"$f":"IF($BA14,\"\",INDEX(C_SourceStreams!BL$61:BL$173,MATCH($C14,C_SourceStreams!$C$61:$C$173,0)))","v":""},{"$f":"IF($BA14,\"\",INDEX(C_SourceStreams!BM$61:BM$173,MATCH($C14,C_SourceStreams!$C$61:$C$173,0)))","v":""},{"$f":"IF($BA14,\"\",INDEX(C_SourceStreams!BJ$61:BJ$173,MATCH($C14,C_SourceStreams!$C$61:$C$173,0)))","v":""},{"$f":"IF($BA14,\"\",INDEX(C_SourceStreams!BK$61:BK$173,MATCH($C14,C_SourceStreams!$C$61:$C$173,0)))","v":""},{"$f":"IF($BA14,\"\",INDEX(C_SourceStreams!BP$61:BP$173,MATCH($C14,C_SourceStreams!$C$61:$C$173,0)))","v":""},{"$f":"IF($BA14,\"\",INDEX(C_SourceStreams!BQ$61:BQ$173,MATCH($C14,C_SourceStreams!$C$61:$C$173,0)))","v":""},{"$f":"IF($BA14,\"\",INDEX(C_SourceStreams!BN$61:BN$173,MATCH($C14,C_SourceStreams!$C$61:$C$173,0))*100)","v":""},"",{"$f":"IF($BA14,\"\",INDEX(C_SourceStreams!BO$61:BO$173,MATCH($C14,C_SourceStreams!$C$61:$C$173,0))*100)","v":""},"",{"$f":"IF($BA14,\"\",INDEX(C_SourceStreams!BR$61:BR$173,MATCH($C14,C_SourceStreams!$C$61:$C$173,0))*100)","v":""},"",{"$f":"IF($BA14,\"\",INDEX(C_SourceStreams!BS$61:BS$173,MATCH($C14,C_SourceStreams!$C$61:$C$173,0))*100)","v":""},"",null,null,null,null,null,null,null,null,null,null,null,null,null,null,null,null,null,null,null,null,null,null,null,null,null,{"$f":"IF($BA14,\"\",INDEX(C_SourceStreams!BT$61:BT$173,MATCH($C14,C_SourceStreams!$C$61:$C$173,0)))","v":""},{"$f":"IF($BA14,\"\",INDEX(C_SourceStreams!BU$61:BU$173,MATCH($C14,C_SourceStreams!$C$61:$C$173,0)))","v":""},{"$f":"IF($BA14,\"\",INDEX(C_SourceStreams!BV$61:BV$173,MATCH($C14,C_SourceStreams!$C$61:$C$173,0)))","v":""},{"$f":"IF($BA14,\"\",INDEX(C_SourceStreams!BW$61:BW$173,MATCH($C14,C_SourceStreams!$C$61:$C$173,0)))","v":""},{"$f":"IF($BA14,\"\",INDEX(C_SourceStreams!BX$61:BX$173,MATCH($C14,C_SourceStreams!$C$61:$C$173,0)))","v":""},null,{"$f":"IF(ISERROR(INDEX(C_SourceStreams!$K$28:$K$10055,MATCH(C14,C_SourceStreams!$C$28:$C$10055,0))),TRUE,INDEX(C_SourceStreams!$K$28:$K$10055,MATCH(C14,C_SourceStreams!$C$28:$C$10055,0))=\"\")","v":true}]
[null,null,12,{"$f":"IF($BA15,\"\",INDEX(C_SourceStreams!$K$61:$K$173,MATCH($C15,C_SourceStreams!$C$61:$C$173,0)))","v":""},{"$f":"IF($BA15,\"\",INDEX(C_SourceStreams!$E$61:$E$173,MATCH($C15,C_SourceStreams!$C$61:$C$173,0)))","v":""},{"$f":"IF($BA15,\"\",INDEX(C_SourceStreams!BH$61:BH$173,MATCH($C15,C_SourceStreams!$C$61:$C$173,0)))","v":""},{"$f":"IF($BA15,\"\",INDEX(C_SourceStreams!BI$61:BI$173,MATCH($C15,C_SourceStreams!$C$61:$C$173,0)))","v":""},{"$f":"IF($BA15,\"\",INDEX(C_SourceStreams!BL$61:BL$173,MATCH($C15,C_SourceStreams!$C$61:$C$173,0)))","v":""},{"$f":"IF($BA15,\"\",INDEX(C_SourceStreams!BM$61:BM$173,MATCH($C15,C_SourceStreams!$C$61:$C$173,0)))","v":""},{"$f":"IF($BA15,\"\",INDEX(C_SourceStreams!BJ$61:BJ$173,MATCH($C15,C_SourceStreams!$C$61:$C$173,0)))","v":""},{"$f":"IF($BA15,\"\",INDEX(C_SourceStreams!BK$61:BK$173,MATCH($C15,C_SourceStreams!$C$61:$C$173,0)))","v":""},{"$f":"IF($BA15,\"\",INDEX(C_SourceStreams!BP$61:BP$173,MATCH($C15,C_SourceStreams!$C$61:$C$173,0)))","v":""},{"$f":"IF($BA15,\"\",INDEX(C_SourceStreams!BQ$61:BQ$173,MATCH($C15,C_SourceStreams!$C$61:$C$173,0)))","v":""},{"$f":"IF($BA15,\"\",INDEX(C_SourceStreams!BN$61:BN$173,MATCH($C15,C_SourceStreams!$C$61:$C$173,0))*100)","v":""},"",{"$f":"IF($BA15,\"\",INDEX(C_SourceStreams!BO$61:BO$173,MATCH($C15,C_SourceStreams!$C$61:$C$173,0))*100)","v":""},"",{"$f":"IF($BA15,\"\",INDEX(C_SourceStreams!BR$61:BR$173,MATCH($C15,C_SourceStreams!$C$61:$C$173,0))*100)","v":""},"",{"$f":"IF($BA15,\"\",INDEX(C_SourceStreams!BS$61:BS$173,MATCH($C15,C_SourceStreams!$C$61:$C$173,0))*100)","v":""},"",null,null,null,null,null,null,null,null,null,null,null,null,null,null,null,null,null,null,null,null,null,null,null,null,null,{"$f":"IF($BA15,\"\",INDEX(C_SourceStreams!BT$61:BT$173,MATCH($C15,C_SourceStreams!$C$61:$C$173,0)))","v":""},{"$f":"IF($BA15,\"\",INDEX(C_SourceStreams!BU$61:BU$173,MATCH($C15,C_SourceStreams!$C$61:$C$173,0)))","v":""},{"$f":"IF($BA15,\"\",INDEX(C_SourceStreams!BV$61:BV$173,MATCH($C15,C_SourceStreams!$C$61:$C$173,0)))","v":""},{"$f":"IF($BA15,\"\",INDEX(C_SourceStreams!BW$61:BW$173,MATCH($C15,C_SourceStreams!$C$61:$C$173,0)))","v":""},{"$f":"IF($BA15,\"\",INDEX(C_SourceStreams!BX$61:BX$173,MATCH($C15,C_SourceStreams!$C$61:$C$173,0)))","v":""},null,{"$f":"IF(ISERROR(INDEX(C_SourceStreams!$K$28:$K$10055,MATCH(C15,C_SourceStreams!$C$28:$C$10055,0))),TRUE,INDEX(C_SourceStreams!$K$28:$K$10055,MATCH(C15,C_SourceStreams!$C$28:$C$10055,0))=\"\")","v":true}]
[null,null,13,{"$f":"IF($BA16,\"\",INDEX(C_SourceStreams!$K$61:$K$173,MATCH($C16,C_SourceStreams!$C$61:$C$173,0)))","v":""},{"$f":"IF($BA16,\"\",INDEX(C_SourceStreams!$E$61:$E$173,MATCH($C16,C_SourceStreams!$C$61:$C$173,0)))","v":""},{"$f":"IF($BA16,\"\",INDEX(C_SourceStreams!BH$61:BH$173,MATCH($C16,C_SourceStreams!$C$61:$C$173,0)))","v":""},{"$f":"IF($BA16,\"\",INDEX(C_SourceStreams!BI$61:BI$173,MATCH($C16,C_SourceStreams!$C$61:$C$173,0)))","v":""},{"$f":"IF($BA16,\"\",INDEX(C_SourceStreams!BL$61:BL$173,MATCH($C16,C_SourceStreams!$C$61:$C$173,0)))","v":""},{"$f":"IF($BA16,\"\",INDEX(C_SourceStreams!BM$61:BM$173,MATCH($C16,C_SourceStreams!$C$61:$C$173,0)))","v":""},{"$f":"IF($BA16,\"\",INDEX(C_SourceStreams!BJ$61:BJ$173,MATCH($C16,C_SourceStreams!$C$61:$C$173,0)))","v":""},{"$f":"IF($BA16,\"\",INDEX(C_SourceStreams!BK$61:BK$173,MATCH($C16,C_SourceStreams!$C$61:$C$173,0)))","v":""},{"$f":"IF($BA16,\"\",INDEX(C_SourceStreams!BP$61:BP$173,MATCH($C16,C_SourceStreams!$C$61:$C$173,0)))","v":""},{"$f":"IF($BA16,\"\",INDEX(C_SourceStreams!BQ$61:BQ$173,MATCH($C16,C_SourceStreams!$C$61:$C$173,0)))","v":""},{"$f":"IF($BA16,\"\",INDEX(C_SourceStreams!BN$61:BN$173,MATCH($C16,C_SourceStreams!$C$61:$C$173,0))*100)","v":""},"",{"$f":"IF($BA16,\"\",INDEX(C_SourceStreams!BO$61:BO$173,MATCH($C16,C_SourceStreams!$C$61:$C$173,0))*100)","v":""},"",{"$f":"IF($BA16,\"\",INDEX(C_SourceStreams!BR$61:BR$173,MATCH($C16,C_SourceStreams!$C$61:$C$173,0))*100)","v":""},"",{"$f":"IF($BA16,\"\",INDEX(C_SourceStreams!BS$61:BS$173,MATCH($C16,C_SourceStreams!$C$61:$C$173,0))*100)","v":""},"",null,null,null,null,null,null,null,null,null,null,null,null,null,null,null,null,null,null,null,null,null,null,null,null,null,{"$f":"IF($BA16,\"\",INDEX(C_SourceStreams!BT$61:BT$173,MATCH($C16,C_SourceStreams!$C$61:$C$173,0)))","v":""},{"$f":"IF($BA16,\"\",INDEX(C_SourceStreams!BU$61:BU$173,MATCH($C16,C_SourceStreams!$C$61:$C$173,0)))","v":""},{"$f":"IF($BA16,\"\",INDEX(C_SourceStreams!BV$61:BV$173,MATCH($C16,C_SourceStreams!$C$61:$C$173,0)))","v":""},{"$f":"IF($BA16,\"\",INDEX(C_SourceStreams!BW$61:BW$173,MATCH($C16,C_SourceStreams!$C$61:$C$173,0)))","v":""},{"$f":"IF($BA16,\"\",INDEX(C_SourceStreams!BX$61:BX$173,MATCH($C16,C_SourceStreams!$C$61:$C$173,0)))","v":""},null,{"$f":"IF(ISERROR(INDEX(C_SourceStreams!$K$28:$K$10055,MATCH(C16,C_SourceStreams!$C$28:$C$10055,0))),TRUE,INDEX(C_SourceStreams!$K$28:$K$10055,MATCH(C16,C_SourceStreams!$C$28:$C$10055,0))=\"\")","v":true}]
[null,null,14,{"$f":"IF($BA17,\"\",INDEX(C_SourceStreams!$K$61:$K$173,MATCH($C17,C_SourceStreams!$C$61:$C$173,0)))","v":""},{"$f":"IF($BA17,\"\",INDEX(C_SourceStreams!$E$61:$E$173,MATCH($C17,C_SourceStreams!$C$61:$C$173,0)))","v":""},{"$f":"IF($BA17,\"\",INDEX(C_SourceStreams!BH$61:BH$173,MATCH($C17,C_SourceStreams!$C$61:$C$173,0)))","v":""},{"$f":"IF($BA17,\"\",INDEX(C_SourceStreams!BI$61:BI$173,MATCH($C17,C_SourceStreams!$C$61:$C$173,0)))","v":""},{"$f":"IF($BA17,\"\",INDEX(C_SourceStreams!BL$61:BL$173,MATCH($C17,C_SourceStreams!$C$61:$C$173,0)))","v":""},{"$f":"IF($BA17,\"\",INDEX(C_SourceStreams!BM$61:BM$173,MATCH($C17,C_SourceStreams!$C$61:$C$173,0)))","v":""},{"$f":"IF($BA17,\"\",INDEX(C_SourceStreams!BJ$61:BJ$173,MATCH($C17,C_SourceStreams!$C$61:$C$173,0)))","v":""},{"$f":"IF($BA17,\"\",INDEX(C_SourceStreams!BK$61:BK$173,MATCH($C17,C_SourceStreams!$C$61:$C$173,0)))","v":""},{"$f":"IF($BA17,\"\",INDEX(C_SourceStreams!BP$61:BP$173,MATCH($C17,C_SourceStreams!$C$61:$C$173,0)))","v":""},{"$f":"IF($BA17,\"\",INDEX(C_SourceStreams!BQ$61:BQ$173,MATCH($C17,C_SourceStreams!$C$61:$C$173,0)))","v":""},{"$f":"IF($BA17,\"\",INDEX(C_SourceStreams!BN$61:BN$173,MATCH($C17,C_SourceStreams!$C$61:$C$173,0))*100)","v":""},"",{"$f":"IF($BA17,\"\",INDEX(C_SourceStreams!BO$61:BO$173,MATCH($C17,C_SourceStreams!$C$61:$C$173,0))*100)","v":""},"",{"$f":"IF($BA17,\"\",INDEX(C_SourceStreams!BR$61:BR$173,MATCH($C17,C_SourceStreams!$C$61:$C$173,0))*100)","v":""},"",{"$f":"IF($BA17,\"\",INDEX(C_SourceStreams!BS$61:BS$173,MATCH($C17,C_SourceStreams!$C$61:$C$173,0))*100)","v":""},"",null,null,null,null,null,null,null,null,null,null,null,null,null,null,null,null,null,null,null,null,null,null,null,null,null,{"$f":"IF($BA17,\"\",INDEX(C_SourceStreams!BT$61:BT$173,MATCH($C17,C_SourceStreams!$C$61:$C$173,0)))","v":""},{"$f":"IF($BA17,\"\",INDEX(C_SourceStreams!BU$61:BU$173,MATCH($C17,C_SourceStreams!$C$61:$C$173,0)))","v":""},{"$f":"IF($BA17,\"\",INDEX(C_SourceStreams!BV$61:BV$173,MATCH($C17,C_SourceStreams!$C$61:$C$173,0)))","v":""},{"$f":"IF($BA17,\"\",INDEX(C_SourceStreams!BW$61:BW$173,MATCH($C17,C_SourceStreams!$C$61:$C$173,0)))","v":""},{"$f":"IF($BA17,\"\",INDEX(C_SourceStreams!BX$61:BX$173,MATCH($C17,C_SourceStreams!$C$61:$C$173,0)))","v":""},null,{"$f":"IF(ISERROR(INDEX(C_SourceStreams!$K$28:$K$10055,MATCH(C17,C_SourceStreams!$C$28:$C$10055,0))),TRUE,INDEX(C_SourceStreams!$K$28:$K$10055,MATCH(C17,C_SourceStreams!$C$28:$C$10055,0))=\"\")","v":true}]
[null,null,15,{"$f":"IF($BA18,\"\",INDEX(C_SourceStreams!$K$61:$K$173,MATCH($C18,C_SourceStreams!$C$61:$C$173,0)))","v":""},{"$f":"IF($BA18,\"\",INDEX(C_SourceStreams!$E$61:$E$173,MATCH($C18,C_SourceStreams!$C$61:$C$173,0)))","v":""},{"$f":"IF($BA18,\"\",INDEX(C_SourceStreams!BH$61:BH$173,MATCH($C18,C_SourceStreams!$C$61:$C$173,0)))","v":""},{"$f":"IF($BA18,\"\",INDEX(C_SourceStreams!BI$61:BI$173,MATCH($C18,C_SourceStreams!$C$61:$C$173,0)))","v":""},{"$f":"IF($BA18,\"\",INDEX(C_SourceStreams!BL$61:BL$173,MATCH($C18,C_SourceStreams!$C$61:$C$173,0)))","v":""},{"$f":"IF($BA18,\"\",INDEX(C_SourceStreams!BM$61:BM$173,MATCH($C18,C_SourceStreams!$C$61:$C$173,0)))","v":""},{"$f":"IF($BA18,\"\",INDEX(C_SourceStreams!BJ$61:BJ$173,MATCH($C18,C_SourceStreams!$C$61:$C$173,0)))","v":""},{"$f":"IF($BA18,\"\",INDEX(C_SourceStreams!BK$61:BK$173,MATCH($C18,C_SourceStreams!$C$61:$C$173,0)))","v":""},{"$f":"IF($BA18,\"\",INDEX(C_SourceStreams!BP$61:BP$173,MATCH($C18,C_SourceStreams!$C$61:$C$173,0)))","v":""},{"$f":"IF($BA18,\"\",INDEX(C_SourceStreams!BQ$61:BQ$173,MATCH($C18,C_SourceStreams!$C$61:$C$173,0)))","v":""},{"$f":"IF($BA18,\"\",INDEX(C_SourceStreams!BN$61:BN$173,MATCH($C18,C_SourceStreams!$C$61:$C$173,0))*100)","v":""},"",{"$f":"IF($BA18,\"\",INDEX(C_SourceStreams!BO$61:BO$173,MATCH($C18,C_SourceStreams!$C$61:$C$173,0))*100)","v":""},"",{"$f":"IF($BA18,\"\",INDEX(C_SourceStreams!BR$61:BR$173,MATCH($C18,C_SourceStreams!$C$61:$C$173,0))*100)","v":""},"",{"$f":"IF($BA18,\"\",INDEX(C_SourceStreams!BS$61:BS$173,MATCH($C18,C_SourceStreams!$C$61:$C$173,0))*100)","v":""},"",null,null,null,null,null,null,null,null,null,null,null,null,null,null,null,null,null,null,null,null,null,null,null,null,null,{"$f":"IF($BA18,\"\",INDEX(C_SourceStreams!BT$61:BT$173,MATCH($C18,C_SourceStreams!$C$61:$C$173,0)))","v":""},{"$f":"IF($BA18,\"\",INDEX(C_SourceStreams!BU$61:BU$173,MATCH($C18,C_SourceStreams!$C$61:$C$173,0)))","v":""},{"$f":"IF($BA18,\"\",INDEX(C_SourceStreams!BV$61:BV$173,MATCH($C18,C_SourceStreams!$C$61:$C$173,0)))","v":""},{"$f":"IF($BA18,\"\",INDEX(C_SourceStreams!BW$61:BW$173,MATCH($C18,C_SourceStreams!$C$61:$C$173,0)))","v":""},{"$f":"IF($BA18,\"\",INDEX(C_SourceStreams!BX$61:BX$173,MATCH($C18,C_SourceStreams!$C$61:$C$173,0)))","v":""},null,{"$f":"IF(ISERROR(INDEX(C_SourceStreams!$K$28:$K$10055,MATCH(C18,C_SourceStreams!$C$28:$C$10055,0))),TRUE,INDEX(C_SourceStreams!$K$28:$K$10055,MATCH(C18,C_SourceStreams!$C$28:$C$10055,0))=\"\")","v":true}]
[null,null,16,{"$f":"IF($BA19,\"\",INDEX(C_SourceStreams!$K$61:$K$173,MATCH($C19,C_SourceStreams!$C$61:$C$173,0)))","v":""},{"$f":"IF($BA19,\"\",INDEX(C_SourceStreams!$E$61:$E$173,MATCH($C19,C_SourceStreams!$C$61:$C$173,0)))","v":""},{"$f":"IF($BA19,\"\",INDEX(C_SourceStreams!BH$61:BH$173,MATCH($C19,C_SourceStreams!$C$61:$C$173,0)))","v":""},{"$f":"IF($BA19,\"\",INDEX(C_SourceStreams!BI$61:BI$173,MATCH($C19,C_SourceStreams!$C$61:$C$173,0)))","v":""},{"$f":"IF($BA19,\"\",INDEX(C_SourceStreams!BL$61:BL$173,MATCH($C19,C_SourceStreams!$C$61:$C$173,0)))","v":""},{"$f":"IF($BA19,\"\",INDEX(C_SourceStreams!BM$61:BM$173,MATCH($C19,C_SourceStreams!$C$61:$C$173,0)))","v":""},{"$f":"IF($BA19,\"\",INDEX(C_SourceStreams!BJ$61:BJ$173,MATCH($C19,C_SourceStreams!$C$61:$C$173,0)))","v":""},{"$f":"IF($BA19,\"\",INDEX(C_SourceStreams!BK$61:BK$173,MATCH($C19,C_SourceStreams!$C$61:$C$173,0)))","v":""},{"$f":"IF($BA19,\"\",INDEX(C_SourceStreams!BP$61:BP$173,MATCH($C19,C_SourceStreams!$C$61:$C$173,0)))","v":""},{"$f":"IF($BA19,\"\",INDEX(C_SourceStreams!BQ$61:BQ$173,MATCH($C19,C_SourceStreams!$C$61:$C$173,0)))","v":""},{"$f":"IF($BA19,\"\",INDEX(C_SourceStreams!BN$61:BN$173,MATCH($C19,C_SourceStreams!$C$61:$C$173,0))*100)","v":""},"",{"$f":"IF($BA19,\"\",INDEX(C_SourceStreams!BO$61:BO$173,MATCH($C19,C_SourceStreams!$C$61:$C$173,0))*100)","v":""},"",{"$f":"IF($BA19,\"\",INDEX(C_SourceStreams!BR$61:BR$173,MATCH($C19,C_SourceStreams!$C$61:$C$173,0))*100)","v":""},"",{"$f":"IF($BA19,\"\",INDEX(C_SourceStreams!BS$61:BS$173,MATCH($C19,C_SourceStreams!$C$61:$C$173,0))*100)","v":""},"",null,null,null,null,null,null,null,null,null,null,null,null,null,null,null,null,null,null,null,null,null,null,null,null,null,{"$f":"IF($BA19,\"\",INDEX(C_SourceStreams!BT$61:BT$173,MATCH($C19,C_SourceStreams!$C$61:$C$173,0)))","v":""},{"$f":"IF($BA19,\"\",INDEX(C_SourceStreams!BU$61:BU$173,MATCH($C19,C_SourceStreams!$C$61:$C$173,0)))","v":""},{"$f":"IF($BA19,\"\",INDEX(C_SourceStreams!BV$61:BV$173,MATCH($C19,C_SourceStreams!$C$61:$C$173,0)))","v":""},{"$f":"IF($BA19,\"\",INDEX(C_SourceStreams!BW$61:BW$173,MATCH($C19,C_SourceStreams!$C$61:$C$173,0)))","v":""},{"$f":"IF($BA19,\"\",INDEX(C_SourceStreams!BX$61:BX$173,MATCH($C19,C_SourceStreams!$C$61:$C$173,0)))","v":""},null,{"$f":"IF(ISERROR(INDEX(C_SourceStreams!$K$28:$K$10055,MATCH(C19,C_SourceStreams!$C$28:$C$10055,0))),TRUE,INDEX(C_SourceStreams!$K$28:$K$10055,MATCH(C19,C_SourceStreams!$C$28:$C$10055,0))=\"\")","v":true}]
[null,null,17,{"$f":"IF($BA20,\"\",INDEX(C_SourceStreams!$K$61:$K$173,MATCH($C20,C_SourceStreams!$C$61:$C$173,0)))","v":""},{"$f":"IF($BA20,\"\",INDEX(C_SourceStreams!$E$61:$E$173,MATCH($C20,C_SourceStreams!$C$61:$C$173,0)))","v":""},{"$f":"IF($BA20,\"\",INDEX(C_SourceStreams!BH$61:BH$173,MATCH($C20,C_SourceStreams!$C$61:$C$173,0)))","v":""},{"$f":"IF($BA20,\"\",INDEX(C_SourceStreams!BI$61:BI$173,MATCH($C20,C_SourceStreams!$C$61:$C$173,0)))","v":""},{"$f":"IF($BA20,\"\",INDEX(C_SourceStreams!BL$61:BL$173,MATCH($C20,C_SourceStreams!$C$61:$C$173,0)))","v":""},{"$f":"IF($BA20,\"\",INDEX(C_SourceStreams!BM$61:BM$173,MATCH($C20,C_SourceStreams!$C$61:$C$173,0)))","v":""},{"$f":"IF($BA20,\"\",INDEX(C_SourceStreams!BJ$61:BJ$173,MATCH($C20,C_SourceStreams!$C$61:$C$173,0)))","v":""},{"$f":"IF($BA20,\"\",INDEX(C_SourceStreams!BK$61:BK$173,MATCH($C20,C_SourceStreams!$C$61:$C$173,0)))","v":""},{"$f":"IF($BA20,\"\",INDEX(C_SourceStreams!BP$61:BP$173,MATCH($C20,C_SourceStreams!$C$61:$C$173,0)))","v":""},{"$f":"IF($BA20,\"\",INDEX(C_SourceStreams!BQ$61:BQ$173,MATCH($C20,C_SourceStreams!$C$61:$C$173,0)))","v":""},{"$f":"IF($BA20,\"\",INDEX(C_SourceStreams!BN$61:BN$173,MATCH($C20,C_SourceStreams!$C$61:$C$173,0))*100)","v":""},"",{"$f":"IF($BA20,\"\",INDEX(C_SourceStreams!BO$61:BO$173,MATCH($C20,C_SourceStreams!$C$61:$C$173,0))*100)","v":""},"",{"$f":"IF($BA20,\"\",INDEX(C_SourceStreams!BR$61:BR$173,MATCH($C20,C_SourceStreams!$C$61:$C$173,0))*100)","v":""},"",{"$f":"IF($BA20,\"\",INDEX(C_SourceStreams!BS$61:BS$173,MATCH($C20,C_SourceStreams!$C$61:$C$173,0))*100)","v":""},"",null,null,null,null,null,null,null,null,null,null,null,null,null,null,null,null,null,null,null,null,null,null,null,null,null,{"$f":"IF($BA20,\"\",INDEX(C_SourceStreams!BT$61:BT$173,MATCH($C20,C_SourceStreams!$C$61:$C$173,0)))","v":""},{"$f":"IF($BA20,\"\",INDEX(C_SourceStreams!BU$61:BU$173,MATCH($C20,C_SourceStreams!$C$61:$C$173,0)))","v":""},{"$f":"IF($BA20,\"\",INDEX(C_SourceStreams!BV$61:BV$173,MATCH($C20,C_SourceStreams!$C$61:$C$173,0)))","v":""},{"$f":"IF($BA20,\"\",INDEX(C_SourceStreams!BW$61:BW$173,MATCH($C20,C_SourceStreams!$C$61:$C$173,0)))","v":""},{"$f":"IF($BA20,\"\",INDEX(C_SourceStreams!BX$61:BX$173,MATCH($C20,C_SourceStreams!$C$61:$C$173,0)))","v":""},null,{"$f":"IF(ISERROR(INDEX(C_SourceStreams!$K$28:$K$10055,MATCH(C20,C_SourceStreams!$C$28:$C$10055,0))),TRUE,INDEX(C_SourceStreams!$K$28:$K$10055,MATCH(C20,C_SourceStreams!$C$28:$C$10055,0))=\"\")","v":true}]
[null,null,18,{"$f":"IF($BA21,\"\",INDEX(C_SourceStreams!$K$61:$K$173,MATCH($C21,C_SourceStreams!$C$61:$C$173,0)))","v":""},{"$f":"IF($BA21,\"\",INDEX(C_SourceStreams!$E$61:$E$173,MATCH($C21,C_SourceStreams!$C$61:$C$173,0)))","v":""},{"$f":"IF($BA21,\"\",INDEX(C_SourceStreams!BH$61:BH$173,MATCH($C21,C_SourceStreams!$C$61:$C$173,0)))","v":""},{"$f":"IF($BA21,\"\",INDEX(C_SourceStreams!BI$61:BI$173,MATCH($C21,C_SourceStreams!$C$61:$C$173,0)))","v":""},{"$f":"IF($BA21,\"\",INDEX(C_SourceStreams!BL$61:BL$173,MATCH($C21,C_SourceStreams!$C$61:$C$173,0)))","v":""},{"$f":"IF($BA21,\"\",INDEX(C_SourceStreams!BM$61:BM$173,MATCH($C21,C_SourceStreams!$C$61:$C$173,0)))","v":""},{"$f":"IF($BA21,\"\",INDEX(C_SourceStreams!BJ$61:BJ$173,MATCH($C21,C_SourceStreams!$C$61:$C$173,0)))","v":""},{"$f":"IF($BA21,\"\",INDEX(C_SourceStreams!BK$61:BK$173,MATCH($C21,C_SourceStreams!$C$61:$C$173,0)))","v":""},{"$f":"IF($BA21,\"\",INDEX(C_SourceStreams!BP$61:BP$173,MATCH($C21,C_SourceStreams!$C$61:$C$173,0)))","v":""},{"$f":"IF($BA21,\"\",INDEX(C_SourceStreams!BQ$61:BQ$173,MATCH($C21,C_SourceStreams!$C$61:$C$173,0)))","v":""},{"$f":"IF($BA21,\"\",INDEX(C_SourceStreams!BN$61:BN$173,MATCH($C21,C_SourceStreams!$C$61:$C$173,0))*100)","v":""},"",{"$f":"IF($BA21,\"\",INDEX(C_SourceStreams!BO$61:BO$173,MATCH($C21,C_SourceStreams!$C$61:$C$173,0))*100)","v":""},"",{"$f":"IF($BA21,\"\",INDEX(C_SourceStreams!BR$61:BR$173,MATCH($C21,C_SourceStreams!$C$61:$C$173,0))*100)","v":""},"",{"$f":"IF($BA21,\"\",INDEX(C_SourceStreams!BS$61:BS$173,MATCH($C21,C_SourceStreams!$C$61:$C$173,0))*100)","v":""},"",null,null,null,null,null,null,null,null,null,null,null,null,null,null,null,null,null,null,null,null,null,null,null,null,null,{"$f":"IF($BA21,\"\",INDEX(C_SourceStreams!BT$61:BT$173,MATCH($C21,C_SourceStreams!$C$61:$C$173,0)))","v":""},{"$f":"IF($BA21,\"\",INDEX(C_SourceStreams!BU$61:BU$173,MATCH($C21,C_SourceStreams!$C$61:$C$173,0)))","v":""},{"$f":"IF($BA21,\"\",INDEX(C_SourceStreams!BV$61:BV$173,MATCH($C21,C_SourceStreams!$C$61:$C$173,0)))","v":""},{"$f":"IF($BA21,\"\",INDEX(C_SourceStreams!BW$61:BW$173,MATCH($C21,C_SourceStreams!$C$61:$C$173,0)))","v":""},{"$f":"IF($BA21,\"\",INDEX(C_SourceStreams!BX$61:BX$173,MATCH($C21,C_SourceStreams!$C$61:$C$173,0)))","v":""},null,{"$f":"IF(ISERROR(INDEX(C_SourceStreams!$K$28:$K$10055,MATCH(C21,C_SourceStreams!$C$28:$C$10055,0))),TRUE,INDEX(C_SourceStreams!$K$28:$K$10055,MATCH(C21,C_SourceStreams!$C$28:$C$10055,0))=\"\")","v":true}]
[null,null,19,{"$f":"IF($BA22,\"\",INDEX(C_SourceStreams!$K$61:$K$173,MATCH($C22,C_SourceStreams!$C$61:$C$173,0)))","v":""},{"$f":"IF($BA22,\"\",INDEX(C_SourceStreams!$E$61:$E$173,MATCH($C22,C_SourceStreams!$C$61:$C$173,0)))","v":""},{"$f":"IF($BA22,\"\",INDEX(C_SourceStreams!BH$61:BH$173,MATCH($C22,C_SourceStreams!$C$61:$C$173,0)))","v":""},{"$f":"IF($BA22,\"\",INDEX(C_SourceStreams!BI$61:BI$173,MATCH($C22,C_SourceStreams!$C$61:$C$173,0)))","v":""},{"$f":"IF($BA22,\"\",INDEX(C_SourceStreams!BL$61:BL$173,MATCH($C22,C_SourceStreams!$C$61:$C$173,0)))","v":""},{"$f":"IF($BA22,\"\",INDEX(C_SourceStreams!BM$61:BM$173,MATCH($C22,C_SourceStreams!$C$61:$C$173,0)))","v":""},{"$f":"IF($BA22,\"\",INDEX(C_SourceStreams!BJ$61:BJ$173,MATCH($C22,C_SourceStreams!$C$61:$C$173,0)))","v":""},{"$f":"IF($BA22,\"\",INDEX(C_SourceStreams!BK$61:BK$173,MATCH($C22,C_SourceStreams!$C$61:$C$173,0)))","v":""},{"$f":"IF($BA22,\"\",INDEX(C_SourceStreams!BP$61:BP$173,MATCH($C22,C_SourceStreams!$C$61:$C$173,0)))","v":""},{"$f":"IF($BA22,\"\",INDEX(C_SourceStreams!BQ$61:BQ$173,MATCH($C22,C_SourceStreams!$C$61:$C$173,0)))","v":""},{"$f":"IF($BA22,\"\",INDEX(C_SourceStreams!BN$61:BN$173,MATCH($C22,C_SourceStreams!$C$61:$C$173,0))*100)","v":""},"",{"$f":"IF($BA22,\"\",INDEX(C_SourceStreams!BO$61:BO$173,MATCH($C22,C_SourceStreams!$C$61:$C$173,0))*100)","v":""},"",{"$f":"IF($BA22,\"\",INDEX(C_SourceStreams!BR$61:BR$173,MATCH($C22,C_SourceStreams!$C$61:$C$173,0))*100)","v":""},"",{"$f":"IF($BA22,\"\",INDEX(C_SourceStreams!BS$61:BS$173,MATCH($C22,C_SourceStreams!$C$61:$C$173,0))*100)","v":""},"",null,null,null,null,null,null,null,null,null,null,null,null,null,null,null,null,null,null,null,null,null,null,null,null,null,{"$f":"IF($BA22,\"\",INDEX(C_SourceStreams!BT$61:BT$173,MATCH($C22,C_SourceStreams!$C$61:$C$173,0)))","v":""},{"$f":"IF($BA22,\"\",INDEX(C_SourceStreams!BU$61:BU$173,MATCH($C22,C_SourceStreams!$C$61:$C$173,0)))","v":""},{"$f":"IF($BA22,\"\",INDEX(C_SourceStreams!BV$61:BV$173,MATCH($C22,C_SourceStreams!$C$61:$C$173,0)))","v":""},{"$f":"IF($BA22,\"\",INDEX(C_SourceStreams!BW$61:BW$173,MATCH($C22,C_SourceStreams!$C$61:$C$173,0)))","v":""},{"$f":"IF($BA22,\"\",INDEX(C_SourceStreams!BX$61:BX$173,MATCH($C22,C_SourceStreams!$C$61:$C$173,0)))","v":""},null,{"$f":"IF(ISERROR(INDEX(C_SourceStreams!$K$28:$K$10055,MATCH(C22,C_SourceStreams!$C$28:$C$10055,0))),TRUE,INDEX(C_SourceStreams!$K$28:$K$10055,MATCH(C22,C_SourceStreams!$C$28:$C$10055,0))=\"\")","v":true}]
[null,null,20,{"$f":"IF($BA23,\"\",INDEX(C_SourceStreams!$K$61:$K$173,MATCH($C23,C_SourceStreams!$C$61:$C$173,0)))","v":""},{"$f":"IF($BA23,\"\",INDEX(C_SourceStreams!$E$61:$E$173,MATCH($C23,C_SourceStreams!$C$61:$C$173,0)))","v":""},{"$f":"IF($BA23,\"\",INDEX(C_SourceStreams!BH$61:BH$173,MATCH($C23,C_SourceStreams!$C$61:$C$173,0)))","v":""},{"$f":"IF($BA23,\"\",INDEX(C_SourceStreams!BI$61:BI$173,MATCH($C23,C_SourceStreams!$C$61:$C$173,0)))","v":""},{"$f":"IF($BA23,\"\",INDEX(C_SourceStreams!BL$61:BL$173,MATCH($C23,C_SourceStreams!$C$61:$C$173,0)))","v":""},{"$f":"IF($BA23,\"\",INDEX(C_SourceStreams!BM$61:BM$173,MATCH($C23,C_SourceStreams!$C$61:$C$173,0)))","v":""},{"$f":"IF($BA23,\"\",INDEX(C_SourceStreams!BJ$61:BJ$173,MATCH($C23,C_SourceStreams!$C$61:$C$173,0)))","v":""},{"$f":"IF($BA23,\"\",INDEX(C_SourceStreams!BK$61:BK$173,MATCH($C23,C_SourceStreams!$C$61:$C$173,0)))","v":""},{"$f":"IF($BA23,\"\",INDEX(C_SourceStreams!BP$61:BP$173,MATCH($C23,C_SourceStreams!$C$61:$C$173,0)))","v":""},{"$f":"IF($BA23,\"\",INDEX(C_SourceStreams!BQ$61:BQ$173,MATCH($C23,C_SourceStreams!$C$61:$C$173,0)))","v":""},{"$f":"IF($BA23,\"\",INDEX(C_SourceStreams!BN$61:BN$173,MATCH($C23,C_SourceStreams!$C$61:$C$173,0))*100)","v":""},"",{"$f":"IF($BA23,\"\",INDEX(C_SourceStreams!BO$61:BO$173,MATCH($C23,C_SourceStreams!$C$61:$C$173,0))*100)","v":""},"",{"$f":"IF($BA23,\"\",INDEX(C_SourceStreams!BR$61:BR$173,MATCH($C23,C_SourceStreams!$C$61:$C$173,0))*100)","v":""},"",{"$f":"IF($BA23,\"\",INDEX(C_SourceStreams!BS$61:BS$173,MATCH($C23,C_SourceStreams!$C$61:$C$173,0))*100)","v":""},"",null,null,null,null,null,null,null,null,null,null,null,null,null,null,null,null,null,null,null,null,null,null,null,null,null,{"$f":"IF($BA23,\"\",INDEX(C_SourceStreams!BT$61:BT$173,MATCH($C23,C_SourceStreams!$C$61:$C$173,0)))","v":""},{"$f":"IF($BA23,\"\",INDEX(C_SourceStreams!BU$61:BU$173,MATCH($C23,C_SourceStreams!$C$61:$C$173,0)))","v":""},{"$f":"IF($BA23,\"\",INDEX(C_SourceStreams!BV$61:BV$173,MATCH($C23,C_SourceStreams!$C$61:$C$173,0)))","v":""},{"$f":"IF($BA23,\"\",INDEX(C_SourceStreams!BW$61:BW$173,MATCH($C23,C_SourceStreams!$C$61:$C$173,0)))","v":""},{"$f":"IF($BA23,\"\",INDEX(C_SourceStreams!BX$61:BX$173,MATCH($C23,C_SourceStreams!$C$61:$C$173,0)))","v":""},null,{"$f":"IF(ISERROR(INDEX(C_SourceStreams!$K$28:$K$10055,MATCH(C23,C_SourceStreams!$C$28:$C$10055,0))),TRUE,INDEX(C_SourceStreams!$K$28:$K$10055,MATCH(C23,C_SourceStreams!$C$28:$C$10055,0))=\"\")","v":true}]
[null,null,21,{"$f":"IF($BA24,\"\",INDEX(C_SourceStreams!$K$61:$K$173,MATCH($C24,C_SourceStreams!$C$61:$C$173,0)))","v":""},{"$f":"IF($BA24,\"\",INDEX(C_SourceStreams!$E$61:$E$173,MATCH($C24,C_SourceStreams!$C$61:$C$173,0)))","v":""},{"$f":"IF($BA24,\"\",INDEX(C_SourceStreams!BH$61:BH$173,MATCH($C24,C_SourceStreams!$C$61:$C$173,0)))","v":""},{"$f":"IF($BA24,\"\",INDEX(C_SourceStreams!BI$61:BI$173,MATCH($C24,C_SourceStreams!$C$61:$C$173,0)))","v":""},{"$f":"IF($BA24,\"\",INDEX(C_SourceStreams!BL$61:BL$173,MATCH($C24,C_SourceStreams!$C$61:$C$173,0)))","v":""},{"$f":"IF($BA24,\"\",INDEX(C_SourceStreams!BM$61:BM$173,MATCH($C24,C_SourceStreams!$C$61:$C$173,0)))","v":""},{"$f":"IF($BA24,\"\",INDEX(C_SourceStreams!BJ$61:BJ$173,MATCH($C24,C_SourceStreams!$C$61:$C$173,0)))","v":""},{"$f":"IF($BA24,\"\",INDEX(C_SourceStreams!BK$61:BK$173,MATCH($C24,C_SourceStreams!$C$61:$C$173,0)))","v":""},{"$f":"IF($BA24,\"\",INDEX(C_SourceStreams!BP$61:BP$173,MATCH($C24,C_SourceStreams!$C$61:$C$173,0)))","v":""},{"$f":"IF($BA24,\"\",INDEX(C_SourceStreams!BQ$61:BQ$173,MATCH($C24,C_SourceStreams!$C$61:$C$173,0)))","v":""},{"$f":"IF($BA24,\"\",INDEX(C_SourceStreams!BN$61:BN$173,MATCH($C24,C_SourceStreams!$C$61:$C$173,0))*100)","v":""},"",{"$f":"IF($BA24,\"\",INDEX(C_SourceStreams!BO$61:BO$173,MATCH($C24,C_SourceStreams!$C$61:$C$173,0))*100)","v":""},"",{"$f":"IF($BA24,\"\",INDEX(C_SourceStreams!BR$61:BR$173,MATCH($C24,C_SourceStreams!$C$61:$C$173,0))*100)","v":""},"",{"$f":"IF($BA24,\"\",INDEX(C_SourceStreams!BS$61:BS$173,MATCH($C24,C_SourceStreams!$C$61:$C$173,0))*100)","v":""},"",null,null,null,null,null,null,null,null,null,null,null,null,null,null,null,null,null,null,null,null,null,null,null,null,null,{"$f":"IF($BA24,\"\",INDEX(C_SourceStreams!BT$61:BT$173,MATCH($C24,C_SourceStreams!$C$61:$C$173,0)))","v":""},{"$f":"IF($BA24,\"\",INDEX(C_SourceStreams!BU$61:BU$173,MATCH($C24,C_SourceStreams!$C$61:$C$173,0)))","v":""},{"$f":"IF($BA24,\"\",INDEX(C_SourceStreams!BV$61:BV$173,MATCH($C24,C_SourceStreams!$C$61:$C$173,0)))","v":""},{"$f":"IF($BA24,\"\",INDEX(C_SourceStreams!BW$61:BW$173,MATCH($C24,C_SourceStreams!$C$61:$C$173,0)))","v":""},{"$f":"IF($BA24,\"\",INDEX(C_SourceStreams!BX$61:BX$173,MATCH($C24,C_SourceStreams!$C$61:$C$173,0)))","v":""},null,{"$f":"IF(ISERROR(INDEX(C_SourceStreams!$K$28:$K$10055,MATCH(C24,C_SourceStreams!$C$28:$C$10055,0))),TRUE,INDEX(C_SourceStreams!$K$28:$K$10055,MATCH(C24,C_SourceStreams!$C$28:$C$10055,0))=\"\")","v":true}]
[null,null,22,{"$f":"IF($BA25,\"\",INDEX(C_SourceStreams!$K$61:$K$173,MATCH($C25,C_SourceStreams!$C$61:$C$173,0)))","v":""},{"$f":"IF($BA25,\"\",INDEX(C_SourceStreams!$E$61:$E$173,MATCH($C25,C_SourceStreams!$C$61:$C$173,0)))","v":""},{"$f":"IF($BA25,\"\",INDEX(C_SourceStreams!BH$61:BH$173,MATCH($C25,C_SourceStreams!$C$61:$C$173,0)))","v":""},{"$f":"IF($BA25,\"\",INDEX(C_SourceStreams!BI$61:BI$173,MATCH($C25,C_SourceStreams!$C$61:$C$173,0)))","v":""},{"$f":"IF($BA25,\"\",INDEX(C_SourceStreams!BL$61:BL$173,MATCH($C25,C_SourceStreams!$C$61:$C$173,0)))","v":""},{"$f":"IF($BA25,\"\",INDEX(C_SourceStreams!BM$61:BM$173,MATCH($C25,C_SourceStreams!$C$61:$C$173,0)))","v":""},{"$f":"IF($BA25,\"\",INDEX(C_SourceStreams!BJ$61:BJ$173,MATCH($C25,C_SourceStreams!$C$61:$C$173,0)))","v":""},{"$f":"IF($BA25,\"\",INDEX(C_SourceStreams!BK$61:BK$173,MATCH($C25,C_SourceStreams!$C$61:$C$173,0)))","v":""},{"$f":"IF($BA25,\"\",INDEX(C_SourceStreams!BP$61:BP$173,MATCH($C25,C_SourceStreams!$C$61:$C$173,0)))","v":""},{"$f":"IF($BA25,\"\",INDEX(C_SourceStreams!BQ$61:BQ$173,MATCH($C25,C_SourceStreams!$C$61:$C$173,0)))","v":""},{"$f":"IF($BA25,\"\",INDEX(C_SourceStreams!BN$61:BN$173,MATCH($C25,C_SourceStreams!$C$61:$C$173,0))*100)","v":""},"",{"$f":"IF($BA25,\"\",INDEX(C_SourceStreams!BO$61:BO$173,MATCH($C25,C_SourceStreams!$C$61:$C$173,0))*100)","v":""},"",{"$f":"IF($BA25,\"\",INDEX(C_SourceStreams!BR$61:BR$173,MATCH($C25,C_SourceStreams!$C$61:$C$173,0))*100)","v":""},"",{"$f":"IF($BA25,\"\",INDEX(C_SourceStreams!BS$61:BS$173,MATCH($C25,C_SourceStreams!$C$61:$C$173,0))*100)","v":""},"",null,null,null,null,null,null,null,null,null,null,null,null,null,null,null,null,null,null,null,null,null,null,null,null,null,{"$f":"IF($BA25,\"\",INDEX(C_SourceStreams!BT$61:BT$173,MATCH($C25,C_SourceStreams!$C$61:$C$173,0)))","v":""},{"$f":"IF($BA25,\"\",INDEX(C_SourceStreams!BU$61:BU$173,MATCH($C25,C_SourceStreams!$C$61:$C$173,0)))","v":""},{"$f":"IF($BA25,\"\",INDEX(C_SourceStreams!BV$61:BV$173,MATCH($C25,C_SourceStreams!$C$61:$C$173,0)))","v":""},{"$f":"IF($BA25,\"\",INDEX(C_SourceStreams!BW$61:BW$173,MATCH($C25,C_SourceStreams!$C$61:$C$173,0)))","v":""},{"$f":"IF($BA25,\"\",INDEX(C_SourceStreams!BX$61:BX$173,MATCH($C25,C_SourceStreams!$C$61:$C$173,0)))","v":""},null,{"$f":"IF(ISERROR(INDEX(C_SourceStreams!$K$28:$K$10055,MATCH(C25,C_SourceStreams!$C$28:$C$10055,0))),TRUE,INDEX(C_SourceStreams!$K$28:$K$10055,MATCH(C25,C_SourceStreams!$C$28:$C$10055,0))=\"\")","v":true}]
[null,null,23,{"$f":"IF($BA26,\"\",INDEX(C_SourceStreams!$K$61:$K$173,MATCH($C26,C_SourceStreams!$C$61:$C$173,0)))","v":""},{"$f":"IF($BA26,\"\",INDEX(C_SourceStreams!$E$61:$E$173,MATCH($C26,C_SourceStreams!$C$61:$C$173,0)))","v":""},{"$f":"IF($BA26,\"\",INDEX(C_SourceStreams!BH$61:BH$173,MATCH($C26,C_SourceStreams!$C$61:$C$173,0)))","v":""},{"$f":"IF($BA26,\"\",INDEX(C_SourceStreams!BI$61:BI$173,MATCH($C26,C_SourceStreams!$C$61:$C$173,0)))","v":""},{"$f":"IF($BA26,\"\",INDEX(C_SourceStreams!BL$61:BL$173,MATCH($C26,C_SourceStreams!$C$61:$C$173,0)))","v":""},{"$f":"IF($BA26,\"\",INDEX(C_SourceStreams!BM$61:BM$173,MATCH($C26,C_SourceStreams!$C$61:$C$173,0)))","v":""},{"$f":"IF($BA26,\"\",INDEX(C_SourceStreams!BJ$61:BJ$173,MATCH($C26,C_SourceStreams!$C$61:$C$173,0)))","v":""},{"$f":"IF($BA26,\"\",INDEX(C_SourceStreams!BK$61:BK$173,MATCH($C26,C_SourceStreams!$C$61:$C$173,0)))","v":""},{"$f":"IF($BA26,\"\",INDEX(C_SourceStreams!BP$61:BP$173,MATCH($C26,C_SourceStreams!$C$61:$C$173,0)))","v":""},{"$f":"IF($BA26,\"\",INDEX(C_SourceStreams!BQ$61:BQ$173,MATCH($C26,C_SourceStreams!$C$61:$C$173,0)))","v":""},{"$f":"IF($BA26,\"\",INDEX(C_SourceStreams!BN$61:BN$173,MATCH($C26,C_SourceStreams!$C$61:$C$173,0))*100)","v":""},"",{"$f":"IF($BA26,\"\",INDEX(C_SourceStreams!BO$61:BO$173,MATCH($C26,C_SourceStreams!$C$61:$C$173,0))*100)","v":""},"",{"$f":"IF($BA26,\"\",INDEX(C_SourceStreams!BR$61:BR$173,MATCH($C26,C_SourceStreams!$C$61:$C$173,0))*100)","v":""},"",{"$f":"IF($BA26,\"\",INDEX(C_SourceStreams!BS$61:BS$173,MATCH($C26,C_SourceStreams!$C$61:$C$173,0))*100)","v":""},"",null,null,null,null,null,null,null,null,null,null,null,null,null,null,null,null,null,null,null,null,null,null,null,null,null,{"$f":"IF($BA26,\"\",INDEX(C_SourceStreams!BT$61:BT$173,MATCH($C26,C_SourceStreams!$C$61:$C$173,0)))","v":""},{"$f":"IF($BA26,\"\",INDEX(C_SourceStreams!BU$61:BU$173,MATCH($C26,C_SourceStreams!$C$61:$C$173,0)))","v":""},{"$f":"IF($BA26,\"\",INDEX(C_SourceStreams!BV$61:BV$173,MATCH($C26,C_SourceStreams!$C$61:$C$173,0)))","v":""},{"$f":"IF($BA26,\"\",INDEX(C_SourceStreams!BW$61:BW$173,MATCH($C26,C_SourceStreams!$C$61:$C$173,0)))","v":""},{"$f":"IF($BA26,\"\",INDEX(C_SourceStreams!BX$61:BX$173,MATCH($C26,C_SourceStreams!$C$61:$C$173,0)))","v":""},null,{"$f":"IF(ISERROR(INDEX(C_SourceStreams!$K$28:$K$10055,MATCH(C26,C_SourceStreams!$C$28:$C$10055,0))),TRUE,INDEX(C_SourceStreams!$K$28:$K$10055,MATCH(C26,C_SourceStreams!$C$28:$C$10055,0))=\"\")","v":true}]
[null,null,24,{"$f":"IF($BA27,\"\",INDEX(C_SourceStreams!$K$61:$K$173,MATCH($C27,C_SourceStreams!$C$61:$C$173,0)))","v":""},{"$f":"IF($BA27,\"\",INDEX(C_SourceStreams!$E$61:$E$173,MATCH($C27,C_SourceStreams!$C$61:$C$173,0)))","v":""},{"$f":"IF($BA27,\"\",INDEX(C_SourceStreams!BH$61:BH$173,MATCH($C27,C_SourceStreams!$C$61:$C$173,0)))","v":""},{"$f":"IF($BA27,\"\",INDEX(C_SourceStreams!BI$61:BI$173,MATCH($C27,C_SourceStreams!$C$61:$C$173,0)))","v":""},{"$f":"IF($BA27,\"\",INDEX(C_SourceStreams!BL$61:BL$173,MATCH($C27,C_SourceStreams!$C$61:$C$173,0)))","v":""},{"$f":"IF($BA27,\"\",INDEX(C_SourceStreams!BM$61:BM$173,MATCH($C27,C_SourceStreams!$C$61:$C$173,0)))","v":""},{"$f":"IF($BA27,\"\",INDEX(C_SourceStreams!BJ$61:BJ$173,MATCH($C27,C_SourceStreams!$C$61:$C$173,0)))","v":""},{"$f":"IF($BA27,\"\",INDEX(C_SourceStreams!BK$61:BK$173,MATCH($C27,C_SourceStreams!$C$61:$C$173,0)))","v":""},{"$f":"IF($BA27,\"\",INDEX(C_SourceStreams!BP$61:BP$173,MATCH($C27,C_SourceStreams!$C$61:$C$173,0)))","v":""},{"$f":"IF($BA27,\"\",INDEX(C_SourceStreams!BQ$61:BQ$173,MATCH($C27,C_SourceStreams!$C$61:$C$173,0)))","v":""},{"$f":"IF($BA27,\"\",INDEX(C_SourceStreams!BN$61:BN$173,MATCH($C27,C_SourceStreams!$C$61:$C$173,0))*100)","v":""},"",{"$f":"IF($BA27,\"\",INDEX(C_SourceStreams!BO$61:BO$173,MATCH($C27,C_SourceStreams!$C$61:$C$173,0))*100)","v":""},"",{"$f":"IF($BA27,\"\",INDEX(C_SourceStreams!BR$61:BR$173,MATCH($C27,C_SourceStreams!$C$61:$C$173,0))*100)","v":""},"",{"$f":"IF($BA27,\"\",INDEX(C_SourceStreams!BS$61:BS$173,MATCH($C27,C_SourceStreams!$C$61:$C$173,0))*100)","v":""},"",null,null,null,null,null,null,null,null,null,null,null,null,null,null,null,null,null,null,null,null,null,null,null,null,null,{"$f":"IF($BA27,\"\",INDEX(C_SourceStreams!BT$61:BT$173,MATCH($C27,C_SourceStreams!$C$61:$C$173,0)))","v":""},{"$f":"IF($BA27,\"\",INDEX(C_SourceStreams!BU$61:BU$173,MATCH($C27,C_SourceStreams!$C$61:$C$173,0)))","v":""},{"$f":"IF($BA27,\"\",INDEX(C_SourceStreams!BV$61:BV$173,MATCH($C27,C_SourceStreams!$C$61:$C$173,0)))","v":""},{"$f":"IF($BA27,\"\",INDEX(C_SourceStreams!BW$61:BW$173,MATCH($C27,C_SourceStreams!$C$61:$C$173,0)))","v":""},{"$f":"IF($BA27,\"\",INDEX(C_SourceStreams!BX$61:BX$173,MATCH($C27,C_SourceStreams!$C$61:$C$173,0)))","v":""},null,{"$f":"IF(ISERROR(INDEX(C_SourceStreams!$K$28:$K$10055,MATCH(C27,C_SourceStreams!$C$28:$C$10055,0))),TRUE,INDEX(C_SourceStreams!$K$28:$K$10055,MATCH(C27,C_SourceStreams!$C$28:$C$10055,0))=\"\")","v":true}]
[null,null,25,{"$f":"IF($BA28,\"\",INDEX(C_SourceStreams!$K$61:$K$173,MATCH($C28,C_SourceStreams!$C$61:$C$173,0)))","v":""},{"$f":"IF($BA28,\"\",INDEX(C_SourceStreams!$E$61:$E$173,MATCH($C28,C_SourceStreams!$C$61:$C$173,0)))","v":""},{"$f":"IF($BA28,\"\",INDEX(C_SourceStreams!BH$61:BH$173,MATCH($C28,C_SourceStreams!$C$61:$C$173,0)))","v":""},{"$f":"IF($BA28,\"\",INDEX(C_SourceStreams!BI$61:BI$173,MATCH($C28,C_SourceStreams!$C$61:$C$173,0)))","v":""},{"$f":"IF($BA28,\"\",INDEX(C_SourceStreams!BL$61:BL$173,MATCH($C28,C_SourceStreams!$C$61:$C$173,0)))","v":""},{"$f":"IF($BA28,\"\",INDEX(C_SourceStreams!BM$61:BM$173,MATCH($C28,C_SourceStreams!$C$61:$C$173,0)))","v":""},{"$f":"IF($BA28,\"\",INDEX(C_SourceStreams!BJ$61:BJ$173,MATCH($C28,C_SourceStreams!$C$61:$C$173,0)))","v":""},{"$f":"IF($BA28,\"\",INDEX(C_SourceStreams!BK$61:BK$173,MATCH($C28,C_SourceStreams!$C$61:$C$173,0)))","v":""},{"$f":"IF($BA28,\"\",INDEX(C_SourceStreams!BP$61:BP$173,MATCH($C28,C_SourceStreams!$C$61:$C$173,0)))","v":""},{"$f":"IF($BA28,\"\",INDEX(C_SourceStreams!BQ$61:BQ$173,MATCH($C28,C_SourceStreams!$C$61:$C$173,0)))","v":""},{"$f":"IF($BA28,\"\",INDEX(C_SourceStreams!BN$61:BN$173,MATCH($C28,C_SourceStreams!$C$61:$C$173,0))*100)","v":""},"",{"$f":"IF($BA28,\"\",INDEX(C_SourceStreams!BO$61:BO$173,MATCH($C28,C_SourceStreams!$C$61:$C$173,0))*100)","v":""},"",{"$f":"IF($BA28,\"\",INDEX(C_SourceStreams!BR$61:BR$173,MATCH($C28,C_SourceStreams!$C$61:$C$173,0))*100)","v":""},"",{"$f":"IF($BA28,\"\",INDEX(C_SourceStreams!BS$61:BS$173,MATCH($C28,C_SourceStreams!$C$61:$C$173,0))*100)","v":""},"",null,null,null,null,null,null,null,null,null,null,null,null,null,null,null,null,null,null,null,null,null,null,null,null,null,{"$f":"IF($BA28,\"\",INDEX(C_SourceStreams!BT$61:BT$173,MATCH($C28,C_SourceStreams!$C$61:$C$173,0)))","v":""},{"$f":"IF($BA28,\"\",INDEX(C_SourceStreams!BU$61:BU$173,MATCH($C28,C_SourceStreams!$C$61:$C$173,0)))","v":""},{"$f":"IF($BA28,\"\",INDEX(C_SourceStreams!BV$61:BV$173,MATCH($C28,C_SourceStreams!$C$61:$C$173,0)))","v":""},{"$f":"IF($BA28,\"\",INDEX(C_SourceStreams!BW$61:BW$173,MATCH($C28,C_SourceStreams!$C$61:$C$173,0)))","v":""},{"$f":"IF($BA28,\"\",INDEX(C_SourceStreams!BX$61:BX$173,MATCH($C28,C_SourceStreams!$C$61:$C$173,0)))","v":""},null,{"$f":"IF(ISERROR(INDEX(C_SourceStreams!$K$28:$K$10055,MATCH(C28,C_SourceStreams!$C$28:$C$10055,0))),TRUE,INDEX(C_SourceStreams!$K$28:$K$10055,MATCH(C28,C_SourceStreams!$C$28:$C$10055,0))=\"\")","v":true}]
[null,null,26,{"$f":"IF($BA29,\"\",INDEX(C_SourceStreams!$K$61:$K$173,MATCH($C29,C_SourceStreams!$C$61:$C$173,0)))","v":""},{"$f":"IF($BA29,\"\",INDEX(C_SourceStreams!$E$61:$E$173,MATCH($C29,C_SourceStreams!$C$61:$C$173,0)))","v":""},{"$f":"IF($BA29,\"\",INDEX(C_SourceStreams!BH$61:BH$173,MATCH($C29,C_SourceStreams!$C$61:$C$173,0)))","v":""},{"$f":"IF($BA29,\"\",INDEX(C_SourceStreams!BI$61:BI$173,MATCH($C29,C_SourceStreams!$C$61:$C$173,0)))","v":""},{"$f":"IF($BA29,\"\",INDEX(C_SourceStreams!BL$61:BL$173,MATCH($C29,C_SourceStreams!$C$61:$C$173,0)))","v":""},{"$f":"IF($BA29,\"\",INDEX(C_SourceStreams!BM$61:BM$173,MATCH($C29,C_SourceStreams!$C$61:$C$173,0)))","v":""},{"$f":"IF($BA29,\"\",INDEX(C_SourceStreams!BJ$61:BJ$173,MATCH($C29,C_SourceStreams!$C$61:$C$173,0)))","v":""},{"$f":"IF($BA29,\"\",INDEX(C_SourceStreams!BK$61:BK$173,MATCH($C29,C_SourceStreams!$C$61:$C$173,0)))","v":""},{"$f":"IF($BA29,\"\",INDEX(C_SourceStreams!BP$61:BP$173,MATCH($C29,C_SourceStreams!$C$61:$C$173,0)))","v":""},{"$f":"IF($BA29,\"\",INDEX(C_SourceStreams!BQ$61:BQ$173,MATCH($C29,C_SourceStreams!$C$61:$C$173,0)))","v":""},{"$f":"IF($BA29,\"\",INDEX(C_SourceStreams!BN$61:BN$173,MATCH($C29,C_SourceStreams!$C$61:$C$173,0))*100)","v":""},"",{"$f":"IF($BA29,\"\",INDEX(C_SourceStreams!BO$61:BO$173,MATCH($C29,C_SourceStreams!$C$61:$C$173,0))*100)","v":""},"",{"$f":"IF($BA29,\"\",INDEX(C_SourceStreams!BR$61:BR$173,MATCH($C29,C_SourceStreams!$C$61:$C$173,0))*100)","v":""},"",{"$f":"IF($BA29,\"\",INDEX(C_SourceStreams!BS$61:BS$173,MATCH($C29,C_SourceStreams!$C$61:$C$173,0))*100)","v":""},"",null,null,null,null,null,null,null,null,null,null,null,null,null,null,null,null,null,null,null,null,null,null,null,null,null,{"$f":"IF($BA29,\"\",INDEX(C_SourceStreams!BT$61:BT$173,MATCH($C29,C_SourceStreams!$C$61:$C$173,0)))","v":""},{"$f":"IF($BA29,\"\",INDEX(C_SourceStreams!BU$61:BU$173,MATCH($C29,C_SourceStreams!$C$61:$C$173,0)))","v":""},{"$f":"IF($BA29,\"\",INDEX(C_SourceStreams!BV$61:BV$173,MATCH($C29,C_SourceStreams!$C$61:$C$173,0)))","v":""},{"$f":"IF($BA29,\"\",INDEX(C_SourceStreams!BW$61:BW$173,MATCH($C29,C_SourceStreams!$C$61:$C$173,0)))","v":""},{"$f":"IF($BA29,\"\",INDEX(C_SourceStreams!BX$61:BX$173,MATCH($C29,C_SourceStreams!$C$61:$C$173,0)))","v":""},null,{"$f":"IF(ISERROR(INDEX(C_SourceStreams!$K$28:$K$10055,MATCH(C29,C_SourceStreams!$C$28:$C$10055,0))),TRUE,INDEX(C_SourceStreams!$K$28:$K$10055,MATCH(C29,C_SourceStreams!$C$28:$C$10055,0))=\"\")","v":true}]
[null,null,27,{"$f":"IF($BA30,\"\",INDEX(C_SourceStreams!$K$61:$K$173,MATCH($C30,C_SourceStreams!$C$61:$C$173,0)))","v":""},{"$f":"IF($BA30,\"\",INDEX(C_SourceStreams!$E$61:$E$173,MATCH($C30,C_SourceStreams!$C$61:$C$173,0)))","v":""},{"$f":"IF($BA30,\"\",INDEX(C_SourceStreams!BH$61:BH$173,MATCH($C30,C_SourceStreams!$C$61:$C$173,0)))","v":""},{"$f":"IF($BA30,\"\",INDEX(C_SourceStreams!BI$61:BI$173,MATCH($C30,C_SourceStreams!$C$61:$C$173,0)))","v":""},{"$f":"IF($BA30,\"\",INDEX(C_SourceStreams!BL$61:BL$173,MATCH($C30,C_SourceStreams!$C$61:$C$173,0)))","v":""},{"$f":"IF($BA30,\"\",INDEX(C_SourceStreams!BM$61:BM$173,MATCH($C30,C_SourceStreams!$C$61:$C$173,0)))","v":""},{"$f":"IF($BA30,\"\",INDEX(C_SourceStreams!BJ$61:BJ$173,MATCH($C30,C_SourceStreams!$C$61:$C$173,0)))","v":""},{"$f":"IF($BA30,\"\",INDEX(C_SourceStreams!BK$61:BK$173,MATCH($C30,C_SourceStreams!$C$61:$C$173,0)))","v":""},{"$f":"IF($BA30,\"\",INDEX(C_SourceStreams!BP$61:BP$173,MATCH($C30,C_SourceStreams!$C$61:$C$173,0)))","v":""},{"$f":"IF($BA30,\"\",INDEX(C_SourceStreams!BQ$61:BQ$173,MATCH($C30,C_SourceStreams!$C$61:$C$173,0)))","v":""},{"$f":"IF($BA30,\"\",INDEX(C_SourceStreams!BN$61:BN$173,MATCH($C30,C_SourceStreams!$C$61:$C$173,0))*100)","v":""},"",{"$f":"IF($BA30,\"\",INDEX(C_SourceStreams!BO$61:BO$173,MATCH($C30,C_SourceStreams!$C$61:$C$173,0))*100)","v":""},"",{"$f":"IF($BA30,\"\",INDEX(C_SourceStreams!BR$61:BR$173,MATCH($C30,C_SourceStreams!$C$61:$C$173,0))*100)","v":""},"",{"$f":"IF($BA30,\"\",INDEX(C_SourceStreams!BS$61:BS$173,MATCH($C30,C_SourceStreams!$C$61:$C$173,0))*100)","v":""},"",null,null,null,null,null,null,null,null,null,null,null,null,null,null,null,null,null,null,null,null,null,null,null,null,null,{"$f":"IF($BA30,\"\",INDEX(C_SourceStreams!BT$61:BT$173,MATCH($C30,C_SourceStreams!$C$61:$C$173,0)))","v":""},{"$f":"IF($BA30,\"\",INDEX(C_SourceStreams!BU$61:BU$173,MATCH($C30,C_SourceStreams!$C$61:$C$173,0)))","v":""},{"$f":"IF($BA30,\"\",INDEX(C_SourceStreams!BV$61:BV$173,MATCH($C30,C_SourceStreams!$C$61:$C$173,0)))","v":""},{"$f":"IF($BA30,\"\",INDEX(C_SourceStreams!BW$61:BW$173,MATCH($C30,C_SourceStreams!$C$61:$C$173,0)))","v":""},{"$f":"IF($BA30,\"\",INDEX(C_SourceStreams!BX$61:BX$173,MATCH($C30,C_SourceStreams!$C$61:$C$173,0)))","v":""},null,{"$f":"IF(ISERROR(INDEX(C_SourceStreams!$K$28:$K$10055,MATCH(C30,C_SourceStreams!$C$28:$C$10055,0))),TRUE,INDEX(C_SourceStreams!$K$28:$K$10055,MATCH(C30,C_SourceStreams!$C$28:$C$10055,0))=\"\")","v":true}]
[null,null,28,{"$f":"IF($BA31,\"\",INDEX(C_SourceStreams!$K$61:$K$173,MATCH($C31,C_SourceStreams!$C$61:$C$173,0)))","v":""},{"$f":"IF($BA31,\"\",INDEX(C_SourceStreams!$E$61:$E$173,MATCH($C31,C_SourceStreams!$C$61:$C$173,0)))","v":""},{"$f":"IF($BA31,\"\",INDEX(C_SourceStreams!BH$61:BH$173,MATCH($C31,C_SourceStreams!$C$61:$C$173,0)))","v":""},{"$f":"IF($BA31,\"\",INDEX(C_SourceStreams!BI$61:BI$173,MATCH($C31,C_SourceStreams!$C$61:$C$173,0)))","v":""},{"$f":"IF($BA31,\"\",INDEX(C_SourceStreams!BL$61:BL$173,MATCH($C31,C_SourceStreams!$C$61:$C$173,0)))","v":""},{"$f":"IF($BA31,\"\",INDEX(C_SourceStreams!BM$61:BM$173,MATCH($C31,C_SourceStreams!$C$61:$C$173,0)))","v":""},{"$f":"IF($BA31,\"\",INDEX(C_SourceStreams!BJ$61:BJ$173,MATCH($C31,C_SourceStreams!$C$61:$C$173,0)))","v":""},{"$f":"IF($BA31,\"\",INDEX(C_SourceStreams!BK$61:BK$173,MATCH($C31,C_SourceStreams!$C$61:$C$173,0)))","v":""},{"$f":"IF($BA31,\"\",INDEX(C_SourceStreams!BP$61:BP$173,MATCH($C31,C_SourceStreams!$C$61:$C$173,0)))","v":""},{"$f":"IF($BA31,\"\",INDEX(C_SourceStreams!BQ$61:BQ$173,MATCH($C31,C_SourceStreams!$C$61:$C$173,0)))","v":""},{"$f":"IF($BA31,\"\",INDEX(C_SourceStreams!BN$61:BN$173,MATCH($C31,C_SourceStreams!$C$61:$C$173,0))*100)","v":""},"",{"$f":"IF($BA31,\"\",INDEX(C_SourceStreams!BO$61:BO$173,MATCH($C31,C_SourceStreams!$C$61:$C$173,0))*100)","v":""},"",{"$f":"IF($BA31,\"\",INDEX(C_SourceStreams!BR$61:BR$173,MATCH($C31,C_SourceStreams!$C$61:$C$173,0))*100)","v":""},"",{"$f":"IF($BA31,\"\",INDEX(C_SourceStreams!BS$61:BS$173,MATCH($C31,C_SourceStreams!$C$61:$C$173,0))*100)","v":""},"",null,null,null,null,null,null,null,null,null,null,null,null,null,null,null,null,null,null,null,null,null,null,null,null,null,{"$f":"IF($BA31,\"\",INDEX(C_SourceStreams!BT$61:BT$173,MATCH($C31,C_SourceStreams!$C$61:$C$173,0)))","v":""},{"$f":"IF($BA31,\"\",INDEX(C_SourceStreams!BU$61:BU$173,MATCH($C31,C_SourceStreams!$C$61:$C$173,0)))","v":""},{"$f":"IF($BA31,\"\",INDEX(C_SourceStreams!BV$61:BV$173,MATCH($C31,C_SourceStreams!$C$61:$C$173,0)))","v":""},{"$f":"IF($BA31,\"\",INDEX(C_SourceStreams!BW$61:BW$173,MATCH($C31,C_SourceStreams!$C$61:$C$173,0)))","v":""},{"$f":"IF($BA31,\"\",INDEX(C_SourceStreams!BX$61:BX$173,MATCH($C31,C_SourceStreams!$C$61:$C$173,0)))","v":""},null,{"$f":"IF(ISERROR(INDEX(C_SourceStreams!$K$28:$K$10055,MATCH(C31,C_SourceStreams!$C$28:$C$10055,0))),TRUE,INDEX(C_SourceStreams!$K$28:$K$10055,MATCH(C31,C_SourceStreams!$C$28:$C$10055,0))=\"\")","v":true}]
[null,null,29,{"$f":"IF($BA32,\"\",INDEX(C_SourceStreams!$K$61:$K$173,MATCH($C32,C_SourceStreams!$C$61:$C$173,0)))","v":""},{"$f":"IF($BA32,\"\",INDEX(C_SourceStreams!$E$61:$E$173,MATCH($C32,C_SourceStreams!$C$61:$C$173,0)))","v":""},{"$f":"IF($BA32,\"\",INDEX(C_SourceStreams!BH$61:BH$173,MATCH($C32,C_SourceStreams!$C$61:$C$173,0)))","v":""},{"$f":"IF($BA32,\"\",INDEX(C_SourceStreams!BI$61:BI$173,MATCH($C32,C_SourceStreams!$C$61:$C$173,0)))","v":""},{"$f":"IF($BA32,\"\",INDEX(C_SourceStreams!BL$61:BL$173,MATCH($C32,C_SourceStreams!$C$61:$C$173,0)))","v":""},{"$f":"IF($BA32,\"\",INDEX(C_SourceStreams!BM$61:BM$173,MATCH($C32,C_SourceStreams!$C$61:$C$173,0)))","v":""},{"$f":"IF($BA32,\"\",INDEX(C_SourceStreams!BJ$61:BJ$173,MATCH($C32,C_SourceStreams!$C$61:$C$173,0)))","v":""},{"$f":"IF($BA32,\"\",INDEX(C_SourceStreams!BK$61:BK$173,MATCH($C32,C_SourceStreams!$C$61:$C$173,0)))","v":""},{"$f":"IF($BA32,\"\",INDEX(C_SourceStreams!BP$61:BP$173,MATCH($C32,C_SourceStreams!$C$61:$C$173,0)))","v":""},{"$f":"IF($BA32,\"\",INDEX(C_SourceStreams!BQ$61:BQ$173,MATCH($C32,C_SourceStreams!$C$61:$C$173,0)))","v":""},{"$f":"IF($BA32,\"\",INDEX(C_SourceStreams!BN$61:BN$173,MATCH($C32,C_SourceStreams!$C$61:$C$173,0))*100)","v":""},"",{"$f":"IF($BA32,\"\",INDEX(C_SourceStreams!BO$61:BO$173,MATCH($C32,C_SourceStreams!$C$61:$C$173,0))*100)","v":""},"",{"$f":"IF($BA32,\"\",INDEX(C_SourceStreams!BR$61:BR$173,MATCH($C32,C_SourceStreams!$C$61:$C$173,0))*100)","v":""},"",{"$f":"IF($BA32,\"\",INDEX(C_SourceStreams!BS$61:BS$173,MATCH($C32,C_SourceStreams!$C$61:$C$173,0))*100)","v":""},"",null,null,null,null,null,null,null,null,null,null,null,null,null,null,null,null,null,null,null,null,null,null,null,null,null,{"$f":"IF($BA32,\"\",INDEX(C_SourceStreams!BT$61:BT$173,MATCH($C32,C_SourceStreams!$C$61:$C$173,0)))","v":""},{"$f":"IF($BA32,\"\",INDEX(C_SourceStreams!BU$61:BU$173,MATCH($C32,C_SourceStreams!$C$61:$C$173,0)))","v":""},{"$f":"IF($BA32,\"\",INDEX(C_SourceStreams!BV$61:BV$173,MATCH($C32,C_SourceStreams!$C$61:$C$173,0)))","v":""},{"$f":"IF($BA32,\"\",INDEX(C_SourceStreams!BW$61:BW$173,MATCH($C32,C_SourceStreams!$C$61:$C$173,0)))","v":""},{"$f":"IF($BA32,\"\",INDEX(C_SourceStreams!BX$61:BX$173,MATCH($C32,C_SourceStreams!$C$61:$C$173,0)))","v":""},null,{"$f":"IF(ISERROR(INDEX(C_SourceStreams!$K$28:$K$10055,MATCH(C32,C_SourceStreams!$C$28:$C$10055,0))),TRUE,INDEX(C_SourceStreams!$K$28:$K$10055,MATCH(C32,C_SourceStreams!$C$28:$C$10055,0))=\"\")","v":true}]
[null,null,30,{"$f":"IF($BA33,\"\",INDEX(C_SourceStreams!$K$61:$K$173,MATCH($C33,C_SourceStreams!$C$61:$C$173,0)))","v":""},{"$f":"IF($BA33,\"\",INDEX(C_SourceStreams!$E$61:$E$173,MATCH($C33,C_SourceStreams!$C$61:$C$173,0)))","v":""},{"$f":"IF($BA33,\"\",INDEX(C_SourceStreams!BH$61:BH$173,MATCH($C33,C_SourceStreams!$C$61:$C$173,0)))","v":""},{"$f":"IF($BA33,\"\",INDEX(C_SourceStreams!BI$61:BI$173,MATCH($C33,C_SourceStreams!$C$61:$C$173,0)))","v":""},{"$f":"IF($BA33,\"\",INDEX(C_SourceStreams!BL$61:BL$173,MATCH($C33,C_SourceStreams!$C$61:$C$173,0)))","v":""},{"$f":"IF($BA33,\"\",INDEX(C_SourceStreams!BM$61:BM$173,MATCH($C33,C_SourceStreams!$C$61:$C$173,0)))","v":""},{"$f":"IF($BA33,\"\",INDEX(C_SourceStreams!BJ$61:BJ$173,MATCH($C33,C_SourceStreams!$C$61:$C$173,0)))","v":""},{"$f":"IF($BA33,\"\",INDEX(C_SourceStreams!BK$61:BK$173,MATCH($C33,C_SourceStreams!$C$61:$C$173,0)))","v":""},{"$f":"IF($BA33,\"\",INDEX(C_SourceStreams!BP$61:BP$173,MATCH($C33,C_SourceStreams!$C$61:$C$173,0)))","v":""},{"$f":"IF($BA33,\"\",INDEX(C_SourceStreams!BQ$61:BQ$173,MATCH($C33,C_SourceStreams!$C$61:$C$173,0)))","v":""},{"$f":"IF($BA33,\"\",INDEX(C_SourceStreams!BN$61:BN$173,MATCH($C33,C_SourceStreams!$C$61:$C$173,0))*100)","v":""},"",{"$f":"IF($BA33,\"\",INDEX(C_SourceStreams!BO$61:BO$173,MATCH($C33,C_SourceStreams!$C$61:$C$173,0))*100)","v":""},"",{"$f":"IF($BA33,\"\",INDEX(C_SourceStreams!BR$61:BR$173,MATCH($C33,C_SourceStreams!$C$61:$C$173,0))*100)","v":""},"",{"$f":"IF($BA33,\"\",INDEX(C_SourceStreams!BS$61:BS$173,MATCH($C33,C_SourceStreams!$C$61:$C$173,0))*100)","v":""},"",null,null,null,null,null,null,null,null,null,null,null,null,null,null,null,null,null,null,null,null,null,null,null,null,null,{"$f":"IF($BA33,\"\",INDEX(C_SourceStreams!BT$61:BT$173,MATCH($C33,C_SourceStreams!$C$61:$C$173,0)))","v":""},{"$f":"IF($BA33,\"\",INDEX(C_SourceStreams!BU$61:BU$173,MATCH($C33,C_SourceStreams!$C$61:$C$173,0)))","v":""},{"$f":"IF($BA33,\"\",INDEX(C_SourceStreams!BV$61:BV$173,MATCH($C33,C_SourceStreams!$C$61:$C$173,0)))","v":""},{"$f":"IF($BA33,\"\",INDEX(C_SourceStreams!BW$61:BW$173,MATCH($C33,C_SourceStreams!$C$61:$C$173,0)))","v":""},{"$f":"IF($BA33,\"\",INDEX(C_SourceStreams!BX$61:BX$173,MATCH($C33,C_SourceStreams!$C$61:$C$173,0)))","v":""},null,{"$f":"IF(ISERROR(INDEX(C_SourceStreams!$K$28:$K$10055,MATCH(C33,C_SourceStreams!$C$28:$C$10055,0))),TRUE,INDEX(C_SourceStreams!$K$28:$K$10055,MATCH(C33,C_SourceStreams!$C$28:$C$10055,0))=\"\")","v":true}]
[null,null,31,{"$f":"IF($BA34,\"\",INDEX(C_SourceStreams!$K$61:$K$173,MATCH($C34,C_SourceStreams!$C$61:$C$173,0)))","v":""},{"$f":"IF($BA34,\"\",INDEX(C_SourceStreams!$E$61:$E$173,MATCH($C34,C_SourceStreams!$C$61:$C$173,0)))","v":""},{"$f":"IF($BA34,\"\",INDEX(C_SourceStreams!BH$61:BH$173,MATCH($C34,C_SourceStreams!$C$61:$C$173,0)))","v":""},{"$f":"IF($BA34,\"\",INDEX(C_SourceStreams!BI$61:BI$173,MATCH($C34,C_SourceStreams!$C$61:$C$173,0)))","v":""},{"$f":"IF($BA34,\"\",INDEX(C_SourceStreams!BL$61:BL$173,MATCH($C34,C_SourceStreams!$C$61:$C$173,0)))","v":""},{"$f":"IF($BA34,\"\",INDEX(C_SourceStreams!BM$61:BM$173,MATCH($C34,C_SourceStreams!$C$61:$C$173,0)))","v":""},{"$f":"IF($BA34,\"\",INDEX(C_SourceStreams!BJ$61:BJ$173,MATCH($C34,C_SourceStreams!$C$61:$C$173,0)))","v":""},{"$f":"IF($BA34,\"\",INDEX(C_SourceStreams!BK$61:BK$173,MATCH($C34,C_SourceStreams!$C$61:$C$173,0)))","v":""},{"$f":"IF($BA34,\"\",INDEX(C_SourceStreams!BP$61:BP$173,MATCH($C34,C_SourceStreams!$C$61:$C$173,0)))","v":""},{"$f":"IF($BA34,\"\",INDEX(C_SourceStreams!BQ$61:BQ$173,MATCH($C34,C_SourceStreams!$C$61:$C$173,0)))","v":""},{"$f":"IF($BA34,\"\",INDEX(C_SourceStreams!BN$61:BN$173,MATCH($C34,C_SourceStreams!$C$61:$C$173,0))*100)","v":""},"",{"$f":"IF($BA34,\"\",INDEX(C_SourceStreams!BO$61:BO$173,MATCH($C34,C_SourceStreams!$C$61:$C$173,0))*100)","v":""},"",{"$f":"IF($BA34,\"\",INDEX(C_SourceStreams!BR$61:BR$173,MATCH($C34,C_SourceStreams!$C$61:$C$173,0))*100)","v":""},"",{"$f":"IF($BA34,\"\",INDEX(C_SourceStreams!BS$61:BS$173,MATCH($C34,C_SourceStreams!$C$61:$C$173,0))*100)","v":""},"",null,null,null,null,null,null,null,null,null,null,null,null,null,null,null,null,null,null,null,null,null,null,null,null,null,{"$f":"IF($BA34,\"\",INDEX(C_SourceStreams!BT$61:BT$173,MATCH($C34,C_SourceStreams!$C$61:$C$173,0)))","v":""},{"$f":"IF($BA34,\"\",INDEX(C_SourceStreams!BU$61:BU$173,MATCH($C34,C_SourceStreams!$C$61:$C$173,0)))","v":""},{"$f":"IF($BA34,\"\",INDEX(C_SourceStreams!BV$61:BV$173,MATCH($C34,C_SourceStreams!$C$61:$C$173,0)))","v":""},{"$f":"IF($BA34,\"\",INDEX(C_SourceStreams!BW$61:BW$173,MATCH($C34,C_SourceStreams!$C$61:$C$173,0)))","v":""},{"$f":"IF($BA34,\"\",INDEX(C_SourceStreams!BX$61:BX$173,MATCH($C34,C_SourceStreams!$C$61:$C$173,0)))","v":""},null,{"$f":"IF(ISERROR(INDEX(C_SourceStreams!$K$28:$K$10055,MATCH(C34,C_SourceStreams!$C$28:$C$10055,0))),TRUE,INDEX(C_SourceStreams!$K$28:$K$10055,MATCH(C34,C_SourceStreams!$C$28:$C$10055,0))=\"\")","v":true}]
[null,null,32,{"$f":"IF($BA35,\"\",INDEX(C_SourceStreams!$K$61:$K$173,MATCH($C35,C_SourceStreams!$C$61:$C$173,0)))","v":""},{"$f":"IF($BA35,\"\",INDEX(C_SourceStreams!$E$61:$E$173,MATCH($C35,C_SourceStreams!$C$61:$C$173,0)))","v":""},{"$f":"IF($BA35,\"\",INDEX(C_SourceStreams!BH$61:BH$173,MATCH($C35,C_SourceStreams!$C$61:$C$173,0)))","v":""},{"$f":"IF($BA35,\"\",INDEX(C_SourceStreams!BI$61:BI$173,MATCH($C35,C_SourceStreams!$C$61:$C$173,0)))","v":""},{"$f":"IF($BA35,\"\",INDEX(C_SourceStreams!BL$61:BL$173,MATCH($C35,C_SourceStreams!$C$61:$C$173,0)))","v":""},{"$f":"IF($BA35,\"\",INDEX(C_SourceStreams!BM$61:BM$173,MATCH($C35,C_SourceStreams!$C$61:$C$173,0)))","v":""},{"$f":"IF($BA35,\"\",INDEX(C_SourceStreams!BJ$61:BJ$173,MATCH($C35,C_SourceStreams!$C$61:$C$173,0)))","v":""},{"$f":"IF($BA35,\"\",INDEX(C_SourceStreams!BK$61:BK$173,MATCH($C35,C_SourceStreams!$C$61:$C$173,0)))","v":""},{"$f":"IF($BA35,\"\",INDEX(C_SourceStreams!BP$61:BP$173,MATCH($C35,C_SourceStreams!$C$61:$C$173,0)))","v":""},{"$f":"IF($BA35,\"\",INDEX(C_SourceStreams!BQ$61:BQ$173,MATCH($C35,C_SourceStreams!$C$61:$C$173,0)))","v":""},{"$f":"IF($BA35,\"\",INDEX(C_SourceStreams!BN$61:BN$173,MATCH($C35,C_SourceStreams!$C$61:$C$173,0))*100)","v":""},"",{"$f":"IF($BA35,\"\",INDEX(C_SourceStreams!BO$61:BO$173,MATCH($C35,C_SourceStreams!$C$61:$C$173,0))*100)","v":""},"",{"$f":"IF($BA35,\"\",INDEX(C_SourceStreams!BR$61:BR$173,MATCH($C35,C_SourceStreams!$C$61:$C$173,0))*100)","v":""},"",{"$f":"IF($BA35,\"\",INDEX(C_SourceStreams!BS$61:BS$173,MATCH($C35,C_SourceStreams!$C$61:$C$173,0))*100)","v":""},"",null,null,null,null,null,null,null,null,null,null,null,null,null,null,null,null,null,null,null,null,null,null,null,null,null,{"$f":"IF($BA35,\"\",INDEX(C_SourceStreams!BT$61:BT$173,MATCH($C35,C_SourceStreams!$C$61:$C$173,0)))","v":""},{"$f":"IF($BA35,\"\",INDEX(C_SourceStreams!BU$61:BU$173,MATCH($C35,C_SourceStreams!$C$61:$C$173,0)))","v":""},{"$f":"IF($BA35,\"\",INDEX(C_SourceStreams!BV$61:BV$173,MATCH($C35,C_SourceStreams!$C$61:$C$173,0)))","v":""},{"$f":"IF($BA35,\"\",INDEX(C_SourceStreams!BW$61:BW$173,MATCH($C35,C_SourceStreams!$C$61:$C$173,0)))","v":""},{"$f":"IF($BA35,\"\",INDEX(C_SourceStreams!BX$61:BX$173,MATCH($C35,C_SourceStreams!$C$61:$C$173,0)))","v":""},null,{"$f":"IF(ISERROR(INDEX(C_SourceStreams!$K$28:$K$10055,MATCH(C35,C_SourceStreams!$C$28:$C$10055,0))),TRUE,INDEX(C_SourceStreams!$K$28:$K$10055,MATCH(C35,C_SourceStreams!$C$28:$C$10055,0))=\"\")","v":true}]
[null,null,33,{"$f":"IF($BA36,\"\",INDEX(C_SourceStreams!$K$61:$K$173,MATCH($C36,C_SourceStreams!$C$61:$C$173,0)))","v":""},{"$f":"IF($BA36,\"\",INDEX(C_SourceStreams!$E$61:$E$173,MATCH($C36,C_SourceStreams!$C$61:$C$173,0)))","v":""},{"$f":"IF($BA36,\"\",INDEX(C_SourceStreams!BH$61:BH$173,MATCH($C36,C_SourceStreams!$C$61:$C$173,0)))","v":""},{"$f":"IF($BA36,\"\",INDEX(C_SourceStreams!BI$61:BI$173,MATCH($C36,C_SourceStreams!$C$61:$C$173,0)))","v":""},{"$f":"IF($BA36,\"\",INDEX(C_SourceStreams!BL$61:BL$173,MATCH($C36,C_SourceStreams!$C$61:$C$173,0)))","v":""},{"$f":"IF($BA36,\"\",INDEX(C_SourceStreams!BM$61:BM$173,MATCH($C36,C_SourceStreams!$C$61:$C$173,0)))","v":""},{"$f":"IF($BA36,\"\",INDEX(C_SourceStreams!BJ$61:BJ$173,MATCH($C36,C_SourceStreams!$C$61:$C$173,0)))","v":""},{"$f":"IF($BA36,\"\",INDEX(C_SourceStreams!BK$61:BK$173,MATCH($C36,C_SourceStreams!$C$61:$C$173,0)))","v":""},{"$f":"IF($BA36,\"\",INDEX(C_SourceStreams!BP$61:BP$173,MATCH($C36,C_SourceStreams!$C$61:$C$173,0)))","v":""},{"$f":"IF($BA36,\"\",INDEX(C_SourceStreams!BQ$61:BQ$173,MATCH($C36,C_SourceStreams!$C$61:$C$173,0)))","v":""},{"$f":"IF($BA36,\"\",INDEX(C_SourceStreams!BN$61:BN$173,MATCH($C36,C_SourceStreams!$C$61:$C$173,0))*100)","v":""},"",{"$f":"IF($BA36,\"\",INDEX(C_SourceStreams!BO$61:BO$173,MATCH($C36,C_SourceStreams!$C$61:$C$173,0))*100)","v":""},"",{"$f":"IF($BA36,\"\",INDEX(C_SourceStreams!BR$61:BR$173,MATCH($C36,C_SourceStreams!$C$61:$C$173,0))*100)","v":""},"",{"$f":"IF($BA36,\"\",INDEX(C_SourceStreams!BS$61:BS$173,MATCH($C36,C_SourceStreams!$C$61:$C$173,0))*100)","v":""},"",null,null,null,null,null,null,null,null,null,null,null,null,null,null,null,null,null,null,null,null,null,null,null,null,null,{"$f":"IF($BA36,\"\",INDEX(C_SourceStreams!BT$61:BT$173,MATCH($C36,C_SourceStreams!$C$61:$C$173,0)))","v":""},{"$f":"IF($BA36,\"\",INDEX(C_SourceStreams!BU$61:BU$173,MATCH($C36,C_SourceStreams!$C$61:$C$173,0)))","v":""},{"$f":"IF($BA36,\"\",INDEX(C_SourceStreams!BV$61:BV$173,MATCH($C36,C_SourceStreams!$C$61:$C$173,0)))","v":""},{"$f":"IF($BA36,\"\",INDEX(C_SourceStreams!BW$61:BW$173,MATCH($C36,C_SourceStreams!$C$61:$C$173,0)))","v":""},{"$f":"IF($BA36,\"\",INDEX(C_SourceStreams!BX$61:BX$173,MATCH($C36,C_SourceStreams!$C$61:$C$173,0)))","v":""},null,{"$f":"IF(ISERROR(INDEX(C_SourceStreams!$K$28:$K$10055,MATCH(C36,C_SourceStreams!$C$28:$C$10055,0))),TRUE,INDEX(C_SourceStreams!$K$28:$K$10055,MATCH(C36,C_SourceStreams!$C$28:$C$10055,0))=\"\")","v":true}]
[null,null,34,{"$f":"IF($BA37,\"\",INDEX(C_SourceStreams!$K$61:$K$173,MATCH($C37,C_SourceStreams!$C$61:$C$173,0)))","v":""},{"$f":"IF($BA37,\"\",INDEX(C_SourceStreams!$E$61:$E$173,MATCH($C37,C_SourceStreams!$C$61:$C$173,0)))","v":""},{"$f":"IF($BA37,\"\",INDEX(C_SourceStreams!BH$61:BH$173,MATCH($C37,C_SourceStreams!$C$61:$C$173,0)))","v":""},{"$f":"IF($BA37,\"\",INDEX(C_SourceStreams!BI$61:BI$173,MATCH($C37,C_SourceStreams!$C$61:$C$173,0)))","v":""},{"$f":"IF($BA37,\"\",INDEX(C_SourceStreams!BL$61:BL$173,MATCH($C37,C_SourceStreams!$C$61:$C$173,0)))","v":""},{"$f":"IF($BA37,\"\",INDEX(C_SourceStreams!BM$61:BM$173,MATCH($C37,C_SourceStreams!$C$61:$C$173,0)))","v":""},{"$f":"IF($BA37,\"\",INDEX(C_SourceStreams!BJ$61:BJ$173,MATCH($C37,C_SourceStreams!$C$61:$C$173,0)))","v":""},{"$f":"IF($BA37,\"\",INDEX(C_SourceStreams!BK$61:BK$173,MATCH($C37,C_SourceStreams!$C$61:$C$173,0)))","v":""},{"$f":"IF($BA37,\"\",INDEX(C_SourceStreams!BP$61:BP$173,MATCH($C37,C_SourceStreams!$C$61:$C$173,0)))","v":""},{"$f":"IF($BA37,\"\",INDEX(C_SourceStreams!BQ$61:BQ$173,MATCH($C37,C_SourceStreams!$C$61:$C$173,0)))","v":""},{"$f":"IF($BA37,\"\",INDEX(C_SourceStreams!BN$61:BN$173,MATCH($C37,C_SourceStreams!$C$61:$C$173,0))*100)","v":""},"",{"$f":"IF($BA37,\"\",INDEX(C_SourceStreams!BO$61:BO$173,MATCH($C37,C_SourceStreams!$C$61:$C$173,0))*100)","v":""},"",{"$f":"IF($BA37,\"\",INDEX(C_SourceStreams!BR$61:BR$173,MATCH($C37,C_SourceStreams!$C$61:$C$173,0))*100)","v":""},"",{"$f":"IF($BA37,\"\",INDEX(C_SourceStreams!BS$61:BS$173,MATCH($C37,C_SourceStreams!$C$61:$C$173,0))*100)","v":""},"",null,null,null,null,null,null,null,null,null,null,null,null,null,null,null,null,null,null,null,null,null,null,null,null,null,{"$f":"IF($BA37,\"\",INDEX(C_SourceStreams!BT$61:BT$173,MATCH($C37,C_SourceStreams!$C$61:$C$173,0)))","v":""},{"$f":"IF($BA37,\"\",INDEX(C_SourceStreams!BU$61:BU$173,MATCH($C37,C_SourceStreams!$C$61:$C$173,0)))","v":""},{"$f":"IF($BA37,\"\",INDEX(C_SourceStreams!BV$61:BV$173,MATCH($C37,C_SourceStreams!$C$61:$C$173,0)))","v":""},{"$f":"IF($BA37,\"\",INDEX(C_SourceStreams!BW$61:BW$173,MATCH($C37,C_SourceStreams!$C$61:$C$173,0)))","v":""},{"$f":"IF($BA37,\"\",INDEX(C_SourceStreams!BX$61:BX$173,MATCH($C37,C_SourceStreams!$C$61:$C$173,0)))","v":""},null,{"$f":"IF(ISERROR(INDEX(C_SourceStreams!$K$28:$K$10055,MATCH(C37,C_SourceStreams!$C$28:$C$10055,0))),TRUE,INDEX(C_SourceStreams!$K$28:$K$10055,MATCH(C37,C_SourceStreams!$C$28:$C$10055,0))=\"\")","v":true}]
[null,null,35,{"$f":"IF($BA38,\"\",INDEX(C_SourceStreams!$K$61:$K$173,MATCH($C38,C_SourceStreams!$C$61:$C$173,0)))","v":""},{"$f":"IF($BA38,\"\",INDEX(C_SourceStreams!$E$61:$E$173,MATCH($C38,C_SourceStreams!$C$61:$C$173,0)))","v":""},{"$f":"IF($BA38,\"\",INDEX(C_SourceStreams!BH$61:BH$173,MATCH($C38,C_SourceStreams!$C$61:$C$173,0)))","v":""},{"$f":"IF($BA38,\"\",INDEX(C_SourceStreams!BI$61:BI$173,MATCH($C38,C_SourceStreams!$C$61:$C$173,0)))","v":""},{"$f":"IF($BA38,\"\",INDEX(C_SourceStreams!BL$61:BL$173,MATCH($C38,C_SourceStreams!$C$61:$C$173,0)))","v":""},{"$f":"IF($BA38,\"\",INDEX(C_SourceStreams!BM$61:BM$173,MATCH($C38,C_SourceStreams!$C$61:$C$173,0)))","v":""},{"$f":"IF($BA38,\"\",INDEX(C_SourceStreams!BJ$61:BJ$173,MATCH($C38,C_SourceStreams!$C$61:$C$173,0)))","v":""},{"$f":"IF($BA38,\"\",INDEX(C_SourceStreams!BK$61:BK$173,MATCH($C38,C_SourceStreams!$C$61:$C$173,0)))","v":""},{"$f":"IF($BA38,\"\",INDEX(C_SourceStreams!BP$61:BP$173,MATCH($C38,C_SourceStreams!$C$61:$C$173,0)))","v":""},{"$f":"IF($BA38,\"\",INDEX(C_SourceStreams!BQ$61:BQ$173,MATCH($C38,C_SourceStreams!$C$61:$C$173,0)))","v":""},{"$f":"IF($BA38,\"\",INDEX(C_SourceStreams!BN$61:BN$173,MATCH($C38,C_SourceStreams!$C$61:$C$173,0))*100)","v":""},"",{"$f":"IF($BA38,\"\",INDEX(C_SourceStreams!BO$61:BO$173,MATCH($C38,C_SourceStreams!$C$61:$C$173,0))*100)","v":""},"",{"$f":"IF($BA38,\"\",INDEX(C_SourceStreams!BR$61:BR$173,MATCH($C38,C_SourceStreams!$C$61:$C$173,0))*100)","v":""},"",{"$f":"IF($BA38,\"\",INDEX(C_SourceStreams!BS$61:BS$173,MATCH($C38,C_SourceStreams!$C$61:$C$173,0))*100)","v":""},"",null,null,null,null,null,null,null,null,null,null,null,null,null,null,null,null,null,null,null,null,null,null,null,null,null,{"$f":"IF($BA38,\"\",INDEX(C_SourceStreams!BT$61:BT$173,MATCH($C38,C_SourceStreams!$C$61:$C$173,0)))","v":""},{"$f":"IF($BA38,\"\",INDEX(C_SourceStreams!BU$61:BU$173,MATCH($C38,C_SourceStreams!$C$61:$C$173,0)))","v":""},{"$f":"IF($BA38,\"\",INDEX(C_SourceStreams!BV$61:BV$173,MATCH($C38,C_SourceStreams!$C$61:$C$173,0)))","v":""},{"$f":"IF($BA38,\"\",INDEX(C_SourceStreams!BW$61:BW$173,MATCH($C38,C_SourceStreams!$C$61:$C$173,0)))","v":""},{"$f":"IF($BA38,\"\",INDEX(C_SourceStreams!BX$61:BX$173,MATCH($C38,C_SourceStreams!$C$61:$C$173,0)))","v":""},null,{"$f":"IF(ISERROR(INDEX(C_SourceStreams!$K$28:$K$10055,MATCH(C38,C_SourceStreams!$C$28:$C$10055,0))),TRUE,INDEX(C_SourceStreams!$K$28:$K$10055,MATCH(C38,C_SourceStreams!$C$28:$C$10055,0))=\"\")","v":true}]
[null,null,36,{"$f":"IF($BA39,\"\",INDEX(C_SourceStreams!$K$61:$K$173,MATCH($C39,C_SourceStreams!$C$61:$C$173,0)))","v":""},{"$f":"IF($BA39,\"\",INDEX(C_SourceStreams!$E$61:$E$173,MATCH($C39,C_SourceStreams!$C$61:$C$173,0)))","v":""},{"$f":"IF($BA39,\"\",INDEX(C_SourceStreams!BH$61:BH$173,MATCH($C39,C_SourceStreams!$C$61:$C$173,0)))","v":""},{"$f":"IF($BA39,\"\",INDEX(C_SourceStreams!BI$61:BI$173,MATCH($C39,C_SourceStreams!$C$61:$C$173,0)))","v":""},{"$f":"IF($BA39,\"\",INDEX(C_SourceStreams!BL$61:BL$173,MATCH($C39,C_SourceStreams!$C$61:$C$173,0)))","v":""},{"$f":"IF($BA39,\"\",INDEX(C_SourceStreams!BM$61:BM$173,MATCH($C39,C_SourceStreams!$C$61:$C$173,0)))","v":""},{"$f":"IF($BA39,\"\",INDEX(C_SourceStreams!BJ$61:BJ$173,MATCH($C39,C_SourceStreams!$C$61:$C$173,0)))","v":""},{"$f":"IF($BA39,\"\",INDEX(C_SourceStreams!BK$61:BK$173,MATCH($C39,C_SourceStreams!$C$61:$C$173,0)))","v":""},{"$f":"IF($BA39,\"\",INDEX(C_SourceStreams!BP$61:BP$173,MATCH($C39,C_SourceStreams!$C$61:$C$173,0)))","v":""},{"$f":"IF($BA39,\"\",INDEX(C_SourceStreams!BQ$61:BQ$173,MATCH($C39,C_SourceStreams!$C$61:$C$173,0)))","v":""},{"$f":"IF($BA39,\"\",INDEX(C_SourceStreams!BN$61:BN$173,MATCH($C39,C_SourceStreams!$C$61:$C$173,0))*100)","v":""},"",{"$f":"IF($BA39,\"\",INDEX(C_SourceStreams!BO$61:BO$173,MATCH($C39,C_SourceStreams!$C$61:$C$173,0))*100)","v":""},"",{"$f":"IF($BA39,\"\",INDEX(C_SourceStreams!BR$61:BR$173,MATCH($C39,C_SourceStreams!$C$61:$C$173,0))*100)","v":""},"",{"$f":"IF($BA39,\"\",INDEX(C_SourceStreams!BS$61:BS$173,MATCH($C39,C_SourceStreams!$C$61:$C$173,0))*100)","v":""},"",null,null,null,null,null,null,null,null,null,null,null,null,null,null,null,null,null,null,null,null,null,null,null,null,null,{"$f":"IF($BA39,\"\",INDEX(C_SourceStreams!BT$61:BT$173,MATCH($C39,C_SourceStreams!$C$61:$C$173,0)))","v":""},{"$f":"IF($BA39,\"\",INDEX(C_SourceStreams!BU$61:BU$173,MATCH($C39,C_SourceStreams!$C$61:$C$173,0)))","v":""},{"$f":"IF($BA39,\"\",INDEX(C_SourceStreams!BV$61:BV$173,MATCH($C39,C_SourceStreams!$C$61:$C$173,0)))","v":""},{"$f":"IF($BA39,\"\",INDEX(C_SourceStreams!BW$61:BW$173,MATCH($C39,C_SourceStreams!$C$61:$C$173,0)))","v":""},{"$f":"IF($BA39,\"\",INDEX(C_SourceStreams!BX$61:BX$173,MATCH($C39,C_SourceStreams!$C$61:$C$173,0)))","v":""},null,{"$f":"IF(ISERROR(INDEX(C_SourceStreams!$K$28:$K$10055,MATCH(C39,C_SourceStreams!$C$28:$C$10055,0))),TRUE,INDEX(C_SourceStreams!$K$28:$K$10055,MATCH(C39,C_SourceStreams!$C$28:$C$10055,0))=\"\")","v":true}]
[null,null,37,{"$f":"IF($BA40,\"\",INDEX(C_SourceStreams!$K$61:$K$173,MATCH($C40,C_SourceStreams!$C$61:$C$173,0)))","v":""},{"$f":"IF($BA40,\"\",INDEX(C_SourceStreams!$E$61:$E$173,MATCH($C40,C_SourceStreams!$C$61:$C$173,0)))","v":""},{"$f":"IF($BA40,\"\",INDEX(C_SourceStreams!BH$61:BH$173,MATCH($C40,C_SourceStreams!$C$61:$C$173,0)))","v":""},{"$f":"IF($BA40,\"\",INDEX(C_SourceStreams!BI$61:BI$173,MATCH($C40,C_SourceStreams!$C$61:$C$173,0)))","v":""},{"$f":"IF($BA40,\"\",INDEX(C_SourceStreams!BL$61:BL$173,MATCH($C40,C_SourceStreams!$C$61:$C$173,0)))","v":""},{"$f":"IF($BA40,\"\",INDEX(C_SourceStreams!BM$61:BM$173,MATCH($C40,C_SourceStreams!$C$61:$C$173,0)))","v":""},{"$f":"IF($BA40,\"\",INDEX(C_SourceStreams!BJ$61:BJ$173,MATCH($C40,C_SourceStreams!$C$61:$C$173,0)))","v":""},{"$f":"IF($BA40,\"\",INDEX(C_SourceStreams!BK$61:BK$173,MATCH($C40,C_SourceStreams!$C$61:$C$173,0)))","v":""},{"$f":"IF($BA40,\"\",INDEX(C_SourceStreams!BP$61:BP$173,MATCH($C40,C_SourceStreams!$C$61:$C$173,0)))","v":""},{"$f":"IF($BA40,\"\",INDEX(C_SourceStreams!BQ$61:BQ$173,MATCH($C40,C_SourceStreams!$C$61:$C$173,0)))","v":""},{"$f":"IF($BA40,\"\",INDEX(C_SourceStreams!BN$61:BN$173,MATCH($C40,C_SourceStreams!$C$61:$C$173,0))*100)","v":""},"",{"$f":"IF($BA40,\"\",INDEX(C_SourceStreams!BO$61:BO$173,MATCH($C40,C_SourceStreams!$C$61:$C$173,0))*100)","v":""},"",{"$f":"IF($BA40,\"\",INDEX(C_SourceStreams!BR$61:BR$173,MATCH($C40,C_SourceStreams!$C$61:$C$173,0))*100)","v":""},"",{"$f":"IF($BA40,\"\",INDEX(C_SourceStreams!BS$61:BS$173,MATCH($C40,C_SourceStreams!$C$61:$C$173,0))*100)","v":""},"",null,null,null,null,null,null,null,null,null,null,null,null,null,null,null,null,null,null,null,null,null,null,null,null,null,{"$f":"IF($BA40,\"\",INDEX(C_SourceStreams!BT$61:BT$173,MATCH($C40,C_SourceStreams!$C$61:$C$173,0)))","v":""},{"$f":"IF($BA40,\"\",INDEX(C_SourceStreams!BU$61:BU$173,MATCH($C40,C_SourceStreams!$C$61:$C$173,0)))","v":""},{"$f":"IF($BA40,\"\",INDEX(C_SourceStreams!BV$61:BV$173,MATCH($C40,C_SourceStreams!$C$61:$C$173,0)))","v":""},{"$f":"IF($BA40,\"\",INDEX(C_SourceStreams!BW$61:BW$173,MATCH($C40,C_SourceStreams!$C$61:$C$173,0)))","v":""},{"$f":"IF($BA40,\"\",INDEX(C_SourceStreams!BX$61:BX$173,MATCH($C40,C_SourceStreams!$C$61:$C$173,0)))","v":""},null,{"$f":"IF(ISERROR(INDEX(C_SourceStreams!$K$28:$K$10055,MATCH(C40,C_SourceStreams!$C$28:$C$10055,0))),TRUE,INDEX(C_SourceStreams!$K$28:$K$10055,MATCH(C40,C_SourceStreams!$C$28:$C$10055,0))=\"\")","v":true}]
[null,null,38,{"$f":"IF($BA41,\"\",INDEX(C_SourceStreams!$K$61:$K$173,MATCH($C41,C_SourceStreams!$C$61:$C$173,0)))","v":""},{"$f":"IF($BA41,\"\",INDEX(C_SourceStreams!$E$61:$E$173,MATCH($C41,C_SourceStreams!$C$61:$C$173,0)))","v":""},{"$f":"IF($BA41,\"\",INDEX(C_SourceStreams!BH$61:BH$173,MATCH($C41,C_SourceStreams!$C$61:$C$173,0)))","v":""},{"$f":"IF($BA41,\"\",INDEX(C_SourceStreams!BI$61:BI$173,MATCH($C41,C_SourceStreams!$C$61:$C$173,0)))","v":""},{"$f":"IF($BA41,\"\",INDEX(C_SourceStreams!BL$61:BL$173,MATCH($C41,C_SourceStreams!$C$61:$C$173,0)))","v":""},{"$f":"IF($BA41,\"\",INDEX(C_SourceStreams!BM$61:BM$173,MATCH($C41,C_SourceStreams!$C$61:$C$173,0)))","v":""},{"$f":"IF($BA41,\"\",INDEX(C_SourceStreams!BJ$61:BJ$173,MATCH($C41,C_SourceStreams!$C$61:$C$173,0)))","v":""},{"$f":"IF($BA41,\"\",INDEX(C_SourceStreams!BK$61:BK$173,MATCH($C41,C_SourceStreams!$C$61:$C$173,0)))","v":""},{"$f":"IF($BA41,\"\",INDEX(C_SourceStreams!BP$61:BP$173,MATCH($C41,C_SourceStreams!$C$61:$C$173,0)))","v":""},{"$f":"IF($BA41,\"\",INDEX(C_SourceStreams!BQ$61:BQ$173,MATCH($C41,C_SourceStreams!$C$61:$C$173,0)))","v":""},{"$f":"IF($BA41,\"\",INDEX(C_SourceStreams!BN$61:BN$173,MATCH($C41,C_SourceStreams!$C$61:$C$173,0))*100)","v":""},"",{"$f":"IF($BA41,\"\",INDEX(C_SourceStreams!BO$61:BO$173,MATCH($C41,C_SourceStreams!$C$61:$C$173,0))*100)","v":""},"",{"$f":"IF($BA41,\"\",INDEX(C_SourceStreams!BR$61:BR$173,MATCH($C41,C_SourceStreams!$C$61:$C$173,0))*100)","v":""},"",{"$f":"IF($BA41,\"\",INDEX(C_SourceStreams!BS$61:BS$173,MATCH($C41,C_SourceStreams!$C$61:$C$173,0))*100)","v":""},"",null,null,null,null,null,null,null,null,null,null,null,null,null,null,null,null,null,null,null,null,null,null,null,null,null,{"$f":"IF($BA41,\"\",INDEX(C_SourceStreams!BT$61:BT$173,MATCH($C41,C_SourceStreams!$C$61:$C$173,0)))","v":""},{"$f":"IF($BA41,\"\",INDEX(C_SourceStreams!BU$61:BU$173,MATCH($C41,C_SourceStreams!$C$61:$C$173,0)))","v":""},{"$f":"IF($BA41,\"\",INDEX(C_SourceStreams!BV$61:BV$173,MATCH($C41,C_SourceStreams!$C$61:$C$173,0)))","v":""},{"$f":"IF($BA41,\"\",INDEX(C_SourceStreams!BW$61:BW$173,MATCH($C41,C_SourceStreams!$C$61:$C$173,0)))","v":""},{"$f":"IF($BA41,\"\",INDEX(C_SourceStreams!BX$61:BX$173,MATCH($C41,C_SourceStreams!$C$61:$C$173,0)))","v":""},null,{"$f":"IF(ISERROR(INDEX(C_SourceStreams!$K$28:$K$10055,MATCH(C41,C_SourceStreams!$C$28:$C$10055,0))),TRUE,INDEX(C_SourceStreams!$K$28:$K$10055,MATCH(C41,C_SourceStreams!$C$28:$C$10055,0))=\"\")","v":true}]
[null,null,39,{"$f":"IF($BA42,\"\",INDEX(C_SourceStreams!$K$61:$K$173,MATCH($C42,C_SourceStreams!$C$61:$C$173,0)))","v":""},{"$f":"IF($BA42,\"\",INDEX(C_SourceStreams!$E$61:$E$173,MATCH($C42,C_SourceStreams!$C$61:$C$173,0)))","v":""},{"$f":"IF($BA42,\"\",INDEX(C_SourceStreams!BH$61:BH$173,MATCH($C42,C_SourceStreams!$C$61:$C$173,0)))","v":""},{"$f":"IF($BA42,\"\",INDEX(C_SourceStreams!BI$61:BI$173,MATCH($C42,C_SourceStreams!$C$61:$C$173,0)))","v":""},{"$f":"IF($BA42,\"\",INDEX(C_SourceStreams!BL$61:BL$173,MATCH($C42,C_SourceStreams!$C$61:$C$173,0)))","v":""},{"$f":"IF($BA42,\"\",INDEX(C_SourceStreams!BM$61:BM$173,MATCH($C42,C_SourceStreams!$C$61:$C$173,0)))","v":""},{"$f":"IF($BA42,\"\",INDEX(C_SourceStreams!BJ$61:BJ$173,MATCH($C42,C_SourceStreams!$C$61:$C$173,0)))","v":""},{"$f":"IF($BA42,\"\",INDEX(C_SourceStreams!BK$61:BK$173,MATCH($C42,C_SourceStreams!$C$61:$C$173,0)))","v":""},{"$f":"IF($BA42,\"\",INDEX(C_SourceStreams!BP$61:BP$173,MATCH($C42,C_SourceStreams!$C$61:$C$173,0)))","v":""},{"$f":"IF($BA42,\"\",INDEX(C_SourceStreams!BQ$61:BQ$173,MATCH($C42,C_SourceStreams!$C$61:$C$173,0)))","v":""},{"$f":"IF($BA42,\"\",INDEX(C_SourceStreams!BN$61:BN$173,MATCH($C42,C_SourceStreams!$C$61:$C$173,0))*100)","v":""},"",{"$f":"IF($BA42,\"\",INDEX(C_SourceStreams!BO$61:BO$173,MATCH($C42,C_SourceStreams!$C$61:$C$173,0))*100)","v":""},"",{"$f":"IF($BA42,\"\",INDEX(C_SourceStreams!BR$61:BR$173,MATCH($C42,C_SourceStreams!$C$61:$C$173,0))*100)","v":""},"",{"$f":"IF($BA42,\"\",INDEX(C_SourceStreams!BS$61:BS$173,MATCH($C42,C_SourceStreams!$C$61:$C$173,0))*100)","v":""},"",null,null,null,null,null,null,null,null,null,null,null,null,null,null,null,null,null,null,null,null,null,null,null,null,null,{"$f":"IF($BA42,\"\",INDEX(C_SourceStreams!BT$61:BT$173,MATCH($C42,C_SourceStreams!$C$61:$C$173,0)))","v":""},{"$f":"IF($BA42,\"\",INDEX(C_SourceStreams!BU$61:BU$173,MATCH($C42,C_SourceStreams!$C$61:$C$173,0)))","v":""},{"$f":"IF($BA42,\"\",INDEX(C_SourceStreams!BV$61:BV$173,MATCH($C42,C_SourceStreams!$C$61:$C$173,0)))","v":""},{"$f":"IF($BA42,\"\",INDEX(C_SourceStreams!BW$61:BW$173,MATCH($C42,C_SourceStreams!$C$61:$C$173,0)))","v":""},{"$f":"IF($BA42,\"\",INDEX(C_SourceStreams!BX$61:BX$173,MATCH($C42,C_SourceStreams!$C$61:$C$173,0)))","v":""},null,{"$f":"IF(ISERROR(INDEX(C_SourceStreams!$K$28:$K$10055,MATCH(C42,C_SourceStreams!$C$28:$C$10055,0))),TRUE,INDEX(C_SourceStreams!$K$28:$K$10055,MATCH(C42,C_SourceStreams!$C$28:$C$10055,0))=\"\")","v":true}]
[null,null,40,{"$f":"IF($BA43,\"\",INDEX(C_SourceStreams!$K$61:$K$173,MATCH($C43,C_SourceStreams!$C$61:$C$173,0)))","v":""},{"$f":"IF($BA43,\"\",INDEX(C_SourceStreams!$E$61:$E$173,MATCH($C43,C_SourceStreams!$C$61:$C$173,0)))","v":""},{"$f":"IF($BA43,\"\",INDEX(C_SourceStreams!BH$61:BH$173,MATCH($C43,C_SourceStreams!$C$61:$C$173,0)))","v":""},{"$f":"IF($BA43,\"\",INDEX(C_SourceStreams!BI$61:BI$173,MATCH($C43,C_SourceStreams!$C$61:$C$173,0)))","v":""},{"$f":"IF($BA43,\"\",INDEX(C_SourceStreams!BL$61:BL$173,MATCH($C43,C_SourceStreams!$C$61:$C$173,0)))","v":""},{"$f":"IF($BA43,\"\",INDEX(C_SourceStreams!BM$61:BM$173,MATCH($C43,C_SourceStreams!$C$61:$C$173,0)))","v":""},{"$f":"IF($BA43,\"\",INDEX(C_SourceStreams!BJ$61:BJ$173,MATCH($C43,C_SourceStreams!$C$61:$C$173,0)))","v":""},{"$f":"IF($BA43,\"\",INDEX(C_SourceStreams!BK$61:BK$173,MATCH($C43,C_SourceStreams!$C$61:$C$173,0)))","v":""},{"$f":"IF($BA43,\"\",INDEX(C_SourceStreams!BP$61:BP$173,MATCH($C43,C_SourceStreams!$C$61:$C$173,0)))","v":""},{"$f":"IF($BA43,\"\",INDEX(C_SourceStreams!BQ$61:BQ$173,MATCH($C43,C_SourceStreams!$C$61:$C$173,0)))","v":""},{"$f":"IF($BA43,\"\",INDEX(C_SourceStreams!BN$61:BN$173,MATCH($C43,C_SourceStreams!$C$61:$C$173,0))*100)","v":""},"",{"$f":"IF($BA43,\"\",INDEX(C_SourceStreams!BO$61:BO$173,MATCH($C43,C_SourceStreams!$C$61:$C$173,0))*100)","v":""},"",{"$f":"IF($BA43,\"\",INDEX(C_SourceStreams!BR$61:BR$173,MATCH($C43,C_SourceStreams!$C$61:$C$173,0))*100)","v":""},"",{"$f":"IF($BA43,\"\",INDEX(C_SourceStreams!BS$61:BS$173,MATCH($C43,C_SourceStreams!$C$61:$C$173,0))*100)","v":""},"",null,null,null,null,null,null,null,null,null,null,null,null,null,null,null,null,null,null,null,null,null,null,null,null,null,{"$f":"IF($BA43,\"\",INDEX(C_SourceStreams!BT$61:BT$173,MATCH($C43,C_SourceStreams!$C$61:$C$173,0)))","v":""},{"$f":"IF($BA43,\"\",INDEX(C_SourceStreams!BU$61:BU$173,MATCH($C43,C_SourceStreams!$C$61:$C$173,0)))","v":""},{"$f":"IF($BA43,\"\",INDEX(C_SourceStreams!BV$61:BV$173,MATCH($C43,C_SourceStreams!$C$61:$C$173,0)))","v":""},{"$f":"IF($BA43,\"\",INDEX(C_SourceStreams!BW$61:BW$173,MATCH($C43,C_SourceStreams!$C$61:$C$173,0)))","v":""},{"$f":"IF($BA43,\"\",INDEX(C_SourceStreams!BX$61:BX$173,MATCH($C43,C_SourceStreams!$C$61:$C$173,0)))","v":""},null,{"$f":"IF(ISERROR(INDEX(C_SourceStreams!$K$28:$K$10055,MATCH(C43,C_SourceStreams!$C$28:$C$10055,0))),TRUE,INDEX(C_SourceStreams!$K$28:$K$10055,MATCH(C43,C_SourceStreams!$C$28:$C$10055,0))=\"\")","v":true}]
[null,null,41,{"$f":"IF($BA44,\"\",INDEX(C_SourceStreams!$K$61:$K$173,MATCH($C44,C_SourceStreams!$C$61:$C$173,0)))","v":""},{"$f":"IF($BA44,\"\",INDEX(C_SourceStreams!$E$61:$E$173,MATCH($C44,C_SourceStreams!$C$61:$C$173,0)))","v":""},{"$f":"IF($BA44,\"\",INDEX(C_SourceStreams!BH$61:BH$173,MATCH($C44,C_SourceStreams!$C$61:$C$173,0)))","v":""},{"$f":"IF($BA44,\"\",INDEX(C_SourceStreams!BI$61:BI$173,MATCH($C44,C_SourceStreams!$C$61:$C$173,0)))","v":""},{"$f":"IF($BA44,\"\",INDEX(C_SourceStreams!BL$61:BL$173,MATCH($C44,C_SourceStreams!$C$61:$C$173,0)))","v":""},{"$f":"IF($BA44,\"\",INDEX(C_SourceStreams!BM$61:BM$173,MATCH($C44,C_SourceStreams!$C$61:$C$173,0)))","v":""},{"$f":"IF($BA44,\"\",INDEX(C_SourceStreams!BJ$61:BJ$173,MATCH($C44,C_SourceStreams!$C$61:$C$173,0)))","v":""},{"$f":"IF($BA44,\"\",INDEX(C_SourceStreams!BK$61:BK$173,MATCH($C44,C_SourceStreams!$C$61:$C$173,0)))","v":""},{"$f":"IF($BA44,\"\",INDEX(C_SourceStreams!BP$61:BP$173,MATCH($C44,C_SourceStreams!$C$61:$C$173,0)))","v":""},{"$f":"IF($BA44,\"\",INDEX(C_SourceStreams!BQ$61:BQ$173,MATCH($C44,C_SourceStreams!$C$61:$C$173,0)))","v":""},{"$f":"IF($BA44,\"\",INDEX(C_SourceStreams!BN$61:BN$173,MATCH($C44,C_SourceStreams!$C$61:$C$173,0))*100)","v":""},"",{"$f":"IF($BA44,\"\",INDEX(C_SourceStreams!BO$61:BO$173,MATCH($C44,C_SourceStreams!$C$61:$C$173,0))*100)","v":""},"",{"$f":"IF($BA44,\"\",INDEX(C_SourceStreams!BR$61:BR$173,MATCH($C44,C_SourceStreams!$C$61:$C$173,0))*100)","v":""},"",{"$f":"IF($BA44,\"\",INDEX(C_SourceStreams!BS$61:BS$173,MATCH($C44,C_SourceStreams!$C$61:$C$173,0))*100)","v":""},"",null,null,null,null,null,null,null,null,null,null,null,null,null,null,null,null,null,null,null,null,null,null,null,null,null,{"$f":"IF($BA44,\"\",INDEX(C_SourceStreams!BT$61:BT$173,MATCH($C44,C_SourceStreams!$C$61:$C$173,0)))","v":""},{"$f":"IF($BA44,\"\",INDEX(C_SourceStreams!BU$61:BU$173,MATCH($C44,C_SourceStreams!$C$61:$C$173,0)))","v":""},{"$f":"IF($BA44,\"\",INDEX(C_SourceStreams!BV$61:BV$173,MATCH($C44,C_SourceStreams!$C$61:$C$173,0)))","v":""},{"$f":"IF($BA44,\"\",INDEX(C_SourceStreams!BW$61:BW$173,MATCH($C44,C_SourceStreams!$C$61:$C$173,0)))","v":""},{"$f":"IF($BA44,\"\",INDEX(C_SourceStreams!BX$61:BX$173,MATCH($C44,C_SourceStreams!$C$61:$C$173,0)))","v":""},null,{"$f":"IF(ISERROR(INDEX(C_SourceStreams!$K$28:$K$10055,MATCH(C44,C_SourceStreams!$C$28:$C$10055,0))),TRUE,INDEX(C_SourceStreams!$K$28:$K$10055,MATCH(C44,C_SourceStreams!$C$28:$C$10055,0))=\"\")","v":true}]
[null,null,42,{"$f":"IF($BA45,\"\",INDEX(C_SourceStreams!$K$61:$K$173,MATCH($C45,C_SourceStreams!$C$61:$C$173,0)))","v":""},{"$f":"IF($BA45,\"\",INDEX(C_SourceStreams!$E$61:$E$173,MATCH($C45,C_SourceStreams!$C$61:$C$173,0)))","v":""},{"$f":"IF($BA45,\"\",INDEX(C_SourceStreams!BH$61:BH$173,MATCH($C45,C_SourceStreams!$C$61:$C$173,0)))","v":""},{"$f":"IF($BA45,\"\",INDEX(C_SourceStreams!BI$61:BI$173,MATCH($C45,C_SourceStreams!$C$61:$C$173,0)))","v":""},{"$f":"IF($BA45,\"\",INDEX(C_SourceStreams!BL$61:BL$173,MATCH($C45,C_SourceStreams!$C$61:$C$173,0)))","v":""},{"$f":"IF($BA45,\"\",INDEX(C_SourceStreams!BM$61:BM$173,MATCH($C45,C_SourceStreams!$C$61:$C$173,0)))","v":""},{"$f":"IF($BA45,\"\",INDEX(C_SourceStreams!BJ$61:BJ$173,MATCH($C45,C_SourceStreams!$C$61:$C$173,0)))","v":""},{"$f":"IF($BA45,\"\",INDEX(C_SourceStreams!BK$61:BK$173,MATCH($C45,C_SourceStreams!$C$61:$C$173,0)))","v":""},{"$f":"IF($BA45,\"\",INDEX(C_SourceStreams!BP$61:BP$173,MATCH($C45,C_SourceStreams!$C$61:$C$173,0)))","v":""},{"$f":"IF($BA45,\"\",INDEX(C_SourceStreams!BQ$61:BQ$173,MATCH($C45,C_SourceStreams!$C$61:$C$173,0)))","v":""},{"$f":"IF($BA45,\"\",INDEX(C_SourceStreams!BN$61:BN$173,MATCH($C45,C_SourceStreams!$C$61:$C$173,0))*100)","v":""},"",{"$f":"IF($BA45,\"\",INDEX(C_SourceStreams!BO$61:BO$173,MATCH($C45,C_SourceStreams!$C$61:$C$173,0))*100)","v":""},"",{"$f":"IF($BA45,\"\",INDEX(C_SourceStreams!BR$61:BR$173,MATCH($C45,C_SourceStreams!$C$61:$C$173,0))*100)","v":""},"",{"$f":"IF($BA45,\"\",INDEX(C_SourceStreams!BS$61:BS$173,MATCH($C45,C_SourceStreams!$C$61:$C$173,0))*100)","v":""},"",null,null,null,null,null,null,null,null,null,null,null,null,null,null,null,null,null,null,null,null,null,null,null,null,null,{"$f":"IF($BA45,\"\",INDEX(C_SourceStreams!BT$61:BT$173,MATCH($C45,C_SourceStreams!$C$61:$C$173,0)))","v":""},{"$f":"IF($BA45,\"\",INDEX(C_SourceStreams!BU$61:BU$173,MATCH($C45,C_SourceStreams!$C$61:$C$173,0)))","v":""},{"$f":"IF($BA45,\"\",INDEX(C_SourceStreams!BV$61:BV$173,MATCH($C45,C_SourceStreams!$C$61:$C$173,0)))","v":""},{"$f":"IF($BA45,\"\",INDEX(C_SourceStreams!BW$61:BW$173,MATCH($C45,C_SourceStreams!$C$61:$C$173,0)))","v":""},{"$f":"IF($BA45,\"\",INDEX(C_SourceStreams!BX$61:BX$173,MATCH($C45,C_SourceStreams!$C$61:$C$173,0)))","v":""},null,{"$f":"IF(ISERROR(INDEX(C_SourceStreams!$K$28:$K$10055,MATCH(C45,C_SourceStreams!$C$28:$C$10055,0))),TRUE,INDEX(C_SourceStreams!$K$28:$K$10055,MATCH(C45,C_SourceStreams!$C$28:$C$10055,0))=\"\")","v":true}]
[null,null,43,{"$f":"IF($BA46,\"\",INDEX(C_SourceStreams!$K$61:$K$173,MATCH($C46,C_SourceStreams!$C$61:$C$173,0)))","v":""},{"$f":"IF($BA46,\"\",INDEX(C_SourceStreams!$E$61:$E$173,MATCH($C46,C_SourceStreams!$C$61:$C$173,0)))","v":""},{"$f":"IF($BA46,\"\",INDEX(C_SourceStreams!BH$61:BH$173,MATCH($C46,C_SourceStreams!$C$61:$C$173,0)))","v":""},{"$f":"IF($BA46,\"\",INDEX(C_SourceStreams!BI$61:BI$173,MATCH($C46,C_SourceStreams!$C$61:$C$173,0)))","v":""},{"$f":"IF($BA46,\"\",INDEX(C_SourceStreams!BL$61:BL$173,MATCH($C46,C_SourceStreams!$C$61:$C$173,0)))","v":""},{"$f":"IF($BA46,\"\",INDEX(C_SourceStreams!BM$61:BM$173,MATCH($C46,C_SourceStreams!$C$61:$C$173,0)))","v":""},{"$f":"IF($BA46,\"\",INDEX(C_SourceStreams!BJ$61:BJ$173,MATCH($C46,C_SourceStreams!$C$61:$C$173,0)))","v":""},{"$f":"IF($BA46,\"\",INDEX(C_SourceStreams!BK$61:BK$173,MATCH($C46,C_SourceStreams!$C$61:$C$173,0)))","v":""},{"$f":"IF($BA46,\"\",INDEX(C_SourceStreams!BP$61:BP$173,MATCH($C46,C_SourceStreams!$C$61:$C$173,0)))","v":""},{"$f":"IF($BA46,\"\",INDEX(C_SourceStreams!BQ$61:BQ$173,MATCH($C46,C_SourceStreams!$C$61:$C$173,0)))","v":""},{"$f":"IF($BA46,\"\",INDEX(C_SourceStreams!BN$61:BN$173,MATCH($C46,C_SourceStreams!$C$61:$C$173,0))*100)","v":""},"",{"$f":"IF($BA46,\"\",INDEX(C_SourceStreams!BO$61:BO$173,MATCH($C46,C_SourceStreams!$C$61:$C$173,0))*100)","v":""},"",{"$f":"IF($BA46,\"\",INDEX(C_SourceStreams!BR$61:BR$173,MATCH($C46,C_SourceStreams!$C$61:$C$173,0))*100)","v":""},"",{"$f":"IF($BA46,\"\",INDEX(C_SourceStreams!BS$61:BS$173,MATCH($C46,C_SourceStreams!$C$61:$C$173,0))*100)","v":""},"",null,null,null,null,null,null,null,null,null,null,null,null,null,null,null,null,null,null,null,null,null,null,null,null,null,{"$f":"IF($BA46,\"\",INDEX(C_SourceStreams!BT$61:BT$173,MATCH($C46,C_SourceStreams!$C$61:$C$173,0)))","v":""},{"$f":"IF($BA46,\"\",INDEX(C_SourceStreams!BU$61:BU$173,MATCH($C46,C_SourceStreams!$C$61:$C$173,0)))","v":""},{"$f":"IF($BA46,\"\",INDEX(C_SourceStreams!BV$61:BV$173,MATCH($C46,C_SourceStreams!$C$61:$C$173,0)))","v":""},{"$f":"IF($BA46,\"\",INDEX(C_SourceStreams!BW$61:BW$173,MATCH($C46,C_SourceStreams!$C$61:$C$173,0)))","v":""},{"$f":"IF($BA46,\"\",INDEX(C_SourceStreams!BX$61:BX$173,MATCH($C46,C_SourceStreams!$C$61:$C$173,0)))","v":""},null,{"$f":"IF(ISERROR(INDEX(C_SourceStreams!$K$28:$K$10055,MATCH(C46,C_SourceStreams!$C$28:$C$10055,0))),TRUE,INDEX(C_SourceStreams!$K$28:$K$10055,MATCH(C46,C_SourceStreams!$C$28:$C$10055,0))=\"\")","v":true}]
[null,null,44,{"$f":"IF($BA47,\"\",INDEX(C_SourceStreams!$K$61:$K$173,MATCH($C47,C_SourceStreams!$C$61:$C$173,0)))","v":""},{"$f":"IF($BA47,\"\",INDEX(C_SourceStreams!$E$61:$E$173,MATCH($C47,C_SourceStreams!$C$61:$C$173,0)))","v":""},{"$f":"IF($BA47,\"\",INDEX(C_SourceStreams!BH$61:BH$173,MATCH($C47,C_SourceStreams!$C$61:$C$173,0)))","v":""},{"$f":"IF($BA47,\"\",INDEX(C_SourceStreams!BI$61:BI$173,MATCH($C47,C_SourceStreams!$C$61:$C$173,0)))","v":""},{"$f":"IF($BA47,\"\",INDEX(C_SourceStreams!BL$61:BL$173,MATCH($C47,C_SourceStreams!$C$61:$C$173,0)))","v":""},{"$f":"IF($BA47,\"\",INDEX(C_SourceStreams!BM$61:BM$173,MATCH($C47,C_SourceStreams!$C$61:$C$173,0)))","v":""},{"$f":"IF($BA47,\"\",INDEX(C_SourceStreams!BJ$61:BJ$173,MATCH($C47,C_SourceStreams!$C$61:$C$173,0)))","v":""},{"$f":"IF($BA47,\"\",INDEX(C_SourceStreams!BK$61:BK$173,MATCH($C47,C_SourceStreams!$C$61:$C$173,0)))","v":""},{"$f":"IF($BA47,\"\",INDEX(C_SourceStreams!BP$61:BP$173,MATCH($C47,C_SourceStreams!$C$61:$C$173,0)))","v":""},{"$f":"IF($BA47,\"\",INDEX(C_SourceStreams!BQ$61:BQ$173,MATCH($C47,C_SourceStreams!$C$61:$C$173,0)))","v":""},{"$f":"IF($BA47,\"\",INDEX(C_SourceStreams!BN$61:BN$173,MATCH($C47,C_SourceStreams!$C$61:$C$173,0))*100)","v":""},"",{"$f":"IF($BA47,\"\",INDEX(C_SourceStreams!BO$61:BO$173,MATCH($C47,C_SourceStreams!$C$61:$C$173,0))*100)","v":""},"",{"$f":"IF($BA47,\"\",INDEX(C_SourceStreams!BR$61:BR$173,MATCH($C47,C_SourceStreams!$C$61:$C$173,0))*100)","v":""},"",{"$f":"IF($BA47,\"\",INDEX(C_SourceStreams!BS$61:BS$173,MATCH($C47,C_SourceStreams!$C$61:$C$173,0))*100)","v":""},"",null,null,null,null,null,null,null,null,null,null,null,null,null,null,null,null,null,null,null,null,null,null,null,null,null,{"$f":"IF($BA47,\"\",INDEX(C_SourceStreams!BT$61:BT$173,MATCH($C47,C_SourceStreams!$C$61:$C$173,0)))","v":""},{"$f":"IF($BA47,\"\",INDEX(C_SourceStreams!BU$61:BU$173,MATCH($C47,C_SourceStreams!$C$61:$C$173,0)))","v":""},{"$f":"IF($BA47,\"\",INDEX(C_SourceStreams!BV$61:BV$173,MATCH($C47,C_SourceStreams!$C$61:$C$173,0)))","v":""},{"$f":"IF($BA47,\"\",INDEX(C_SourceStreams!BW$61:BW$173,MATCH($C47,C_SourceStreams!$C$61:$C$173,0)))","v":""},{"$f":"IF($BA47,\"\",INDEX(C_SourceStreams!BX$61:BX$173,MATCH($C47,C_SourceStreams!$C$61:$C$173,0)))","v":""},null,{"$f":"IF(ISERROR(INDEX(C_SourceStreams!$K$28:$K$10055,MATCH(C47,C_SourceStreams!$C$28:$C$10055,0))),TRUE,INDEX(C_SourceStreams!$K$28:$K$10055,MATCH(C47,C_SourceStreams!$C$28:$C$10055,0))=\"\")","v":true}]
[null,null,45,{"$f":"IF($BA48,\"\",INDEX(C_SourceStreams!$K$61:$K$173,MATCH($C48,C_SourceStreams!$C$61:$C$173,0)))","v":""},{"$f":"IF($BA48,\"\",INDEX(C_SourceStreams!$E$61:$E$173,MATCH($C48,C_SourceStreams!$C$61:$C$173,0)))","v":""},{"$f":"IF($BA48,\"\",INDEX(C_SourceStreams!BH$61:BH$173,MATCH($C48,C_SourceStreams!$C$61:$C$173,0)))","v":""},{"$f":"IF($BA48,\"\",INDEX(C_SourceStreams!BI$61:BI$173,MATCH($C48,C_SourceStreams!$C$61:$C$173,0)))","v":""},{"$f":"IF($BA48,\"\",INDEX(C_SourceStreams!BL$61:BL$173,MATCH($C48,C_SourceStreams!$C$61:$C$173,0)))","v":""},{"$f":"IF($BA48,\"\",INDEX(C_SourceStreams!BM$61:BM$173,MATCH($C48,C_SourceStreams!$C$61:$C$173,0)))","v":""},{"$f":"IF($BA48,\"\",INDEX(C_SourceStreams!BJ$61:BJ$173,MATCH($C48,C_SourceStreams!$C$61:$C$173,0)))","v":""},{"$f":"IF($BA48,\"\",INDEX(C_SourceStreams!BK$61:BK$173,MATCH($C48,C_SourceStreams!$C$61:$C$173,0)))","v":""},{"$f":"IF($BA48,\"\",INDEX(C_SourceStreams!BP$61:BP$173,MATCH($C48,C_SourceStreams!$C$61:$C$173,0)))","v":""},{"$f":"IF($BA48,\"\",INDEX(C_SourceStreams!BQ$61:BQ$173,MATCH($C48,C_SourceStreams!$C$61:$C$173,0)))","v":""},{"$f":"IF($BA48,\"\",INDEX(C_SourceStreams!BN$61:BN$173,MATCH($C48,C_SourceStreams!$C$61:$C$173,0))*100)","v":""},"",{"$f":"IF($BA48,\"\",INDEX(C_SourceStreams!BO$61:BO$173,MATCH($C48,C_SourceStreams!$C$61:$C$173,0))*100)","v":""},"",{"$f":"IF($BA48,\"\",INDEX(C_SourceStreams!BR$61:BR$173,MATCH($C48,C_SourceStreams!$C$61:$C$173,0))*100)","v":""},"",{"$f":"IF($BA48,\"\",INDEX(C_SourceStreams!BS$61:BS$173,MATCH($C48,C_SourceStreams!$C$61:$C$173,0))*100)","v":""},"",null,null,null,null,null,null,null,null,null,null,null,null,null,null,null,null,null,null,null,null,null,null,null,null,null,{"$f":"IF($BA48,\"\",INDEX(C_SourceStreams!BT$61:BT$173,MATCH($C48,C_SourceStreams!$C$61:$C$173,0)))","v":""},{"$f":"IF($BA48,\"\",INDEX(C_SourceStreams!BU$61:BU$173,MATCH($C48,C_SourceStreams!$C$61:$C$173,0)))","v":""},{"$f":"IF($BA48,\"\",INDEX(C_SourceStreams!BV$61:BV$173,MATCH($C48,C_SourceStreams!$C$61:$C$173,0)))","v":""},{"$f":"IF($BA48,\"\",INDEX(C_SourceStreams!BW$61:BW$173,MATCH($C48,C_SourceStreams!$C$61:$C$173,0)))","v":""},{"$f":"IF($BA48,\"\",INDEX(C_SourceStreams!BX$61:BX$173,MATCH($C48,C_SourceStreams!$C$61:$C$173,0)))","v":""},null,{"$f":"IF(ISERROR(INDEX(C_SourceStreams!$K$28:$K$10055,MATCH(C48,C_SourceStreams!$C$28:$C$10055,0))),TRUE,INDEX(C_SourceStreams!$K$28:$K$10055,MATCH(C48,C_SourceStreams!$C$28:$C$10055,0))=\"\")","v":true}]
[null,null,46,{"$f":"IF($BA49,\"\",INDEX(C_SourceStreams!$K$61:$K$173,MATCH($C49,C_SourceStreams!$C$61:$C$173,0)))","v":""},{"$f":"IF($BA49,\"\",INDEX(C_SourceStreams!$E$61:$E$173,MATCH($C49,C_SourceStreams!$C$61:$C$173,0)))","v":""},{"$f":"IF($BA49,\"\",INDEX(C_SourceStreams!BH$61:BH$173,MATCH($C49,C_SourceStreams!$C$61:$C$173,0)))","v":""},{"$f":"IF($BA49,\"\",INDEX(C_SourceStreams!BI$61:BI$173,MATCH($C49,C_SourceStreams!$C$61:$C$173,0)))","v":""},{"$f":"IF($BA49,\"\",INDEX(C_SourceStreams!BL$61:BL$173,MATCH($C49,C_SourceStreams!$C$61:$C$173,0)))","v":""},{"$f":"IF($BA49,\"\",INDEX(C_SourceStreams!BM$61:BM$173,MATCH($C49,C_SourceStreams!$C$61:$C$173,0)))","v":""},{"$f":"IF($BA49,\"\",INDEX(C_SourceStreams!BJ$61:BJ$173,MATCH($C49,C_SourceStreams!$C$61:$C$173,0)))","v":""},{"$f":"IF($BA49,\"\",INDEX(C_SourceStreams!BK$61:BK$173,MATCH($C49,C_SourceStreams!$C$61:$C$173,0)))","v":""},{"$f":"IF($BA49,\"\",INDEX(C_SourceStreams!BP$61:BP$173,MATCH($C49,C_SourceStreams!$C$61:$C$173,0)))","v":""},{"$f":"IF($BA49,\"\",INDEX(C_SourceStreams!BQ$61:BQ$173,MATCH($C49,C_SourceStreams!$C$61:$C$173,0)))","v":""},{"$f":"IF($BA49,\"\",INDEX(C_SourceStreams!BN$61:BN$173,MATCH($C49,C_SourceStreams!$C$61:$C$173,0))*100)","v":""},"",{"$f":"IF($BA49,\"\",INDEX(C_SourceStreams!BO$61:BO$173,MATCH($C49,C_SourceStreams!$C$61:$C$173,0))*100)","v":""},"",{"$f":"IF($BA49,\"\",INDEX(C_SourceStreams!BR$61:BR$173,MATCH($C49,C_SourceStreams!$C$61:$C$173,0))*100)","v":""},"",{"$f":"IF($BA49,\"\",INDEX(C_SourceStreams!BS$61:BS$173,MATCH($C49,C_SourceStreams!$C$61:$C$173,0))*100)","v":""},"",null,null,null,null,null,null,null,null,null,null,null,null,null,null,null,null,null,null,null,null,null,null,null,null,null,{"$f":"IF($BA49,\"\",INDEX(C_SourceStreams!BT$61:BT$173,MATCH($C49,C_SourceStreams!$C$61:$C$173,0)))","v":""},{"$f":"IF($BA49,\"\",INDEX(C_SourceStreams!BU$61:BU$173,MATCH($C49,C_SourceStreams!$C$61:$C$173,0)))","v":""},{"$f":"IF($BA49,\"\",INDEX(C_SourceStreams!BV$61:BV$173,MATCH($C49,C_SourceStreams!$C$61:$C$173,0)))","v":""},{"$f":"IF($BA49,\"\",INDEX(C_SourceStreams!BW$61:BW$173,MATCH($C49,C_SourceStreams!$C$61:$C$173,0)))","v":""},{"$f":"IF($BA49,\"\",INDEX(C_SourceStreams!BX$61:BX$173,MATCH($C49,C_SourceStreams!$C$61:$C$173,0)))","v":""},null,{"$f":"IF(ISERROR(INDEX(C_SourceStreams!$K$28:$K$10055,MATCH(C49,C_SourceStreams!$C$28:$C$10055,0))),TRUE,INDEX(C_SourceStreams!$K$28:$K$10055,MATCH(C49,C_SourceStreams!$C$28:$C$10055,0))=\"\")","v":true}]
[null,null,47,{"$f":"IF($BA50,\"\",INDEX(C_SourceStreams!$K$61:$K$173,MATCH($C50,C_SourceStreams!$C$61:$C$173,0)))","v":""},{"$f":"IF($BA50,\"\",INDEX(C_SourceStreams!$E$61:$E$173,MATCH($C50,C_SourceStreams!$C$61:$C$173,0)))","v":""},{"$f":"IF($BA50,\"\",INDEX(C_SourceStreams!BH$61:BH$173,MATCH($C50,C_SourceStreams!$C$61:$C$173,0)))","v":""},{"$f":"IF($BA50,\"\",INDEX(C_SourceStreams!BI$61:BI$173,MATCH($C50,C_SourceStreams!$C$61:$C$173,0)))","v":""},{"$f":"IF($BA50,\"\",INDEX(C_SourceStreams!BL$61:BL$173,MATCH($C50,C_SourceStreams!$C$61:$C$173,0)))","v":""},{"$f":"IF($BA50,\"\",INDEX(C_SourceStreams!BM$61:BM$173,MATCH($C50,C_SourceStreams!$C$61:$C$173,0)))","v":""},{"$f":"IF($BA50,\"\",INDEX(C_SourceStreams!BJ$61:BJ$173,MATCH($C50,C_SourceStreams!$C$61:$C$173,0)))","v":""},{"$f":"IF($BA50,\"\",INDEX(C_SourceStreams!BK$61:BK$173,MATCH($C50,C_SourceStreams!$C$61:$C$173,0)))","v":""},{"$f":"IF($BA50,\"\",INDEX(C_SourceStreams!BP$61:BP$173,MATCH($C50,C_SourceStreams!$C$61:$C$173,0)))","v":""},{"$f":"IF($BA50,\"\",INDEX(C_SourceStreams!BQ$61:BQ$173,MATCH($C50,C_SourceStreams!$C$61:$C$173,0)))","v":""},{"$f":"IF($BA50,\"\",INDEX(C_SourceStreams!BN$61:BN$173,MATCH($C50,C_SourceStreams!$C$61:$C$173,0))*100)","v":""},"",{"$f":"IF($BA50,\"\",INDEX(C_SourceStreams!BO$61:BO$173,MATCH($C50,C_SourceStreams!$C$61:$C$173,0))*100)","v":""},"",{"$f":"IF($BA50,\"\",INDEX(C_SourceStreams!BR$61:BR$173,MATCH($C50,C_SourceStreams!$C$61:$C$173,0))*100)","v":""},"",{"$f":"IF($BA50,\"\",INDEX(C_SourceStreams!BS$61:BS$173,MATCH($C50,C_SourceStreams!$C$61:$C$173,0))*100)","v":""},"",null,null,null,null,null,null,null,null,null,null,null,null,null,null,null,null,null,null,null,null,null,null,null,null,null,{"$f":"IF($BA50,\"\",INDEX(C_SourceStreams!BT$61:BT$173,MATCH($C50,C_SourceStreams!$C$61:$C$173,0)))","v":""},{"$f":"IF($BA50,\"\",INDEX(C_SourceStreams!BU$61:BU$173,MATCH($C50,C_SourceStreams!$C$61:$C$173,0)))","v":""},{"$f":"IF($BA50,\"\",INDEX(C_SourceStreams!BV$61:BV$173,MATCH($C50,C_SourceStreams!$C$61:$C$173,0)))","v":""},{"$f":"IF($BA50,\"\",INDEX(C_SourceStreams!BW$61:BW$173,MATCH($C50,C_SourceStreams!$C$61:$C$173,0)))","v":""},{"$f":"IF($BA50,\"\",INDEX(C_SourceStreams!BX$61:BX$173,MATCH($C50,C_SourceStreams!$C$61:$C$173,0)))","v":""},null,{"$f":"IF(ISERROR(INDEX(C_SourceStreams!$K$28:$K$10055,MATCH(C50,C_SourceStreams!$C$28:$C$10055,0))),TRUE,INDEX(C_SourceStreams!$K$28:$K$10055,MATCH(C50,C_SourceStreams!$C$28:$C$10055,0))=\"\")","v":true}]
[null,null,48,{"$f":"IF($BA51,\"\",INDEX(C_SourceStreams!$K$61:$K$173,MATCH($C51,C_SourceStreams!$C$61:$C$173,0)))","v":""},{"$f":"IF($BA51,\"\",INDEX(C_SourceStreams!$E$61:$E$173,MATCH($C51,C_SourceStreams!$C$61:$C$173,0)))","v":""},{"$f":"IF($BA51,\"\",INDEX(C_SourceStreams!BH$61:BH$173,MATCH($C51,C_SourceStreams!$C$61:$C$173,0)))","v":""},{"$f":"IF($BA51,\"\",INDEX(C_SourceStreams!BI$61:BI$173,MATCH($C51,C_SourceStreams!$C$61:$C$173,0)))","v":""},{"$f":"IF($BA51,\"\",INDEX(C_SourceStreams!BL$61:BL$173,MATCH($C51,C_SourceStreams!$C$61:$C$173,0)))","v":""},{"$f":"IF($BA51,\"\",INDEX(C_SourceStreams!BM$61:BM$173,MATCH($C51,C_SourceStreams!$C$61:$C$173,0)))","v":""},{"$f":"IF($BA51,\"\",INDEX(C_SourceStreams!BJ$61:BJ$173,MATCH($C51,C_SourceStreams!$C$61:$C$173,0)))","v":""},{"$f":"IF($BA51,\"\",INDEX(C_SourceStreams!BK$61:BK$173,MATCH($C51,C_SourceStreams!$C$61:$C$173,0)))","v":""},{"$f":"IF($BA51,\"\",INDEX(C_SourceStreams!BP$61:BP$173,MATCH($C51,C_SourceStreams!$C$61:$C$173,0)))","v":""},{"$f":"IF($BA51,\"\",INDEX(C_SourceStreams!BQ$61:BQ$173,MATCH($C51,C_SourceStreams!$C$61:$C$173,0)))","v":""},{"$f":"IF($BA51,\"\",INDEX(C_SourceStreams!BN$61:BN$173,MATCH($C51,C_SourceStreams!$C$61:$C$173,0))*100)","v":""},"",{"$f":"IF($BA51,\"\",INDEX(C_SourceStreams!BO$61:BO$173,MATCH($C51,C_SourceStreams!$C$61:$C$173,0))*100)","v":""},"",{"$f":"IF($BA51,\"\",INDEX(C_SourceStreams!BR$61:BR$173,MATCH($C51,C_SourceStreams!$C$61:$C$173,0))*100)","v":""},"",{"$f":"IF($BA51,\"\",INDEX(C_SourceStreams!BS$61:BS$173,MATCH($C51,C_SourceStreams!$C$61:$C$173,0))*100)","v":""},"",null,null,null,null,null,null,null,null,null,null,null,null,null,null,null,null,null,null,null,null,null,null,null,null,null,{"$f":"IF($BA51,\"\",INDEX(C_SourceStreams!BT$61:BT$173,MATCH($C51,C_SourceStreams!$C$61:$C$173,0)))","v":""},{"$f":"IF($BA51,\"\",INDEX(C_SourceStreams!BU$61:BU$173,MATCH($C51,C_SourceStreams!$C$61:$C$173,0)))","v":""},{"$f":"IF($BA51,\"\",INDEX(C_SourceStreams!BV$61:BV$173,MATCH($C51,C_SourceStreams!$C$61:$C$173,0)))","v":""},{"$f":"IF($BA51,\"\",INDEX(C_SourceStreams!BW$61:BW$173,MATCH($C51,C_SourceStreams!$C$61:$C$173,0)))","v":""},{"$f":"IF($BA51,\"\",INDEX(C_SourceStreams!BX$61:BX$173,MATCH($C51,C_SourceStreams!$C$61:$C$173,0)))","v":""},null,{"$f":"IF(ISERROR(INDEX(C_SourceStreams!$K$28:$K$10055,MATCH(C51,C_SourceStreams!$C$28:$C$10055,0))),TRUE,INDEX(C_SourceStreams!$K$28:$K$10055,MATCH(C51,C_SourceStreams!$C$28:$C$10055,0))=\"\")","v":true}]
[null,null,49,{"$f":"IF($BA52,\"\",INDEX(C_SourceStreams!$K$61:$K$173,MATCH($C52,C_SourceStreams!$C$61:$C$173,0)))","v":""},{"$f":"IF($BA52,\"\",INDEX(C_SourceStreams!$E$61:$E$173,MATCH($C52,C_SourceStreams!$C$61:$C$173,0)))","v":""},{"$f":"IF($BA52,\"\",INDEX(C_SourceStreams!BH$61:BH$173,MATCH($C52,C_SourceStreams!$C$61:$C$173,0)))","v":""},{"$f":"IF($BA52,\"\",INDEX(C_SourceStreams!BI$61:BI$173,MATCH($C52,C_SourceStreams!$C$61:$C$173,0)))","v":""},{"$f":"IF($BA52,\"\",INDEX(C_SourceStreams!BL$61:BL$173,MATCH($C52,C_SourceStreams!$C$61:$C$173,0)))","v":""},{"$f":"IF($BA52,\"\",INDEX(C_SourceStreams!BM$61:BM$173,MATCH($C52,C_SourceStreams!$C$61:$C$173,0)))","v":""},{"$f":"IF($BA52,\"\",INDEX(C_SourceStreams!BJ$61:BJ$173,MATCH($C52,C_SourceStreams!$C$61:$C$173,0)))","v":""},{"$f":"IF($BA52,\"\",INDEX(C_SourceStreams!BK$61:BK$173,MATCH($C52,C_SourceStreams!$C$61:$C$173,0)))","v":""},{"$f":"IF($BA52,\"\",INDEX(C_SourceStreams!BP$61:BP$173,MATCH($C52,C_SourceStreams!$C$61:$C$173,0)))","v":""},{"$f":"IF($BA52,\"\",INDEX(C_SourceStreams!BQ$61:BQ$173,MATCH($C52,C_SourceStreams!$C$61:$C$173,0)))","v":""},{"$f":"IF($BA52,\"\",INDEX(C_SourceStreams!BN$61:BN$173,MATCH($C52,C_SourceStreams!$C$61:$C$173,0))*100)","v":""},"",{"$f":"IF($BA52,\"\",INDEX(C_SourceStreams!BO$61:BO$173,MATCH($C52,C_SourceStreams!$C$61:$C$173,0))*100)","v":""},"",{"$f":"IF($BA52,\"\",INDEX(C_SourceStreams!BR$61:BR$173,MATCH($C52,C_SourceStreams!$C$61:$C$173,0))*100)","v":""},"",{"$f":"IF($BA52,\"\",INDEX(C_SourceStreams!BS$61:BS$173,MATCH($C52,C_SourceStreams!$C$61:$C$173,0))*100)","v":""},"",null,null,null,null,null,null,null,null,null,null,null,null,null,null,null,null,null,null,null,null,null,null,null,null,null,{"$f":"IF($BA52,\"\",INDEX(C_SourceStreams!BT$61:BT$173,MATCH($C52,C_SourceStreams!$C$61:$C$173,0)))","v":""},{"$f":"IF($BA52,\"\",INDEX(C_SourceStreams!BU$61:BU$173,MATCH($C52,C_SourceStreams!$C$61:$C$173,0)))","v":""},{"$f":"IF($BA52,\"\",INDEX(C_SourceStreams!BV$61:BV$173,MATCH($C52,C_SourceStreams!$C$61:$C$173,0)))","v":""},{"$f":"IF($BA52,\"\",INDEX(C_SourceStreams!BW$61:BW$173,MATCH($C52,C_SourceStreams!$C$61:$C$173,0)))","v":""},{"$f":"IF($BA52,\"\",INDEX(C_SourceStreams!BX$61:BX$173,MATCH($C52,C_SourceStreams!$C$61:$C$173,0)))","v":""},null,{"$f":"IF(ISERROR(INDEX(C_SourceStreams!$K$28:$K$10055,MATCH(C52,C_SourceStreams!$C$28:$C$10055,0))),TRUE,INDEX(C_SourceStreams!$K$28:$K$10055,MATCH(C52,C_SourceStreams!$C$28:$C$10055,0))=\"\")","v":true}]
[null,null,50,{"$f":"IF($BA53,\"\",INDEX(C_SourceStreams!$K$61:$K$173,MATCH($C53,C_SourceStreams!$C$61:$C$173,0)))","v":""},{"$f":"IF($BA53,\"\",INDEX(C_SourceStreams!$E$61:$E$173,MATCH($C53,C_SourceStreams!$C$61:$C$173,0)))","v":""},{"$f":"IF($BA53,\"\",INDEX(C_SourceStreams!BH$61:BH$173,MATCH($C53,C_SourceStreams!$C$61:$C$173,0)))","v":""},{"$f":"IF($BA53,\"\",INDEX(C_SourceStreams!BI$61:BI$173,MATCH($C53,C_SourceStreams!$C$61:$C$173,0)))","v":""},{"$f":"IF($BA53,\"\",INDEX(C_SourceStreams!BL$61:BL$173,MATCH($C53,C_SourceStreams!$C$61:$C$173,0)))","v":""},{"$f":"IF($BA53,\"\",INDEX(C_SourceStreams!BM$61:BM$173,MATCH($C53,C_SourceStreams!$C$61:$C$173,0)))","v":""},{"$f":"IF($BA53,\"\",INDEX(C_SourceStreams!BJ$61:BJ$173,MATCH($C53,C_SourceStreams!$C$61:$C$173,0)))","v":""},{"$f":"IF($BA53,\"\",INDEX(C_SourceStreams!BK$61:BK$173,MATCH($C53,C_SourceStreams!$C$61:$C$173,0)))","v":""},{"$f":"IF($BA53,\"\",INDEX(C_SourceStreams!BP$61:BP$173,MATCH($C53,C_SourceStreams!$C$61:$C$173,0)))","v":""},{"$f":"IF($BA53,\"\",INDEX(C_SourceStreams!BQ$61:BQ$173,MATCH($C53,C_SourceStreams!$C$61:$C$173,0)))","v":""},{"$f":"IF($BA53,\"\",INDEX(C_SourceStreams!BN$61:BN$173,MATCH($C53,C_SourceStreams!$C$61:$C$173,0))*100)","v":""},"",{"$f":"IF($BA53,\"\",INDEX(C_SourceStreams!BO$61:BO$173,MATCH($C53,C_SourceStreams!$C$61:$C$173,0))*100)","v":""},"",{"$f":"IF($BA53,\"\",INDEX(C_SourceStreams!BR$61:BR$173,MATCH($C53,C_SourceStreams!$C$61:$C$173,0))*100)","v":""},"",{"$f":"IF($BA53,\"\",INDEX(C_SourceStreams!BS$61:BS$173,MATCH($C53,C_SourceStreams!$C$61:$C$173,0))*100)","v":""},"",null,null,null,null,null,null,null,null,null,null,null,null,null,null,null,null,null,null,null,null,null,null,null,null,null,{"$f":"IF($BA53,\"\",INDEX(C_SourceStreams!BT$61:BT$173,MATCH($C53,C_SourceStreams!$C$61:$C$173,0)))","v":""},{"$f":"IF($BA53,\"\",INDEX(C_SourceStreams!BU$61:BU$173,MATCH($C53,C_SourceStreams!$C$61:$C$173,0)))","v":""},{"$f":"IF($BA53,\"\",INDEX(C_SourceStreams!BV$61:BV$173,MATCH($C53,C_SourceStreams!$C$61:$C$173,0)))","v":""},{"$f":"IF($BA53,\"\",INDEX(C_SourceStreams!BW$61:BW$173,MATCH($C53,C_SourceStreams!$C$61:$C$173,0)))","v":""},{"$f":"IF($BA53,\"\",INDEX(C_SourceStreams!BX$61:BX$173,MATCH($C53,C_SourceStreams!$C$61:$C$173,0)))","v":""},null,{"$f":"IF(ISERROR(INDEX(C_SourceStreams!$K$28:$K$10055,MATCH(C53,C_SourceStreams!$C$28:$C$10055,0))),TRUE,INDEX(C_SourceStreams!$K$28:$K$10055,MATCH(C53,C_SourceStreams!$C$28:$C$10055,0))=\"\")","v":true}]
[null,null,51,{"$f":"IF($BA54,\"\",INDEX(C_SourceStreams!$K$61:$K$173,MATCH($C54,C_SourceStreams!$C$61:$C$173,0)))","v":""},{"$f":"IF($BA54,\"\",INDEX(C_SourceStreams!$E$61:$E$173,MATCH($C54,C_SourceStreams!$C$61:$C$173,0)))","v":""},{"$f":"IF($BA54,\"\",INDEX(C_SourceStreams!BH$61:BH$173,MATCH($C54,C_SourceStreams!$C$61:$C$173,0)))","v":""},{"$f":"IF($BA54,\"\",INDEX(C_SourceStreams!BI$61:BI$173,MATCH($C54,C_SourceStreams!$C$61:$C$173,0)))","v":""},{"$f":"IF($BA54,\"\",INDEX(C_SourceStreams!BL$61:BL$173,MATCH($C54,C_SourceStreams!$C$61:$C$173,0)))","v":""},{"$f":"IF($BA54,\"\",INDEX(C_SourceStreams!BM$61:BM$173,MATCH($C54,C_SourceStreams!$C$61:$C$173,0)))","v":""},{"$f":"IF($BA54,\"\",INDEX(C_SourceStreams!BJ$61:BJ$173,MATCH($C54,C_SourceStreams!$C$61:$C$173,0)))","v":""},{"$f":"IF($BA54,\"\",INDEX(C_SourceStreams!BK$61:BK$173,MATCH($C54,C_SourceStreams!$C$61:$C$173,0)))","v":""},{"$f":"IF($BA54,\"\",INDEX(C_SourceStreams!BP$61:BP$173,MATCH($C54,C_SourceStreams!$C$61:$C$173,0)))","v":""},{"$f":"IF($BA54,\"\",INDEX(C_SourceStreams!BQ$61:BQ$173,MATCH($C54,C_SourceStreams!$C$61:$C$173,0)))","v":""},{"$f":"IF($BA54,\"\",INDEX(C_SourceStreams!BN$61:BN$173,MATCH($C54,C_SourceStreams!$C$61:$C$173,0))*100)","v":""},"",{"$f":"IF($BA54,\"\",INDEX(C_SourceStreams!BO$61:BO$173,MATCH($C54,C_SourceStreams!$C$61:$C$173,0))*100)","v":""},"",{"$f":"IF($BA54,\"\",INDEX(C_SourceStreams!BR$61:BR$173,MATCH($C54,C_SourceStreams!$C$61:$C$173,0))*100)","v":""},"",{"$f":"IF($BA54,\"\",INDEX(C_SourceStreams!BS$61:BS$173,MATCH($C54,C_SourceStreams!$C$61:$C$173,0))*100)","v":""},"",null,null,null,null,null,null,null,null,null,null,null,null,null,null,null,null,null,null,null,null,null,null,null,null,null,{"$f":"IF($BA54,\"\",INDEX(C_SourceStreams!BT$61:BT$173,MATCH($C54,C_SourceStreams!$C$61:$C$173,0)))","v":""},{"$f":"IF($BA54,\"\",INDEX(C_SourceStreams!BU$61:BU$173,MATCH($C54,C_SourceStreams!$C$61:$C$173,0)))","v":""},{"$f":"IF($BA54,\"\",INDEX(C_SourceStreams!BV$61:BV$173,MATCH($C54,C_SourceStreams!$C$61:$C$173,0)))","v":""},{"$f":"IF($BA54,\"\",INDEX(C_SourceStreams!BW$61:BW$173,MATCH($C54,C_SourceStreams!$C$61:$C$173,0)))","v":""},{"$f":"IF($BA54,\"\",INDEX(C_SourceStreams!BX$61:BX$173,MATCH($C54,C_SourceStreams!$C$61:$C$173,0)))","v":""},null,{"$f":"IF(ISERROR(INDEX(C_SourceStreams!$K$28:$K$10055,MATCH(C54,C_SourceStreams!$C$28:$C$10055,0))),TRUE,INDEX(C_SourceStreams!$K$28:$K$10055,MATCH(C54,C_SourceStreams!$C$28:$C$10055,0))=\"\")","v":true}]
[null,null,52,{"$f":"IF($BA55,\"\",INDEX(C_SourceStreams!$K$61:$K$173,MATCH($C55,C_SourceStreams!$C$61:$C$173,0)))","v":""},{"$f":"IF($BA55,\"\",INDEX(C_SourceStreams!$E$61:$E$173,MATCH($C55,C_SourceStreams!$C$61:$C$173,0)))","v":""},{"$f":"IF($BA55,\"\",INDEX(C_SourceStreams!BH$61:BH$173,MATCH($C55,C_SourceStreams!$C$61:$C$173,0)))","v":""},{"$f":"IF($BA55,\"\",INDEX(C_SourceStreams!BI$61:BI$173,MATCH($C55,C_SourceStreams!$C$61:$C$173,0)))","v":""},{"$f":"IF($BA55,\"\",INDEX(C_SourceStreams!BL$61:BL$173,MATCH($C55,C_SourceStreams!$C$61:$C$173,0)))","v":""},{"$f":"IF($BA55,\"\",INDEX(C_SourceStreams!BM$61:BM$173,MATCH($C55,C_SourceStreams!$C$61:$C$173,0)))","v":""},{"$f":"IF($BA55,\"\",INDEX(C_SourceStreams!BJ$61:BJ$173,MATCH($C55,C_SourceStreams!$C$61:$C$173,0)))","v":""},{"$f":"IF($BA55,\"\",INDEX(C_SourceStreams!BK$61:BK$173,MATCH($C55,C_SourceStreams!$C$61:$C$173,0)))","v":""},{"$f":"IF($BA55,\"\",INDEX(C_SourceStreams!BP$61:BP$173,MATCH($C55,C_SourceStreams!$C$61:$C$173,0)))","v":""},{"$f":"IF($BA55,\"\",INDEX(C_SourceStreams!BQ$61:BQ$173,MATCH($C55,C_SourceStreams!$C$61:$C$173,0)))","v":""},{"$f":"IF($BA55,\"\",INDEX(C_SourceStreams!BN$61:BN$173,MATCH($C55,C_SourceStreams!$C$61:$C$173,0))*100)","v":""},"",{"$f":"IF($BA55,\"\",INDEX(C_SourceStreams!BO$61:BO$173,MATCH($C55,C_SourceStreams!$C$61:$C$173,0))*100)","v":""},"",{"$f":"IF($BA55,\"\",INDEX(C_SourceStreams!BR$61:BR$173,MATCH($C55,C_SourceStreams!$C$61:$C$173,0))*100)","v":""},"",{"$f":"IF($BA55,\"\",INDEX(C_SourceStreams!BS$61:BS$173,MATCH($C55,C_SourceStreams!$C$61:$C$173,0))*100)","v":""},"",null,null,null,null,null,null,null,null,null,null,null,null,null,null,null,null,null,null,null,null,null,null,null,null,null,{"$f":"IF($BA55,\"\",INDEX(C_SourceStreams!BT$61:BT$173,MATCH($C55,C_SourceStreams!$C$61:$C$173,0)))","v":""},{"$f":"IF($BA55,\"\",INDEX(C_SourceStreams!BU$61:BU$173,MATCH($C55,C_SourceStreams!$C$61:$C$173,0)))","v":""},{"$f":"IF($BA55,\"\",INDEX(C_SourceStreams!BV$61:BV$173,MATCH($C55,C_SourceStreams!$C$61:$C$173,0)))","v":""},{"$f":"IF($BA55,\"\",INDEX(C_SourceStreams!BW$61:BW$173,MATCH($C55,C_SourceStreams!$C$61:$C$173,0)))","v":""},{"$f":"IF($BA55,\"\",INDEX(C_SourceStreams!BX$61:BX$173,MATCH($C55,C_SourceStreams!$C$61:$C$173,0)))","v":""},null,{"$f":"IF(ISERROR(INDEX(C_SourceStreams!$K$28:$K$10055,MATCH(C55,C_SourceStreams!$C$28:$C$10055,0))),TRUE,INDEX(C_SourceStreams!$K$28:$K$10055,MATCH(C55,C_SourceStreams!$C$28:$C$10055,0))=\"\")","v":true}]
[null,null,53,{"$f":"IF($BA56,\"\",INDEX(C_SourceStreams!$K$61:$K$173,MATCH($C56,C_SourceStreams!$C$61:$C$173,0)))","v":""},{"$f":"IF($BA56,\"\",INDEX(C_SourceStreams!$E$61:$E$173,MATCH($C56,C_SourceStreams!$C$61:$C$173,0)))","v":""},{"$f":"IF($BA56,\"\",INDEX(C_SourceStreams!BH$61:BH$173,MATCH($C56,C_SourceStreams!$C$61:$C$173,0)))","v":""},{"$f":"IF($BA56,\"\",INDEX(C_SourceStreams!BI$61:BI$173,MATCH($C56,C_SourceStreams!$C$61:$C$173,0)))","v":""},{"$f":"IF($BA56,\"\",INDEX(C_SourceStreams!BL$61:BL$173,MATCH($C56,C_SourceStreams!$C$61:$C$173,0)))","v":""},{"$f":"IF($BA56,\"\",INDEX(C_SourceStreams!BM$61:BM$173,MATCH($C56,C_SourceStreams!$C$61:$C$173,0)))","v":""},{"$f":"IF($BA56,\"\",INDEX(C_SourceStreams!BJ$61:BJ$173,MATCH($C56,C_SourceStreams!$C$61:$C$173,0)))","v":""},{"$f":"IF($BA56,\"\",INDEX(C_SourceStreams!BK$61:BK$173,MATCH($C56,C_SourceStreams!$C$61:$C$173,0)))","v":""},{"$f":"IF($BA56,\"\",INDEX(C_SourceStreams!BP$61:BP$173,MATCH($C56,C_SourceStreams!$C$61:$C$173,0)))","v":""},{"$f":"IF($BA56,\"\",INDEX(C_SourceStreams!BQ$61:BQ$173,MATCH($C56,C_SourceStreams!$C$61:$C$173,0)))","v":""},{"$f":"IF($BA56,\"\",INDEX(C_SourceStreams!BN$61:BN$173,MATCH($C56,C_SourceStreams!$C$61:$C$173,0))*100)","v":""},"",{"$f":"IF($BA56,\"\",INDEX(C_SourceStreams!BO$61:BO$173,MATCH($C56,C_SourceStreams!$C$61:$C$173,0))*100)","v":""},"",{"$f":"IF($BA56,\"\",INDEX(C_SourceStreams!BR$61:BR$173,MATCH($C56,C_SourceStreams!$C$61:$C$173,0))*100)","v":""},"",{"$f":"IF($BA56,\"\",INDEX(C_SourceStreams!BS$61:BS$173,MATCH($C56,C_SourceStreams!$C$61:$C$173,0))*100)","v":""},"",null,null,null,null,null,null,null,null,null,null,null,null,null,null,null,null,null,null,null,null,null,null,null,null,null,{"$f":"IF($BA56,\"\",INDEX(C_SourceStreams!BT$61:BT$173,MATCH($C56,C_SourceStreams!$C$61:$C$173,0)))","v":""},{"$f":"IF($BA56,\"\",INDEX(C_SourceStreams!BU$61:BU$173,MATCH($C56,C_SourceStreams!$C$61:$C$173,0)))","v":""},{"$f":"IF($BA56,\"\",INDEX(C_SourceStreams!BV$61:BV$173,MATCH($C56,C_SourceStreams!$C$61:$C$173,0)))","v":""},{"$f":"IF($BA56,\"\",INDEX(C_SourceStreams!BW$61:BW$173,MATCH($C56,C_SourceStreams!$C$61:$C$173,0)))","v":""},{"$f":"IF($BA56,\"\",INDEX(C_SourceStreams!BX$61:BX$173,MATCH($C56,C_SourceStreams!$C$61:$C$173,0)))","v":""},null,{"$f":"IF(ISERROR(INDEX(C_SourceStreams!$K$28:$K$10055,MATCH(C56,C_SourceStreams!$C$28:$C$10055,0))),TRUE,INDEX(C_SourceStreams!$K$28:$K$10055,MATCH(C56,C_SourceStreams!$C$28:$C$10055,0))=\"\")","v":true}]
[null,null,54,{"$f":"IF($BA57,\"\",INDEX(C_SourceStreams!$K$61:$K$173,MATCH($C57,C_SourceStreams!$C$61:$C$173,0)))","v":""},{"$f":"IF($BA57,\"\",INDEX(C_SourceStreams!$E$61:$E$173,MATCH($C57,C_SourceStreams!$C$61:$C$173,0)))","v":""},{"$f":"IF($BA57,\"\",INDEX(C_SourceStreams!BH$61:BH$173,MATCH($C57,C_SourceStreams!$C$61:$C$173,0)))","v":""},{"$f":"IF($BA57,\"\",INDEX(C_SourceStreams!BI$61:BI$173,MATCH($C57,C_SourceStreams!$C$61:$C$173,0)))","v":""},{"$f":"IF($BA57,\"\",INDEX(C_SourceStreams!BL$61:BL$173,MATCH($C57,C_SourceStreams!$C$61:$C$173,0)))","v":""},{"$f":"IF($BA57,\"\",INDEX(C_SourceStreams!BM$61:BM$173,MATCH($C57,C_SourceStreams!$C$61:$C$173,0)))","v":""},{"$f":"IF($BA57,\"\",INDEX(C_SourceStreams!BJ$61:BJ$173,MATCH($C57,C_SourceStreams!$C$61:$C$173,0)))","v":""},{"$f":"IF($BA57,\"\",INDEX(C_SourceStreams!BK$61:BK$173,MATCH($C57,C_SourceStreams!$C$61:$C$173,0)))","v":""},{"$f":"IF($BA57,\"\",INDEX(C_SourceStreams!BP$61:BP$173,MATCH($C57,C_SourceStreams!$C$61:$C$173,0)))","v":""},{"$f":"IF($BA57,\"\",INDEX(C_SourceStreams!BQ$61:BQ$173,MATCH($C57,C_SourceStreams!$C$61:$C$173,0)))","v":""},{"$f":"IF($BA57,\"\",INDEX(C_SourceStreams!BN$61:BN$173,MATCH($C57,C_SourceStreams!$C$61:$C$173,0))*100)","v":""},"",{"$f":"IF($BA57,\"\",INDEX(C_SourceStreams!BO$61:BO$173,MATCH($C57,C_SourceStreams!$C$61:$C$173,0))*100)","v":""},"",{"$f":"IF($BA57,\"\",INDEX(C_SourceStreams!BR$61:BR$173,MATCH($C57,C_SourceStreams!$C$61:$C$173,0))*100)","v":""},"",{"$f":"IF($BA57,\"\",INDEX(C_SourceStreams!BS$61:BS$173,MATCH($C57,C_SourceStreams!$C$61:$C$173,0))*100)","v":""},"",null,null,null,null,null,null,null,null,null,null,null,null,null,null,null,null,null,null,null,null,null,null,null,null,null,{"$f":"IF($BA57,\"\",INDEX(C_SourceStreams!BT$61:BT$173,MATCH($C57,C_SourceStreams!$C$61:$C$173,0)))","v":""},{"$f":"IF($BA57,\"\",INDEX(C_SourceStreams!BU$61:BU$173,MATCH($C57,C_SourceStreams!$C$61:$C$173,0)))","v":""},{"$f":"IF($BA57,\"\",INDEX(C_SourceStreams!BV$61:BV$173,MATCH($C57,C_SourceStreams!$C$61:$C$173,0)))","v":""},{"$f":"IF($BA57,\"\",INDEX(C_SourceStreams!BW$61:BW$173,MATCH($C57,C_SourceStreams!$C$61:$C$173,0)))","v":""},{"$f":"IF($BA57,\"\",INDEX(C_SourceStreams!BX$61:BX$173,MATCH($C57,C_SourceStreams!$C$61:$C$173,0)))","v":""},null,{"$f":"IF(ISERROR(INDEX(C_SourceStreams!$K$28:$K$10055,MATCH(C57,C_SourceStreams!$C$28:$C$10055,0))),TRUE,INDEX(C_SourceStreams!$K$28:$K$10055,MATCH(C57,C_SourceStreams!$C$28:$C$10055,0))=\"\")","v":true}]
[null,null,55,{"$f":"IF($BA58,\"\",INDEX(C_SourceStreams!$K$61:$K$173,MATCH($C58,C_SourceStreams!$C$61:$C$173,0)))","v":""},{"$f":"IF($BA58,\"\",INDEX(C_SourceStreams!$E$61:$E$173,MATCH($C58,C_SourceStreams!$C$61:$C$173,0)))","v":""},{"$f":"IF($BA58,\"\",INDEX(C_SourceStreams!BH$61:BH$173,MATCH($C58,C_SourceStreams!$C$61:$C$173,0)))","v":""},{"$f":"IF($BA58,\"\",INDEX(C_SourceStreams!BI$61:BI$173,MATCH($C58,C_SourceStreams!$C$61:$C$173,0)))","v":""},{"$f":"IF($BA58,\"\",INDEX(C_SourceStreams!BL$61:BL$173,MATCH($C58,C_SourceStreams!$C$61:$C$173,0)))","v":""},{"$f":"IF($BA58,\"\",INDEX(C_SourceStreams!BM$61:BM$173,MATCH($C58,C_SourceStreams!$C$61:$C$173,0)))","v":""},{"$f":"IF($BA58,\"\",INDEX(C_SourceStreams!BJ$61:BJ$173,MATCH($C58,C_SourceStreams!$C$61:$C$173,0)))","v":""},{"$f":"IF($BA58,\"\",INDEX(C_SourceStreams!BK$61:BK$173,MATCH($C58,C_SourceStreams!$C$61:$C$173,0)))","v":""},{"$f":"IF($BA58,\"\",INDEX(C_SourceStreams!BP$61:BP$173,MATCH($C58,C_SourceStreams!$C$61:$C$173,0)))","v":""},{"$f":"IF($BA58,\"\",INDEX(C_SourceStreams!BQ$61:BQ$173,MATCH($C58,C_SourceStreams!$C$61:$C$173,0)))","v":""},{"$f":"IF($BA58,\"\",INDEX(C_SourceStreams!BN$61:BN$173,MATCH($C58,C_SourceStreams!$C$61:$C$173,0))*100)","v":""},"",{"$f":"IF($BA58,\"\",INDEX(C_SourceStreams!BO$61:BO$173,MATCH($C58,C_SourceStreams!$C$61:$C$173,0))*100)","v":""},"",{"$f":"IF($BA58,\"\",INDEX(C_SourceStreams!BR$61:BR$173,MATCH($C58,C_SourceStreams!$C$61:$C$173,0))*100)","v":""},"",{"$f":"IF($BA58,\"\",INDEX(C_SourceStreams!BS$61:BS$173,MATCH($C58,C_SourceStreams!$C$61:$C$173,0))*100)","v":""},"",null,null,null,null,null,null,null,null,null,null,null,null,null,null,null,null,null,null,null,null,null,null,null,null,null,{"$f":"IF($BA58,\"\",INDEX(C_SourceStreams!BT$61:BT$173,MATCH($C58,C_SourceStreams!$C$61:$C$173,0)))","v":""},{"$f":"IF($BA58,\"\",INDEX(C_SourceStreams!BU$61:BU$173,MATCH($C58,C_SourceStreams!$C$61:$C$173,0)))","v":""},{"$f":"IF($BA58,\"\",INDEX(C_SourceStreams!BV$61:BV$173,MATCH($C58,C_SourceStreams!$C$61:$C$173,0)))","v":""},{"$f":"IF($BA58,\"\",INDEX(C_SourceStreams!BW$61:BW$173,MATCH($C58,C_SourceStreams!$C$61:$C$173,0)))","v":""},{"$f":"IF($BA58,\"\",INDEX(C_SourceStreams!BX$61:BX$173,MATCH($C58,C_SourceStreams!$C$61:$C$173,0)))","v":""},null,{"$f":"IF(ISERROR(INDEX(C_SourceStreams!$K$28:$K$10055,MATCH(C58,C_SourceStreams!$C$28:$C$10055,0))),TRUE,INDEX(C_SourceStreams!$K$28:$K$10055,MATCH(C58,C_SourceStreams!$C$28:$C$10055,0))=\"\")","v":true}]
[null,null,56,{"$f":"IF($BA59,\"\",INDEX(C_SourceStreams!$K$61:$K$173,MATCH($C59,C_SourceStreams!$C$61:$C$173,0)))","v":""},{"$f":"IF($BA59,\"\",INDEX(C_SourceStreams!$E$61:$E$173,MATCH($C59,C_SourceStreams!$C$61:$C$173,0)))","v":""},{"$f":"IF($BA59,\"\",INDEX(C_SourceStreams!BH$61:BH$173,MATCH($C59,C_SourceStreams!$C$61:$C$173,0)))","v":""},{"$f":"IF($BA59,\"\",INDEX(C_SourceStreams!BI$61:BI$173,MATCH($C59,C_SourceStreams!$C$61:$C$173,0)))","v":""},{"$f":"IF($BA59,\"\",INDEX(C_SourceStreams!BL$61:BL$173,MATCH($C59,C_SourceStreams!$C$61:$C$173,0)))","v":""},{"$f":"IF($BA59,\"\",INDEX(C_SourceStreams!BM$61:BM$173,MATCH($C59,C_SourceStreams!$C$61:$C$173,0)))","v":""},{"$f":"IF($BA59,\"\",INDEX(C_SourceStreams!BJ$61:BJ$173,MATCH($C59,C_SourceStreams!$C$61:$C$173,0)))","v":""},{"$f":"IF($BA59,\"\",INDEX(C_SourceStreams!BK$61:BK$173,MATCH($C59,C_SourceStreams!$C$61:$C$173,0)))","v":""},{"$f":"IF($BA59,\"\",INDEX(C_SourceStreams!BP$61:BP$173,MATCH($C59,C_SourceStreams!$C$61:$C$173,0)))","v":""},{"$f":"IF($BA59,\"\",INDEX(C_SourceStreams!BQ$61:BQ$173,MATCH($C59,C_SourceStreams!$C$61:$C$173,0)))","v":""},{"$f":"IF($BA59,\"\",INDEX(C_SourceStreams!BN$61:BN$173,MATCH($C59,C_SourceStreams!$C$61:$C$173,0))*100)","v":""},"",{"$f":"IF($BA59,\"\",INDEX(C_SourceStreams!BO$61:BO$173,MATCH($C59,C_SourceStreams!$C$61:$C$173,0))*100)","v":""},"",{"$f":"IF($BA59,\"\",INDEX(C_SourceStreams!BR$61:BR$173,MATCH($C59,C_SourceStreams!$C$61:$C$173,0))*100)","v":""},"",{"$f":"IF($BA59,\"\",INDEX(C_SourceStreams!BS$61:BS$173,MATCH($C59,C_SourceStreams!$C$61:$C$173,0))*100)","v":""},"",null,null,null,null,null,null,null,null,null,null,null,null,null,null,null,null,null,null,null,null,null,null,null,null,null,{"$f":"IF($BA59,\"\",INDEX(C_SourceStreams!BT$61:BT$173,MATCH($C59,C_SourceStreams!$C$61:$C$173,0)))","v":""},{"$f":"IF($BA59,\"\",INDEX(C_SourceStreams!BU$61:BU$173,MATCH($C59,C_SourceStreams!$C$61:$C$173,0)))","v":""},{"$f":"IF($BA59,\"\",INDEX(C_SourceStreams!BV$61:BV$173,MATCH($C59,C_SourceStreams!$C$61:$C$173,0)))","v":""},{"$f":"IF($BA59,\"\",INDEX(C_SourceStreams!BW$61:BW$173,MATCH($C59,C_SourceStreams!$C$61:$C$173,0)))","v":""},{"$f":"IF($BA59,\"\",INDEX(C_SourceStreams!BX$61:BX$173,MATCH($C59,C_SourceStreams!$C$61:$C$173,0)))","v":""},null,{"$f":"IF(ISERROR(INDEX(C_SourceStreams!$K$28:$K$10055,MATCH(C59,C_SourceStreams!$C$28:$C$10055,0))),TRUE,INDEX(C_SourceStreams!$K$28:$K$10055,MATCH(C59,C_SourceStreams!$C$28:$C$10055,0))=\"\")","v":true}]
[null,null,57,{"$f":"IF($BA60,\"\",INDEX(C_SourceStreams!$K$61:$K$173,MATCH($C60,C_SourceStreams!$C$61:$C$173,0)))","v":""},{"$f":"IF($BA60,\"\",INDEX(C_SourceStreams!$E$61:$E$173,MATCH($C60,C_SourceStreams!$C$61:$C$173,0)))","v":""},{"$f":"IF($BA60,\"\",INDEX(C_SourceStreams!BH$61:BH$173,MATCH($C60,C_SourceStreams!$C$61:$C$173,0)))","v":""},{"$f":"IF($BA60,\"\",INDEX(C_SourceStreams!BI$61:BI$173,MATCH($C60,C_SourceStreams!$C$61:$C$173,0)))","v":""},{"$f":"IF($BA60,\"\",INDEX(C_SourceStreams!BL$61:BL$173,MATCH($C60,C_SourceStreams!$C$61:$C$173,0)))","v":""},{"$f":"IF($BA60,\"\",INDEX(C_SourceStreams!BM$61:BM$173,MATCH($C60,C_SourceStreams!$C$61:$C$173,0)))","v":""},{"$f":"IF($BA60,\"\",INDEX(C_SourceStreams!BJ$61:BJ$173,MATCH($C60,C_SourceStreams!$C$61:$C$173,0)))","v":""},{"$f":"IF($BA60,\"\",INDEX(C_SourceStreams!BK$61:BK$173,MATCH($C60,C_SourceStreams!$C$61:$C$173,0)))","v":""},{"$f":"IF($BA60,\"\",INDEX(C_SourceStreams!BP$61:BP$173,MATCH($C60,C_SourceStreams!$C$61:$C$173,0)))","v":""},{"$f":"IF($BA60,\"\",INDEX(C_SourceStreams!BQ$61:BQ$173,MATCH($C60,C_SourceStreams!$C$61:$C$173,0)))","v":""},{"$f":"IF($BA60,\"\",INDEX(C_SourceStreams!BN$61:BN$173,MATCH($C60,C_SourceStreams!$C$61:$C$173,0))*100)","v":""},"",{"$f":"IF($BA60,\"\",INDEX(C_SourceStreams!BO$61:BO$173,MATCH($C60,C_SourceStreams!$C$61:$C$173,0))*100)","v":""},"",{"$f":"IF($BA60,\"\",INDEX(C_SourceStreams!BR$61:BR$173,MATCH($C60,C_SourceStreams!$C$61:$C$173,0))*100)","v":""},"",{"$f":"IF($BA60,\"\",INDEX(C_SourceStreams!BS$61:BS$173,MATCH($C60,C_SourceStreams!$C$61:$C$173,0))*100)","v":""},"",null,null,null,null,null,null,null,null,null,null,null,null,null,null,null,null,null,null,null,null,null,null,null,null,null,{"$f":"IF($BA60,\"\",INDEX(C_SourceStreams!BT$61:BT$173,MATCH($C60,C_SourceStreams!$C$61:$C$173,0)))","v":""},{"$f":"IF($BA60,\"\",INDEX(C_SourceStreams!BU$61:BU$173,MATCH($C60,C_SourceStreams!$C$61:$C$173,0)))","v":""},{"$f":"IF($BA60,\"\",INDEX(C_SourceStreams!BV$61:BV$173,MATCH($C60,C_SourceStreams!$C$61:$C$173,0)))","v":""},{"$f":"IF($BA60,\"\",INDEX(C_SourceStreams!BW$61:BW$173,MATCH($C60,C_SourceStreams!$C$61:$C$173,0)))","v":""},{"$f":"IF($BA60,\"\",INDEX(C_SourceStreams!BX$61:BX$173,MATCH($C60,C_SourceStreams!$C$61:$C$173,0)))","v":""},null,{"$f":"IF(ISERROR(INDEX(C_SourceStreams!$K$28:$K$10055,MATCH(C60,C_SourceStreams!$C$28:$C$10055,0))),TRUE,INDEX(C_SourceStreams!$K$28:$K$10055,MATCH(C60,C_SourceStreams!$C$28:$C$10055,0))=\"\")","v":true}]
[null,null,58,{"$f":"IF($BA61,\"\",INDEX(C_SourceStreams!$K$61:$K$173,MATCH($C61,C_SourceStreams!$C$61:$C$173,0)))","v":""},{"$f":"IF($BA61,\"\",INDEX(C_SourceStreams!$E$61:$E$173,MATCH($C61,C_SourceStreams!$C$61:$C$173,0)))","v":""},{"$f":"IF($BA61,\"\",INDEX(C_SourceStreams!BH$61:BH$173,MATCH($C61,C_SourceStreams!$C$61:$C$173,0)))","v":""},{"$f":"IF($BA61,\"\",INDEX(C_SourceStreams!BI$61:BI$173,MATCH($C61,C_SourceStreams!$C$61:$C$173,0)))","v":""},{"$f":"IF($BA61,\"\",INDEX(C_SourceStreams!BL$61:BL$173,MATCH($C61,C_SourceStreams!$C$61:$C$173,0)))","v":""},{"$f":"IF($BA61,\"\",INDEX(C_SourceStreams!BM$61:BM$173,MATCH($C61,C_SourceStreams!$C$61:$C$173,0)))","v":""},{"$f":"IF($BA61,\"\",INDEX(C_SourceStreams!BJ$61:BJ$173,MATCH($C61,C_SourceStreams!$C$61:$C$173,0)))","v":""},{"$f":"IF($BA61,\"\",INDEX(C_SourceStreams!BK$61:BK$173,MATCH($C61,C_SourceStreams!$C$61:$C$173,0)))","v":""},{"$f":"IF($BA61,\"\",INDEX(C_SourceStreams!BP$61:BP$173,MATCH($C61,C_SourceStreams!$C$61:$C$173,0)))","v":""},{"$f":"IF($BA61,\"\",INDEX(C_SourceStreams!BQ$61:BQ$173,MATCH($C61,C_SourceStreams!$C$61:$C$173,0)))","v":""},{"$f":"IF($BA61,\"\",INDEX(C_SourceStreams!BN$61:BN$173,MATCH($C61,C_SourceStreams!$C$61:$C$173,0))*100)","v":""},"",{"$f":"IF($BA61,\"\",INDEX(C_SourceStreams!BO$61:BO$173,MATCH($C61,C_SourceStreams!$C$61:$C$173,0))*100)","v":""},"",{"$f":"IF($BA61,\"\",INDEX(C_SourceStreams!BR$61:BR$173,MATCH($C61,C_SourceStreams!$C$61:$C$173,0))*100)","v":""},"",{"$f":"IF($BA61,\"\",INDEX(C_SourceStreams!BS$61:BS$173,MATCH($C61,C_SourceStreams!$C$61:$C$173,0))*100)","v":""},"",null,null,null,null,null,null,null,null,null,null,null,null,null,null,null,null,null,null,null,null,null,null,null,null,null,{"$f":"IF($BA61,\"\",INDEX(C_SourceStreams!BT$61:BT$173,MATCH($C61,C_SourceStreams!$C$61:$C$173,0)))","v":""},{"$f":"IF($BA61,\"\",INDEX(C_SourceStreams!BU$61:BU$173,MATCH($C61,C_SourceStreams!$C$61:$C$173,0)))","v":""},{"$f":"IF($BA61,\"\",INDEX(C_SourceStreams!BV$61:BV$173,MATCH($C61,C_SourceStreams!$C$61:$C$173,0)))","v":""},{"$f":"IF($BA61,\"\",INDEX(C_SourceStreams!BW$61:BW$173,MATCH($C61,C_SourceStreams!$C$61:$C$173,0)))","v":""},{"$f":"IF($BA61,\"\",INDEX(C_SourceStreams!BX$61:BX$173,MATCH($C61,C_SourceStreams!$C$61:$C$173,0)))","v":""},null,{"$f":"IF(ISERROR(INDEX(C_SourceStreams!$K$28:$K$10055,MATCH(C61,C_SourceStreams!$C$28:$C$10055,0))),TRUE,INDEX(C_SourceStreams!$K$28:$K$10055,MATCH(C61,C_SourceStreams!$C$28:$C$10055,0))=\"\")","v":true}]
[null,null,59,{"$f":"IF($BA62,\"\",INDEX(C_SourceStreams!$K$61:$K$173,MATCH($C62,C_SourceStreams!$C$61:$C$173,0)))","v":""},{"$f":"IF($BA62,\"\",INDEX(C_SourceStreams!$E$61:$E$173,MATCH($C62,C_SourceStreams!$C$61:$C$173,0)))","v":""},{"$f":"IF($BA62,\"\",INDEX(C_SourceStreams!BH$61:BH$173,MATCH($C62,C_SourceStreams!$C$61:$C$173,0)))","v":""},{"$f":"IF($BA62,\"\",INDEX(C_SourceStreams!BI$61:BI$173,MATCH($C62,C_SourceStreams!$C$61:$C$173,0)))","v":""},{"$f":"IF($BA62,\"\",INDEX(C_SourceStreams!BL$61:BL$173,MATCH($C62,C_SourceStreams!$C$61:$C$173,0)))","v":""},{"$f":"IF($BA62,\"\",INDEX(C_SourceStreams!BM$61:BM$173,MATCH($C62,C_SourceStreams!$C$61:$C$173,0)))","v":""},{"$f":"IF($BA62,\"\",INDEX(C_SourceStreams!BJ$61:BJ$173,MATCH($C62,C_SourceStreams!$C$61:$C$173,0)))","v":""},{"$f":"IF($BA62,\"\",INDEX(C_SourceStreams!BK$61:BK$173,MATCH($C62,C_SourceStreams!$C$61:$C$173,0)))","v":""},{"$f":"IF($BA62,\"\",INDEX(C_SourceStreams!BP$61:BP$173,MATCH($C62,C_SourceStreams!$C$61:$C$173,0)))","v":""},{"$f":"IF($BA62,\"\",INDEX(C_SourceStreams!BQ$61:BQ$173,MATCH($C62,C_SourceStreams!$C$61:$C$173,0)))","v":""},{"$f":"IF($BA62,\"\",INDEX(C_SourceStreams!BN$61:BN$173,MATCH($C62,C_SourceStreams!$C$61:$C$173,0))*100)","v":""},"",{"$f":"IF($BA62,\"\",INDEX(C_SourceStreams!BO$61:BO$173,MATCH($C62,C_SourceStreams!$C$61:$C$173,0))*100)","v":""},"",{"$f":"IF($BA62,\"\",INDEX(C_SourceStreams!BR$61:BR$173,MATCH($C62,C_SourceStreams!$C$61:$C$173,0))*100)","v":""},"",{"$f":"IF($BA62,\"\",INDEX(C_SourceStreams!BS$61:BS$173,MATCH($C62,C_SourceStreams!$C$61:$C$173,0))*100)","v":""},"",null,null,null,null,null,null,null,null,null,null,null,null,null,null,null,null,null,null,null,null,null,null,null,null,null,{"$f":"IF($BA62,\"\",INDEX(C_SourceStreams!BT$61:BT$173,MATCH($C62,C_SourceStreams!$C$61:$C$173,0)))","v":""},{"$f":"IF($BA62,\"\",INDEX(C_SourceStreams!BU$61:BU$173,MATCH($C62,C_SourceStreams!$C$61:$C$173,0)))","v":""},{"$f":"IF($BA62,\"\",INDEX(C_SourceStreams!BV$61:BV$173,MATCH($C62,C_SourceStreams!$C$61:$C$173,0)))","v":""},{"$f":"IF($BA62,\"\",INDEX(C_SourceStreams!BW$61:BW$173,MATCH($C62,C_SourceStreams!$C$61:$C$173,0)))","v":""},{"$f":"IF($BA62,\"\",INDEX(C_SourceStreams!BX$61:BX$173,MATCH($C62,C_SourceStreams!$C$61:$C$173,0)))","v":""},null,{"$f":"IF(ISERROR(INDEX(C_SourceStreams!$K$28:$K$10055,MATCH(C62,C_SourceStreams!$C$28:$C$10055,0))),TRUE,INDEX(C_SourceStreams!$K$28:$K$10055,MATCH(C62,C_SourceStreams!$C$28:$C$10055,0))=\"\")","v":true}]
[null,null,60,{"$f":"IF($BA63,\"\",INDEX(C_SourceStreams!$K$61:$K$173,MATCH($C63,C_SourceStreams!$C$61:$C$173,0)))","v":""},{"$f":"IF($BA63,\"\",INDEX(C_SourceStreams!$E$61:$E$173,MATCH($C63,C_SourceStreams!$C$61:$C$173,0)))","v":""},{"$f":"IF($BA63,\"\",INDEX(C_SourceStreams!BH$61:BH$173,MATCH($C63,C_SourceStreams!$C$61:$C$173,0)))","v":""},{"$f":"IF($BA63,\"\",INDEX(C_SourceStreams!BI$61:BI$173,MATCH($C63,C_SourceStreams!$C$61:$C$173,0)))","v":""},{"$f":"IF($BA63,\"\",INDEX(C_SourceStreams!BL$61:BL$173,MATCH($C63,C_SourceStreams!$C$61:$C$173,0)))","v":""},{"$f":"IF($BA63,\"\",INDEX(C_SourceStreams!BM$61:BM$173,MATCH($C63,C_SourceStreams!$C$61:$C$173,0)))","v":""},{"$f":"IF($BA63,\"\",INDEX(C_SourceStreams!BJ$61:BJ$173,MATCH($C63,C_SourceStreams!$C$61:$C$173,0)))","v":""},{"$f":"IF($BA63,\"\",INDEX(C_SourceStreams!BK$61:BK$173,MATCH($C63,C_SourceStreams!$C$61:$C$173,0)))","v":""},{"$f":"IF($BA63,\"\",INDEX(C_SourceStreams!BP$61:BP$173,MATCH($C63,C_SourceStreams!$C$61:$C$173,0)))","v":""},{"$f":"IF($BA63,\"\",INDEX(C_SourceStreams!BQ$61:BQ$173,MATCH($C63,C_SourceStreams!$C$61:$C$173,0)))","v":""},{"$f":"IF($BA63,\"\",INDEX(C_SourceStreams!BN$61:BN$173,MATCH($C63,C_SourceStreams!$C$61:$C$173,0))*100)","v":""},"",{"$f":"IF($BA63,\"\",INDEX(C_SourceStreams!BO$61:BO$173,MATCH($C63,C_SourceStreams!$C$61:$C$173,0))*100)","v":""},"",{"$f":"IF($BA63,\"\",INDEX(C_SourceStreams!BR$61:BR$173,MATCH($C63,C_SourceStreams!$C$61:$C$173,0))*100)","v":""},"",{"$f":"IF($BA63,\"\",INDEX(C_SourceStreams!BS$61:BS$173,MATCH($C63,C_SourceStreams!$C$61:$C$173,0))*100)","v":""},"",null,null,null,null,null,null,null,null,null,null,null,null,null,null,null,null,null,null,null,null,null,null,null,null,null,{"$f":"IF($BA63,\"\",INDEX(C_SourceStreams!BT$61:BT$173,MATCH($C63,C_SourceStreams!$C$61:$C$173,0)))","v":""},{"$f":"IF($BA63,\"\",INDEX(C_SourceStreams!BU$61:BU$173,MATCH($C63,C_SourceStreams!$C$61:$C$173,0)))","v":""},{"$f":"IF($BA63,\"\",INDEX(C_SourceStreams!BV$61:BV$173,MATCH($C63,C_SourceStreams!$C$61:$C$173,0)))","v":""},{"$f":"IF($BA63,\"\",INDEX(C_SourceStreams!BW$61:BW$173,MATCH($C63,C_SourceStreams!$C$61:$C$173,0)))","v":""},{"$f":"IF($BA63,\"\",INDEX(C_SourceStreams!BX$61:BX$173,MATCH($C63,C_SourceStreams!$C$61:$C$173,0)))","v":""},null,{"$f":"IF(ISERROR(INDEX(C_SourceStreams!$K$28:$K$10055,MATCH(C63,C_SourceStreams!$C$28:$C$10055,0))),TRUE,INDEX(C_SourceStreams!$K$28:$K$10055,MATCH(C63,C_SourceStreams!$C$28:$C$10055,0))=\"\")","v":true}]
[null,null,61,{"$f":"IF($BA64,\"\",INDEX(C_SourceStreams!$K$61:$K$173,MATCH($C64,C_SourceStreams!$C$61:$C$173,0)))","v":""},{"$f":"IF($BA64,\"\",INDEX(C_SourceStreams!$E$61:$E$173,MATCH($C64,C_SourceStreams!$C$61:$C$173,0)))","v":""},{"$f":"IF($BA64,\"\",INDEX(C_SourceStreams!BH$61:BH$173,MATCH($C64,C_SourceStreams!$C$61:$C$173,0)))","v":""},{"$f":"IF($BA64,\"\",INDEX(C_SourceStreams!BI$61:BI$173,MATCH($C64,C_SourceStreams!$C$61:$C$173,0)))","v":""},{"$f":"IF($BA64,\"\",INDEX(C_SourceStreams!BL$61:BL$173,MATCH($C64,C_SourceStreams!$C$61:$C$173,0)))","v":""},{"$f":"IF($BA64,\"\",INDEX(C_SourceStreams!BM$61:BM$173,MATCH($C64,C_SourceStreams!$C$61:$C$173,0)))","v":""},{"$f":"IF($BA64,\"\",INDEX(C_SourceStreams!BJ$61:BJ$173,MATCH($C64,C_SourceStreams!$C$61:$C$173,0)))","v":""},{"$f":"IF($BA64,\"\",INDEX(C_SourceStreams!BK$61:BK$173,MATCH($C64,C_SourceStreams!$C$61:$C$173,0)))","v":""},{"$f":"IF($BA64,\"\",INDEX(C_SourceStreams!BP$61:BP$173,MATCH($C64,C_SourceStreams!$C$61:$C$173,0)))","v":""},{"$f":"IF($BA64,\"\",INDEX(C_SourceStreams!BQ$61:BQ$173,MATCH($C64,C_SourceStreams!$C$61:$C$173,0)))","v":""},{"$f":"IF($BA64,\"\",INDEX(C_SourceStreams!BN$61:BN$173,MATCH($C64,C_SourceStreams!$C$61:$C$173,0))*100)","v":""},"",{"$f":"IF($BA64,\"\",INDEX(C_SourceStreams!BO$61:BO$173,MATCH($C64,C_SourceStreams!$C$61:$C$173,0))*100)","v":""},"",{"$f":"IF($BA64,\"\",INDEX(C_SourceStreams!BR$61:BR$173,MATCH($C64,C_SourceStreams!$C$61:$C$173,0))*100)","v":""},"",{"$f":"IF($BA64,\"\",INDEX(C_SourceStreams!BS$61:BS$173,MATCH($C64,C_SourceStreams!$C$61:$C$173,0))*100)","v":""},"",null,null,null,null,null,null,null,null,null,null,null,null,null,null,null,null,null,null,null,null,null,null,null,null,null,{"$f":"IF($BA64,\"\",INDEX(C_SourceStreams!BT$61:BT$173,MATCH($C64,C_SourceStreams!$C$61:$C$173,0)))","v":""},{"$f":"IF($BA64,\"\",INDEX(C_SourceStreams!BU$61:BU$173,MATCH($C64,C_SourceStreams!$C$61:$C$173,0)))","v":""},{"$f":"IF($BA64,\"\",INDEX(C_SourceStreams!BV$61:BV$173,MATCH($C64,C_SourceStreams!$C$61:$C$173,0)))","v":""},{"$f":"IF($BA64,\"\",INDEX(C_SourceStreams!BW$61:BW$173,MATCH($C64,C_SourceStreams!$C$61:$C$173,0)))","v":""},{"$f":"IF($BA64,\"\",INDEX(C_SourceStreams!BX$61:BX$173,MATCH($C64,C_SourceStreams!$C$61:$C$173,0)))","v":""},null,{"$f":"IF(ISERROR(INDEX(C_SourceStreams!$K$28:$K$10055,MATCH(C64,C_SourceStreams!$C$28:$C$10055,0))),TRUE,INDEX(C_SourceStreams!$K$28:$K$10055,MATCH(C64,C_SourceStreams!$C$28:$C$10055,0))=\"\")","v":true}]
[null,null,62,{"$f":"IF($BA65,\"\",INDEX(C_SourceStreams!$K$61:$K$173,MATCH($C65,C_SourceStreams!$C$61:$C$173,0)))","v":""},{"$f":"IF($BA65,\"\",INDEX(C_SourceStreams!$E$61:$E$173,MATCH($C65,C_SourceStreams!$C$61:$C$173,0)))","v":""},{"$f":"IF($BA65,\"\",INDEX(C_SourceStreams!BH$61:BH$173,MATCH($C65,C_SourceStreams!$C$61:$C$173,0)))","v":""},{"$f":"IF($BA65,\"\",INDEX(C_SourceStreams!BI$61:BI$173,MATCH($C65,C_SourceStreams!$C$61:$C$173,0)))","v":""},{"$f":"IF($BA65,\"\",INDEX(C_SourceStreams!BL$61:BL$173,MATCH($C65,C_SourceStreams!$C$61:$C$173,0)))","v":""},{"$f":"IF($BA65,\"\",INDEX(C_SourceStreams!BM$61:BM$173,MATCH($C65,C_SourceStreams!$C$61:$C$173,0)))","v":""},{"$f":"IF($BA65,\"\",INDEX(C_SourceStreams!BJ$61:BJ$173,MATCH($C65,C_SourceStreams!$C$61:$C$173,0)))","v":""},{"$f":"IF($BA65,\"\",INDEX(C_SourceStreams!BK$61:BK$173,MATCH($C65,C_SourceStreams!$C$61:$C$173,0)))","v":""},{"$f":"IF($BA65,\"\",INDEX(C_SourceStreams!BP$61:BP$173,MATCH($C65,C_SourceStreams!$C$61:$C$173,0)))","v":""},{"$f":"IF($BA65,\"\",INDEX(C_SourceStreams!BQ$61:BQ$173,MATCH($C65,C_SourceStreams!$C$61:$C$173,0)))","v":""},{"$f":"IF($BA65,\"\",INDEX(C_SourceStreams!BN$61:BN$173,MATCH($C65,C_SourceStreams!$C$61:$C$173,0))*100)","v":""},"",{"$f":"IF($BA65,\"\",INDEX(C_SourceStreams!BO$61:BO$173,MATCH($C65,C_SourceStreams!$C$61:$C$173,0))*100)","v":""},"",{"$f":"IF($BA65,\"\",INDEX(C_SourceStreams!BR$61:BR$173,MATCH($C65,C_SourceStreams!$C$61:$C$173,0))*100)","v":""},"",{"$f":"IF($BA65,\"\",INDEX(C_SourceStreams!BS$61:BS$173,MATCH($C65,C_SourceStreams!$C$61:$C$173,0))*100)","v":""},"",null,null,null,null,null,null,null,null,null,null,null,null,null,null,null,null,null,null,null,null,null,null,null,null,null,{"$f":"IF($BA65,\"\",INDEX(C_SourceStreams!BT$61:BT$173,MATCH($C65,C_SourceStreams!$C$61:$C$173,0)))","v":""},{"$f":"IF($BA65,\"\",INDEX(C_SourceStreams!BU$61:BU$173,MATCH($C65,C_SourceStreams!$C$61:$C$173,0)))","v":""},{"$f":"IF($BA65,\"\",INDEX(C_SourceStreams!BV$61:BV$173,MATCH($C65,C_SourceStreams!$C$61:$C$173,0)))","v":""},{"$f":"IF($BA65,\"\",INDEX(C_SourceStreams!BW$61:BW$173,MATCH($C65,C_SourceStreams!$C$61:$C$173,0)))","v":""},{"$f":"IF($BA65,\"\",INDEX(C_SourceStreams!BX$61:BX$173,MATCH($C65,C_SourceStreams!$C$61:$C$173,0)))","v":""},null,{"$f":"IF(ISERROR(INDEX(C_SourceStreams!$K$28:$K$10055,MATCH(C65,C_SourceStreams!$C$28:$C$10055,0))),TRUE,INDEX(C_SourceStreams!$K$28:$K$10055,MATCH(C65,C_SourceStreams!$C$28:$C$10055,0))=\"\")","v":true}]
[null,null,63,{"$f":"IF($BA66,\"\",INDEX(C_SourceStreams!$K$61:$K$173,MATCH($C66,C_SourceStreams!$C$61:$C$173,0)))","v":""},{"$f":"IF($BA66,\"\",INDEX(C_SourceStreams!$E$61:$E$173,MATCH($C66,C_SourceStreams!$C$61:$C$173,0)))","v":""},{"$f":"IF($BA66,\"\",INDEX(C_SourceStreams!BH$61:BH$173,MATCH($C66,C_SourceStreams!$C$61:$C$173,0)))","v":""},{"$f":"IF($BA66,\"\",INDEX(C_SourceStreams!BI$61:BI$173,MATCH($C66,C_SourceStreams!$C$61:$C$173,0)))","v":""},{"$f":"IF($BA66,\"\",INDEX(C_SourceStreams!BL$61:BL$173,MATCH($C66,C_SourceStreams!$C$61:$C$173,0)))","v":""},{"$f":"IF($BA66,\"\",INDEX(C_SourceStreams!BM$61:BM$173,MATCH($C66,C_SourceStreams!$C$61:$C$173,0)))","v":""},{"$f":"IF($BA66,\"\",INDEX(C_SourceStreams!BJ$61:BJ$173,MATCH($C66,C_SourceStreams!$C$61:$C$173,0)))","v":""},{"$f":"IF($BA66,\"\",INDEX(C_SourceStreams!BK$61:BK$173,MATCH($C66,C_SourceStreams!$C$61:$C$173,0)))","v":""},{"$f":"IF($BA66,\"\",INDEX(C_SourceStreams!BP$61:BP$173,MATCH($C66,C_SourceStreams!$C$61:$C$173,0)))","v":""},{"$f":"IF($BA66,\"\",INDEX(C_SourceStreams!BQ$61:BQ$173,MATCH($C66,C_SourceStreams!$C$61:$C$173,0)))","v":""},{"$f":"IF($BA66,\"\",INDEX(C_SourceStreams!BN$61:BN$173,MATCH($C66,C_SourceStreams!$C$61:$C$173,0))*100)","v":""},"",{"$f":"IF($BA66,\"\",INDEX(C_SourceStreams!BO$61:BO$173,MATCH($C66,C_SourceStreams!$C$61:$C$173,0))*100)","v":""},"",{"$f":"IF($BA66,\"\",INDEX(C_SourceStreams!BR$61:BR$173,MATCH($C66,C_SourceStreams!$C$61:$C$173,0))*100)","v":""},"",{"$f":"IF($BA66,\"\",INDEX(C_SourceStreams!BS$61:BS$173,MATCH($C66,C_SourceStreams!$C$61:$C$173,0))*100)","v":""},"",null,null,null,null,null,null,null,null,null,null,null,null,null,null,null,null,null,null,null,null,null,null,null,null,null,{"$f":"IF($BA66,\"\",INDEX(C_SourceStreams!BT$61:BT$173,MATCH($C66,C_SourceStreams!$C$61:$C$173,0)))","v":""},{"$f":"IF($BA66,\"\",INDEX(C_SourceStreams!BU$61:BU$173,MATCH($C66,C_SourceStreams!$C$61:$C$173,0)))","v":""},{"$f":"IF($BA66,\"\",INDEX(C_SourceStreams!BV$61:BV$173,MATCH($C66,C_SourceStreams!$C$61:$C$173,0)))","v":""},{"$f":"IF($BA66,\"\",INDEX(C_SourceStreams!BW$61:BW$173,MATCH($C66,C_SourceStreams!$C$61:$C$173,0)))","v":""},{"$f":"IF($BA66,\"\",INDEX(C_SourceStreams!BX$61:BX$173,MATCH($C66,C_SourceStreams!$C$61:$C$173,0)))","v":""},null,{"$f":"IF(ISERROR(INDEX(C_SourceStreams!$K$28:$K$10055,MATCH(C66,C_SourceStreams!$C$28:$C$10055,0))),TRUE,INDEX(C_SourceStreams!$K$28:$K$10055,MATCH(C66,C_SourceStreams!$C$28:$C$10055,0))=\"\")","v":true}]
[null,null,64,{"$f":"IF($BA67,\"\",INDEX(C_SourceStreams!$K$61:$K$173,MATCH($C67,C_SourceStreams!$C$61:$C$173,0)))","v":""},{"$f":"IF($BA67,\"\",INDEX(C_SourceStreams!$E$61:$E$173,MATCH($C67,C_SourceStreams!$C$61:$C$173,0)))","v":""},{"$f":"IF($BA67,\"\",INDEX(C_SourceStreams!BH$61:BH$173,MATCH($C67,C_SourceStreams!$C$61:$C$173,0)))","v":""},{"$f":"IF($BA67,\"\",INDEX(C_SourceStreams!BI$61:BI$173,MATCH($C67,C_SourceStreams!$C$61:$C$173,0)))","v":""},{"$f":"IF($BA67,\"\",INDEX(C_SourceStreams!BL$61:BL$173,MATCH($C67,C_SourceStreams!$C$61:$C$173,0)))","v":""},{"$f":"IF($BA67,\"\",INDEX(C_SourceStreams!BM$61:BM$173,MATCH($C67,C_SourceStreams!$C$61:$C$173,0)))","v":""},{"$f":"IF($BA67,\"\",INDEX(C_SourceStreams!BJ$61:BJ$173,MATCH($C67,C_SourceStreams!$C$61:$C$173,0)))","v":""},{"$f":"IF($BA67,\"\",INDEX(C_SourceStreams!BK$61:BK$173,MATCH($C67,C_SourceStreams!$C$61:$C$173,0)))","v":""},{"$f":"IF($BA67,\"\",INDEX(C_SourceStreams!BP$61:BP$173,MATCH($C67,C_SourceStreams!$C$61:$C$173,0)))","v":""},{"$f":"IF($BA67,\"\",INDEX(C_SourceStreams!BQ$61:BQ$173,MATCH($C67,C_SourceStreams!$C$61:$C$173,0)))","v":""},{"$f":"IF($BA67,\"\",INDEX(C_SourceStreams!BN$61:BN$173,MATCH($C67,C_SourceStreams!$C$61:$C$173,0))*100)","v":""},"",{"$f":"IF($BA67,\"\",INDEX(C_SourceStreams!BO$61:BO$173,MATCH($C67,C_SourceStreams!$C$61:$C$173,0))*100)","v":""},"",{"$f":"IF($BA67,\"\",INDEX(C_SourceStreams!BR$61:BR$173,MATCH($C67,C_SourceStreams!$C$61:$C$173,0))*100)","v":""},"",{"$f":"IF($BA67,\"\",INDEX(C_SourceStreams!BS$61:BS$173,MATCH($C67,C_SourceStreams!$C$61:$C$173,0))*100)","v":""},"",null,null,null,null,null,null,null,null,null,null,null,null,null,null,null,null,null,null,null,null,null,null,null,null,null,{"$f":"IF($BA67,\"\",INDEX(C_SourceStreams!BT$61:BT$173,MATCH($C67,C_SourceStreams!$C$61:$C$173,0)))","v":""},{"$f":"IF($BA67,\"\",INDEX(C_SourceStreams!BU$61:BU$173,MATCH($C67,C_SourceStreams!$C$61:$C$173,0)))","v":""},{"$f":"IF($BA67,\"\",INDEX(C_SourceStreams!BV$61:BV$173,MATCH($C67,C_SourceStreams!$C$61:$C$173,0)))","v":""},{"$f":"IF($BA67,\"\",INDEX(C_SourceStreams!BW$61:BW$173,MATCH($C67,C_SourceStreams!$C$61:$C$173,0)))","v":""},{"$f":"IF($BA67,\"\",INDEX(C_SourceStreams!BX$61:BX$173,MATCH($C67,C_SourceStreams!$C$61:$C$173,0)))","v":""},null,{"$f":"IF(ISERROR(INDEX(C_SourceStreams!$K$28:$K$10055,MATCH(C67,C_SourceStreams!$C$28:$C$10055,0))),TRUE,INDEX(C_SourceStreams!$K$28:$K$10055,MATCH(C67,C_SourceStreams!$C$28:$C$10055,0))=\"\")","v":true}]
[null,null,65,{"$f":"IF($BA68,\"\",INDEX(C_SourceStreams!$K$61:$K$173,MATCH($C68,C_SourceStreams!$C$61:$C$173,0)))","v":""},{"$f":"IF($BA68,\"\",INDEX(C_SourceStreams!$E$61:$E$173,MATCH($C68,C_SourceStreams!$C$61:$C$173,0)))","v":""},{"$f":"IF($BA68,\"\",INDEX(C_SourceStreams!BH$61:BH$173,MATCH($C68,C_SourceStreams!$C$61:$C$173,0)))","v":""},{"$f":"IF($BA68,\"\",INDEX(C_SourceStreams!BI$61:BI$173,MATCH($C68,C_SourceStreams!$C$61:$C$173,0)))","v":""},{"$f":"IF($BA68,\"\",INDEX(C_SourceStreams!BL$61:BL$173,MATCH($C68,C_SourceStreams!$C$61:$C$173,0)))","v":""},{"$f":"IF($BA68,\"\",INDEX(C_SourceStreams!BM$61:BM$173,MATCH($C68,C_SourceStreams!$C$61:$C$173,0)))","v":""},{"$f":"IF($BA68,\"\",INDEX(C_SourceStreams!BJ$61:BJ$173,MATCH($C68,C_SourceStreams!$C$61:$C$173,0)))","v":""},{"$f":"IF($BA68,\"\",INDEX(C_SourceStreams!BK$61:BK$173,MATCH($C68,C_SourceStreams!$C$61:$C$173,0)))","v":""},{"$f":"IF($BA68,\"\",INDEX(C_SourceStreams!BP$61:BP$173,MATCH($C68,C_SourceStreams!$C$61:$C$173,0)))","v":""},{"$f":"IF($BA68,\"\",INDEX(C_SourceStreams!BQ$61:BQ$173,MATCH($C68,C_SourceStreams!$C$61:$C$173,0)))","v":""},{"$f":"IF($BA68,\"\",INDEX(C_SourceStreams!BN$61:BN$173,MATCH($C68,C_SourceStreams!$C$61:$C$173,0))*100)","v":""},"",{"$f":"IF($BA68,\"\",INDEX(C_SourceStreams!BO$61:BO$173,MATCH($C68,C_SourceStreams!$C$61:$C$173,0))*100)","v":""},"",{"$f":"IF($BA68,\"\",INDEX(C_SourceStreams!BR$61:BR$173,MATCH($C68,C_SourceStreams!$C$61:$C$173,0))*100)","v":""},"",{"$f":"IF($BA68,\"\",INDEX(C_SourceStreams!BS$61:BS$173,MATCH($C68,C_SourceStreams!$C$61:$C$173,0))*100)","v":""},"",null,null,null,null,null,null,null,null,null,null,null,null,null,null,null,null,null,null,null,null,null,null,null,null,null,{"$f":"IF($BA68,\"\",INDEX(C_SourceStreams!BT$61:BT$173,MATCH($C68,C_SourceStreams!$C$61:$C$173,0)))","v":""},{"$f":"IF($BA68,\"\",INDEX(C_SourceStreams!BU$61:BU$173,MATCH($C68,C_SourceStreams!$C$61:$C$173,0)))","v":""},{"$f":"IF($BA68,\"\",INDEX(C_SourceStreams!BV$61:BV$173,MATCH($C68,C_SourceStreams!$C$61:$C$173,0)))","v":""},{"$f":"IF($BA68,\"\",INDEX(C_SourceStreams!BW$61:BW$173,MATCH($C68,C_SourceStreams!$C$61:$C$173,0)))","v":""},{"$f":"IF($BA68,\"\",INDEX(C_SourceStreams!BX$61:BX$173,MATCH($C68,C_SourceStreams!$C$61:$C$173,0)))","v":""},null,{"$f":"IF(ISERROR(INDEX(C_SourceStreams!$K$28:$K$10055,MATCH(C68,C_SourceStreams!$C$28:$C$10055,0))),TRUE,INDEX(C_SourceStreams!$K$28:$K$10055,MATCH(C68,C_SourceStreams!$C$28:$C$10055,0))=\"\")","v":true}]
[null,null,66,{"$f":"IF($BA69,\"\",INDEX(C_SourceStreams!$K$61:$K$173,MATCH($C69,C_SourceStreams!$C$61:$C$173,0)))","v":""},{"$f":"IF($BA69,\"\",INDEX(C_SourceStreams!$E$61:$E$173,MATCH($C69,C_SourceStreams!$C$61:$C$173,0)))","v":""},{"$f":"IF($BA69,\"\",INDEX(C_SourceStreams!BH$61:BH$173,MATCH($C69,C_SourceStreams!$C$61:$C$173,0)))","v":""},{"$f":"IF($BA69,\"\",INDEX(C_SourceStreams!BI$61:BI$173,MATCH($C69,C_SourceStreams!$C$61:$C$173,0)))","v":""},{"$f":"IF($BA69,\"\",INDEX(C_SourceStreams!BL$61:BL$173,MATCH($C69,C_SourceStreams!$C$61:$C$173,0)))","v":""},{"$f":"IF($BA69,\"\",INDEX(C_SourceStreams!BM$61:BM$173,MATCH($C69,C_SourceStreams!$C$61:$C$173,0)))","v":""},{"$f":"IF($BA69,\"\",INDEX(C_SourceStreams!BJ$61:BJ$173,MATCH($C69,C_SourceStreams!$C$61:$C$173,0)))","v":""},{"$f":"IF($BA69,\"\",INDEX(C_SourceStreams!BK$61:BK$173,MATCH($C69,C_SourceStreams!$C$61:$C$173,0)))","v":""},{"$f":"IF($BA69,\"\",INDEX(C_SourceStreams!BP$61:BP$173,MATCH($C69,C_SourceStreams!$C$61:$C$173,0)))","v":""},{"$f":"IF($BA69,\"\",INDEX(C_SourceStreams!BQ$61:BQ$173,MATCH($C69,C_SourceStreams!$C$61:$C$173,0)))","v":""},{"$f":"IF($BA69,\"\",INDEX(C_SourceStreams!BN$61:BN$173,MATCH($C69,C_SourceStreams!$C$61:$C$173,0))*100)","v":""},{"$f":"IF($BA69,\"\",\"%\")","v":""},{"$f":"IF($BA69,\"\",INDEX(C_SourceStreams!BO$61:BO$173,MATCH($C69,C_SourceStreams!$C$61:$C$173,0))*100)","v":""},{"$f":"IF($BA69,\"\",\"%\")","v":""},{"$f":"IF($BA69,\"\",INDEX(C_SourceStreams!BR$61:BR$173,MATCH($C69,C_SourceStreams!$C$61:$C$173,0))*100)","v":""},{"$f":"IF($BA69,\"\",\"%\")","v":""},{"$f":"IF($BA69,\"\",INDEX(C_SourceStreams!BS$61:BS$173,MATCH($C69,C_SourceStreams!$C$61:$C$173,0))*100)","v":""},{"$f":"IF($BA69,\"\",\"%\")","v":""},null,null,null,null,null,null,null,null,null,null,null,null,null,null,null,null,null,null,null,null,null,null,null,null,null,{"$f":"IF($BA69,\"\",INDEX(C_SourceStreams!BT$61:BT$173,MATCH($C69,C_SourceStreams!$C$61:$C$173,0)))","v":""},{"$f":"IF($BA69,\"\",INDEX(C_SourceStreams!BU$61:BU$173,MATCH($C69,C_SourceStreams!$C$61:$C$173,0)))","v":""},{"$f":"IF($BA69,\"\",INDEX(C_SourceStreams!BV$61:BV$173,MATCH($C69,C_SourceStreams!$C$61:$C$173,0)))","v":""},{"$f":"IF($BA69,\"\",INDEX(C_SourceStreams!BW$61:BW$173,MATCH($C69,C_SourceStreams!$C$61:$C$173,0)))","v":""},{"$f":"IF($BA69,\"\",INDEX(C_SourceStreams!BX$61:BX$173,MATCH($C69,C_SourceStreams!$C$61:$C$173,0)))","v":""},null,{"$f":"IF(ISERROR(INDEX(C_SourceStreams!$K$28:$K$10055,MATCH(C69,C_SourceStreams!$C$28:$C$10055,0))),TRUE,INDEX(C_SourceStreams!$K$28:$K$10055,MATCH(C69,C_SourceStreams!$C$28:$C$10055,0))=\"\")","v":true}]
[null,null,67,{"$f":"IF($BA70,\"\",INDEX(C_SourceStreams!$K$61:$K$173,MATCH($C70,C_SourceStreams!$C$61:$C$173,0)))","v":""},{"$f":"IF($BA70,\"\",INDEX(C_SourceStreams!$E$61:$E$173,MATCH($C70,C_SourceStreams!$C$61:$C$173,0)))","v":""},{"$f":"IF($BA70,\"\",INDEX(C_SourceStreams!BH$61:BH$173,MATCH($C70,C_SourceStreams!$C$61:$C$173,0)))","v":""},{"$f":"IF($BA70,\"\",INDEX(C_SourceStreams!BI$61:BI$173,MATCH($C70,C_SourceStreams!$C$61:$C$173,0)))","v":""},{"$f":"IF($BA70,\"\",INDEX(C_SourceStreams!BL$61:BL$173,MATCH($C70,C_SourceStreams!$C$61:$C$173,0)))","v":""},{"$f":"IF($BA70,\"\",INDEX(C_SourceStreams!BM$61:BM$173,MATCH($C70,C_SourceStreams!$C$61:$C$173,0)))","v":""},{"$f":"IF($BA70,\"\",INDEX(C_SourceStreams!BJ$61:BJ$173,MATCH($C70,C_SourceStreams!$C$61:$C$173,0)))","v":""},{"$f":"IF($BA70,\"\",INDEX(C_SourceStreams!BK$61:BK$173,MATCH($C70,C_SourceStreams!$C$61:$C$173,0)))","v":""},{"$f":"IF($BA70,\"\",INDEX(C_SourceStreams!BP$61:BP$173,MATCH($C70,C_SourceStreams!$C$61:$C$173,0)))","v":""},{"$f":"IF($BA70,\"\",INDEX(C_SourceStreams!BQ$61:BQ$173,MATCH($C70,C_SourceStreams!$C$61:$C$173,0)))","v":""},{"$f":"IF($BA70,\"\",INDEX(C_SourceStreams!BN$61:BN$173,MATCH($C70,C_SourceStreams!$C$61:$C$173,0))*100)","v":""},"",{"$f":"IF($BA70,\"\",INDEX(C_SourceStreams!BO$61:BO$173,MATCH($C70,C_SourceStreams!$C$61:$C$173,0))*100)","v":""},"",{"$f":"IF($BA70,\"\",INDEX(C_SourceStreams!BR$61:BR$173,MATCH($C70,C_SourceStreams!$C$61:$C$173,0))*100)","v":""},"",{"$f":"IF($BA70,\"\",INDEX(C_SourceStreams!BS$61:BS$173,MATCH($C70,C_SourceStreams!$C$61:$C$173,0))*100)","v":""},"",null,null,null,null,null,null,null,null,null,null,null,null,null,null,null,null,null,null,null,null,null,null,null,null,null,{"$f":"IF($BA70,\"\",INDEX(C_SourceStreams!BT$61:BT$173,MATCH($C70,C_SourceStreams!$C$61:$C$173,0)))","v":""},{"$f":"IF($BA70,\"\",INDEX(C_SourceStreams!BU$61:BU$173,MATCH($C70,C_SourceStreams!$C$61:$C$173,0)))","v":""},{"$f":"IF($BA70,\"\",INDEX(C_SourceStreams!BV$61:BV$173,MATCH($C70,C_SourceStreams!$C$61:$C$173,0)))","v":""},{"$f":"IF($BA70,\"\",INDEX(C_SourceStreams!BW$61:BW$173,MATCH($C70,C_SourceStreams!$C$61:$C$173,0)))","v":""},{"$f":"IF($BA70,\"\",INDEX(C_SourceStreams!BX$61:BX$173,MATCH($C70,C_SourceStreams!$C$61:$C$173,0)))","v":""},null,{"$f":"IF(ISERROR(INDEX(C_SourceStreams!$K$28:$K$10055,MATCH(C70,C_SourceStreams!$C$28:$C$10055,0))),TRUE,INDEX(C_SourceStreams!$K$28:$K$10055,MATCH(C70,C_SourceStreams!$C$28:$C$10055,0))=\"\")","v":true}]
[null,null,68,{"$f":"IF($BA71,\"\",INDEX(C_SourceStreams!$K$61:$K$173,MATCH($C71,C_SourceStreams!$C$61:$C$173,0)))","v":""},{"$f":"IF($BA71,\"\",INDEX(C_SourceStreams!$E$61:$E$173,MATCH($C71,C_SourceStreams!$C$61:$C$173,0)))","v":""},{"$f":"IF($BA71,\"\",INDEX(C_SourceStreams!BH$61:BH$173,MATCH($C71,C_SourceStreams!$C$61:$C$173,0)))","v":""},{"$f":"IF($BA71,\"\",INDEX(C_SourceStreams!BI$61:BI$173,MATCH($C71,C_SourceStreams!$C$61:$C$173,0)))","v":""},{"$f":"IF($BA71,\"\",INDEX(C_SourceStreams!BL$61:BL$173,MATCH($C71,C_SourceStreams!$C$61:$C$173,0)))","v":""},{"$f":"IF($BA71,\"\",INDEX(C_SourceStreams!BM$61:BM$173,MATCH($C71,C_SourceStreams!$C$61:$C$173,0)))","v":""},{"$f":"IF($BA71,\"\",INDEX(C_SourceStreams!BJ$61:BJ$173,MATCH($C71,C_SourceStreams!$C$61:$C$173,0)))","v":""},{"$f":"IF($BA71,\"\",INDEX(C_SourceStreams!BK$61:BK$173,MATCH($C71,C_SourceStreams!$C$61:$C$173,0)))","v":""},{"$f":"IF($BA71,\"\",INDEX(C_SourceStreams!BP$61:BP$173,MATCH($C71,C_SourceStreams!$C$61:$C$173,0)))","v":""},{"$f":"IF($BA71,\"\",INDEX(C_SourceStreams!BQ$61:BQ$173,MATCH($C71,C_SourceStreams!$C$61:$C$173,0)))","v":""},{"$f":"IF($BA71,\"\",INDEX(C_SourceStreams!BN$61:BN$173,MATCH($C71,C_SourceStreams!$C$61:$C$173,0))*100)","v":""},"",{"$f":"IF($BA71,\"\",INDEX(C_SourceStreams!BO$61:BO$173,MATCH($C71,C_SourceStreams!$C$61:$C$173,0))*100)","v":""},"",{"$f":"IF($BA71,\"\",INDEX(C_SourceStreams!BR$61:BR$173,MATCH($C71,C_SourceStreams!$C$61:$C$173,0))*100)","v":""},"",{"$f":"IF($BA71,\"\",INDEX(C_SourceStreams!BS$61:BS$173,MATCH($C71,C_SourceStreams!$C$61:$C$173,0))*100)","v":""},"",null,null,null,null,null,null,null,null,null,null,null,null,null,null,null,null,null,null,null,null,null,null,null,null,null,{"$f":"IF($BA71,\"\",INDEX(C_SourceStreams!BT$61:BT$173,MATCH($C71,C_SourceStreams!$C$61:$C$173,0)))","v":""},{"$f":"IF($BA71,\"\",INDEX(C_SourceStreams!BU$61:BU$173,MATCH($C71,C_SourceStreams!$C$61:$C$173,0)))","v":""},{"$f":"IF($BA71,\"\",INDEX(C_SourceStreams!BV$61:BV$173,MATCH($C71,C_SourceStreams!$C$61:$C$173,0)))","v":""},{"$f":"IF($BA71,\"\",INDEX(C_SourceStreams!BW$61:BW$173,MATCH($C71,C_SourceStreams!$C$61:$C$173,0)))","v":""},{"$f":"IF($BA71,\"\",INDEX(C_SourceStreams!BX$61:BX$173,MATCH($C71,C_SourceStreams!$C$61:$C$173,0)))","v":""},null,{"$f":"IF(ISERROR(INDEX(C_SourceStreams!$K$28:$K$10055,MATCH(C71,C_SourceStreams!$C$28:$C$10055,0))),TRUE,INDEX(C_SourceStreams!$K$28:$K$10055,MATCH(C71,C_SourceStreams!$C$28:$C$10055,0))=\"\")","v":true}]
[null,null,69,{"$f":"IF($BA72,\"\",INDEX(C_SourceStreams!$K$61:$K$173,MATCH($C72,C_SourceStreams!$C$61:$C$173,0)))","v":""},{"$f":"IF($BA72,\"\",INDEX(C_SourceStreams!$E$61:$E$173,MATCH($C72,C_SourceStreams!$C$61:$C$173,0)))","v":""},{"$f":"IF($BA72,\"\",INDEX(C_SourceStreams!BH$61:BH$173,MATCH($C72,C_SourceStreams!$C$61:$C$173,0)))","v":""},{"$f":"IF($BA72,\"\",INDEX(C_SourceStreams!BI$61:BI$173,MATCH($C72,C_SourceStreams!$C$61:$C$173,0)))","v":""},{"$f":"IF($BA72,\"\",INDEX(C_SourceStreams!BL$61:BL$173,MATCH($C72,C_SourceStreams!$C$61:$C$173,0)))","v":""},{"$f":"IF($BA72,\"\",INDEX(C_SourceStreams!BM$61:BM$173,MATCH($C72,C_SourceStreams!$C$61:$C$173,0)))","v":""},{"$f":"IF($BA72,\"\",INDEX(C_SourceStreams!BJ$61:BJ$173,MATCH($C72,C_SourceStreams!$C$61:$C$173,0)))","v":""},{"$f":"IF($BA72,\"\",INDEX(C_SourceStreams!BK$61:BK$173,MATCH($C72,C_SourceStreams!$C$61:$C$173,0)))","v":""},{"$f":"IF($BA72,\"\",INDEX(C_SourceStreams!BP$61:BP$173,MATCH($C72,C_SourceStreams!$C$61:$C$173,0)))","v":""},{"$f":"IF($BA72,\"\",INDEX(C_SourceStreams!BQ$61:BQ$173,MATCH($C72,C_SourceStreams!$C$61:$C$173,0)))","v":""},{"$f":"IF($BA72,\"\",INDEX(C_SourceStreams!BN$61:BN$173,MATCH($C72,C_SourceStreams!$C$61:$C$173,0))*100)","v":""},"",{"$f":"IF($BA72,\"\",INDEX(C_SourceStreams!BO$61:BO$173,MATCH($C72,C_SourceStreams!$C$61:$C$173,0))*100)","v":""},"",{"$f":"IF($BA72,\"\",INDEX(C_SourceStreams!BR$61:BR$173,MATCH($C72,C_SourceStreams!$C$61:$C$173,0))*100)","v":""},"",{"$f":"IF($BA72,\"\",INDEX(C_SourceStreams!BS$61:BS$173,MATCH($C72,C_SourceStreams!$C$61:$C$173,0))*100)","v":""},"",null,null,null,null,null,null,null,null,null,null,null,null,null,null,null,null,null,null,null,null,null,null,null,null,null,{"$f":"IF($BA72,\"\",INDEX(C_SourceStreams!BT$61:BT$173,MATCH($C72,C_SourceStreams!$C$61:$C$173,0)))","v":""},{"$f":"IF($BA72,\"\",INDEX(C_SourceStreams!BU$61:BU$173,MATCH($C72,C_SourceStreams!$C$61:$C$173,0)))","v":""},{"$f":"IF($BA72,\"\",INDEX(C_SourceStreams!BV$61:BV$173,MATCH($C72,C_SourceStreams!$C$61:$C$173,0)))","v":""},{"$f":"IF($BA72,\"\",INDEX(C_SourceStreams!BW$61:BW$173,MATCH($C72,C_SourceStreams!$C$61:$C$173,0)))","v":""},{"$f":"IF($BA72,\"\",INDEX(C_SourceStreams!BX$61:BX$173,MATCH($C72,C_SourceStreams!$C$61:$C$173,0)))","v":""},null,{"$f":"IF(ISERROR(INDEX(C_SourceStreams!$K$28:$K$10055,MATCH(C72,C_SourceStreams!$C$28:$C$10055,0))),TRUE,INDEX(C_SourceStreams!$K$28:$K$10055,MATCH(C72,C_SourceStreams!$C$28:$C$10055,0))=\"\")","v":true}]
[null,null,70,{"$f":"IF($BA73,\"\",INDEX(C_SourceStreams!$K$61:$K$173,MATCH($C73,C_SourceStreams!$C$61:$C$173,0)))","v":""},{"$f":"IF($BA73,\"\",INDEX(C_SourceStreams!$E$61:$E$173,MATCH($C73,C_SourceStreams!$C$61:$C$173,0)))","v":""},{"$f":"IF($BA73,\"\",INDEX(C_SourceStreams!BH$61:BH$173,MATCH($C73,C_SourceStreams!$C$61:$C$173,0)))","v":""},{"$f":"IF($BA73,\"\",INDEX(C_SourceStreams!BI$61:BI$173,MATCH($C73,C_SourceStreams!$C$61:$C$173,0)))","v":""},{"$f":"IF($BA73,\"\",INDEX(C_SourceStreams!BL$61:BL$173,MATCH($C73,C_SourceStreams!$C$61:$C$173,0)))","v":""},{"$f":"IF($BA73,\"\",INDEX(C_SourceStreams!BM$61:BM$173,MATCH($C73,C_SourceStreams!$C$61:$C$173,0)))","v":""},{"$f":"IF($BA73,\"\",INDEX(C_SourceStreams!BJ$61:BJ$173,MATCH($C73,C_SourceStreams!$C$61:$C$173,0)))","v":""},{"$f":"IF($BA73,\"\",INDEX(C_SourceStreams!BK$61:BK$173,MATCH($C73,C_SourceStreams!$C$61:$C$173,0)))","v":""},{"$f":"IF($BA73,\"\",INDEX(C_SourceStreams!BP$61:BP$173,MATCH($C73,C_SourceStreams!$C$61:$C$173,0)))","v":""},{"$f":"IF($BA73,\"\",INDEX(C_SourceStreams!BQ$61:BQ$173,MATCH($C73,C_SourceStreams!$C$61:$C$173,0)))","v":""},{"$f":"IF($BA73,\"\",INDEX(C_SourceStreams!BN$61:BN$173,MATCH($C73,C_SourceStreams!$C$61:$C$173,0))*100)","v":""},"",{"$f":"IF($BA73,\"\",INDEX(C_SourceStreams!BO$61:BO$173,MATCH($C73,C_SourceStreams!$C$61:$C$173,0))*100)","v":""},"",{"$f":"IF($BA73,\"\",INDEX(C_SourceStreams!BR$61:BR$173,MATCH($C73,C_SourceStreams!$C$61:$C$173,0))*100)","v":""},"",{"$f":"IF($BA73,\"\",INDEX(C_SourceStreams!BS$61:BS$173,MATCH($C73,C_SourceStreams!$C$61:$C$173,0))*100)","v":""},"",null,null,null,null,null,null,null,null,null,null,null,null,null,null,null,null,null,null,null,null,null,null,null,null,null,{"$f":"IF($BA73,\"\",INDEX(C_SourceStreams!BT$61:BT$173,MATCH($C73,C_SourceStreams!$C$61:$C$173,0)))","v":""},{"$f":"IF($BA73,\"\",INDEX(C_SourceStreams!BU$61:BU$173,MATCH($C73,C_SourceStreams!$C$61:$C$173,0)))","v":""},{"$f":"IF($BA73,\"\",INDEX(C_SourceStreams!BV$61:BV$173,MATCH($C73,C_SourceStreams!$C$61:$C$173,0)))","v":""},{"$f":"IF($BA73,\"\",INDEX(C_SourceStreams!BW$61:BW$173,MATCH($C73,C_SourceStreams!$C$61:$C$173,0)))","v":""},{"$f":"IF($BA73,\"\",INDEX(C_SourceStreams!BX$61:BX$173,MATCH($C73,C_SourceStreams!$C$61:$C$173,0)))","v":""},null,{"$f":"IF(ISERROR(INDEX(C_SourceStreams!$K$28:$K$10055,MATCH(C73,C_SourceStreams!$C$28:$C$10055,0))),TRUE,INDEX(C_SourceStreams!$K$28:$K$10055,MATCH(C73,C_SourceStreams!$C$28:$C$10055,0))=\"\")","v":true}]
[null,null,71,{"$f":"IF($BA74,\"\",INDEX(C_SourceStreams!$K$61:$K$173,MATCH($C74,C_SourceStreams!$C$61:$C$173,0)))","v":""},{"$f":"IF($BA74,\"\",INDEX(C_SourceStreams!$E$61:$E$173,MATCH($C74,C_SourceStreams!$C$61:$C$173,0)))","v":""},{"$f":"IF($BA74,\"\",INDEX(C_SourceStreams!BH$61:BH$173,MATCH($C74,C_SourceStreams!$C$61:$C$173,0)))","v":""},{"$f":"IF($BA74,\"\",INDEX(C_SourceStreams!BI$61:BI$173,MATCH($C74,C_SourceStreams!$C$61:$C$173,0)))","v":""},{"$f":"IF($BA74,\"\",INDEX(C_SourceStreams!BL$61:BL$173,MATCH($C74,C_SourceStreams!$C$61:$C$173,0)))","v":""},{"$f":"IF($BA74,\"\",INDEX(C_SourceStreams!BM$61:BM$173,MATCH($C74,C_SourceStreams!$C$61:$C$173,0)))","v":""},{"$f":"IF($BA74,\"\",INDEX(C_SourceStreams!BJ$61:BJ$173,MATCH($C74,C_SourceStreams!$C$61:$C$173,0)))","v":""},{"$f":"IF($BA74,\"\",INDEX(C_SourceStreams!BK$61:BK$173,MATCH($C74,C_SourceStreams!$C$61:$C$173,0)))","v":""},{"$f":"IF($BA74,\"\",INDEX(C_SourceStreams!BP$61:BP$173,MATCH($C74,C_SourceStreams!$C$61:$C$173,0)))","v":""},{"$f":"IF($BA74,\"\",INDEX(C_SourceStreams!BQ$61:BQ$173,MATCH($C74,C_SourceStreams!$C$61:$C$173,0)))","v":""},{"$f":"IF($BA74,\"\",INDEX(C_SourceStreams!BN$61:BN$173,MATCH($C74,C_SourceStreams!$C$61:$C$173,0))*100)","v":""},"",{"$f":"IF($BA74,\"\",INDEX(C_SourceStreams!BO$61:BO$173,MATCH($C74,C_SourceStreams!$C$61:$C$173,0))*100)","v":""},"",{"$f":"IF($BA74,\"\",INDEX(C_SourceStreams!BR$61:BR$173,MATCH($C74,C_SourceStreams!$C$61:$C$173,0))*100)","v":""},"",{"$f":"IF($BA74,\"\",INDEX(C_SourceStreams!BS$61:BS$173,MATCH($C74,C_SourceStreams!$C$61:$C$173,0))*100)","v":""},"",null,null,null,null,null,null,null,null,null,null,null,null,null,null,null,null,null,null,null,null,null,null,null,null,null,{"$f":"IF($BA74,\"\",INDEX(C_SourceStreams!BT$61:BT$173,MATCH($C74,C_SourceStreams!$C$61:$C$173,0)))","v":""},{"$f":"IF($BA74,\"\",INDEX(C_SourceStreams!BU$61:BU$173,MATCH($C74,C_SourceStreams!$C$61:$C$173,0)))","v":""},{"$f":"IF($BA74,\"\",INDEX(C_SourceStreams!BV$61:BV$173,MATCH($C74,C_SourceStreams!$C$61:$C$173,0)))","v":""},{"$f":"IF($BA74,\"\",INDEX(C_SourceStreams!BW$61:BW$173,MATCH($C74,C_SourceStreams!$C$61:$C$173,0)))","v":""},{"$f":"IF($BA74,\"\",INDEX(C_SourceStreams!BX$61:BX$173,MATCH($C74,C_SourceStreams!$C$61:$C$173,0)))","v":""},null,{"$f":"IF(ISERROR(INDEX(C_SourceStreams!$K$28:$K$10055,MATCH(C74,C_SourceStreams!$C$28:$C$10055,0))),TRUE,INDEX(C_SourceStreams!$K$28:$K$10055,MATCH(C74,C_SourceStreams!$C$28:$C$10055,0))=\"\")","v":true}]
[null,null,72,{"$f":"IF($BA75,\"\",INDEX(C_SourceStreams!$K$61:$K$173,MATCH($C75,C_SourceStreams!$C$61:$C$173,0)))","v":""},{"$f":"IF($BA75,\"\",INDEX(C_SourceStreams!$E$61:$E$173,MATCH($C75,C_SourceStreams!$C$61:$C$173,0)))","v":""},{"$f":"IF($BA75,\"\",INDEX(C_SourceStreams!BH$61:BH$173,MATCH($C75,C_SourceStreams!$C$61:$C$173,0)))","v":""},{"$f":"IF($BA75,\"\",INDEX(C_SourceStreams!BI$61:BI$173,MATCH($C75,C_SourceStreams!$C$61:$C$173,0)))","v":""},{"$f":"IF($BA75,\"\",INDEX(C_SourceStreams!BL$61:BL$173,MATCH($C75,C_SourceStreams!$C$61:$C$173,0)))","v":""},{"$f":"IF($BA75,\"\",INDEX(C_SourceStreams!BM$61:BM$173,MATCH($C75,C_SourceStreams!$C$61:$C$173,0)))","v":""},{"$f":"IF($BA75,\"\",INDEX(C_SourceStreams!BJ$61:BJ$173,MATCH($C75,C_SourceStreams!$C$61:$C$173,0)))","v":""},{"$f":"IF($BA75,\"\",INDEX(C_SourceStreams!BK$61:BK$173,MATCH($C75,C_SourceStreams!$C$61:$C$173,0)))","v":""},{"$f":"IF($BA75,\"\",INDEX(C_SourceStreams!BP$61:BP$173,MATCH($C75,C_SourceStreams!$C$61:$C$173,0)))","v":""},{"$f":"IF($BA75,\"\",INDEX(C_SourceStreams!BQ$61:BQ$173,MATCH($C75,C_SourceStreams!$C$61:$C$173,0)))","v":""},{"$f":"IF($BA75,\"\",INDEX(C_SourceStreams!BN$61:BN$173,MATCH($C75,C_SourceStreams!$C$61:$C$173,0))*100)","v":""},"",{"$f":"IF($BA75,\"\",INDEX(C_SourceStreams!BO$61:BO$173,MATCH($C75,C_SourceStreams!$C$61:$C$173,0))*100)","v":""},"",{"$f":"IF($BA75,\"\",INDEX(C_SourceStreams!BR$61:BR$173,MATCH($C75,C_SourceStreams!$C$61:$C$173,0))*100)","v":""},"",{"$f":"IF($BA75,\"\",INDEX(C_SourceStreams!BS$61:BS$173,MATCH($C75,C_SourceStreams!$C$61:$C$173,0))*100)","v":""},"",null,null,null,null,null,null,null,null,null,null,null,null,null,null,null,null,null,null,null,null,null,null,null,null,null,{"$f":"IF($BA75,\"\",INDEX(C_SourceStreams!BT$61:BT$173,MATCH($C75,C_SourceStreams!$C$61:$C$173,0)))","v":""},{"$f":"IF($BA75,\"\",INDEX(C_SourceStreams!BU$61:BU$173,MATCH($C75,C_SourceStreams!$C$61:$C$173,0)))","v":""},{"$f":"IF($BA75,\"\",INDEX(C_SourceStreams!BV$61:BV$173,MATCH($C75,C_SourceStreams!$C$61:$C$173,0)))","v":""},{"$f":"IF($BA75,\"\",INDEX(C_SourceStreams!BW$61:BW$173,MATCH($C75,C_SourceStreams!$C$61:$C$173,0)))","v":""},{"$f":"IF($BA75,\"\",INDEX(C_SourceStreams!BX$61:BX$173,MATCH($C75,C_SourceStreams!$C$61:$C$173,0)))","v":""},null,{"$f":"IF(ISERROR(INDEX(C_SourceStreams!$K$28:$K$10055,MATCH(C75,C_SourceStreams!$C$28:$C$10055,0))),TRUE,INDEX(C_SourceStreams!$K$28:$K$10055,MATCH(C75,C_SourceStreams!$C$28:$C$10055,0))=\"\")","v":true}]
[null,null,73,{"$f":"IF($BA76,\"\",INDEX(C_SourceStreams!$K$61:$K$173,MATCH($C76,C_SourceStreams!$C$61:$C$173,0)))","v":""},{"$f":"IF($BA76,\"\",INDEX(C_SourceStreams!$E$61:$E$173,MATCH($C76,C_SourceStreams!$C$61:$C$173,0)))","v":""},{"$f":"IF($BA76,\"\",INDEX(C_SourceStreams!BH$61:BH$173,MATCH($C76,C_SourceStreams!$C$61:$C$173,0)))","v":""},{"$f":"IF($BA76,\"\",INDEX(C_SourceStreams!BI$61:BI$173,MATCH($C76,C_SourceStreams!$C$61:$C$173,0)))","v":""},{"$f":"IF($BA76,\"\",INDEX(C_SourceStreams!BL$61:BL$173,MATCH($C76,C_SourceStreams!$C$61:$C$173,0)))","v":""},{"$f":"IF($BA76,\"\",INDEX(C_SourceStreams!BM$61:BM$173,MATCH($C76,C_SourceStreams!$C$61:$C$173,0)))","v":""},{"$f":"IF($BA76,\"\",INDEX(C_SourceStreams!BJ$61:BJ$173,MATCH($C76,C_SourceStreams!$C$61:$C$173,0)))","v":""},{"$f":"IF($BA76,\"\",INDEX(C_SourceStreams!BK$61:BK$173,MATCH($C76,C_SourceStreams!$C$61:$C$173,0)))","v":""},{"$f":"IF($BA76,\"\",INDEX(C_SourceStreams!BP$61:BP$173,MATCH($C76,C_SourceStreams!$C$61:$C$173,0)))","v":""},{"$f":"IF($BA76,\"\",INDEX(C_SourceStreams!BQ$61:BQ$173,MATCH($C76,C_SourceStreams!$C$61:$C$173,0)))","v":""},{"$f":"IF($BA76,\"\",INDEX(C_SourceStreams!BN$61:BN$173,MATCH($C76,C_SourceStreams!$C$61:$C$173,0))*100)","v":""},"",{"$f":"IF($BA76,\"\",INDEX(C_SourceStreams!BO$61:BO$173,MATCH($C76,C_SourceStreams!$C$61:$C$173,0))*100)","v":""},"",{"$f":"IF($BA76,\"\",INDEX(C_SourceStreams!BR$61:BR$173,MATCH($C76,C_SourceStreams!$C$61:$C$173,0))*100)","v":""},"",{"$f":"IF($BA76,\"\",INDEX(C_SourceStreams!BS$61:BS$173,MATCH($C76,C_SourceStreams!$C$61:$C$173,0))*100)","v":""},"",null,null,null,null,null,null,null,null,null,null,null,null,null,null,null,null,null,null,null,null,null,null,null,null,null,{"$f":"IF($BA76,\"\",INDEX(C_SourceStreams!BT$61:BT$173,MATCH($C76,C_SourceStreams!$C$61:$C$173,0)))","v":""},{"$f":"IF($BA76,\"\",INDEX(C_SourceStreams!BU$61:BU$173,MATCH($C76,C_SourceStreams!$C$61:$C$173,0)))","v":""},{"$f":"IF($BA76,\"\",INDEX(C_SourceStreams!BV$61:BV$173,MATCH($C76,C_SourceStreams!$C$61:$C$173,0)))","v":""},{"$f":"IF($BA76,\"\",INDEX(C_SourceStreams!BW$61:BW$173,MATCH($C76,C_SourceStreams!$C$61:$C$173,0)))","v":""},{"$f":"IF($BA76,\"\",INDEX(C_SourceStreams!BX$61:BX$173,MATCH($C76,C_SourceStreams!$C$61:$C$173,0)))","v":""},null,{"$f":"IF(ISERROR(INDEX(C_SourceStreams!$K$28:$K$10055,MATCH(C76,C_SourceStreams!$C$28:$C$10055,0))),TRUE,INDEX(C_SourceStreams!$K$28:$K$10055,MATCH(C76,C_SourceStreams!$C$28:$C$10055,0))=\"\")","v":true}]
[null,null,74,{"$f":"IF($BA77,\"\",INDEX(C_SourceStreams!$K$61:$K$173,MATCH($C77,C_SourceStreams!$C$61:$C$173,0)))","v":""},{"$f":"IF($BA77,\"\",INDEX(C_SourceStreams!$E$61:$E$173,MATCH($C77,C_SourceStreams!$C$61:$C$173,0)))","v":""},{"$f":"IF($BA77,\"\",INDEX(C_SourceStreams!BH$61:BH$173,MATCH($C77,C_SourceStreams!$C$61:$C$173,0)))","v":""},{"$f":"IF($BA77,\"\",INDEX(C_SourceStreams!BI$61:BI$173,MATCH($C77,C_SourceStreams!$C$61:$C$173,0)))","v":""},{"$f":"IF($BA77,\"\",INDEX(C_SourceStreams!BL$61:BL$173,MATCH($C77,C_SourceStreams!$C$61:$C$173,0)))","v":""},{"$f":"IF($BA77,\"\",INDEX(C_SourceStreams!BM$61:BM$173,MATCH($C77,C_SourceStreams!$C$61:$C$173,0)))","v":""},{"$f":"IF($BA77,\"\",INDEX(C_SourceStreams!BJ$61:BJ$173,MATCH($C77,C_SourceStreams!$C$61:$C$173,0)))","v":""},{"$f":"IF($BA77,\"\",INDEX(C_SourceStreams!BK$61:BK$173,MATCH($C77,C_SourceStreams!$C$61:$C$173,0)))","v":""},{"$f":"IF($BA77,\"\",INDEX(C_SourceStreams!BP$61:BP$173,MATCH($C77,C_SourceStreams!$C$61:$C$173,0)))","v":""},{"$f":"IF($BA77,\"\",INDEX(C_SourceStreams!BQ$61:BQ$173,MATCH($C77,C_SourceStreams!$C$61:$C$173,0)))","v":""},{"$f":"IF($BA77,\"\",INDEX(C_SourceStreams!BN$61:BN$173,MATCH($C77,C_SourceStreams!$C$61:$C$173,0))*100)","v":""},"",{"$f":"IF($BA77,\"\",INDEX(C_SourceStreams!BO$61:BO$173,MATCH($C77,C_SourceStreams!$C$61:$C$173,0))*100)","v":""},"",{"$f":"IF($BA77,\"\",INDEX(C_SourceStreams!BR$61:BR$173,MATCH($C77,C_SourceStreams!$C$61:$C$173,0))*100)","v":""},"",{"$f":"IF($BA77,\"\",INDEX(C_SourceStreams!BS$61:BS$173,MATCH($C77,C_SourceStreams!$C$61:$C$173,0))*100)","v":""},"",null,null,null,null,null,null,null,null,null,null,null,null,null,null,null,null,null,null,null,null,null,null,null,null,null,{"$f":"IF($BA77,\"\",INDEX(C_SourceStreams!BT$61:BT$173,MATCH($C77,C_SourceStreams!$C$61:$C$173,0)))","v":""},{"$f":"IF($BA77,\"\",INDEX(C_SourceStreams!BU$61:BU$173,MATCH($C77,C_SourceStreams!$C$61:$C$173,0)))","v":""},{"$f":"IF($BA77,\"\",INDEX(C_SourceStreams!BV$61:BV$173,MATCH($C77,C_SourceStreams!$C$61:$C$173,0)))","v":""},{"$f":"IF($BA77,\"\",INDEX(C_SourceStreams!BW$61:BW$173,MATCH($C77,C_SourceStreams!$C$61:$C$173,0)))","v":""},{"$f":"IF($BA77,\"\",INDEX(C_SourceStreams!BX$61:BX$173,MATCH($C77,C_SourceStreams!$C$61:$C$173,0)))","v":""},null,{"$f":"IF(ISERROR(INDEX(C_SourceStreams!$K$28:$K$10055,MATCH(C77,C_SourceStreams!$C$28:$C$10055,0))),TRUE,INDEX(C_SourceStreams!$K$28:$K$10055,MATCH(C77,C_SourceStreams!$C$28:$C$10055,0))=\"\")","v":true}]
[null,null,75,{"$f":"IF($BA78,\"\",INDEX(C_SourceStreams!$K$61:$K$173,MATCH($C78,C_SourceStreams!$C$61:$C$173,0)))","v":""},{"$f":"IF($BA78,\"\",INDEX(C_SourceStreams!$E$61:$E$173,MATCH($C78,C_SourceStreams!$C$61:$C$173,0)))","v":""},{"$f":"IF($BA78,\"\",INDEX(C_SourceStreams!BH$61:BH$173,MATCH($C78,C_SourceStreams!$C$61:$C$173,0)))","v":""},{"$f":"IF($BA78,\"\",INDEX(C_SourceStreams!BI$61:BI$173,MATCH($C78,C_SourceStreams!$C$61:$C$173,0)))","v":""},{"$f":"IF($BA78,\"\",INDEX(C_SourceStreams!BL$61:BL$173,MATCH($C78,C_SourceStreams!$C$61:$C$173,0)))","v":""},{"$f":"IF($BA78,\"\",INDEX(C_SourceStreams!BM$61:BM$173,MATCH($C78,C_SourceStreams!$C$61:$C$173,0)))","v":""},{"$f":"IF($BA78,\"\",INDEX(C_SourceStreams!BJ$61:BJ$173,MATCH($C78,C_SourceStreams!$C$61:$C$173,0)))","v":""},{"$f":"IF($BA78,\"\",INDEX(C_SourceStreams!BK$61:BK$173,MATCH($C78,C_SourceStreams!$C$61:$C$173,0)))","v":""},{"$f":"IF($BA78,\"\",INDEX(C_SourceStreams!BP$61:BP$173,MATCH($C78,C_SourceStreams!$C$61:$C$173,0)))","v":""},{"$f":"IF($BA78,\"\",INDEX(C_SourceStreams!BQ$61:BQ$173,MATCH($C78,C_SourceStreams!$C$61:$C$173,0)))","v":""},{"$f":"IF($BA78,\"\",INDEX(C_SourceStreams!BN$61:BN$173,MATCH($C78,C_SourceStreams!$C$61:$C$173,0))*100)","v":""},"",{"$f":"IF($BA78,\"\",INDEX(C_SourceStreams!BO$61:BO$173,MATCH($C78,C_SourceStreams!$C$61:$C$173,0))*100)","v":""},"",{"$f":"IF($BA78,\"\",INDEX(C_SourceStreams!BR$61:BR$173,MATCH($C78,C_SourceStreams!$C$61:$C$173,0))*100)","v":""},"",{"$f":"IF($BA78,\"\",INDEX(C_SourceStreams!BS$61:BS$173,MATCH($C78,C_SourceStreams!$C$61:$C$173,0))*100)","v":""},"",null,null,null,null,null,null,null,null,null,null,null,null,null,null,null,null,null,null,null,null,null,null,null,null,null,{"$f":"IF($BA78,\"\",INDEX(C_SourceStreams!BT$61:BT$173,MATCH($C78,C_SourceStreams!$C$61:$C$173,0)))","v":""},{"$f":"IF($BA78,\"\",INDEX(C_SourceStreams!BU$61:BU$173,MATCH($C78,C_SourceStreams!$C$61:$C$173,0)))","v":""},{"$f":"IF($BA78,\"\",INDEX(C_SourceStreams!BV$61:BV$173,MATCH($C78,C_SourceStreams!$C$61:$C$173,0)))","v":""},{"$f":"IF($BA78,\"\",INDEX(C_SourceStreams!BW$61:BW$173,MATCH($C78,C_SourceStreams!$C$61:$C$173,0)))","v":""},{"$f":"IF($BA78,\"\",INDEX(C_SourceStreams!BX$61:BX$173,MATCH($C78,C_SourceStreams!$C$61:$C$173,0)))","v":""},null,{"$f":"IF(ISERROR(INDEX(C_SourceStreams!$K$28:$K$10055,MATCH(C78,C_SourceStreams!$C$28:$C$10055,0))),TRUE,INDEX(C_SourceStreams!$K$28:$K$10055,MATCH(C78,C_SourceStreams!$C$28:$C$10055,0))=\"\")","v":true}]
[]
[null,null,null,{"$f":"Translations!$B$835","v":"PFC sukėlikliai"}]
[null,null,{"$f":"C3","v":"#"},"Metodas","Pavadinimas","Veiklos duomenys","VD mato vienetas","GŠV","GŠV mato vienetas","ITF","ITF mato vienetas","C-turinys","C kiekio mato vienetas","Oksid. koeficientas","OksK mato vienetas","Konv. koeficientas","KonvK mato vienetas","Biomasės kiekis","BioC mato vienetas","netvarios BioC","netvarios BioC mato vienetas","valandinės ŠESD konc. vidurkis","valandinės ŠESD konc. mato vienetas","veikimo valandos","veikimo valandų mato vienetas","Kaminų dujos (vidurkis)","Kaminų dujų (vidurkio) mato vienetas","Kaminų dujos (iš viso)","Kaminų dujų (viso kiekio) mato vienetas","Metinis ŠESD kiekis","Metinio ŠESD kiekio mato vienetas","VAP (t CO2(e)/t)","A. Dažnis","A. Trukmė",{"$f":"AI3","v":"A. NITF(CF4)"},"B. AEV","B. EN","B. VĮK","F(C2F6)","Išmestas CF4 kiekis (t CF4)","Išmestas C2F6 kiekis (t C2F6)","VAP (CF4) (t CO2(e)/t)","VAP (C2F6) (t CO2(e)/t)","Išmestas CF4 kiekis (CO2(e) tonos)","Išmestas C2F6 kiekis (CO2(e) tonos)","Surinkimo veiksmingumas, proc.","Iškastinio kuro kilmės CO2(e) (t)","Biomasės kilmės CO2(e) (t)","Netvarios biomasės kilmės CO2(e) (t)","Energetinė vertė (iškast. kuras), TJ","Energetinė vertė (biomasė), TJ"]
[null,null,1,{"$f":"IF($BA82,\"\",EUconst_ProcessPFC)","v":""},{"$f":"IF($BA82,\"\",INDEX(F_PFC!$E$58:$E$1258,MATCH($C82,F_PFC!$C$58:$C$1258,0)))","v":""},{"$f":"IF($BA82,\"\",INDEX(F_PFC!AS$58:AS$1258,MATCH($C82,F_PFC!$C$58:$C$1258,0)))","v":""},{"$f":"IF($BA82,\"\",EUconst_t)","v":""},null,null,null,null,null,null,null,null,null,null,null,null,null,null,null,null,null,null,null,null,null,null,null,null,null,{"$f":"IF($BA82,\"\",INDEX(F_PFC!AT$58:AT$1258,MATCH($C82,F_PFC!$C$58:$C$1258,0))*100)","v":""},{"$f":"IF($BA82,\"\",INDEX(F_PFC!AU$58:AU$1258,MATCH($C82,F_PFC!$C$58:$C$1258,0)))","v":""},{"$f":"IF($BA82,\"\",INDEX(F_PFC!AV$58:AV$1258,MATCH($C82,F_PFC!$C$58:$C$1258,0)))","v":""},{"$f":"IF($BA82,\"\",INDEX(F_PFC!AW$58:AW$1258,MATCH($C82,F_PFC!$C$58:$C$1258,0)))","v":""},{"$f":"IF($BA82,\"\",INDEX(F_PFC!AX$58:AX$1258,MATCH($C82,F_PFC!$C$58:$C$1258,0))*100)","v":""},{"$f":"IF($BA82,\"\",INDEX(F_PFC!AY$58:AY$1258,MATCH($C82,F_PFC!$C$58:$C$1258,0)))","v":""},{"$f":"IF($BA82,\"\",INDEX(F_PFC!AZ$58:AZ$1258,MATCH($C82,F_PFC!$C$58:$C$1258,0)))","v":""},{"$f":"IF($BA82,\"\",INDEX(F_PFC!BA$58:BA$1258,MATCH($C82,F_PFC!$C$58:$C$1258,0)))","v":""},{"$f":"IF($BA82,\"\",INDEX(F_PFC!BB$58:BB$1258,MATCH($C82,F_PFC!$C$58:$C$1258,0)))","v":""},{"$f":"IF($BA82,\"\",INDEX(F_PFC!BC$58:BC$1258,MATCH($C82,F_PFC!$C$58:$C$1258,0)))","v":""},{"$f":"IF($BA82,\"\",INDEX(F_PFC!BD$58:BD$1258,MATCH($C82,F_PFC!$C$58:$C$1258,0)))","v":""},{"$f":"IF($BA82,\"\",INDEX(F_PFC!BE$58:BE$1258,MATCH($C82,F_PFC!$C$58:$C$1258,0)))","v":""},{"$f":"IF($BA82,\"\",INDEX(F_PFC!BF$58:BF$1258,MATCH($C82,F_PFC!$C$58:$C$1258,0)))","v":""},{"$f":"IF($BA82,\"\",INDEX(F_PFC!BG$58:BG$1258,MATCH($C82,F_PFC!$C$58:$C$1258,0))*100)","v":""},{"$f":"IF($BA82,\"\",INDEX(F_PFC!BH$58:BH$1258,MATCH($C82,F_PFC!$C$58:$C$1258,0)))","v":""},null,null,null,null,null,{"$f":"IF(ISERROR(INDEX(F_PFC!$E$58:$E$1258,MATCH(C82,F_PFC!$C$58:$C$1258,0))),TRUE,INDEX(F_PFC!$E$58:$E$1258,MATCH(C82,F_PFC!$C$58:$C$1258,0))=\"\")","v":true}]
[null,null,2,"",{"$f":"IF($BA83,\"\",INDEX(F_PFC!$E$58:$E$1258,MATCH($C83,F_PFC!$C$58:$C$1258,0)))","v":""},{"$f":"IF($BA83,\"\",INDEX(F_PFC!AS$58:AS$1258,MATCH($C83,F_PFC!$C$58:$C$1258,0)))","v":""},"",null,null,null,null,null,null,null,null,null,null,null,null,null,null,null,null,null,null,null,null,null,null,null,null,null,{"$f":"IF($BA83,\"\",INDEX(F_PFC!AT$58:AT$1258,MATCH($C83,F_PFC!$C$58:$C$1258,0))*100)","v":""},{"$f":"IF($BA83,\"\",INDEX(F_PFC!AU$58:AU$1258,MATCH($C83,F_PFC!$C$58:$C$1258,0)))","v":""},{"$f":"IF($BA83,\"\",INDEX(F_PFC!AV$58:AV$1258,MATCH($C83,F_PFC!$C$58:$C$1258,0)))","v":""},{"$f":"IF($BA83,\"\",INDEX(F_PFC!AW$58:AW$1258,MATCH($C83,F_PFC!$C$58:$C$1258,0)))","v":""},{"$f":"IF($BA83,\"\",INDEX(F_PFC!AX$58:AX$1258,MATCH($C83,F_PFC!$C$58:$C$1258,0))*100)","v":""},{"$f":"IF($BA83,\"\",INDEX(F_PFC!AY$58:AY$1258,MATCH($C83,F_PFC!$C$58:$C$1258,0)))","v":""},{"$f":"IF($BA83,\"\",INDEX(F_PFC!AZ$58:AZ$1258,MATCH($C83,F_PFC!$C$58:$C$1258,0)))","v":""},{"$f":"IF($BA83,\"\",INDEX(F_PFC!BA$58:BA$1258,MATCH($C83,F_PFC!$C$58:$C$1258,0)))","v":""},{"$f":"IF($BA83,\"\",INDEX(F_PFC!BB$58:BB$1258,MATCH($C83,F_PFC!$C$58:$C$1258,0)))","v":""},{"$f":"IF($BA83,\"\",INDEX(F_PFC!BC$58:BC$1258,MATCH($C83,F_PFC!$C$58:$C$1258,0)))","v":""},{"$f":"IF($BA83,\"\",INDEX(F_PFC!BD$58:BD$1258,MATCH($C83,F_PFC!$C$58:$C$1258,0)))","v":""},{"$f":"IF($BA83,\"\",INDEX(F_PFC!BE$58:BE$1258,MATCH($C83,F_PFC!$C$58:$C$1258,0)))","v":""},{"$f":"IF($BA83,\"\",INDEX(F_PFC!BF$58:BF$1258,MATCH($C83,F_PFC!$C$58:$C$1258,0)))","v":""},{"$f":"IF($BA83,\"\",INDEX(F_PFC!BG$58:BG$1258,MATCH($C83,F_PFC!$C$58:$C$1258,0))*100)","v":""},{"$f":"IF($BA83,\"\",INDEX(F_PFC!BH$58:BH$1258,MATCH($C83,F_PFC!$C$58:$C$1258,0)))","v":""},null,null,null,null,null,{"$f":"IF(ISERROR(INDEX(F_PFC!$E$58:$E$1258,MATCH(C83,F_PFC!$C$58:$C$1258,0))),TRUE,INDEX(F_PFC!$E$58:$E$1258,MATCH(C83,F_PFC!$C$58:$C$1258,0))=\"\")","v":true}]
[null,null,3,"",{"$f":"IF($BA84,\"\",INDEX(F_PFC!$E$58:$E$1258,MATCH($C84,F_PFC!$C$58:$C$1258,0)))","v":""},{"$f":"IF($BA84,\"\",INDEX(F_PFC!AS$58:AS$1258,MATCH($C84,F_PFC!$C$58:$C$1258,0)))","v":""},"",null,null,null,null,null,null,null,null,null,null,null,null,null,null,null,null,null,null,null,null,null,null,null,null,null,{"$f":"IF($BA84,\"\",INDEX(F_PFC!AT$58:AT$1258,MATCH($C84,F_PFC!$C$58:$C$1258,0))*100)","v":""},{"$f":"IF($BA84,\"\",INDEX(F_PFC!AU$58:AU$1258,MATCH($C84,F_PFC!$C$58:$C$1258,0)))","v":""},{"$f":"IF($BA84,\"\",INDEX(F_PFC!AV$58:AV$1258,MATCH($C84,F_PFC!$C$58:$C$1258,0)))","v":""},{"$f":"IF($BA84,\"\",INDEX(F_PFC!AW$58:AW$1258,MATCH($C84,F_PFC!$C$58:$C$1258,0)))","v":""},{"$f":"IF($BA84,\"\",INDEX(F_PFC!AX$58:AX$1258,MATCH($C84,F_PFC!$C$58:$C$1258,0))*100)","v":""},{"$f":"IF($BA84,\"\",INDEX(F_PFC!AY$58:AY$1258,MATCH($C84,F_PFC!$C$58:$C$1258,0)))","v":""},{"$f":"IF($BA84,\"\",INDEX(F_PFC!AZ$58:AZ$1258,MATCH($C84,F_PFC!$C$58:$C$1258,0)))","v":""},{"$f":"IF($BA84,\"\",INDEX(F_PFC!BA$58:BA$1258,MATCH($C84,F_PFC!$C$58:$C$1258,0)))","v":""},{"$f":"IF($BA84,\"\",INDEX(F_PFC!BB$58:BB$1258,MATCH($C84,F_PFC!$C$58:$C$1258,0)))","v":""},{"$f":"IF($BA84,\"\",INDEX(F_PFC!BC$58:BC$1258,MATCH($C84,F_PFC!$C$58:$C$1258,0)))","v":""},{"$f":"IF($BA84,\"\",INDEX(F_PFC!BD$58:BD$1258,MATCH($C84,F_PFC!$C$58:$C$1258,0)))","v":""},{"$f":"IF($BA84,\"\",INDEX(F_PFC!BE$58:BE$1258,MATCH($C84,F_PFC!$C$58:$C$1258,0)))","v":""},{"$f":"IF($BA84,\"\",INDEX(F_PFC!BF$58:BF$1258,MATCH($C84,F_PFC!$C$58:$C$1258,0)))","v":""},{"$f":"IF($BA84,\"\",INDEX(F_PFC!BG$58:BG$1258,MATCH($C84,F_PFC!$C$58:$C$1258,0))*100)","v":""},{"$f":"IF($BA84,\"\",INDEX(F_PFC!BH$58:BH$1258,MATCH($C84,F_PFC!$C$58:$C$1258,0)))","v":""},null,null,null,null,null,{"$f":"IF(ISERROR(INDEX(F_PFC!$E$58:$E$1258,MATCH(C84,F_PFC!$C$58:$C$1258,0))),TRUE,INDEX(F_PFC!$E$58:$E$1258,MATCH(C84,F_PFC!$C$58:$C$1258,0))=\"\")","v":true}]
[null,null,4,"",{"$f":"IF($BA85,\"\",INDEX(F_PFC!$E$58:$E$1258,MATCH($C85,F_PFC!$C$58:$C$1258,0)))","v":""},{"$f":"IF($BA85,\"\",INDEX(F_PFC!AS$58:AS$1258,MATCH($C85,F_PFC!$C$58:$C$1258,0)))","v":""},"",null,null,null,null,null,null,null,null,null,null,null,null,null,null,null,null,null,null,null,null,null,null,null,null,null,{"$f":"IF($BA85,\"\",INDEX(F_PFC!AT$58:AT$1258,MATCH($C85,F_PFC!$C$58:$C$1258,0))*100)","v":""},{"$f":"IF($BA85,\"\",INDEX(F_PFC!AU$58:AU$1258,MATCH($C85,F_PFC!$C$58:$C$1258,0)))","v":""},{"$f":"IF($BA85,\"\",INDEX(F_PFC!AV$58:AV$1258,MATCH($C85,F_PFC!$C$58:$C$1258,0)))","v":""},{"$f":"IF($BA85,\"\",INDEX(F_PFC!AW$58:AW$1258,MATCH($C85,F_PFC!$C$58:$C$1258,0)))","v":""},{"$f":"IF($BA85,\"\",INDEX(F_PFC!AX$58:AX$1258,MATCH($C85,F_PFC!$C$58:$C$1258,0))*100)","v":""},{"$f":"IF($BA85,\"\",INDEX(F_PFC!AY$58:AY$1258,MATCH($C85,F_PFC!$C$58:$C$1258,0)))","v":""},{"$f":"IF($BA85,\"\",INDEX(F_PFC!AZ$58:AZ$1258,MATCH($C85,F_PFC!$C$58:$C$1258,0)))","v":""},{"$f":"IF($BA85,\"\",INDEX(F_PFC!BA$58:BA$1258,MATCH($C85,F_PFC!$C$58:$C$1258,0)))","v":""},{"$f":"IF($BA85,\"\",INDEX(F_PFC!BB$58:BB$1258,MATCH($C85,F_PFC!$C$58:$C$1258,0)))","v":""},{"$f":"IF($BA85,\"\",INDEX(F_PFC!BC$58:BC$1258,MATCH($C85,F_PFC!$C$58:$C$1258,0)))","v":""},{"$f":"IF($BA85,\"\",INDEX(F_PFC!BD$58:BD$1258,MATCH($C85,F_PFC!$C$58:$C$1258,0)))","v":""},{"$f":"IF($BA85,\"\",INDEX(F_PFC!BE$58:BE$1258,MATCH($C85,F_PFC!$C$58:$C$1258,0)))","v":""},{"$f":"IF($BA85,\"\",INDEX(F_PFC!BF$58:BF$1258,MATCH($C85,F_PFC!$C$58:$C$1258,0)))","v":""},{"$f":"IF($BA85,\"\",INDEX(F_PFC!BG$58:BG$1258,MATCH($C85,F_PFC!$C$58:$C$1258,0))*100)","v":""},{"$f":"IF($BA85,\"\",INDEX(F_PFC!BH$58:BH$1258,MATCH($C85,F_PFC!$C$58:$C$1258,0)))","v":""},null,null,null,null,null,{"$f":"IF(ISERROR(INDEX(F_PFC!$E$58:$E$1258,MATCH(C85,F_PFC!$C$58:$C$1258,0))),TRUE,INDEX(F_PFC!$E$58:$E$1258,MATCH(C85,F_PFC!$C$58:$C$1258,0))=\"\")","v":true}]
[null,null,5,"",{"$f":"IF($BA86,\"\",INDEX(F_PFC!$E$58:$E$1258,MATCH($C86,F_PFC!$C$58:$C$1258,0)))","v":""},{"$f":"IF($BA86,\"\",INDEX(F_PFC!AS$58:AS$1258,MATCH($C86,F_PFC!$C$58:$C$1258,0)))","v":""},"",null,null,null,null,null,null,null,null,null,null,null,null,null,null,null,null,null,null,null,null,null,null,null,null,null,{"$f":"IF($BA86,\"\",INDEX(F_PFC!AT$58:AT$1258,MATCH($C86,F_PFC!$C$58:$C$1258,0))*100)","v":""},{"$f":"IF($BA86,\"\",INDEX(F_PFC!AU$58:AU$1258,MATCH($C86,F_PFC!$C$58:$C$1258,0)))","v":""},{"$f":"IF($BA86,\"\",INDEX(F_PFC!AV$58:AV$1258,MATCH($C86,F_PFC!$C$58:$C$1258,0)))","v":""},{"$f":"IF($BA86,\"\",INDEX(F_PFC!AW$58:AW$1258,MATCH($C86,F_PFC!$C$58:$C$1258,0)))","v":""},{"$f":"IF($BA86,\"\",INDEX(F_PFC!AX$58:AX$1258,MATCH($C86,F_PFC!$C$58:$C$1258,0))*100)","v":""},{"$f":"IF($BA86,\"\",INDEX(F_PFC!AY$58:AY$1258,MATCH($C86,F_PFC!$C$58:$C$1258,0)))","v":""},{"$f":"IF($BA86,\"\",INDEX(F_PFC!AZ$58:AZ$1258,MATCH($C86,F_PFC!$C$58:$C$1258,0)))","v":""},{"$f":"IF($BA86,\"\",INDEX(F_PFC!BA$58:BA$1258,MATCH($C86,F_PFC!$C$58:$C$1258,0)))","v":""},{"$f":"IF($BA86,\"\",INDEX(F_PFC!BB$58:BB$1258,MATCH($C86,F_PFC!$C$58:$C$1258,0)))","v":""},{"$f":"IF($BA86,\"\",INDEX(F_PFC!BC$58:BC$1258,MATCH($C86,F_PFC!$C$58:$C$1258,0)))","v":""},{"$f":"IF($BA86,\"\",INDEX(F_PFC!BD$58:BD$1258,MATCH($C86,F_PFC!$C$58:$C$1258,0)))","v":""},{"$f":"IF($BA86,\"\",INDEX(F_PFC!BE$58:BE$1258,MATCH($C86,F_PFC!$C$58:$C$1258,0)))","v":""},{"$f":"IF($BA86,\"\",INDEX(F_PFC!BF$58:BF$1258,MATCH($C86,F_PFC!$C$58:$C$1258,0)))","v":""},{"$f":"IF($BA86,\"\",INDEX(F_PFC!BG$58:BG$1258,MATCH($C86,F_PFC!$C$58:$C$1258,0))*100)","v":""},{"$f":"IF($BA86,\"\",INDEX(F_PFC!BH$58:BH$1258,MATCH($C86,F_PFC!$C$58:$C$1258,0)))","v":""},null,null,null,null,null,{"$f":"IF(ISERROR(INDEX(F_PFC!$E$58:$E$1258,MATCH(C86,F_PFC!$C$58:$C$1258,0))),TRUE,INDEX(F_PFC!$E$58:$E$1258,MATCH(C86,F_PFC!$C$58:$C$1258,0))=\"\")","v":true}]
[null,null,6,"",{"$f":"IF($BA87,\"\",INDEX(F_PFC!$E$58:$E$1258,MATCH($C87,F_PFC!$C$58:$C$1258,0)))","v":""},{"$f":"IF($BA87,\"\",INDEX(F_PFC!AS$58:AS$1258,MATCH($C87,F_PFC!$C$58:$C$1258,0)))","v":""},"",null,null,null,null,null,null,null,null,null,null,null,null,null,null,null,null,null,null,null,null,null,null,null,null,null,{"$f":"IF($BA87,\"\",INDEX(F_PFC!AT$58:AT$1258,MATCH($C87,F_PFC!$C$58:$C$1258,0))*100)","v":""},{"$f":"IF($BA87,\"\",INDEX(F_PFC!AU$58:AU$1258,MATCH($C87,F_PFC!$C$58:$C$1258,0)))","v":""},{"$f":"IF($BA87,\"\",INDEX(F_PFC!AV$58:AV$1258,MATCH($C87,F_PFC!$C$58:$C$1258,0)))","v":""},{"$f":"IF($BA87,\"\",INDEX(F_PFC!AW$58:AW$1258,MATCH($C87,F_PFC!$C$58:$C$1258,0)))","v":""},{"$f":"IF($BA87,\"\",INDEX(F_PFC!AX$58:AX$1258,MATCH($C87,F_PFC!$C$58:$C$1258,0))*100)","v":""},{"$f":"IF($BA87,\"\",INDEX(F_PFC!AY$58:AY$1258,MATCH($C87,F_PFC!$C$58:$C$1258,0)))","v":""},{"$f":"IF($BA87,\"\",INDEX(F_PFC!AZ$58:AZ$1258,MATCH($C87,F_PFC!$C$58:$C$1258,0)))","v":""},{"$f":"IF($BA87,\"\",INDEX(F_PFC!BA$58:BA$1258,MATCH($C87,F_PFC!$C$58:$C$1258,0)))","v":""},{"$f":"IF($BA87,\"\",INDEX(F_PFC!BB$58:BB$1258,MATCH($C87,F_PFC!$C$58:$C$1258,0)))","v":""},{"$f":"IF($BA87,\"\",INDEX(F_PFC!BC$58:BC$1258,MATCH($C87,F_PFC!$C$58:$C$1258,0)))","v":""},{"$f":"IF($BA87,\"\",INDEX(F_PFC!BD$58:BD$1258,MATCH($C87,F_PFC!$C$58:$C$1258,0)))","v":""},{"$f":"IF($BA87,\"\",INDEX(F_PFC!BE$58:BE$1258,MATCH($C87,F_PFC!$C$58:$C$1258,0)))","v":""},{"$f":"IF($BA87,\"\",INDEX(F_PFC!BF$58:BF$1258,MATCH($C87,F_PFC!$C$58:$C$1258,0)))","v":""},{"$f":"IF($BA87,\"\",INDEX(F_PFC!BG$58:BG$1258,MATCH($C87,F_PFC!$C$58:$C$1258,0))*100)","v":""},{"$f":"IF($BA87,\"\",INDEX(F_PFC!BH$58:BH$1258,MATCH($C87,F_PFC!$C$58:$C$1258,0)))","v":""},null,null,null,null,null,{"$f":"IF(ISERROR(INDEX(F_PFC!$E$58:$E$1258,MATCH(C87,F_PFC!$C$58:$C$1258,0))),TRUE,INDEX(F_PFC!$E$58:$E$1258,MATCH(C87,F_PFC!$C$58:$C$1258,0))=\"\")","v":true}]
[null,null,7,"",{"$f":"IF($BA88,\"\",INDEX(F_PFC!$E$58:$E$1258,MATCH($C88,F_PFC!$C$58:$C$1258,0)))","v":""},{"$f":"IF($BA88,\"\",INDEX(F_PFC!AS$58:AS$1258,MATCH($C88,F_PFC!$C$58:$C$1258,0)))","v":""},"",null,null,null,null,null,null,null,null,null,null,null,null,null,null,null,null,null,null,null,null,null,null,null,null,null,{"$f":"IF($BA88,\"\",INDEX(F_PFC!AT$58:AT$1258,MATCH($C88,F_PFC!$C$58:$C$1258,0))*100)","v":""},{"$f":"IF($BA88,\"\",INDEX(F_PFC!AU$58:AU$1258,MATCH($C88,F_PFC!$C$58:$C$1258,0)))","v":""},{"$f":"IF($BA88,\"\",INDEX(F_PFC!AV$58:AV$1258,MATCH($C88,F_PFC!$C$58:$C$1258,0)))","v":""},{"$f":"IF($BA88,\"\",INDEX(F_PFC!AW$58:AW$1258,MATCH($C88,F_PFC!$C$58:$C$1258,0)))","v":""},{"$f":"IF($BA88,\"\",INDEX(F_PFC!AX$58:AX$1258,MATCH($C88,F_PFC!$C$58:$C$1258,0))*100)","v":""},{"$f":"IF($BA88,\"\",INDEX(F_PFC!AY$58:AY$1258,MATCH($C88,F_PFC!$C$58:$C$1258,0)))","v":""},{"$f":"IF($BA88,\"\",INDEX(F_PFC!AZ$58:AZ$1258,MATCH($C88,F_PFC!$C$58:$C$1258,0)))","v":""},{"$f":"IF($BA88,\"\",INDEX(F_PFC!BA$58:BA$1258,MATCH($C88,F_PFC!$C$58:$C$1258,0)))","v":""},{"$f":"IF($BA88,\"\",INDEX(F_PFC!BB$58:BB$1258,MATCH($C88,F_PFC!$C$58:$C$1258,0)))","v":""},{"$f":"IF($BA88,\"\",INDEX(F_PFC!BC$58:BC$1258,MATCH($C88,F_PFC!$C$58:$C$1258,0)))","v":""},{"$f":"IF($BA88,\"\",INDEX(F_PFC!BD$58:BD$1258,MATCH($C88,F_PFC!$C$58:$C$1258,0)))","v":""},{"$f":"IF($BA88,\"\",INDEX(F_PFC!BE$58:BE$1258,MATCH($C88,F_PFC!$C$58:$C$1258,0)))","v":""},{"$f":"IF($BA88,\"\",INDEX(F_PFC!BF$58:BF$1258,MATCH($C88,F_PFC!$C$58:$C$1258,0)))","v":""},{"$f":"IF($BA88,\"\",INDEX(F_PFC!BG$58:BG$1258,MATCH($C88,F_PFC!$C$58:$C$1258,0))*100)","v":""},{"$f":"IF($BA88,\"\",INDEX(F_PFC!BH$58:BH$1258,MATCH($C88,F_PFC!$C$58:$C$1258,0)))","v":""},null,null,null,null,null,{"$f":"IF(ISERROR(INDEX(F_PFC!$E$58:$E$1258,MATCH(C88,F_PFC!$C$58:$C$1258,0))),TRUE,INDEX(F_PFC!$E$58:$E$1258,MATCH(C88,F_PFC!$C$58:$C$1258,0))=\"\")","v":true}]
[null,null,8,"",{"$f":"IF($BA89,\"\",INDEX(F_PFC!$E$58:$E$1258,MATCH($C89,F_PFC!$C$58:$C$1258,0)))","v":""},{"$f":"IF($BA89,\"\",INDEX(F_PFC!AS$58:AS$1258,MATCH($C89,F_PFC!$C$58:$C$1258,0)))","v":""},"",null,null,null,null,null,null,null,null,null,null,null,null,null,null,null,null,null,null,null,null,null,null,null,null,null,{"$f":"IF($BA89,\"\",INDEX(F_PFC!AT$58:AT$1258,MATCH($C89,F_PFC!$C$58:$C$1258,0))*100)","v":""},{"$f":"IF($BA89,\"\",INDEX(F_PFC!AU$58:AU$1258,MATCH($C89,F_PFC!$C$58:$C$1258,0)))","v":""},{"$f":"IF($BA89,\"\",INDEX(F_PFC!AV$58:AV$1258,MATCH($C89,F_PFC!$C$58:$C$1258,0)))","v":""},{"$f":"IF($BA89,\"\",INDEX(F_PFC!AW$58:AW$1258,MATCH($C89,F_PFC!$C$58:$C$1258,0)))","v":""},{"$f":"IF($BA89,\"\",INDEX(F_PFC!AX$58:AX$1258,MATCH($C89,F_PFC!$C$58:$C$1258,0))*100)","v":""},{"$f":"IF($BA89,\"\",INDEX(F_PFC!AY$58:AY$1258,MATCH($C89,F_PFC!$C$58:$C$1258,0)))","v":""},{"$f":"IF($BA89,\"\",INDEX(F_PFC!AZ$58:AZ$1258,MATCH($C89,F_PFC!$C$58:$C$1258,0)))","v":""},{"$f":"IF($BA89,\"\",INDEX(F_PFC!BA$58:BA$1258,MATCH($C89,F_PFC!$C$58:$C$1258,0)))","v":""},{"$f":"IF($BA89,\"\",INDEX(F_PFC!BB$58:BB$1258,MATCH($C89,F_PFC!$C$58:$C$1258,0)))","v":""},{"$f":"IF($BA89,\"\",INDEX(F_PFC!BC$58:BC$1258,MATCH($C89,F_PFC!$C$58:$C$1258,0)))","v":""},{"$f":"IF($BA89,\"\",INDEX(F_PFC!BD$58:BD$1258,MATCH($C89,F_PFC!$C$58:$C$1258,0)))","v":""},{"$f":"IF($BA89,\"\",INDEX(F_PFC!BE$58:BE$1258,MATCH($C89,F_PFC!$C$58:$C$1258,0)))","v":""},{"$f":"IF($BA89,\"\",INDEX(F_PFC!BF$58:BF$1258,MATCH($C89,F_PFC!$C$58:$C$1258,0)))","v":""},{"$f":"IF($BA89,\"\",INDEX(F_PFC!BG$58:BG$1258,MATCH($C89,F_PFC!$C$58:$C$1258,0))*100)","v":""},{"$f":"IF($BA89,\"\",INDEX(F_PFC!BH$58:BH$1258,MATCH($C89,F_PFC!$C$58:$C$1258,0)))","v":""},null,null,null,null,null,{"$f":"IF(ISERROR(INDEX(F_PFC!$E$58:$E$1258,MATCH(C89,F_PFC!$C$58:$C$1258,0))),TRUE,INDEX(F_PFC!$E$58:$E$1258,MATCH(C89,F_PFC!$C$58:$C$1258,0))=\"\")","v":true}]
[null,null,9,"",{"$f":"IF($BA90,\"\",INDEX(F_PFC!$E$58:$E$1258,MATCH($C90,F_PFC!$C$58:$C$1258,0)))","v":""},{"$f":"IF($BA90,\"\",INDEX(F_PFC!AS$58:AS$1258,MATCH($C90,F_PFC!$C$58:$C$1258,0)))","v":""},"",null,null,null,null,null,null,null,null,null,null,null,null,null,null,null,null,null,null,null,null,null,null,null,null,null,{"$f":"IF($BA90,\"\",INDEX(F_PFC!AT$58:AT$1258,MATCH($C90,F_PFC!$C$58:$C$1258,0))*100)","v":""},{"$f":"IF($BA90,\"\",INDEX(F_PFC!AU$58:AU$1258,MATCH($C90,F_PFC!$C$58:$C$1258,0)))","v":""},{"$f":"IF($BA90,\"\",INDEX(F_PFC!AV$58:AV$1258,MATCH($C90,F_PFC!$C$58:$C$1258,0)))","v":""},{"$f":"IF($BA90,\"\",INDEX(F_PFC!AW$58:AW$1258,MATCH($C90,F_PFC!$C$58:$C$1258,0)))","v":""},{"$f":"IF($BA90,\"\",INDEX(F_PFC!AX$58:AX$1258,MATCH($C90,F_PFC!$C$58:$C$1258,0))*100)","v":""},{"$f":"IF($BA90,\"\",INDEX(F_PFC!AY$58:AY$1258,MATCH($C90,F_PFC!$C$58:$C$1258,0)))","v":""},{"$f":"IF($BA90,\"\",INDEX(F_PFC!AZ$58:AZ$1258,MATCH($C90,F_PFC!$C$58:$C$1258,0)))","v":""},{"$f":"IF($BA90,\"\",INDEX(F_PFC!BA$58:BA$1258,MATCH($C90,F_PFC!$C$58:$C$1258,0)))","v":""},{"$f":"IF($BA90,\"\",INDEX(F_PFC!BB$58:BB$1258,MATCH($C90,F_PFC!$C$58:$C$1258,0)))","v":""},{"$f":"IF($BA90,\"\",INDEX(F_PFC!BC$58:BC$1258,MATCH($C90,F_PFC!$C$58:$C$1258,0)))","v":""},{"$f":"IF($BA90,\"\",INDEX(F_PFC!BD$58:BD$1258,MATCH($C90,F_PFC!$C$58:$C$1258,0)))","v":""},{"$f":"IF($BA90,\"\",INDEX(F_PFC!BE$58:BE$1258,MATCH($C90,F_PFC!$C$58:$C$1258,0)))","v":""},{"$f":"IF($BA90,\"\",INDEX(F_PFC!BF$58:BF$1258,MATCH($C90,F_PFC!$C$58:$C$1258,0)))","v":""},{"$f":"IF($BA90,\"\",INDEX(F_PFC!BG$58:BG$1258,MATCH($C90,F_PFC!$C$58:$C$1258,0))*100)","v":""},{"$f":"IF($BA90,\"\",INDEX(F_PFC!BH$58:BH$1258,MATCH($C90,F_PFC!$C$58:$C$1258,0)))","v":""},null,null,null,null,null,{"$f":"IF(ISERROR(INDEX(F_PFC!$E$58:$E$1258,MATCH(C90,F_PFC!$C$58:$C$1258,0))),TRUE,INDEX(F_PFC!$E$58:$E$1258,MATCH(C90,F_PFC!$C$58:$C$1258,0))=\"\")","v":true}]
[null,null,10,"",{"$f":"IF($BA91,\"\",INDEX(F_PFC!$E$58:$E$1258,MATCH($C91,F_PFC!$C$58:$C$1258,0)))","v":""},{"$f":"IF($BA91,\"\",INDEX(F_PFC!AS$58:AS$1258,MATCH($C91,F_PFC!$C$58:$C$1258,0)))","v":""},"",null,null,null,null,null,null,null,null,null,null,null,null,null,null,null,null,null,null,null,null,null,null,null,null,null,{"$f":"IF($BA91,\"\",INDEX(F_PFC!AT$58:AT$1258,MATCH($C91,F_PFC!$C$58:$C$1258,0))*100)","v":""},{"$f":"IF($BA91,\"\",INDEX(F_PFC!AU$58:AU$1258,MATCH($C91,F_PFC!$C$58:$C$1258,0)))","v":""},{"$f":"IF($BA91,\"\",INDEX(F_PFC!AV$58:AV$1258,MATCH($C91,F_PFC!$C$58:$C$1258,0)))","v":""},{"$f":"IF($BA91,\"\",INDEX(F_PFC!AW$58:AW$1258,MATCH($C91,F_PFC!$C$58:$C$1258,0)))","v":""},{"$f":"IF($BA91,\"\",INDEX(F_PFC!AX$58:AX$1258,MATCH($C91,F_PFC!$C$58:$C$1258,0))*100)","v":""},{"$f":"IF($BA91,\"\",INDEX(F_PFC!AY$58:AY$1258,MATCH($C91,F_PFC!$C$58:$C$1258,0)))","v":""},{"$f":"IF($BA91,\"\",INDEX(F_PFC!AZ$58:AZ$1258,MATCH($C91,F_PFC!$C$58:$C$1258,0)))","v":""},{"$f":"IF($BA91,\"\",INDEX(F_PFC!BA$58:BA$1258,MATCH($C91,F_PFC!$C$58:$C$1258,0)))","v":""},{"$f":"IF($BA91,\"\",INDEX(F_PFC!BB$58:BB$1258,MATCH($C91,F_PFC!$C$58:$C$1258,0)))","v":""},{"$f":"IF($BA91,\"\",INDEX(F_PFC!BC$58:BC$1258,MATCH($C91,F_PFC!$C$58:$C$1258,0)))","v":""},{"$f":"IF($BA91,\"\",INDEX(F_PFC!BD$58:BD$1258,MATCH($C91,F_PFC!$C$58:$C$1258,0)))","v":""},{"$f":"IF($BA91,\"\",INDEX(F_PFC!BE$58:BE$1258,MATCH($C91,F_PFC!$C$58:$C$1258,0)))","v":""},{"$f":"IF($BA91,\"\",INDEX(F_PFC!BF$58:BF$1258,MATCH($C91,F_PFC!$C$58:$C$1258,0)))","v":""},{"$f":"IF($BA91,\"\",INDEX(F_PFC!BG$58:BG$1258,MATCH($C91,F_PFC!$C$58:$C$1258,0))*100)","v":""},{"$f":"IF($BA91,\"\",INDEX(F_PFC!BH$58:BH$1258,MATCH($C91,F_PFC!$C$58:$C$1258,0)))","v":""},null,null,null,null,null,{"$f":"IF(ISERROR(INDEX(F_PFC!$E$58:$E$1258,MATCH(C91,F_PFC!$C$58:$C$1258,0))),TRUE,INDEX(F_PFC!$E$58:$E$1258,MATCH(C91,F_PFC!$C$58:$C$1258,0))=\"\")","v":true}]
[]
[null,null,null,{"$f":"Translations!$B$836","v":"Taršos šaltiniai (matavimu grindžiami metodai)"}]
[null,null,{"$f":"C3","v":"#"},"Metodas","Pavadinimas","Veiklos duomenys","VD mato vienetas","GŠV","GŠV mato vienetas","ITF","ITF mato vienetas","C-turinys","C kiekio mato vienetas","Oksid. koeficientas","OksK mato vienetas","Konv. koeficientas","KonvK mato vienetas","Biomasės kiekis","BioC mato vienetas","netvarios BioC","netvarios BioC mato vienetas","valandinės ŠESD konc. vidurkis","valandinės ŠESD konc. mato vienetas","veikimo valandos","veikimo valandų mato vienetas","Kaminų dujos (vidurkis)","Kaminų dujų (vidurkio) mato vienetas","Kaminų dujos (iš viso)","Kaminų dujų (viso kiekio) mato vienetas","Metinis ŠESD kiekis","Metinio ŠESD kiekio mato vienetas","VAP (t CO2(e)/t)",{"$f":"AG3","v":"A. Dažnis"},"A. Trukmė","A. NITF(CF4)","B. AEV","B. EN","B. VĮK","F(C2F6)","Išmestas CF4 kiekis (t CF4)","Išmestas C2F6 kiekis (t C2F6)","VAP (CF4) (t CO2(e)/t)","VAP (C2F6) (t CO2(e)/t)",{"$f":"AR3","v":"Išmestas CF4 kiekis (CO2(e) tonos)"},"Išmestas C2F6 kiekis (CO2(e) tonos)","Surinkimo veiksmingumas, proc.","Iškastinio kuro kilmės CO2(e) (t)","Biomasės kilmės CO2(e) (t)","Netvarios biomasės kilmės CO2(e) (t)","Energetinė vertė (iškast. kuras), TJ","Energetinė vertė (biomasė), TJ"]
[null,null,1,{"$f":"IF($BA95,\"\",INDEX(D_MeasurementBasedApproaches!$E$21:$E$400,MATCH($C95,D_MeasurementBasedApproaches!$C$21:$C$400,0)))","v":""},{"$f":"IF($BA95,\"\",INDEX(D_MeasurementBasedApproaches!$G$21:$G$400,MATCH($C95,D_MeasurementBasedApproaches!$C$21:$C$400,0)))","v":""},null,null,null,null,null,null,null,null,null,null,null,null,{"$f":"IF($BA95,\"\",INDEX(D_MeasurementBasedApproaches!Y$21:Y$400,MATCH($C95,D_MeasurementBasedApproaches!$C$21:$C$400,0))*100)","v":""},{"$f":"IF($BA95,\"\",\"%\")","v":""},{"$f":"IF($BA95,\"\",INDEX(D_MeasurementBasedApproaches!Z$21:Z$400,MATCH($C95,D_MeasurementBasedApproaches!$C$21:$C$400,0))*100)","v":""},"",{"$f":"IF($BA95,\"\",INDEX(D_MeasurementBasedApproaches!X$21:X$400,MATCH($C95,D_MeasurementBasedApproaches!$C$21:$C$400,0)))","v":""},{"$f":"IF($BA95,\"\",EUconst_gpNm3)","v":""},{"$f":"IF($BA95,\"\",INDEX(D_MeasurementBasedApproaches!AA$21:AA$400,MATCH($C95,D_MeasurementBasedApproaches!$C$21:$C$400,0)))","v":""},{"$f":"IF($BA95,\"\",EUconst_hpa)","v":""},{"$f":"IF($BA95,\"\",INDEX(D_MeasurementBasedApproaches!AB$21:AB$400,MATCH($C95,D_MeasurementBasedApproaches!$C$21:$C$400,0)))","v":""},{"$f":"IF($BA95,\"\",EUconst_Nm3ph)","v":""},{"$f":"IF($BA95,\"\",INDEX(D_MeasurementBasedApproaches!AC$21:AC$400,MATCH($C95,D_MeasurementBasedApproaches!$C$21:$C$400,0)))","v":""},{"$f":"IF($BA95,\"\",EUconst_kNm3pa)","v":""},{"$f":"IF($BA95,\"\",INDEX(D_MeasurementBasedApproaches!AD$21:AD$400,MATCH($C95,D_MeasurementBasedApproaches!$C$21:$C$400,0)))","v":""},{"$f":"IF($BA95,\"\",EUconst_t)","v":""},{"$f":"IF($BA95,\"\",INDEX(D_MeasurementBasedApproaches!AE$21:AE$400,MATCH($C95,D_MeasurementBasedApproaches!$C$21:$C$400,0)))","v":""},null,null,null,null,null,null,null,null,null,null,null,null,null,null,{"$f":"IF($BA95,\"\",INDEX(D_MeasurementBasedApproaches!AF$21:AF$400,MATCH($C95,D_MeasurementBasedApproaches!$C$21:$C$400,0)))","v":""},{"$f":"IF($BA95,\"\",INDEX(D_MeasurementBasedApproaches!AG$21:AG$400,MATCH($C95,D_MeasurementBasedApproaches!$C$21:$C$400,0)))","v":""},{"$f":"IF($BA95,\"\",INDEX(D_MeasurementBasedApproaches!AH$21:AH$400,MATCH($C95,D_MeasurementBasedApproaches!$C$21:$C$400,0)))","v":""},{"$f":"IF($BA95,\"\",INDEX(D_MeasurementBasedApproaches!AI$21:AI$400,MATCH($C95,D_MeasurementBasedApproaches!$C$21:$C$400,0)))","v":""},{"$f":"IF($BA95,\"\",INDEX(D_MeasurementBasedApproaches!AJ$21:AJ$400,MATCH($C95,D_MeasurementBasedApproaches!$C$21:$C$400,0)))","v":""},null,{"$f":"IF(ISERROR(INDEX(D_MeasurementBasedApproaches!$E$21:$E$400,MATCH(C95,D_MeasurementBasedApproaches!$C$21:$C$400,0))),TRUE,INDEX(D_MeasurementBasedApproaches!$E$21:$E$400,MATCH(C95,D_MeasurementBasedApproaches!$C$21:$C$400,0))=\"\")","v":true}]
[null,null,2,{"$f":"IF($BA96,\"\",INDEX(D_MeasurementBasedApproaches!$E$21:$E$400,MATCH($C96,D_MeasurementBasedApproaches!$C$21:$C$400,0)))","v":""},{"$f":"IF($BA96,\"\",INDEX(D_MeasurementBasedApproaches!$G$21:$G$400,MATCH($C96,D_MeasurementBasedApproaches!$C$21:$C$400,0)))","v":""},null,null,null,null,null,null,null,null,null,null,null,null,{"$f":"IF($BA96,\"\",INDEX(D_MeasurementBasedApproaches!Y$21:Y$400,MATCH($C96,D_MeasurementBasedApproaches!$C$21:$C$400,0))*100)","v":""},"",{"$f":"IF($BA96,\"\",INDEX(D_MeasurementBasedApproaches!Z$21:Z$400,MATCH($C96,D_MeasurementBasedApproaches!$C$21:$C$400,0))*100)","v":""},"",{"$f":"IF($BA96,\"\",INDEX(D_MeasurementBasedApproaches!X$21:X$400,MATCH($C96,D_MeasurementBasedApproaches!$C$21:$C$400,0)))","v":""},"",{"$f":"IF($BA96,\"\",INDEX(D_MeasurementBasedApproaches!AA$21:AA$400,MATCH($C96,D_MeasurementBasedApproaches!$C$21:$C$400,0)))","v":""},"",{"$f":"IF($BA96,\"\",INDEX(D_MeasurementBasedApproaches!AB$21:AB$400,MATCH($C96,D_MeasurementBasedApproaches!$C$21:$C$400,0)))","v":""},"",{"$f":"IF($BA96,\"\",INDEX(D_MeasurementBasedApproaches!AC$21:AC$400,MATCH($C96,D_MeasurementBasedApproaches!$C$21:$C$400,0)))","v":""},"",{"$f":"IF($BA96,\"\",INDEX(D_MeasurementBasedApproaches!AD$21:AD$400,MATCH($C96,D_MeasurementBasedApproaches!$C$21:$C$400,0)))","v":""},"",{"$f":"IF($BA96,\"\",INDEX(D_MeasurementBasedApproaches!AE$21:AE$400,MATCH($C96,D_MeasurementBasedApproaches!$C$21:$C$400,0)))","v":""},null,null,null,null,null,null,null,null,null,null,null,null,null,null,{"$f":"IF($BA96,\"\",INDEX(D_MeasurementBasedApproaches!AF$21:AF$400,MATCH($C96,D_MeasurementBasedApproaches!$C$21:$C$400,0)))","v":""},{"$f":"IF($BA96,\"\",INDEX(D_MeasurementBasedApproaches!AG$21:AG$400,MATCH($C96,D_MeasurementBasedApproaches!$C$21:$C$400,0)))","v":""},{"$f":"IF($BA96,\"\",INDEX(D_MeasurementBasedApproaches!AH$21:AH$400,MATCH($C96,D_MeasurementBasedApproaches!$C$21:$C$400,0)))","v":""},{"$f":"IF($BA96,\"\",INDEX(D_MeasurementBasedApproaches!AI$21:AI$400,MATCH($C96,D_MeasurementBasedApproaches!$C$21:$C$400,0)))","v":""},{"$f":"IF($BA96,\"\",INDEX(D_MeasurementBasedApproaches!AJ$21:AJ$400,MATCH($C96,D_MeasurementBasedApproaches!$C$21:$C$400,0)))","v":""},null,{"$f":"IF(ISERROR(INDEX(D_MeasurementBasedApproaches!$E$21:$E$400,MATCH(C96,D_MeasurementBasedApproaches!$C$21:$C$400,0))),TRUE,INDEX(D_MeasurementBasedApproaches!$E$21:$E$400,MATCH(C96,D_MeasurementBasedApproaches!$C$21:$C$400,0))=\"\")","v":true}]
[null,null,3,{"$f":"IF($BA97,\"\",INDEX(D_MeasurementBasedApproaches!$E$21:$E$400,MATCH($C97,D_MeasurementBasedApproaches!$C$21:$C$400,0)))","v":""},{"$f":"IF($BA97,\"\",INDEX(D_MeasurementBasedApproaches!$G$21:$G$400,MATCH($C97,D_MeasurementBasedApproaches!$C$21:$C$400,0)))","v":""},null,null,null,null,null,null,null,null,null,null,null,null,{"$f":"IF($BA97,\"\",INDEX(D_MeasurementBasedApproaches!Y$21:Y$400,MATCH($C97,D_MeasurementBasedApproaches!$C$21:$C$400,0))*100)","v":""},"",{"$f":"IF($BA97,\"\",INDEX(D_MeasurementBasedApproaches!Z$21:Z$400,MATCH($C97,D_MeasurementBasedApproaches!$C$21:$C$400,0))*100)","v":""},"",{"$f":"IF($BA97,\"\",INDEX(D_MeasurementBasedApproaches!X$21:X$400,MATCH($C97,D_MeasurementBasedApproaches!$C$21:$C$400,0)))","v":""},"",{"$f":"IF($BA97,\"\",INDEX(D_MeasurementBasedApproaches!AA$21:AA$400,MATCH($C97,D_MeasurementBasedApproaches!$C$21:$C$400,0)))","v":""},"",{"$f":"IF($BA97,\"\",INDEX(D_MeasurementBasedApproaches!AB$21:AB$400,MATCH($C97,D_MeasurementBasedApproaches!$C$21:$C$400,0)))","v":""},"",{"$f":"IF($BA97,\"\",INDEX(D_MeasurementBasedApproaches!AC$21:AC$400,MATCH($C97,D_MeasurementBasedApproaches!$C$21:$C$400,0)))","v":""},"",{"$f":"IF($BA97,\"\",INDEX(D_MeasurementBasedApproaches!AD$21:AD$400,MATCH($C97,D_MeasurementBasedApproaches!$C$21:$C$400,0)))","v":""},"",{"$f":"IF($BA97,\"\",INDEX(D_MeasurementBasedApproaches!AE$21:AE$400,MATCH($C97,D_MeasurementBasedApproaches!$C$21:$C$400,0)))","v":""},null,null,null,null,null,null,null,null,null,null,null,null,null,null,{"$f":"IF($BA97,\"\",INDEX(D_MeasurementBasedApproaches!AF$21:AF$400,MATCH($C97,D_MeasurementBasedApproaches!$C$21:$C$400,0)))","v":""},{"$f":"IF($BA97,\"\",INDEX(D_MeasurementBasedApproaches!AG$21:AG$400,MATCH($C97,D_MeasurementBasedApproaches!$C$21:$C$400,0)))","v":""},{"$f":"IF($BA97,\"\",INDEX(D_MeasurementBasedApproaches!AH$21:AH$400,MATCH($C97,D_MeasurementBasedApproaches!$C$21:$C$400,0)))","v":""},{"$f":"IF($BA97,\"\",INDEX(D_MeasurementBasedApproaches!AI$21:AI$400,MATCH($C97,D_MeasurementBasedApproaches!$C$21:$C$400,0)))","v":""},{"$f":"IF($BA97,\"\",INDEX(D_MeasurementBasedApproaches!AJ$21:AJ$400,MATCH($C97,D_MeasurementBasedApproaches!$C$21:$C$400,0)))","v":""},null,{"$f":"IF(ISERROR(INDEX(D_MeasurementBasedApproaches!$E$21:$E$400,MATCH(C97,D_MeasurementBasedApproaches!$C$21:$C$400,0))),TRUE,INDEX(D_MeasurementBasedApproaches!$E$21:$E$400,MATCH(C97,D_MeasurementBasedApproaches!$C$21:$C$400,0))=\"\")","v":true}]
[null,null,4,{"$f":"IF($BA98,\"\",INDEX(D_MeasurementBasedApproaches!$E$21:$E$400,MATCH($C98,D_MeasurementBasedApproaches!$C$21:$C$400,0)))","v":""},{"$f":"IF($BA98,\"\",INDEX(D_MeasurementBasedApproaches!$G$21:$G$400,MATCH($C98,D_MeasurementBasedApproaches!$C$21:$C$400,0)))","v":""},null,null,null,null,null,null,null,null,null,null,null,null,{"$f":"IF($BA98,\"\",INDEX(D_MeasurementBasedApproaches!Y$21:Y$400,MATCH($C98,D_MeasurementBasedApproaches!$C$21:$C$400,0))*100)","v":""},"",{"$f":"IF($BA98,\"\",INDEX(D_MeasurementBasedApproaches!Z$21:Z$400,MATCH($C98,D_MeasurementBasedApproaches!$C$21:$C$400,0))*100)","v":""},"",{"$f":"IF($BA98,\"\",INDEX(D_MeasurementBasedApproaches!X$21:X$400,MATCH($C98,D_MeasurementBasedApproaches!$C$21:$C$400,0)))","v":""},"",{"$f":"IF($BA98,\"\",INDEX(D_MeasurementBasedApproaches!AA$21:AA$400,MATCH($C98,D_MeasurementBasedApproaches!$C$21:$C$400,0)))","v":""},"",{"$f":"IF($BA98,\"\",INDEX(D_MeasurementBasedApproaches!AB$21:AB$400,MATCH($C98,D_MeasurementBasedApproaches!$C$21:$C$400,0)))","v":""},"",{"$f":"IF($BA98,\"\",INDEX(D_MeasurementBasedApproaches!AC$21:AC$400,MATCH($C98,D_MeasurementBasedApproaches!$C$21:$C$400,0)))","v":""},"",{"$f":"IF($BA98,\"\",INDEX(D_MeasurementBasedApproaches!AD$21:AD$400,MATCH($C98,D_MeasurementBasedApproaches!$C$21:$C$400,0)))","v":""},"",{"$f":"IF($BA98,\"\",INDEX(D_MeasurementBasedApproaches!AE$21:AE$400,MATCH($C98,D_MeasurementBasedApproaches!$C$21:$C$400,0)))","v":""},null,null,null,null,null,null,null,null,null,null,null,null,null,null,{"$f":"IF($BA98,\"\",INDEX(D_MeasurementBasedApproaches!AF$21:AF$400,MATCH($C98,D_MeasurementBasedApproaches!$C$21:$C$400,0)))","v":""},{"$f":"IF($BA98,\"\",INDEX(D_MeasurementBasedApproaches!AG$21:AG$400,MATCH($C98,D_MeasurementBasedApproaches!$C$21:$C$400,0)))","v":""},{"$f":"IF($BA98,\"\",INDEX(D_MeasurementBasedApproaches!AH$21:AH$400,MATCH($C98,D_MeasurementBasedApproaches!$C$21:$C$400,0)))","v":""},{"$f":"IF($BA98,\"\",INDEX(D_MeasurementBasedApproaches!AI$21:AI$400,MATCH($C98,D_MeasurementBasedApproaches!$C$21:$C$400,0)))","v":""},{"$f":"IF($BA98,\"\",INDEX(D_MeasurementBasedApproaches!AJ$21:AJ$400,MATCH($C98,D_MeasurementBasedApproaches!$C$21:$C$400,0)))","v":""},null,{"$f":"IF(ISERROR(INDEX(D_MeasurementBasedApproaches!$E$21:$E$400,MATCH(C98,D_MeasurementBasedApproaches!$C$21:$C$400,0))),TRUE,INDEX(D_MeasurementBasedApproaches!$E$21:$E$400,MATCH(C98,D_MeasurementBasedApproaches!$C$21:$C$400,0))=\"\")","v":true}]
[null,null,5,{"$f":"IF($BA99,\"\",INDEX(D_MeasurementBasedApproaches!$E$21:$E$400,MATCH($C99,D_MeasurementBasedApproaches!$C$21:$C$400,0)))","v":""},{"$f":"IF($BA99,\"\",INDEX(D_MeasurementBasedApproaches!$G$21:$G$400,MATCH($C99,D_MeasurementBasedApproaches!$C$21:$C$400,0)))","v":""},null,null,null,null,null,null,null,null,null,null,null,null,{"$f":"IF($BA99,\"\",INDEX(D_MeasurementBasedApproaches!Y$21:Y$400,MATCH($C99,D_MeasurementBasedApproaches!$C$21:$C$400,0))*100)","v":""},"",{"$f":"IF($BA99,\"\",INDEX(D_MeasurementBasedApproaches!Z$21:Z$400,MATCH($C99,D_MeasurementBasedApproaches!$C$21:$C$400,0))*100)","v":""},"",{"$f":"IF($BA99,\"\",INDEX(D_MeasurementBasedApproaches!X$21:X$400,MATCH($C99,D_MeasurementBasedApproaches!$C$21:$C$400,0)))","v":""},"",{"$f":"IF($BA99,\"\",INDEX(D_MeasurementBasedApproaches!AA$21:AA$400,MATCH($C99,D_MeasurementBasedApproaches!$C$21:$C$400,0)))","v":""},"",{"$f":"IF($BA99,\"\",INDEX(D_MeasurementBasedApproaches!AB$21:AB$400,MATCH($C99,D_MeasurementBasedApproaches!$C$21:$C$400,0)))","v":""},"",{"$f":"IF($BA99,\"\",INDEX(D_MeasurementBasedApproaches!AC$21:AC$400,MATCH($C99,D_MeasurementBasedApproaches!$C$21:$C$400,0)))","v":""},"",{"$f":"IF($BA99,\"\",INDEX(D_MeasurementBasedApproaches!AD$21:AD$400,MATCH($C99,D_MeasurementBasedApproaches!$C$21:$C$400,0)))","v":""},"",{"$f":"IF($BA99,\"\",INDEX(D_MeasurementBasedApproaches!AE$21:AE$400,MATCH($C99,D_MeasurementBasedApproaches!$C$21:$C$400,0)))","v":""},null,null,null,null,null,null,null,null,null,null,null,null,null,null,{"$f":"IF($BA99,\"\",INDEX(D_MeasurementBasedApproaches!AF$21:AF$400,MATCH($C99,D_MeasurementBasedApproaches!$C$21:$C$400,0)))","v":""},{"$f":"IF($BA99,\"\",INDEX(D_MeasurementBasedApproaches!AG$21:AG$400,MATCH($C99,D_MeasurementBasedApproaches!$C$21:$C$400,0)))","v":""},{"$f":"IF($BA99,\"\",INDEX(D_MeasurementBasedApproaches!AH$21:AH$400,MATCH($C99,D_MeasurementBasedApproaches!$C$21:$C$400,0)))","v":""},{"$f":"IF($BA99,\"\",INDEX(D_MeasurementBasedApproaches!AI$21:AI$400,MATCH($C99,D_MeasurementBasedApproaches!$C$21:$C$400,0)))","v":""},{"$f":"IF($BA99,\"\",INDEX(D_MeasurementBasedApproaches!AJ$21:AJ$400,MATCH($C99,D_MeasurementBasedApproaches!$C$21:$C$400,0)))","v":""},null,{"$f":"IF(ISERROR(INDEX(D_MeasurementBasedApproaches!$E$21:$E$400,MATCH(C99,D_MeasurementBasedApproaches!$C$21:$C$400,0))),TRUE,INDEX(D_MeasurementBasedApproaches!$E$21:$E$400,MATCH(C99,D_MeasurementBasedApproaches!$C$21:$C$400,0))=\"\")","v":true}]
[null,null,6,{"$f":"IF($BA100,\"\",INDEX(D_MeasurementBasedApproaches!$E$21:$E$400,MATCH($C100,D_MeasurementBasedApproaches!$C$21:$C$400,0)))","v":""},{"$f":"IF($BA100,\"\",INDEX(D_MeasurementBasedApproaches!$G$21:$G$400,MATCH($C100,D_MeasurementBasedApproaches!$C$21:$C$400,0)))","v":""},null,null,null,null,null,null,null,null,null,null,null,null,{"$f":"IF($BA100,\"\",INDEX(D_MeasurementBasedApproaches!Y$21:Y$400,MATCH($C100,D_MeasurementBasedApproaches!$C$21:$C$400,0))*100)","v":""},"",{"$f":"IF($BA100,\"\",INDEX(D_MeasurementBasedApproaches!Z$21:Z$400,MATCH($C100,D_MeasurementBasedApproaches!$C$21:$C$400,0))*100)","v":""},"",{"$f":"IF($BA100,\"\",INDEX(D_MeasurementBasedApproaches!X$21:X$400,MATCH($C100,D_MeasurementBasedApproaches!$C$21:$C$400,0)))","v":""},"",{"$f":"IF($BA100,\"\",INDEX(D_MeasurementBasedApproaches!AA$21:AA$400,MATCH($C100,D_MeasurementBasedApproaches!$C$21:$C$400,0)))","v":""},"",{"$f":"IF($BA100,\"\",INDEX(D_MeasurementBasedApproaches!AB$21:AB$400,MATCH($C100,D_MeasurementBasedApproaches!$C$21:$C$400,0)))","v":""},"",{"$f":"IF($BA100,\"\",INDEX(D_MeasurementBasedApproaches!AC$21:AC$400,MATCH($C100,D_MeasurementBasedApproaches!$C$21:$C$400,0)))","v":""},"",{"$f":"IF($BA100,\"\",INDEX(D_MeasurementBasedApproaches!AD$21:AD$400,MATCH($C100,D_MeasurementBasedApproaches!$C$21:$C$400,0)))","v":""},"",{"$f":"IF($BA100,\"\",INDEX(D_MeasurementBasedApproaches!AE$21:AE$400,MATCH($C100,D_MeasurementBasedApproaches!$C$21:$C$400,0)))","v":""},null,null,null,null,null,null,null,null,null,null,null,null,null,null,{"$f":"IF($BA100,\"\",INDEX(D_MeasurementBasedApproaches!AF$21:AF$400,MATCH($C100,D_MeasurementBasedApproaches!$C$21:$C$400,0)))","v":""},{"$f":"IF($BA100,\"\",INDEX(D_MeasurementBasedApproaches!AG$21:AG$400,MATCH($C100,D_MeasurementBasedApproaches!$C$21:$C$400,0)))","v":""},{"$f":"IF($BA100,\"\",INDEX(D_MeasurementBasedApproaches!AH$21:AH$400,MATCH($C100,D_MeasurementBasedApproaches!$C$21:$C$400,0)))","v":""},{"$f":"IF($BA100,\"\",INDEX(D_MeasurementBasedApproaches!AI$21:AI$400,MATCH($C100,D_MeasurementBasedApproaches!$C$21:$C$400,0)))","v":""},{"$f":"IF($BA100,\"\",INDEX(D_MeasurementBasedApproaches!AJ$21:AJ$400,MATCH($C100,D_MeasurementBasedApproaches!$C$21:$C$400,0)))","v":""},null,{"$f":"IF(ISERROR(INDEX(D_MeasurementBasedApproaches!$E$21:$E$400,MATCH(C100,D_MeasurementBasedApproaches!$C$21:$C$400,0))),TRUE,INDEX(D_MeasurementBasedApproaches!$E$21:$E$400,MATCH(C100,D_MeasurementBasedApproaches!$C$21:$C$400,0))=\"\")","v":true}]
[null,null,7,{"$f":"IF($BA101,\"\",INDEX(D_MeasurementBasedApproaches!$E$21:$E$400,MATCH($C101,D_MeasurementBasedApproaches!$C$21:$C$400,0)))","v":""},{"$f":"IF($BA101,\"\",INDEX(D_MeasurementBasedApproaches!$G$21:$G$400,MATCH($C101,D_MeasurementBasedApproaches!$C$21:$C$400,0)))","v":""},null,null,null,null,null,null,null,null,null,null,null,null,{"$f":"IF($BA101,\"\",INDEX(D_MeasurementBasedApproaches!Y$21:Y$400,MATCH($C101,D_MeasurementBasedApproaches!$C$21:$C$400,0))*100)","v":""},"",{"$f":"IF($BA101,\"\",INDEX(D_MeasurementBasedApproaches!Z$21:Z$400,MATCH($C101,D_MeasurementBasedApproaches!$C$21:$C$400,0))*100)","v":""},"",{"$f":"IF($BA101,\"\",INDEX(D_MeasurementBasedApproaches!X$21:X$400,MATCH($C101,D_MeasurementBasedApproaches!$C$21:$C$400,0)))","v":""},"",{"$f":"IF($BA101,\"\",INDEX(D_MeasurementBasedApproaches!AA$21:AA$400,MATCH($C101,D_MeasurementBasedApproaches!$C$21:$C$400,0)))","v":""},"",{"$f":"IF($BA101,\"\",INDEX(D_MeasurementBasedApproaches!AB$21:AB$400,MATCH($C101,D_MeasurementBasedApproaches!$C$21:$C$400,0)))","v":""},"",{"$f":"IF($BA101,\"\",INDEX(D_MeasurementBasedApproaches!AC$21:AC$400,MATCH($C101,D_MeasurementBasedApproaches!$C$21:$C$400,0)))","v":""},"",{"$f":"IF($BA101,\"\",INDEX(D_MeasurementBasedApproaches!AD$21:AD$400,MATCH($C101,D_MeasurementBasedApproaches!$C$21:$C$400,0)))","v":""},"",{"$f":"IF($BA101,\"\",INDEX(D_MeasurementBasedApproaches!AE$21:AE$400,MATCH($C101,D_MeasurementBasedApproaches!$C$21:$C$400,0)))","v":""},null,null,null,null,null,null,null,null,null,null,null,null,null,null,{"$f":"IF($BA101,\"\",INDEX(D_MeasurementBasedApproaches!AF$21:AF$400,MATCH($C101,D_MeasurementBasedApproaches!$C$21:$C$400,0)))","v":""},{"$f":"IF($BA101,\"\",INDEX(D_MeasurementBasedApproaches!AG$21:AG$400,MATCH($C101,D_MeasurementBasedApproaches!$C$21:$C$400,0)))","v":""},{"$f":"IF($BA101,\"\",INDEX(D_MeasurementBasedApproaches!AH$21:AH$400,MATCH($C101,D_MeasurementBasedApproaches!$C$21:$C$400,0)))","v":""},{"$f":"IF($BA101,\"\",INDEX(D_MeasurementBasedApproaches!AI$21:AI$400,MATCH($C101,D_MeasurementBasedApproaches!$C$21:$C$400,0)))","v":""},{"$f":"IF($BA101,\"\",INDEX(D_MeasurementBasedApproaches!AJ$21:AJ$400,MATCH($C101,D_MeasurementBasedApproaches!$C$21:$C$400,0)))","v":""},null,{"$f":"IF(ISERROR(INDEX(D_MeasurementBasedApproaches!$E$21:$E$400,MATCH(C101,D_MeasurementBasedApproaches!$C$21:$C$400,0))),TRUE,INDEX(D_MeasurementBasedApproaches!$E$21:$E$400,MATCH(C101,D_MeasurementBasedApproaches!$C$21:$C$400,0))=\"\")","v":true}]
[null,null,8,{"$f":"IF($BA102,\"\",INDEX(D_MeasurementBasedApproaches!$E$21:$E$400,MATCH($C102,D_MeasurementBasedApproaches!$C$21:$C$400,0)))","v":""},{"$f":"IF($BA102,\"\",INDEX(D_MeasurementBasedApproaches!$G$21:$G$400,MATCH($C102,D_MeasurementBasedApproaches!$C$21:$C$400,0)))","v":""},null,null,null,null,null,null,null,null,null,null,null,null,{"$f":"IF($BA102,\"\",INDEX(D_MeasurementBasedApproaches!Y$21:Y$400,MATCH($C102,D_MeasurementBasedApproaches!$C$21:$C$400,0))*100)","v":""},"",{"$f":"IF($BA102,\"\",INDEX(D_MeasurementBasedApproaches!Z$21:Z$400,MATCH($C102,D_MeasurementBasedApproaches!$C$21:$C$400,0))*100)","v":""},"",{"$f":"IF($BA102,\"\",INDEX(D_MeasurementBasedApproaches!X$21:X$400,MATCH($C102,D_MeasurementBasedApproaches!$C$21:$C$400,0)))","v":""},"",{"$f":"IF($BA102,\"\",INDEX(D_MeasurementBasedApproaches!AA$21:AA$400,MATCH($C102,D_MeasurementBasedApproaches!$C$21:$C$400,0)))","v":""},"",{"$f":"IF($BA102,\"\",INDEX(D_MeasurementBasedApproaches!AB$21:AB$400,MATCH($C102,D_MeasurementBasedApproaches!$C$21:$C$400,0)))","v":""},"",{"$f":"IF($BA102,\"\",INDEX(D_MeasurementBasedApproaches!AC$21:AC$400,MATCH($C102,D_MeasurementBasedApproaches!$C$21:$C$400,0)))","v":""},"",{"$f":"IF($BA102,\"\",INDEX(D_MeasurementBasedApproaches!AD$21:AD$400,MATCH($C102,D_MeasurementBasedApproaches!$C$21:$C$400,0)))","v":""},"",{"$f":"IF($BA102,\"\",INDEX(D_MeasurementBasedApproaches!AE$21:AE$400,MATCH($C102,D_MeasurementBasedApproaches!$C$21:$C$400,0)))","v":""},null,null,null,null,null,null,null,null,null,null,null,null,null,null,{"$f":"IF($BA102,\"\",INDEX(D_MeasurementBasedApproaches!AF$21:AF$400,MATCH($C102,D_MeasurementBasedApproaches!$C$21:$C$400,0)))","v":""},{"$f":"IF($BA102,\"\",INDEX(D_MeasurementBasedApproaches!AG$21:AG$400,MATCH($C102,D_MeasurementBasedApproaches!$C$21:$C$400,0)))","v":""},{"$f":"IF($BA102,\"\",INDEX(D_MeasurementBasedApproaches!AH$21:AH$400,MATCH($C102,D_MeasurementBasedApproaches!$C$21:$C$400,0)))","v":""},{"$f":"IF($BA102,\"\",INDEX(D_MeasurementBasedApproaches!AI$21:AI$400,MATCH($C102,D_MeasurementBasedApproaches!$C$21:$C$400,0)))","v":""},{"$f":"IF($BA102,\"\",INDEX(D_MeasurementBasedApproaches!AJ$21:AJ$400,MATCH($C102,D_MeasurementBasedApproaches!$C$21:$C$400,0)))","v":""},null,{"$f":"IF(ISERROR(INDEX(D_MeasurementBasedApproaches!$E$21:$E$400,MATCH(C102,D_MeasurementBasedApproaches!$C$21:$C$400,0))),TRUE,INDEX(D_MeasurementBasedApproaches!$E$21:$E$400,MATCH(C102,D_MeasurementBasedApproaches!$C$21:$C$400,0))=\"\")","v":true}]
[null,null,9,{"$f":"IF($BA103,\"\",INDEX(D_MeasurementBasedApproaches!$E$21:$E$400,MATCH($C103,D_MeasurementBasedApproaches!$C$21:$C$400,0)))","v":""},{"$f":"IF($BA103,\"\",INDEX(D_MeasurementBasedApproaches!$G$21:$G$400,MATCH($C103,D_MeasurementBasedApproaches!$C$21:$C$400,0)))","v":""},null,null,null,null,null,null,null,null,null,null,null,null,{"$f":"IF($BA103,\"\",INDEX(D_MeasurementBasedApproaches!Y$21:Y$400,MATCH($C103,D_MeasurementBasedApproaches!$C$21:$C$400,0))*100)","v":""},"",{"$f":"IF($BA103,\"\",INDEX(D_MeasurementBasedApproaches!Z$21:Z$400,MATCH($C103,D_MeasurementBasedApproaches!$C$21:$C$400,0))*100)","v":""},"",{"$f":"IF($BA103,\"\",INDEX(D_MeasurementBasedApproaches!X$21:X$400,MATCH($C103,D_MeasurementBasedApproaches!$C$21:$C$400,0)))","v":""},"",{"$f":"IF($BA103,\"\",INDEX(D_MeasurementBasedApproaches!AA$21:AA$400,MATCH($C103,D_MeasurementBasedApproaches!$C$21:$C$400,0)))","v":""},"",{"$f":"IF($BA103,\"\",INDEX(D_MeasurementBasedApproaches!AB$21:AB$400,MATCH($C103,D_MeasurementBasedApproaches!$C$21:$C$400,0)))","v":""},"",{"$f":"IF($BA103,\"\",INDEX(D_MeasurementBasedApproaches!AC$21:AC$400,MATCH($C103,D_MeasurementBasedApproaches!$C$21:$C$400,0)))","v":""},"",{"$f":"IF($BA103,\"\",INDEX(D_MeasurementBasedApproaches!AD$21:AD$400,MATCH($C103,D_MeasurementBasedApproaches!$C$21:$C$400,0)))","v":""},"",{"$f":"IF($BA103,\"\",INDEX(D_MeasurementBasedApproaches!AE$21:AE$400,MATCH($C103,D_MeasurementBasedApproaches!$C$21:$C$400,0)))","v":""},null,null,null,null,null,null,null,null,null,null,null,null,null,null,{"$f":"IF($BA103,\"\",INDEX(D_MeasurementBasedApproaches!AF$21:AF$400,MATCH($C103,D_MeasurementBasedApproaches!$C$21:$C$400,0)))","v":""},{"$f":"IF($BA103,\"\",INDEX(D_MeasurementBasedApproaches!AG$21:AG$400,MATCH($C103,D_MeasurementBasedApproaches!$C$21:$C$400,0)))","v":""},{"$f":"IF($BA103,\"\",INDEX(D_MeasurementBasedApproaches!AH$21:AH$400,MATCH($C103,D_MeasurementBasedApproaches!$C$21:$C$400,0)))","v":""},{"$f":"IF($BA103,\"\",INDEX(D_MeasurementBasedApproaches!AI$21:AI$400,MATCH($C103,D_MeasurementBasedApproaches!$C$21:$C$400,0)))","v":""},{"$f":"IF($BA103,\"\",INDEX(D_MeasurementBasedApproaches!AJ$21:AJ$400,MATCH($C103,D_MeasurementBasedApproaches!$C$21:$C$400,0)))","v":""},null,{"$f":"IF(ISERROR(INDEX(D_MeasurementBasedApproaches!$E$21:$E$400,MATCH(C103,D_MeasurementBasedApproaches!$C$21:$C$400,0))),TRUE,INDEX(D_MeasurementBasedApproaches!$E$21:$E$400,MATCH(C103,D_MeasurementBasedApproaches!$C$21:$C$400,0))=\"\")","v":true}]
[null,null,10,{"$f":"IF($BA104,\"\",INDEX(D_MeasurementBasedApproaches!$E$21:$E$400,MATCH($C104,D_MeasurementBasedApproaches!$C$21:$C$400,0)))","v":""},{"$f":"IF($BA104,\"\",INDEX(D_MeasurementBasedApproaches!$G$21:$G$400,MATCH($C104,D_MeasurementBasedApproaches!$C$21:$C$400,0)))","v":""},null,null,null,null,null,null,null,null,null,null,null,null,{"$f":"IF($BA104,\"\",INDEX(D_MeasurementBasedApproaches!Y$21:Y$400,MATCH($C104,D_MeasurementBasedApproaches!$C$21:$C$400,0))*100)","v":""},"",{"$f":"IF($BA104,\"\",INDEX(D_MeasurementBasedApproaches!Z$21:Z$400,MATCH($C104,D_MeasurementBasedApproaches!$C$21:$C$400,0))*100)","v":""},"",{"$f":"IF($BA104,\"\",INDEX(D_MeasurementBasedApproaches!X$21:X$400,MATCH($C104,D_MeasurementBasedApproaches!$C$21:$C$400,0)))","v":""},"",{"$f":"IF($BA104,\"\",INDEX(D_MeasurementBasedApproaches!AA$21:AA$400,MATCH($C104,D_MeasurementBasedApproaches!$C$21:$C$400,0)))","v":""},"",{"$f":"IF($BA104,\"\",INDEX(D_MeasurementBasedApproaches!AB$21:AB$400,MATCH($C104,D_MeasurementBasedApproaches!$C$21:$C$400,0)))","v":""},"",{"$f":"IF($BA104,\"\",INDEX(D_MeasurementBasedApproaches!AC$21:AC$400,MATCH($C104,D_MeasurementBasedApproaches!$C$21:$C$400,0)))","v":""},"",{"$f":"IF($BA104,\"\",INDEX(D_MeasurementBasedApproaches!AD$21:AD$400,MATCH($C104,D_MeasurementBasedApproaches!$C$21:$C$400,0)))","v":""},"",{"$f":"IF($BA104,\"\",INDEX(D_MeasurementBasedApproaches!AE$21:AE$400,MATCH($C104,D_MeasurementBasedApproaches!$C$21:$C$400,0)))","v":""},null,null,null,null,null,null,null,null,null,null,null,null,null,null,{"$f":"IF($BA104,\"\",INDEX(D_MeasurementBasedApproaches!AF$21:AF$400,MATCH($C104,D_MeasurementBasedApproaches!$C$21:$C$400,0)))","v":""},{"$f":"IF($BA104,\"\",INDEX(D_MeasurementBasedApproaches!AG$21:AG$400,MATCH($C104,D_MeasurementBasedApproaches!$C$21:$C$400,0)))","v":""},{"$f":"IF($BA104,\"\",INDEX(D_MeasurementBasedApproaches!AH$21:AH$400,MATCH($C104,D_MeasurementBasedApproaches!$C$21:$C$400,0)))","v":""},{"$f":"IF($BA104,\"\",INDEX(D_MeasurementBasedApproaches!AI$21:AI$400,MATCH($C104,D_MeasurementBasedApproaches!$C$21:$C$400,0)))","v":""},{"$f":"IF($BA104,\"\",INDEX(D_MeasurementBasedApproaches!AJ$21:AJ$400,MATCH($C104,D_MeasurementBasedApproaches!$C$21:$C$400,0)))","v":""},null,{"$f":"IF(ISERROR(INDEX(D_MeasurementBasedApproaches!$E$21:$E$400,MATCH(C104,D_MeasurementBasedApproaches!$C$21:$C$400,0))),TRUE,INDEX(D_MeasurementBasedApproaches!$E$21:$E$400,MATCH(C104,D_MeasurementBasedApproaches!$C$21:$C$400,0))=\"\")","v":true}]
[]
[null,null,null,{"$f":"Translations!$B$837","v":"Alternatyvus metodas"}]
[null,null,{"$f":"C3","v":"#"},"Metodas","Pavadinimas","Veiklos duomenys","VD mato vienetas","GŠV","GŠV mato vienetas","ITF","ITF mato vienetas","C-turinys","C kiekio mato vienetas","Oksid. koeficientas","OksK mato vienetas","Konv. koeficientas","KonvK mato vienetas","Biomasės kiekis","BioC mato vienetas","netvarios BioC","netvarios BioC mato vienetas","valandinės ŠESD konc. vidurkis","valandinės ŠESD konc. mato vienetas","veikimo valandos","veikimo valandų mato vienetas","Kaminų dujos (vidurkis)","Kaminų dujų (vidurkio) mato vienetas","Kaminų dujos (iš viso)","Kaminų dujų (viso kiekio) mato vienetas","Metinis ŠESD kiekis","Metinio ŠESD kiekio mato vienetas","VAP (t CO2(e)/t)",{"$f":"AG3","v":"A. Dažnis"},"A. Trukmė","A. NITF(CF4)","B. AEV","B. EN","B. VĮK","F(C2F6)","Išmestas CF4 kiekis (t CF4)","Išmestas C2F6 kiekis (t C2F6)","VAP (CF4) (t CO2(e)/t)","VAP (C2F6) (t CO2(e)/t)","Išmestas CF4 kiekis (CO2(e) tonos)","Išmestas C2F6 kiekis (CO2(e) tonos)","Surinkimo veiksmingumas, proc.","Iškastinio kuro kilmės CO2(e) (t)","Biomasės kilmės CO2(e) (t)","Netvarios biomasės kilmės CO2(e) (t)","Energetinė vertė (iškast. kuras), TJ","Energetinė vertė (biomasė), TJ"]
[null,null,1,{"$f":"EUconst_FallBack","v":"Alternatyvus metodas"},null,null,null,null,null,null,null,null,null,null,null,null,null,null,null,null,null,null,null,null,null,null,null,null,null,null,null,null,null,null,null,null,null,null,null,null,null,null,null,null,null,null,{"$f":"IF($BA108,\"\",'E_Fall-backApproach'!S23)","v":""},{"$f":"IF($BA108,\"\",'E_Fall-backApproach'!T23)","v":""},{"$f":"IF($BA108,\"\",'E_Fall-backApproach'!U23)","v":""},{"$f":"IF($BA108,\"\",'E_Fall-backApproach'!V23)","v":""},{"$f":"IF($BA108,\"\",'E_Fall-backApproach'!W23)","v":""},null,{"$f":"OR(CNTR_FallBackRelevant=EUconst_NotRelevant, COUNT('E_Fall-backApproach'!$N$23:$N$29)=0)","v":true}]

{"sheet":"EUwideConstants","index":12,"n_rows":756,"n_cols":40,"rows_kept":756,"cut":false,"hidden":true,"merged":[[272,4,272,7]]}
[]
["EUconst_TrueFalse",true,false]
["EUconst_ReportingYear",2013,2014,2015,2016,2017,2018,2019,2020]
["EUconst_Fuel",{"$f":"Translations!$B$342","v":"Degimas"}]
["EUconst_ProcessCarbonate",{"$f":"Translations!$B$838","v":"Proceso metu išsiskiriančios ŠESD"}]
["EUconst_MassBalance",{"$f":"Translations!$B$362","v":"Masės balansas"}]
["EUconst_CNTR_ActivityData","ActivityData_"]
["EUconst_CNTR_NCV","NCV_"]
["EUconst_CNTR_EF","EF_"]
["EUconst_CNTR_CarbonContent","CarbC_"]
["EUconst_CNTR_BiomassContent","BioC_"]
["EUconst_CNTR_NonSustBiomassContent","NonSustBioC_"]
["EUconst_CNTR_OxidationFactor","OxF_"]
["EUconst_CNTR_ConversionFactor","ConvF_"]
["EUconst_Value",{"$f":"Translations!$B$673","v":"Vertė"}]
["EUconst_Unit",{"$f":"Translations!$B$158","v":"Vienetas"}]
["EUconst_CNTR_SourceCategory","SourceCategory_"]
["EUconst_CNTR_SourceStreamName","SourceStreamName_"]
["EUconst_CNTR_SourceStreamClass","SourceStreamClass_"]
["EUconst_CNTR_SmallEmitter","SmallEmitter_"]
["EUconst_CNTR_NoSmallEmitter","NoSmallEmitter_"]
["EUconst_CNTR_CEMS","CEMS_"]
["EUconst_CNTR_CCSInstID","InstID_"]
["EUconst_CNTR_CCSInstName","InstName_"]
["EUconst_CNTR_CCSOpName","OpName_"]
["EUconst_DefaultValues",{"$f":"Translations!$B$653","v":"I tipas"},{"$f":"Translations!$B$654","v":"II tipas"}]
["EUconst_DefaultValuesBio",{"$f":"Translations!$B$659","v":"I tipas, biol."},{"$f":"Translations!$B$661","v":"II tipas, biol."}]
[]
["EUconst_TJ","TJ"]
["EUconst_GJ","GJ"]
["EUconst_t","t"]
["EUconst_kNm3",{"$f":"Translations!$B$839","v":"1 000 Nm3"}]
["EUconst_GJpt",{"$f":"EUconst_GJ & \"/\" &EUconst_t","v":"GJ/t"}]
["EUconst_tCO2pt",{"$f":"\"tCO2/\"&EUconst_t","v":"tCO2/t"}]
["EUconst_tCO2pTJ",{"$f":"\"tCO2/\"&EUconst_TJ","v":"tCO2/TJ"}]
["EUconst_tCO2pkNm3",{"$f":"\"tCO2/\"&EUconst_kNm3","v":"tCO2/1 000 Nm3"}]
["EUconst_GJpkNm3",{"$f":"Translations!$B$840","v":"GJ/1 000 Nm3"}]
["EUconst_tC",{"$f":"Translations!$B$841","v":"t C"}]
["EUconst_tCpt",{"$f":"Translations!$B$842","v":"t C/t"}]
["EUconst_tCpkNm3",{"$f":"Translations!$B$843","v":"t C/1 000 Nm3"}]
["EUconst_torkNm3",{"$f":"EUconst_t","v":"t"},{"$f":"EUconst_kNm3","v":"1 000 Nm3"}]
["EUconst_torkNm3orNA",{"$f":"EUconst_t","v":"t"},{"$f":"EUconst_kNm3","v":"1 000 Nm3"},{"$f":"EUconst_NA","v":"netaik."}]
["EUconst_tCO2pTJOrtCO2pt",{"$f":"EUconst_tCO2pTJ","v":"tCO2/TJ"},{"$f":"EUconst_tCO2pt","v":"tCO2/t"},{"$f":"EUconst_NA","v":"netaik."}]
["EUconst_tCptOrtCpkNm3",{"$f":"Translations!$B$842","v":"t C/t"},{"$f":"Translations!$B$843","v":"t C/1 000 Nm3"},{"$f":"EUconst_NA","v":"netaik."}]
["EUconst_tCptortCO2pkNm3",{"$f":"Translations!$B$842","v":"t C/t"},{"$f":"Translations!$B$843","v":"t C/1 000 Nm3"}]
["EUconst_hpa",{"$f":"Translations!$B$844","v":"val./metai"}]
["EUconst_Nm3ph",{"$f":"Translations!$B$845","v":"1 000 Nm3/h"}]
["EUconst_gpNm3",{"$f":"Translations!$B$846","v":"g/Nm3"}]
["EUconst_kNm3pa",{"$f":"Translations!$B$847","v":"1 000 Nm3/m."}]
[]
[]
[]
["EUconst_SumCO2","SUM_CO2"]
["EUconst_SumBioCO2","SUM_bioCO2"]
["EUconst_SumNonSustBioCO2","SUM_bioNonSustCO2"]
["EUconst_SumEnergyIN","SUM_EnergyIN"]
["EUconst_SumBioEnergyIN","SUM_BioEnergyIN"]
["EUconst_SumN2O","SUM_N2O"]
["EUconst_SumPFC","SUM_PFC"]
["EUconst_MsgNextSheet",{"$f":"Translations!$B$177","v":"<<< Į kitą lapą pereisite paspaudę čia >>> "}]
["EUconst_SourceStream",{"$f":"Translations!$B$178","v":"Sukėliklis"}]
["EUconst_MeasurementPoint",{"$f":"Translations!$B$179","v":"Matavimo vieta"}]
["EUconst_OwnerInstrument",{"$f":"Translations!$B$74","v":"Veiklos vykdytojas"},{"$f":"Translations!$B$180","v":"Prekybos partneris"}]
["EUconst_ActivityDeterminationMethod",{"$f":"Translations!$B$181","v":"Partija"},{"$f":"Translations!$B$142","v":"Nuolatinio matavimo"}]
["EUconst_FurtherGuidancePoint1",{"$f":"Translations!$B$848","v":"Išsamios duomenų įvedimo naudojantis šia priemone instrukcijos pateiktos šio lapo viršuje. "}]
["EUconst_NA",{"$f":"Translations!$B$157","v":"netaik."}]
["EUconst_Relevant",{"$f":"Translations!$B$182","v":"svarbu"}]
["EUconst_NotRelevant",{"$f":"Translations!$B$183","v":"nesvarbu"}]
["EUconst_NotApplicable",{"$f":"Translations!$B$184","v":"Netaikoma!"}]
["EUconst_MsgTierActivityLevel",{"$f":"Translations!$B$849","v":"Neapibrėžtis"}]
["EUconst_MsgTierCKD",{"$f":"Translations!$B$185","v":"(netaik.; naudoti geriausia patirtimi grįstą apskaičiavimą)"}]
["EUconst_MsgNextSheet",{"$f":"Translations!$B$177","v":"<<< Į kitą lapą pereisite paspaudę čia >>> "}]
["EUconst_MsgGuidanceAbove",{"$f":"Translations!$B$850","v":"Norėdami gauti išsamių rekomendacijų, spustelėkite čia ir Jums bus pateiktas lapo viršuje esantis tekstas!"}]
["EUconst_MsgEnterThisSection",{"$f":"Translations!$B$186","v":"Įvesti duomenis į šį skirsnį"}]
["EUconst_MsgGoOn",{"$f":"Translations!$B$187","v":"Prašome pildyti tolesnius punktus"}]
["EUconst_MsgGoOnPFC",{"$f":"Translations!$B$851","v":"Pereikite į šiam sukėlikliui skirtą lapą „F_PFC“."}]
["EUconst_MsgSmallEmitters",{"$f":"Translations!$B$188","v":"Pateisinti, kodėl nėra istorinių duomenų ar jie netinka"}]
["EUconst_NoTier",{"$f":"Translations!$B$189","v":"Nėra pakopos"}]
["EUconst_ERR_Inconsistent",{"$f":"Translations!$B$852","v":"Nenuoseklu!"}]
["EUconst_ERR_Incomplete",{"$f":"Translations!$B$853","v":"Nebaigta!"}]
["EUconst_ERR_NoN2OSmallEmitters",{"$f":"Translations!$B$190","v":"Ši taisyklė netaikoma įrenginiams, kurių veikla siejasi su N2O!"}]
["EUconst_ERR_ThreshholdDeminimis",{"$f":"Translations!$B$191","v":"Viršyta labai mažo sukėliklio riba!"}]
["EUconst_ERR_ThreshholdMinor",{"$f":"Translations!$B$192","v":"Viršyta mažo sukėliklio riba!"}]
["EUconst_ERR_CheckEstimatedEmissions",{"$f":"Translations!$B$193","v":"Nesumuoti, jei mažiau nei 5% metinio išmetimo (6.c skirsnis)!"}]
["Euconst_VersionTracking",{"$f":"Translations!$B$194","v":"Pildo tik kompetentinga institucija"},{"$f":"Translations!$B$195","v":"Pildo veiklos vykdytojas"}]
["EUconst_MSlist",{"$f":"Translations!$B$196","v":"Austrija"},{"$f":"Translations!$B$197","v":"Belgija"},{"$f":"Translations!$B$198","v":"Bulgarija"},{"$f":"Translations!$B$199","v":"Kroatija"},{"$f":"Translations!$B$200","v":"Kipras"},{"$f":"Translations!$B$201","v":"Čekija"},{"$f":"Translations!$B$202","v":"Danija"},{"$f":"Translations!$B$203","v":"Estija"},{"$f":"Translations!$B$204","v":"Suomija"},{"$f":"Translations!$B$205","v":"Prancūzija"},{"$f":"Translations!$B$206","v":"Vokietija"},{"$f":"Translations!$B$207","v":"Graikija"},{"$f":"Translations!$B$208","v":"Vengrija"},{"$f":"Translations!$B$209","v":"Islandija"},{"$f":"Translations!$B$210","v":"Airija"},{"$f":"Translations!$B$211","v":"Italija"},{"$f":"Translations!$B$212","v":"Latvija"},{"$f":"Translations!$B$213","v":"Lichtenšteinas"},{"$f":"Translations!$B$214","v":"Lietuva"},{"$f":"Translations!$B$215","v":"Liuksemburgas"},{"$f":"Translations!$B$216","v":"Lenkija"},{"$f":"Translations!$B$217","v":"Nyderlandai"},{"$f":"Translations!$B$218","v":"Norvegija"},{"$f":"Translations!$B$219","v":"Lenkija"},{"$f":"Translations!$B$220","v":"Portugalija"},{"$f":"Translations!$B$221","v":"Rumunija"},{"$f":"Translations!$B$222","v":"Slovakija"},{"$f":"Translations!$B$223","v":"Slovėnija"},{"$f":"Translations!$B$224","v":"Ispanija"},{"$f":"Translations!$B$225","v":"Švedija"},{"$f":"Translations!$B$226","v":"Jungtinė Karalystė"}]
["EUconst_MSlistISOcodes","AT","BE","BG","HR","CY","CZ","DK","EE","FI","FR","DE","EL","HU","IS","IE","IT","LV","LI","LT","LU","MT","NL","NO","PL","PT","RO","SK","SI","ES","SE","UK"]
["Euconst_MPReferenceDateTypes",{"$f":"Translations!$B$71","v":"pateiktas kompetentingai institucijai"},{"$f":"Translations!$B$73","v":"patvirtintas kompetentingos institucijos"},{"$f":"Translations!$B$227","v":"kompetentingos institucijos atmesta"},{"$f":"Translations!$B$72","v":"grąžintas su pastabomis"},{"$f":"Translations!$B$228","v":"darbinis juodraštis"}]
["EUConst_RelSectionCalc",{"$f":"Translations!$B$854","v":"Aktualūs skirsniai: 7 skirsnio b punktas, 8 skirsnis."}]
["EUConst_RelSectionMeasure",{"$f":"Translations!$B$855","v":"Aktualūs skirsniai: 7 skirsnio c punktas, 9 skirsnis."}]
["EUConst_RelSectionFallback",{"$f":"Translations!$B$856","v":"Aktualūs skirsniai: 10 skirsnis."}]
["EUConst_RelSectionN2O",{"$f":"Translations!$B$855","v":"Aktualūs skirsniai: 7 skirsnio c punktas, 9 skirsnis."}]
["EUConst_RelSectionPFC",{"$f":"Translations!$B$857","v":"Aktualūs skirsniai: 7 skirsnio b punktas, 11 ir 12 skirsniai."}]
["EUConst_RelSectionCCS",{"$f":"Translations!$B$855","v":"Aktualūs skirsniai: 7 skirsnio c punktas, 9 skirsnis."}]
["EUconst_CEMSType","CO2","N2O",{"$f":"Translations!$B$229","v":"CO2 perdavimas"}]
["EUconst_ProcessPFC",{"$f":"Translations!$B$858","v":"Išmetamas PFC kiekis"}]
["EUconst_FallBack",{"$f":"Translations!$B$837","v":"Alternatyvus metodas"}]
["EUconst_CO2TransferTypes",{"$f":"Translations!$B$230","v":"Būdingojo CO2 priėmimas"},{"$f":"Translations!$B$231","v":"Būdingojo CO2 perkėlimas į ATLPS įrenginį"},{"$f":"Translations!$B$232","v":"Būdingojo CO2 perkėlimas vartotojui, kuriam ATLPS netaikoma"},{"$f":"Translations!$B$233","v":"Perduoto būdingojo CO2 priėmimas"},{"$f":"Translations!$B$234","v":"Perduoto būdingojo CO2 perkėlimas"}]
["EUconst_TransCO2Approach",{"$f":"Translations!$B$235","v":"Savų priemonių naudojimas"},{"$f":"Translations!$B$236","v":"kito įrenginių priemonių naudojimas"},{"$f":"Translations!$B$237","v":"Abiejų partnerių instrumentų naudojimas"}]
["EUconst_PipelineApproaches",{"$f":"Translations!$B$238","v":"A metodas"},{"$f":"Translations!$B$239","v":"B Metodas"}]
[]
[]
[]
[]
[{"$f":"Translations!$B$240","v":"I priedo veikla"}]
[{"$f":"Translations!$B$113","v":"Kuro deginimas"}]
[{"$f":"Translations!$B$241","v":"Naftos perdirbimas "}]
[{"$f":"Translations!$B$242","v":"Kokso gamyba"}]
[{"$f":"Translations!$B$243","v":"Metalo rūdų deginimas arba kepinimas"}]
[{"$f":"Translations!$B$244","v":"Ketaus arba plieno gamyba"}]
[{"$f":"Translations!$B$245","v":"Juodųjų metalų gamyba ar apdirbimas"}]
[{"$f":"Translations!$B$246","v":"Pirminio aliuminio gamyba"}]
[{"$f":"Translations!$B$247","v":"Antrinio aliuminio gamyba"}]
[{"$f":"Translations!$B$248","v":"Spalvotųjų metalų gamyba ar apdirbimas"}]
[{"$f":"Translations!$B$111","v":"Cemento klinkerio gamyba"}]
[{"$f":"Translations!$B$249","v":"Kalkių gamyba arba dolomito ar magnezito kalcinavimas"}]
[{"$f":"Translations!$B$250","v":"Stiklo gamyba"}]
[{"$f":"Translations!$B$251","v":"Keraminių gaminių gamyba"}]
[{"$f":"Translations!$B$252","v":"Akmens vatos gamyba"}]
[{"$f":"Translations!$B$253","v":"Gipso ir gipso kartoninių plokščių gamyba ar apdirbimas"}]
[{"$f":"Translations!$B$254","v":"Celiuliozės gamyba"}]
[{"$f":"Translations!$B$255","v":"Popieriaus ir kartono gamyba"}]
[{"$f":"Translations!$B$256","v":"Suodžių gamyba"}]
[{"$f":"Translations!$B$257","v":"Azoto rūgšties gamyba"}]
[{"$f":"Translations!$B$258","v":"Adipo rūgšties gamyba"}]
[{"$f":"Translations!$B$259","v":"Glioksilo ir glioksilo rūgšties gamyba"}]
[{"$f":"Translations!$B$260","v":"Amoniako gamyba"}]
[{"$f":"Translations!$B$261","v":"Biriųjų cheminių medžiagų gamyba"}]
[{"$f":"Translations!$B$262","v":"Vandenilio ar sintezės dujų gamyba"}]
[{"$f":"Translations!$B$263","v":"Natrio karbonato ir natrio hidrokarbonato gamyba"}]
[{"$f":"Translations!$B$264","v":"ŠESD gaudymas pagal Direktyvą 2009/31/EB"}]
[{"$f":"Translations!$B$265","v":"ŠESD transportavimas pagal Direktyvą 2009/31/EB"}]
[{"$f":"Translations!$B$266","v":"ŠESD saugojimas pagal Direktyvą 2009/31/EB"}]
[]
[{"$f":"Translations!$B$267","v":"SpecifiedEmissions2"}]
["CO2"]
["N2O"]
[{"$f":"Translations!$B$268","v":"PFC"}]
[{"$f":"Translations!$B$269","v":"CO2 ir N2O"}]
[{"$f":"Translations!$B$270","v":"CO2 ir PFC"}]
[]
[{"$f":"Translations!$B$271","v":"SourceCategory"}]
[{"$f":"Translations!$B$135","v":"Didelis"}]
[{"$f":"Translations!$B$272","v":"Mažas"}]
[{"$f":"Translations!$B$273","v":"Labai mažas"}]
[]
[{"$f":"Translations!$B$274","v":"SourceCategoryCEMS"}]
[{"$f":"Translations!$B$135","v":"Didelis"}]
[{"$f":"Translations!$B$272","v":"Mažas"}]
[]
[]
[{"$f":"Translations!$B$275","v":"AnalysisFrequency"}]
[{"$f":"Translations!$B$276","v":"Nuolat"}]
[{"$f":"Translations!$B$277","v":"kasdien"}]
[{"$f":"Translations!$B$159","v":"kartą per savaitę"}]
[{"$f":"Translations!$B$278","v":"kas mėnesį"}]
[{"$f":"Translations!$B$279","v":"kas ketvirtį"}]
[{"$f":"Translations!$B$280","v":"Dukart per metus"}]
[{"$f":"Translations!$B$281","v":"kasmet"}]
[]
[]
[{"$f":"Translations!$B$282","v":"OperationType"}]
[{"$f":"Translations!$B$283","v":"Įprastas režimas"}]
[{"$f":"Translations!$B$284","v":"Neįprastas režimas"}]
[{"$f":"Translations!$B$161","v":"Įprastas ir neįprastas režimas"}]
[]
[{"$f":"Translations!$B$285","v":"PFCMethods"}]
[{"$f":"Translations!$B$286","v":"A metodas = nuolydžio metodas"}]
[{"$f":"Translations!$B$287","v":"B metodas = viršįtampio metodas"}]
[]
[{"$f":"Translations!$B$288","v":"PFCCellTypes"}]
[{"$f":"Translations!$B$859","v":"Medžiaga – Tiekimas į vonių su termiškai apdorotais perforuotais anodais centrą (CWPB)"}]
[{"$f":"Translations!$B$860","v":"Medžiaga – Sioderbergo vonia su vertikaliais strypais (VSS)"}]
[{"$f":"Translations!$B$861","v":"Medžiaga – Tiekimas į vonių su termiškai apdorotais perforuotais anodais kraštą (SWPB)"}]
[{"$f":"Translations!$B$862","v":"Medžiaga – Sioderbergo vonia su horizontaliais strypais (HSS)"}]
[]
["PFCUnits"]
[{"$f":"Translations!$B$863","v":"1/(vienoje elektrolizės vonioje per parą)"}]
[{"$f":"Translations!$B$864","v":"min."}]
[{"$f":"Translations!$B$865","v":"(kg CF4/t Al)/(min./vienoje elektrolizės vonioje per parą)"}]
["mV"]
["%"]
[{"$f":"Translations!$B$866","v":"(kg CF4)/(t Al mV)"}]
[{"$f":"Translations!$B$867","v":"t C2F6/t CF4"}]
[]
[{"$f":"Translations!$B$289","v":"MeteringDevices"}]
[{"$f":"Translations!$B$136","v":"Sukusis skaitiklis"}]
[{"$f":"Translations!$B$290","v":"Turbininis skaitiklis"}]
[{"$f":"Translations!$B$291","v":"Dumblinis skaitiklis"}]
[{"$f":"Translations!$B$292","v":"Matavimas tūta"}]
[{"$f":"Translations!$B$293","v":"Venturi debitmatis"}]
[{"$f":"Translations!$B$294","v":"Ultragarsinis skaitiklis"}]
[{"$f":"Translations!$B$295","v":"Sukūrinis skaitiklis"}]
[{"$f":"Translations!$B$296","v":"Coriolis matuoklis"}]
[{"$f":"Translations!$B$868","v":"Ovalinių krumplinių pavarų matuoklis"}]
[{"$f":"Translations!$B$297","v":"Elektroninė tūrio konvertavimo priemonė (EVCI)"}]
[{"$f":"Translations!$B$298","v":"dujų chromatografas"}]
[{"$f":"Translations!$B$137","v":"Tiltinės svarstyklės"}]
[{"$f":"Translations!$B$299","v":"Sveriančioji konvejerio juosta"}]
[]
[]
[{"$f":"Translations!$B$300","v":"MeasurementTiers"}]
[1]
[2]
[3]
[4]
[]
[{"$f":"Translations!$B$301","v":"PFCTiers"}]
[1]
[2]
[]
[{"$f":"Translations!$B$302","v":"BiomassTiers"}]
[1]
[2]
[{"$f":"EUconst_NoTier","v":"Nėra pakopos"}]
[{"$f":"EUconst_NA","v":"netaik."}]
[]
[{"$f":"Translations!$B$303","v":"ConversionFactorTiers"}]
[1]
[2]
[{"$f":"EUconst_NoTier","v":"Nėra pakopos"}]
[{"$f":"EUconst_NA","v":"netaik."}]
[]
[{"$f":"Translations!$B$304","v":"ActivityDataTiers"}]
[1]
[2]
[3]
[4]
[{"$f":"EUconst_NoTier","v":"Nėra pakopos"}]
[{"$f":"EUconst_NA","v":"netaik."}]
[]
[{"$f":"Translations!$B$305","v":"NCVTiers"}]
[1]
["2a"]
[{"$f":"Translations!$B$306","v":"2b"}]
[3]
[{"$f":"EUconst_NoTier","v":"Nėra pakopos"}]
[{"$f":"EUconst_NA","v":"netaik."}]
[]
[{"$f":"Translations!$B$307","v":"EFTiers"}]
[1]
[2]
["2a"]
[{"$f":"Translations!$B$306","v":"2b"}]
[3]
[{"$f":"EUconst_NoTier","v":"Nėra pakopos"}]
[]
[{"$f":"Translations!$B$308","v":"CarbonContentTiers"}]
[1]
["2a"]
[{"$f":"Translations!$B$306","v":"2b"}]
[3]
[{"$f":"EUconst_NoTier","v":"Nėra pakopos"}]
[{"$f":"EUconst_NA","v":"netaik."}]
[]
["NCVUnits"]
[{"$f":"EUconst_GJpt","v":"GJ/t"}]
[{"$f":"EUconst_GJpkNm3","v":"GJ/1 000 Nm3"}]
[{"$f":"EUconst_NA","v":"netaik."}]
[]
["EFUnits"]
[{"$f":"EUconst_tCO2pTJ","v":"tCO2/TJ"}]
[{"$f":"EUconst_tCO2pt","v":"tCO2/t"}]
[{"$f":"EUconst_tCO2pkNm3","v":"tCO2/1 000 Nm3"}]
[]
["PctUnits"]
["%"]
[]
[]
[]
[]
[]
[null,{"$f":"Translations!$B$309","v":"Directive Annex I"},null,null,{"$f":"Translations!$B$310","v":"Special activities"},null,null,null,{"$f":"Translations!$B$110","v":"Išmestos ŠESD"},"CRF"]
[1,{"$f":"IF(LEN(Translations!$B$311)>250,LEFT(Translations!$B$311,250),Translations!$B$311)","v":"Kuro deginimas įrenginiuose, kurių visas nominalus šiluminis našumas didesnis nei 20 MW (išskyrus pavojingų arba komunalinių atliekų deginimo įrenginius)"},{"$f":"INDEX(AnnexIActivities,A274)","v":"Kuro deginimas"},null,null,null,null,null,"CO2",1]
[2,{"$f":"Translations!$B$241","v":"Naftos perdirbimas "},"Naftos perdirbimas ",null,{"$f":"O345","v":"Naftos perdirbimo įrenginiai: Masės balansas"},{"$f":"O346","v":"Naftos perdirbimo įrenginiai: Regeneravimas katalizinio krekingo įrenginiu"},{"$f":"O347","v":"Naftos perdirbimo įrenginiai: Vandenilio gamyba"},null,"CO2",2]
[3,{"$f":"Translations!$B$242","v":"Kokso gamyba"},"Kokso gamyba",null,{"$f":"O348","v":"Koksas: Kuras kaip proceso žaliava"},{"$f":"O349","v":"Koksas: Karbonatų sąnaudos (A metodas)"},{"$f":"O350","v":"Koksas: Oksido išeiga (B metodas)"},{"$f":"O351","v":"Koksas: Masės balansas"},"CO2",2]
[4,{"$f":"IF(LEN(Translations!$B$312)>250,LEFT(Translations!$B$312,250),Translations!$B$312)","v":"Metalo rūdos (įskaitant sulfidinę rūdą) deginimas arba kaitinimas, įskaitant granuliavimą "},"Metalo rūdų deginimas arba kepinimas",null,{"$f":"O352","v":"Metalų rūda: Karbonatų sąnaudos"},{"$f":"O353","v":"Metalų rūda: Masės balansas"},null,null,"CO2",2]
[5,{"$f":"IF(LEN(Translations!$B$313)>250,LEFT(Translations!$B$313,250),Translations!$B$313)","v":"Luitinio ketaus arba plieno gamyba (pirminis arba antrinis liejimas), įskaitant tolydinį liejimą, kai pajėgumas didesnis nei 2,5 tonos per valandą "},"Ketaus arba plieno gamyba",null,{"$f":"O354","v":"Geležis ir plienas: Kuras kaip proceso žaliava"},{"$f":"O355","v":"Geležis ir plienas: Karbonatų sąnaudos"},{"$f":"O356","v":"Geležis ir plienas: Masės balansas"},null,"CO2",2]
[6,{"$f":"IF(LEN(Translations!$B$314)>250,LEFT(Translations!$B$314,250),Translations!$B$314)","v":"Juodųjų metalų (įskaitant juodojo metalo lydinius) gamyba ar perdirbimas, kai eksploatuojami kuro deginimo įrenginiai, kurių visas nominalus šiluminis našumas didesnis nei 20 MW. Perdirbimas, inter alia, apima apdorojimą valcavimo staklynuose, atkait"},"Juodųjų metalų gamyba ar apdirbimas",null,{"$f":"O374","v":"(Ne)spalvotieji, antrinis aliuminis: Proceso metu išsiskiriančios ŠESD"},{"$f":"O375","v":"(Ne)spalvotieji, antrinis aliuminis: Masės balanso metodika"},null,null,"CO2",2]
[7,{"$f":"Translations!$B$246","v":"Pirminio aliuminio gamyba"},"Pirminio aliuminio gamyba",null,{"$f":"O377","v":"Pirminis aliuminis: Masės balanso metodika"},{"$f":"O378","v":"Pirminis aliuminis: Išmetamas PFC kiekis (nuolydžio metodas)"},{"$f":"O379","v":"Pirminis aliuminis: Išmetamas PFC kiekis (viršįtampio metodas)"},null,{"$f":"Translations!$B$270","v":"CO2 ir PFC"},2]
[8,{"$f":"IF(LEN(Translations!$B$315)>250,LEFT(Translations!$B$315,250),Translations!$B$315)","v":"Antrinio aliuminio gamyba, kai eksploatuojami kuro deginimo įrenginiai, kurių visas nominalus šiluminis našumas didesnis nei 20 MW"},"Antrinio aliuminio gamyba",null,{"$f":"E279","v":"(Ne)spalvotieji, antrinis aliuminis: Proceso metu išsiskiriančios ŠESD"},{"$f":"F279","v":"(Ne)spalvotieji, antrinis aliuminis: Masės balanso metodika"},null,null,"CO2",2]
[9,{"$f":"IF(LEN(Translations!$B$316)>250,LEFT(Translations!$B$316,250),Translations!$B$316)","v":"Spalvotųjų metalų gamyba ar perdirbimas, įskaitant lydinių gamybą, taurinimą, liejimą ir kt., kai eksploatuojami kuro deginimo įrenginiai, kurių visas nominalus šiluminis našumas (įskaitant kurą, naudojamą kaip redukcinis reagentas) didesnis nei 20 M"},"Spalvotųjų metalų gamyba ar apdirbimas",null,{"$f":"E279","v":"(Ne)spalvotieji, antrinis aliuminis: Proceso metu išsiskiriančios ŠESD"},{"$f":"F279","v":"(Ne)spalvotieji, antrinis aliuminis: Masės balanso metodika"},null,null,"CO2",2]
[10,{"$f":"IF(LEN(Translations!$B$317)>250,LEFT(Translations!$B$317,250),Translations!$B$317)","v":"Cemento klinkerio gamyba rotacinėse krosnyse, kurių gamybos pajėgumas didesnis kaip 500 tonų per dieną, arba kitose krosnyse, kurių gamybos pajėgumas didesnis kaip 50 tonų per dieną "},"Cemento klinkerio gamyba",null,{"$f":"O357","v":"Cemento klinkeriai: Grindžiamas krosnies žaliava (A metodas)"},{"$f":"O358","v":"Cemento klinkeriai: Klinkerio išeiga (B metodas)"},{"$f":"O359","v":"Cemento klinkeriai: Cemento degimo krosnių dulkės"},{"$f":"O360","v":"Cemento klinkeriai: Nekarbonatinė anglis"},"CO2",2]
[11,{"$f":"IF(LEN(Translations!$B$318)>250,LEFT(Translations!$B$318,250),Translations!$B$318)","v":"Kalkių gamyba arba dolomito ar magnezito kalcinavimas rotacinėse krosnyse arba kitose krosnyse, kurių gamybos pajėgumas didesnis kaip 50 tonų per dieną "},"Kalkių gamyba arba dolomito ar magnezito kalcinavimas",null,{"$f":"O361","v":"Kalkės, dolomitas, magnezitas: Karbonatai (A metodas)"},{"$f":"O362","v":"Kalkės, dolomitas, magnezitas: Šarminių žemių metalų oksidas (B metodas)"},{"$f":"O363","v":"Kalkės, dolomitas, magnezitas: Degimo krosnių dulkės (B metodas)"},null,"CO2",2]
[12,{"$f":"IF(LEN(Translations!$B$319)>250,LEFT(Translations!$B$319,250),Translations!$B$319)","v":"Stiklo, įskaitant stiklo pluoštą, gamyba, kai lydymo pajėgumas didesnis kaip 20 tonų per dieną "},"Stiklo gamyba",null,{"$f":"O364","v":"Stiklas ir mineralinė vata: Karbonatai (žaliava)"},null,null,null,"CO2",2]
[13,{"$f":"IF(LEN(Translations!$B$320)>250,LEFT(Translations!$B$320,250),Translations!$B$320)","v":"Keraminių gaminių, visų pirma stogų čerpių, plytų, ugniai atsparių plytų, čerpių, molio dirbinių arba porceliano, gamyba degimo būdu, kai gamybos pajėgumas didesnis kaip 75 tonos per dieną "},"Keraminių gaminių gamyba",null,{"$f":"O365","v":"Keramikos dirbiniai.: Anglies sąnaudos (A metodas)"},{"$f":"O366","v":"Keramikos dirbiniai.: Šarminių metalų oksidas (B metodas)"},{"$f":"O367","v":"Keramikos dirbiniai.: Dujų plovimas"},null,"CO2",2]
[14,{"$f":"IF(LEN(Translations!$B$321)>250,LEFT(Translations!$B$321,250),Translations!$B$321)","v":"Akmens vatos gamyba, naudojant stiklą, uolienas arba šlaką, kai lydymo pajėgumas didesnis kaip 20 tonų per dieną "},"Akmens vatos gamyba",null,{"$f":"O364","v":"Stiklas ir mineralinė vata: Karbonatai (žaliava)"},null,null,null,"CO2",2]
[15,{"$f":"IF(LEN(Translations!$B$322)>250,LEFT(Translations!$B$322,250),Translations!$B$322)","v":"Gipso džiovinimas arba kalcinavimas, arba gipso plokščių ir kitų gipso produktų gamyba, kai eksploatuojami kuro deginimo įrenginiai, kurių visas nominalus šiluminis našumas didesnis nei 20 MW "},"Gipso ir gipso kartoninių plokščių gamyba ar apdirbimas",null,null,null,null,null,"CO2",2]
[16,{"$f":"Translations!$B$323","v":"Celiuliozės iš medienos arba kitų pluoštinių medžiagų gamyba "},"Celiuliozės gamyba",null,{"$f":"O368","v":"Celiuliozė ir popierius: Sudėtinės cheminės medžiagos"},null,null,null,"CO2",2]
[17,{"$f":"IF(LEN(Translations!$B$324)>250,LEFT(Translations!$B$324,250),Translations!$B$324)","v":"Popieriaus ir kartono gamyba, kai gamybos pajėgumas yra didesnis nei 20 tonų per dieną "},"Popieriaus ir kartono gamyba",null,{"$f":"O368","v":"Celiuliozė ir popierius: Sudėtinės cheminės medžiagos"},null,null,null,"CO2",2]
[18,{"$f":"IF(LEN(Translations!$B$325)>250,LEFT(Translations!$B$325,250),Translations!$B$325)","v":"Suodžių gamyba, įskaitant organinių medžiagų (alyvų, deguto, krekingo, distiliacijos likučių) karbonizaciją, kai eksploatuojami kuro deginimo įrenginiai, kurių visas nominalus šiluminis našumas didesnis nei 20 MW "},"Suodžių gamyba",null,{"$f":"O369","v":"Padengtas kartonas Suodžiai: Masės balanso metodika"},null,null,null,"CO2",2]
[19,{"$f":"Translations!$B$257","v":"Azoto rūgšties gamyba"},"Azoto rūgšties gamyba",null,null,null,null,null,{"$f":"Translations!$B$269","v":"CO2 ir N2O"},2]
[20,{"$f":"Translations!$B$258","v":"Adipo rūgšties gamyba"},"Adipo rūgšties gamyba",null,null,null,null,null,{"$f":"Translations!$B$269","v":"CO2 ir N2O"},2]
[21,{"$f":"Translations!$B$259","v":"Glioksilo ir glioksilo rūgšties gamyba"},"Glioksilo ir glioksilo rūgšties gamyba",null,null,null,null,null,{"$f":"Translations!$B$269","v":"CO2 ir N2O"},2]
[22,{"$f":"Translations!$B$260","v":"Amoniako gamyba"},"Amoniako gamyba",null,{"$f":"O370","v":"Amoniakas: Kuras kaip proceso žaliava"},null,null,null,"CO2",2]
[23,{"$f":"IF(LEN(Translations!$B$326)>250,LEFT(Translations!$B$326,250),Translations!$B$326)","v":"Didelio masto organinių cheminių medžiagų gamyba, taikant krekingą, riformingą, dalinę arba visišką oksidaciją arba kitus panašius metodus, kai gamybos pajėgumas didesnis nei 100 tonų per dieną "},"Biriųjų cheminių medžiagų gamyba",null,{"$f":"O373","v":"Didelio masto organinių cheminių medžiagų gamyba: Masės balanso metodika"},null,null,null,"CO2",2]
[24,{"$f":"IF(LEN(Translations!$B$327)>250,LEFT(Translations!$B$327,250),Translations!$B$327)","v":"Vandenilio (H2) ir sintezės dujų gamyba taikant riformingą arba dalinę oksidaciją, kai gamybos pajėgumas didesnis nei 25 tonos per dieną "},"Vandenilio ar sintezės dujų gamyba",null,{"$f":"$O$371","v":"Vandenilis ir sintezės dujos: Kuras kaip proceso žaliava"},{"$f":"O372","v":"Vandenilis ir sintezės dujos: Masės balanso metodika"},null,null,"CO2",2]
[25,{"$f":"Translations!$B$328","v":"Natrio karbonato ((Na2CO3) ir natrio hidrokarbonato (NaHCO3) gamyba "},"Natrio karbonato ir natrio hidrokarbonato gamyba",null,{"$f":"O376","v":"Natrio karbonatas / natrio hidrokarbonatas: Masės balanso metodika"},null,null,null,"CO2"]
[26,{"$f":"IF(LEN(Translations!$B$329)>250,LEFT(Translations!$B$329,250),Translations!$B$329)","v":"Įrenginių, kuriems taikoma ši direktyva, išmetamų šiltnamio efektą sukeliančių dujų rinkimas, kad jos galėtų būti transportuojamos ir geologiškai saugomos pagal Direktyvą 2009/31/EB patvirtintoje saugojimo vietoje"},"ŠESD gaudymas pagal Direktyvą 2009/31/EB",null,null,null,null,null,"CO2"]
[27,{"$f":"IF(LEN(Translations!$B$330)>250,LEFT(Translations!$B$330,250),Translations!$B$330)","v":"ŠESD transportavimas vamzdynais geologiniam saugojimui į saugojimo vietą, patvirtintą pagal Direktyvą 2009/31/EB"},"ŠESD transportavimas pagal Direktyvą 2009/31/EB",null,null,null,null,null,"CO2"]
[28,{"$f":"IF(LEN(Translations!$B$331)>250,LEFT(Translations!$B$331,250),Translations!$B$331)","v":"ŠESD geologinis saugojimas pagal Direktyvą 2009/31/EB patvirtintoje saugojimo vietoje"},"ŠESD saugojimas pagal Direktyvą 2009/31/EB",null,null,null,null,null,"CO2"]
[]
[]
[]
[]
[null,"EUconst_ListCRF1","EUconst_ListCRF2",null,"EUconst_ActivityUnits"]
[null,{"$f":"Translations!$B$589","v":"1A1a – Energija – Valstybinė elektros energijos ir šilumos gamyba"},{"$f":"Translations!$B$588","v":"2A1 – Procesas – Cemento gamyba"},null,{"$f":"Translations!$B$114","v":"MW(šil)"}]
[null,{"$f":"Translations!$B$869","v":"1A1b – Energija – Naftos perdirbimas"},{"$f":"Translations!$B$870","v":"2A2 – Procesas – Kalkių gamyba"},null,{"$f":"Translations!$B$112","v":"t per dieną"}]
[null,{"$f":"Translations!$B$871","v":"1A1c – Energija – Kietojo kuro gamybos ir kitos energetikos įmonės"},{"$f":"Translations!$B$872","v":"2A3 – Procesas – Kalkakmenio ir dolomito naudojimas"},null,{"$f":"Translations!$B$873","v":"CO2 svorinių tonų per parą"}]
[null,{"$f":"Translations!$B$874","v":"1A2a – Energija – Geležis ir plienas"},{"$f":"Translations!$B$875","v":"2A4 – Procesas – Natrio karbonato gamyba ir naudojimas"}]
[null,{"$f":"Translations!$B$876","v":"1A2b – Energija – Spalvotieji metalai"},{"$f":"Translations!$B$877","v":"2A5 – Procesas – Bituminės stogo dangos"}]
[null,{"$f":"Translations!$B$878","v":"1A2c – Energija – Cheminės medžiagos"},{"$f":"Translations!$B$879","v":"2A6 – Procesas – Kelių asfaltavimas"}]
[null,{"$f":"Translations!$B$880","v":"1A2d – Energija – Celiuliozė, popierius ir spauda"},{"$f":"Translations!$B$881","v":"2A7 – Procesas – Kiti neorganiniai produktai"}]
[null,{"$f":"Translations!$B$882","v":"1A2e – Energija – Maisto perdirbimas, gėrimai ir tabakas"},{"$f":"Translations!$B$883","v":"2B1 – Procesas – Amoniako gamyba"}]
[null,{"$f":"Translations!$B$587","v":"1A2f – Energija – Kitos pramonės šakos"},{"$f":"Translations!$B$884","v":"2B2 – Procesas – Azoto rūgšties gamyba "}]
[null,{"$f":"Translations!$B$885","v":"1A4a – Energija – Komercinis, institucinis"},{"$f":"Translations!$B$886","v":"2B3 – Procesas – Adipo rūgšties gamyba"}]
[null,{"$f":"Translations!$B$887","v":"1A4b – Energija – Gyvenamosios paskirties būstas"},{"$f":"Translations!$B$888","v":"2B4 – Procesas – Karbido gamyba"}]
[null,{"$f":"Translations!$B$889","v":"1A4c – Energija – Žemės ūkis, miškų ūkis, žuvininkystė"},{"$f":"Translations!$B$890","v":"2B5 – Procesas – Kitos chemijos pramonės šakos"}]
[null,{"$f":"Translations!$B$891","v":"1A5a – Energija – Kiti stacionarūs"},{"$f":"Translations!$B$892","v":"2C1 – Procesas – Geležies ir plieno gamyba"}]
[null,{"$f":"Translations!$B$893","v":"1A5c – Energija – Kiti mobilūs"},{"$f":"Translations!$B$894","v":"2C2 – Procesas – Geležies lydinių gamyba"}]
[null,{"$f":"Translations!$B$895","v":"1B1a – Energija – Nevaldomas išmetimas – Anglių gavyba ir tvarkymas"},{"$f":"Translations!$B$896","v":"2C3 – Procesas – Aliuminio gamyba"}]
[null,{"$f":"Translations!$B$897","v":"1B1b – Energija – Nevaldomas išmetimas – Kietojo kuro transformavimas"},{"$f":"Translations!$B$898","v":"2C4 – Procesas – SF6 naudojimas aliuminio ir magnio liejyklose"}]
[null,{"$f":"Translations!$B$899","v":"1B1c – Energija – Nevaldomas išmetimas – Kitos kietojo kuro rūšys"},{"$f":"Translations!$B$900","v":"2C5 – Procesas – Kiti metalai"}]
[null,{"$f":"Translations!$B$901","v":"1B2a – Energija – Nevaldomas išmetimas – Nafta"},{"$f":"Translations!$B$902","v":"2D1 – Procesas – Celiuliozė ir popierius"}]
[null,{"$f":"Translations!$B$903","v":"1B2b – Energija – Nevaldomas išmetimas – Gamtinės dujos"},{"$f":"Translations!$B$904","v":"2D2 – Procesas – Maistas ir gėrimai"}]
[null,{"$f":"Translations!$B$905","v":"1B2c – Energija – Nevaldomas išmetimas – Dujų išleidimas"}]
[null,{"$f":"Translations!$B$906","v":"1B2d – Energija – Nevaldomas išmetimas – Kitas skystasis kuras arba dujos"}]
[]
[]
[]
[]
[]
[]
[]
[]
[null,{"$f":"Translations!$B$332","v":"Veiklos duomenys"},null,null,null,null,{"$f":"Translations!$B$333","v":"Pakopa"},{"$f":"Translations!$B$333","v":"Pakopa"},{"$f":"Translations!$B$333","v":"Pakopa"},{"$f":"Translations!$B$333","v":"Pakopa"},{"$f":"Translations!$B$333","v":"Pakopa"},{"$f":"Translations!$B$333","v":"Pakopa"}]
[null,{"$f":"Translations!$B$334","v":"Veikla"},{"$f":"Translations!$B$335","v":"Trumpas pavadinimas"},{"$f":"Translations!$B$336","v":"Veiklos pogrupis"},{"$f":"Translations!$B$138","v":"Parametras"},{"$f":"Translations!$B$337","v":"Šaltinio tipas"},{"$f":"Translations!$B$338","v":"Mažiausiai"},1,2,"2a",{"$f":"Translations!$B$306","v":"2b"},3,4,{"$f":"Translations!$B$339","v":"Didžiausia"},"EUConst_TierActivityListNames",null,null,null,null,null,null,null,null,{"$f":"Translations!$B$340","v":"Nudažyti pilkai?"}]
[1,{"$f":"Translations!$B$341","v":"Kuro deginimas ir kaip proceso žaliava naudojamas kuras"},{"$f":"Translations!$B$342","v":"Degimas"},{"$f":"Translations!$B$343","v":"Komercinis standartinių rūšių kuras"},{"$f":"Translations!$B$141","v":"Kuro kiekis [t] arba [Nm3]"},{"$f":"EUconst_Fuel","v":"Degimas"},2,{"$f":"Translations!$B$344","v":"± 7,5%"},{"$f":"Translations!$B$345","v":"± 5,0%"},null,null,{"$f":"Translations!$B$346","v":"± 2,5%"},{"$f":"Translations!$B$347","v":"± 1,5%"},{"$f":"COUNTA(H338:M338)","v":4},{"$f":"C338 & \": \" &D338","v":"Degimas: Komercinis standartinių rūšių kuras"},null,{"$f":"EUconst_CNTR_ActivityData&O338","v":"ActivityData_Degimas: Komercinis standartinių rūšių kuras"},null,null,null,null,null,null,{"$f":"IF(G338=EUconst_NA,TRUE,FALSE)","v":false}]
[2,{"$f":"B338","v":"Kuro deginimas ir kaip proceso žaliava naudojamas kuras"},"Degimas",{"$f":"Translations!$B$348","v":"Kitas dujinis ir skystasis kuras"},{"$f":"Translations!$B$141","v":"Kuro kiekis [t] arba [Nm3]"},{"$f":"$F$338","v":"Degimas"},2,{"$f":"Translations!$B$344","v":"± 7,5%"},{"$f":"Translations!$B$345","v":"± 5,0%"},null,null,{"$f":"Translations!$B$346","v":"± 2,5%"},{"$f":"Translations!$B$347","v":"± 1,5%"},4,{"$f":"C339 & \": \" &D339","v":"Degimas: Kitas dujinis ir skystasis kuras"},null,"ActivityData_Degimas: Kitas dujinis ir skystasis kuras",null,null,null,null,null,null,false]
[3,"Kuro deginimas ir kaip proceso žaliava naudojamas kuras","Degimas",{"$f":"Translations!$B$349","v":"Kietasis kuras"},{"$f":"Translations!$B$350","v":"Kuro kiekis [t]"},{"$f":"$F$338","v":"Degimas"},1,{"$f":"Translations!$B$344","v":"± 7,5%"},{"$f":"Translations!$B$345","v":"± 5,0%"},null,null,{"$f":"Translations!$B$346","v":"± 2,5%"},{"$f":"Translations!$B$347","v":"± 1,5%"},4,{"$f":"C340 & \": \" &D340","v":"Degimas: Kietasis kuras"},null,"ActivityData_Degimas: Kietasis kuras",null,null,null,null,null,null,false]
[4,"Kuro deginimas ir kaip proceso žaliava naudojamas kuras",{"$f":"C340","v":"Degimas"},{"$f":"Translations!$B$351","v":"Dujų perdirbimo terminalai"},{"$f":"Translations!$B$352","v":"Kiekviena žaliava ir išeigos medžiaga [t]"},{"$f":"EUconst_MassBalance","v":"Masės balansas"},1,{"$f":"Translations!$B$344","v":"± 7,5%"},{"$f":"Translations!$B$345","v":"± 5,0%"},null,null,{"$f":"Translations!$B$346","v":"± 2,5%"},{"$f":"Translations!$B$347","v":"± 1,5%"},4,{"$f":"C341 & \": \" &D341","v":"Degimas: Dujų perdirbimo terminalai"},null,{"$f":"EUconst_CNTR_ActivityData&O341","v":"ActivityData_Degimas: Dujų perdirbimo terminalai"},null,null,null,null,null,null,false]
[5,{"$f":"B340","v":"Kuro deginimas ir kaip proceso žaliava naudojamas kuras"},{"$f":"C340","v":"Degimas"},{"$f":"Translations!$B$353","v":"Fakelai"},{"$f":"Translations!$B$354","v":"Fakelo dujų kiekis [Nm3]"},{"$f":"$F$338","v":"Degimas"},1,{"$f":"Translations!$B$355","v":"± 17,5%"},{"$f":"Translations!$B$356","v":"± 12,5%"},null,null,{"$f":"Translations!$B$344","v":"± 7,5%"},null,3,"Degimas: Fakelai",null,"ActivityData_Degimas: Fakelai",null,null,null,null,null,null,false]
[6,"Kuro deginimas ir kaip proceso žaliava naudojamas kuras","Degimas",{"$f":"Translations!$B$357","v":"Dujų plovimas (karbonatai)"},{"$f":"Translations!$B$358","v":"Sunaudotų karbonatų kiekis [t]"},{"$f":"EUconst_ProcessCarbonate","v":"Proceso metu išsiskiriančios ŠESD"},1,{"$f":"Translations!$B$344","v":"± 7,5%"},null,null,null,null,null,1,"Degimas: Dujų plovimas (karbonatai)",null,"ActivityData_Degimas: Dujų plovimas (karbonatai)",null,null,null,null,null,null,false]
[7,"Kuro deginimas ir kaip proceso žaliava naudojamas kuras","Degimas",{"$f":"Translations!$B$359","v":"Dujų plovimas (gipsas)"},{"$f":"Translations!$B$360","v":"Pagaminto gipso kiekis [t]"},{"$f":"$F$343","v":"Proceso metu išsiskiriančios ŠESD"},1,{"$f":"Translations!$B$344","v":"± 7,5%"},null,null,null,null,null,1,"Degimas: Dujų plovimas (gipsas)",null,"ActivityData_Degimas: Dujų plovimas (gipsas)",null,null,null,null,null,null,false]
[8,{"$f":"Translations!$B$241","v":"Naftos perdirbimas "},{"$f":"Translations!$B$361","v":"Naftos perdirbimo įrenginiai"},{"$f":"Translations!$B$362","v":"Masės balansas"},{"$f":"Translations!$B$352","v":"Kiekviena žaliava ir išeigos medžiaga [t]"},{"$f":"EUconst_MassBalance","v":"Masės balansas"},1,{"$f":"Translations!$B$344","v":"± 7,5%"},{"$f":"Translations!$B$345","v":"± 5,0%"},null,null,{"$f":"Translations!$B$346","v":"± 2,5%"},{"$f":"Translations!$B$347","v":"± 1,5%"},4,"Naftos perdirbimo įrenginiai: Masės balansas",null,"ActivityData_Naftos perdirbimo įrenginiai: Masės balansas",null,null,null,null,null,null,false]
[9,{"$f":"Translations!$B$241","v":"Naftos perdirbimas "},{"$f":"C345","v":"Naftos perdirbimo įrenginiai"},{"$f":"Translations!$B$363","v":"Regeneravimas katalizinio krekingo įrenginiu"},{"$f":"Translations!$B$364","v":"Neapibrėžties reikalavimai taikomi atskirai kiekvienam taršos šaltiniui"},{"$f":"EUconst_MassBalance","v":"Masės balansas"},1,{"$f":"Translations!$B$907","v":"± 10,0 % (t CO2)"},{"$f":"Translations!$B$908","v":"± 7,5 % (t CO2)"},null,null,{"$f":"Translations!$B$909","v":"± 5,0 % (t CO2)"},{"$f":"Translations!$B$910","v":"± 2,5 % (t CO2)"},4,"Naftos perdirbimo įrenginiai: Regeneravimas katalizinio krekingo įrenginiu",null,"ActivityData_Naftos perdirbimo įrenginiai: Regeneravimas katalizinio krekingo įrenginiu",null,null,null,null,null,null,false]
[10,{"$f":"B346","v":"Naftos perdirbimas "},{"$f":"C346","v":"Naftos perdirbimo įrenginiai"},{"$f":"Translations!$B$365","v":"Vandenilio gamyba"},{"$f":"Translations!$B$366","v":"Angliavandenilių žaliava [t]"},{"$f":"$F$343","v":"Proceso metu išsiskiriančios ŠESD"},1,{"$f":"Translations!$B$344","v":"± 7,5%"},{"$f":"Translations!$B$346","v":"± 2,5%"},null,null,null,null,2,"Naftos perdirbimo įrenginiai: Vandenilio gamyba",null,"ActivityData_Naftos perdirbimo įrenginiai: Vandenilio gamyba",null,null,null,null,null,null,false]
[11,{"$f":"Translations!$B$242","v":"Kokso gamyba"},{"$f":"Translations!$B$367","v":"Koksas"},{"$f":"Translations!$B$368","v":"Kuras kaip proceso žaliava"},{"$f":"Translations!$B$141","v":"Kuro kiekis [t] arba [Nm3]"},{"$f":"EUconst_Fuel","v":"Degimas"},1,{"$f":"Translations!$B$344","v":"± 7,5%"},{"$f":"Translations!$B$345","v":"± 5,0%"},null,null,{"$f":"Translations!$B$346","v":"± 2,5%"},{"$f":"Translations!$B$347","v":"± 1,5%"},4,"Koksas: Kuras kaip proceso žaliava",null,"ActivityData_Koksas: Kuras kaip proceso žaliava",null,null,null,null,null,null,false]
[12,{"$f":"B348","v":"Kokso gamyba"},"Koksas",{"$f":"Translations!$B$369","v":"Karbonatų sąnaudos (A metodas)"},{"$f":"Translations!$B$370","v":"Karbonatų sąnaudų medžiaga [t]"},{"$f":"EUconst_ProcessCarbonate","v":"Proceso metu išsiskiriančios ŠESD"},1,{"$f":"Translations!$B$344","v":"± 7,5%"},{"$f":"Translations!$B$345","v":"± 5,0%"},null,null,{"$f":"Translations!$B$346","v":"± 2,5%"},null,3,"Koksas: Karbonatų sąnaudos (A metodas)",null,"ActivityData_Koksas: Karbonatų sąnaudos (A metodas)",null,null,null,null,null,null,false]
[13,"Kokso gamyba","Koksas",{"$f":"Translations!$B$371","v":"Oksido išeiga (B metodas)"},{"$f":"Translations!$B$372","v":"Oksido išeiga [t]"},{"$f":"EUconst_ProcessCarbonate","v":"Proceso metu išsiskiriančios ŠESD"},1,{"$f":"Translations!$B$345","v":"± 5,0%"},{"$f":"Translations!$B$346","v":"± 2,5%"},null,null,null,null,2,"Koksas: Oksido išeiga (B metodas)",null,"ActivityData_Koksas: Oksido išeiga (B metodas)",null,null,null,null,null,null,false]
[14,"Kokso gamyba","Koksas",{"$f":"Translations!$B$362","v":"Masės balansas"},{"$f":"Translations!$B$352","v":"Kiekviena žaliava ir išeigos medžiaga [t]"},{"$f":"EUconst_MassBalance","v":"Masės balansas"},1,{"$f":"Translations!$B$344","v":"± 7,5%"},{"$f":"Translations!$B$345","v":"± 5,0%"},null,null,{"$f":"Translations!$B$346","v":"± 2,5%"},{"$f":"Translations!$B$347","v":"± 1,5%"},4,"Koksas: Masės balansas",null,"ActivityData_Koksas: Masės balansas",null,null,null,null,null,null,false]
[15,{"$f":"Translations!$B$373","v":"Metalo rūdų deginimas ir kepinimas"},{"$f":"Translations!$B$374","v":"Metalų rūda"},{"$f":"Translations!$B$375","v":"Karbonatų sąnaudos"},{"$f":"Translations!$B$376","v":"Karbonatų žaliava ir proceso liekanos [t]"},{"$f":"$F$343","v":"Proceso metu išsiskiriančios ŠESD"},1,{"$f":"Translations!$B$345","v":"± 5,0%"},{"$f":"Translations!$B$346","v":"± 2,5%"},null,null,null,null,2,"Metalų rūda: Karbonatų sąnaudos",null,"ActivityData_Metalų rūda: Karbonatų sąnaudos",null,null,null,null,null,null,false]
[16,{"$f":"B352","v":"Metalo rūdų deginimas ir kepinimas"},{"$f":"C352","v":"Metalų rūda"},{"$f":"Translations!$B$362","v":"Masės balansas"},{"$f":"Translations!$B$352","v":"Kiekviena žaliava ir išeigos medžiaga [t]"},{"$f":"EUconst_MassBalance","v":"Masės balansas"},1,{"$f":"Translations!$B$344","v":"± 7,5%"},{"$f":"Translations!$B$345","v":"± 5,0%"},null,null,{"$f":"Translations!$B$346","v":"± 2,5%"},{"$f":"Translations!$B$347","v":"± 1,5%"},4,{"$f":"C353 & \": \" &D353","v":"Metalų rūda: Masės balansas"},null,"ActivityData_Metalų rūda: Masės balansas",null,null,null,null,null,null,false]
[17,{"$f":"Translations!$B$377","v":"Geležies ir plieno gamyba"},{"$f":"Translations!$B$378","v":"Geležis ir plienas"},{"$f":"Translations!$B$368","v":"Kuras kaip proceso žaliava"},{"$f":"Translations!$B$379","v":"Kiekvienas masės srautas į įrenginį ir iš jo [t]"},{"$f":"$F$338","v":"Degimas"},1,{"$f":"Translations!$B$344","v":"± 7,5%"},{"$f":"Translations!$B$345","v":"± 5,0%"},null,null,{"$f":"Translations!$B$346","v":"± 2,5%"},{"$f":"Translations!$B$347","v":"± 1,5%"},4,"Geležis ir plienas: Kuras kaip proceso žaliava",null,"ActivityData_Geležis ir plienas: Kuras kaip proceso žaliava",null,null,null,null,null,null,false]
[18,{"$f":"B354","v":"Geležies ir plieno gamyba"},{"$f":"C354","v":"Geležis ir plienas"},{"$f":"Translations!$B$375","v":"Karbonatų sąnaudos"},{"$f":"Translations!$B$370","v":"Karbonatų sąnaudų medžiaga [t]"},{"$f":"$F$343","v":"Proceso metu išsiskiriančios ŠESD"},1,{"$f":"Translations!$B$344","v":"± 7,5%"},{"$f":"Translations!$B$345","v":"± 5,0%"},null,null,{"$f":"Translations!$B$346","v":"± 2,5%"},null,3,"Geležis ir plienas: Karbonatų sąnaudos",null,"ActivityData_Geležis ir plienas: Karbonatų sąnaudos",null,null,null,null,null,null,false]
[19,{"$f":"B354","v":"Geležies ir plieno gamyba"},{"$f":"C354","v":"Geležis ir plienas"},{"$f":"Translations!$B$362","v":"Masės balansas"},{"$f":"Translations!$B$352","v":"Kiekviena žaliava ir išeigos medžiaga [t]"},{"$f":"EUconst_MassBalance","v":"Masės balansas"},1,{"$f":"Translations!$B$344","v":"± 7,5%"},{"$f":"Translations!$B$345","v":"± 5,0%"},null,null,{"$f":"Translations!$B$346","v":"± 2,5%"},{"$f":"Translations!$B$347","v":"± 1,5%"},4,"Geležis ir plienas: Masės balansas",null,"ActivityData_Geležis ir plienas: Masės balansas",null,null,null,null,null,null,false]
[20,{"$f":"Translations!$B$111","v":"Cemento klinkerio gamyba"},{"$f":"Translations!$B$380","v":"Cemento klinkeriai"},{"$f":"Translations!$B$381","v":"Grindžiamas krosnies žaliava (A metodas)"},{"$f":"Translations!$B$382","v":"Kiekvienos atitinkamos krosnies žaliava [t]"},{"$f":"$F$343","v":"Proceso metu išsiskiriančios ŠESD"},1,{"$f":"Translations!$B$344","v":"± 7,5%"},{"$f":"Translations!$B$345","v":"± 5,0%"},null,null,{"$f":"Translations!$B$346","v":"± 2,5%"},null,3,"Cemento klinkeriai: Grindžiamas krosnies žaliava (A metodas)",null,"ActivityData_Cemento klinkeriai: Grindžiamas krosnies žaliava (A metodas)",null,null,null,null,null,null,false]
[21,{"$f":"B357","v":"Cemento klinkerio gamyba"},"Cemento klinkeriai",{"$f":"Translations!$B$383","v":"Klinkerio išeiga (B metodas)"},{"$f":"Translations!$B$384","v":"Pagamintas klinkeris [t]"},"Proceso metu išsiskiriančios ŠESD",1,{"$f":"Translations!$B$345","v":"± 5,0%"},{"$f":"Translations!$B$346","v":"± 2,5%"},null,null,null,null,2,"Cemento klinkeriai: Klinkerio išeiga (B metodas)",null,"ActivityData_Cemento klinkeriai: Klinkerio išeiga (B metodas)",null,null,null,null,null,null,false]
[22,"Cemento klinkerio gamyba","Cemento klinkeriai",{"$f":"Translations!$B$385","v":"Cemento degimo krosnių dulkės"},{"$f":"Translations!$B$386","v":"Cemento degimo krosnių dulkės arba pašalinės dulkės [t]"},"Proceso metu išsiskiriančios ŠESD",1,{"$f":"EUconst_MsgTierCKD","v":"(netaik.; naudoti geriausia patirtimi grįstą apskaičiavimą)"},{"$f":"Translations!$B$344","v":"± 7,5%"},null,null,null,null,2,"Cemento klinkeriai: Cemento degimo krosnių dulkės",null,"ActivityData_Cemento klinkeriai: Cemento degimo krosnių dulkės",null,null,null,null,null,null,false]
[23,"Cemento klinkerio gamyba","Cemento klinkeriai",{"$f":"Translations!$B$387","v":"Nekarbonatinė anglis"},{"$f":"Translations!$B$388","v":"Kiekviena žaliava [t]"},"Proceso metu išsiskiriančios ŠESD",1,{"$f":"Translations!$B$389","v":"± 15,0%"},{"$f":"Translations!$B$344","v":"± 7,5%"},null,null,null,null,2,"Cemento klinkeriai: Nekarbonatinė anglis",null,"ActivityData_Cemento klinkeriai: Nekarbonatinė anglis",null,null,null,null,null,null,false]
[24,{"$f":"Translations!$B$390","v":"Kalkių gamyba ir dolomitų bei magnezitų kalcinavimas"},{"$f":"Translations!$B$391","v":"Kalkės, dolomitas, magnezitas"},{"$f":"Translations!$B$392","v":"Karbonatai (A metodas)"},{"$f":"Translations!$B$382","v":"Kiekvienos atitinkamos krosnies žaliava [t]"},"Proceso metu išsiskiriančios ŠESD",1,{"$f":"Translations!$B$344","v":"± 7,5%"},{"$f":"Translations!$B$345","v":"± 5,0%"},null,null,{"$f":"Translations!$B$346","v":"± 2,5%"},null,3,"Kalkės, dolomitas, magnezitas: Karbonatai (A metodas)",null,"ActivityData_Kalkės, dolomitas, magnezitas: Karbonatai (A metodas)",null,null,null,null,null,null,false]
[25,{"$f":"B361","v":"Kalkių gamyba ir dolomitų bei magnezitų kalcinavimas"},{"$f":"C361","v":"Kalkės, dolomitas, magnezitas"},{"$f":"Translations!$B$393","v":"Šarminių žemių metalų oksidas (B metodas)"},{"$f":"Translations!$B$394","v":"Pagamintos kalkės [t]"},"Proceso metu išsiskiriančios ŠESD",1,{"$f":"Translations!$B$345","v":"± 5,0%"},{"$f":"Translations!$B$346","v":"± 2,5%"},null,null,null,null,2,"Kalkės, dolomitas, magnezitas: Šarminių žemių metalų oksidas (B metodas)",null,"ActivityData_Kalkės, dolomitas, magnezitas: Šarminių žemių metalų oksidas (B metodas)",null,null,null,null,null,null,false]
[26,{"$f":"B362","v":"Kalkių gamyba ir dolomitų bei magnezitų kalcinavimas"},{"$f":"C362","v":"Kalkės, dolomitas, magnezitas"},{"$f":"Translations!$B$395","v":"Degimo krosnių dulkės (B metodas)"},{"$f":"Translations!$B$396","v":"Degimo krosnių dulkės [t]"},"Proceso metu išsiskiriančios ŠESD",1,{"$f":"EUconst_MsgTierCKD","v":"(netaik.; naudoti geriausia patirtimi grįstą apskaičiavimą)"},{"$f":"Translations!$B$344","v":"± 7,5%"},null,null,null,null,2,"Kalkės, dolomitas, magnezitas: Degimo krosnių dulkės (B metodas)",null,"ActivityData_Kalkės, dolomitas, magnezitas: Degimo krosnių dulkės (B metodas)",null,null,null,null,null,null,false]
[27,{"$f":"Translations!$B$397","v":"Stiklo ir mineralinės vatos gamyba"},{"$f":"Translations!$B$398","v":"Stiklas ir mineralinė vata"},{"$f":"Translations!$B$399","v":"Karbonatai (žaliava)"},{"$f":"Translations!$B$400","v":"Visos su išmetamu CO2 kiekiu susijusios karbonatinės žaliavos arba priedai [t]"},"Proceso metu išsiskiriančios ŠESD",1,{"$f":"Translations!$B$346","v":"± 2,5%"},{"$f":"Translations!$B$347","v":"± 1,5%"},null,null,null,null,2,"Stiklas ir mineralinė vata: Karbonatai (žaliava)",null,"ActivityData_Stiklas ir mineralinė vata: Karbonatai (žaliava)",null,null,null,null,null,null,false]
[28,{"$f":"Translations!$B$401","v":"Keramikos produktų gamyba"},{"$f":"Translations!$B$402","v":"Keramikos dirbiniai."},{"$f":"Translations!$B$403","v":"Anglies sąnaudos (A metodas)"},{"$f":"Translations!$B$400","v":"Visos su išmetamu CO2 kiekiu susijusios karbonatinės žaliavos arba priedai [t]"},"Proceso metu išsiskiriančios ŠESD",1,{"$f":"Translations!$B$344","v":"± 7,5%"},{"$f":"Translations!$B$345","v":"± 5,0%"},null,null,{"$f":"Translations!$B$346","v":"± 2,5%"},null,3,"Keramikos dirbiniai.: Anglies sąnaudos (A metodas)",null,"ActivityData_Keramikos dirbiniai.: Anglies sąnaudos (A metodas)",null,null,null,null,null,null,false]
[29,{"$f":"B365","v":"Keramikos produktų gamyba"},{"$f":"C365","v":"Keramikos dirbiniai."},{"$f":"Translations!$B$404","v":"Šarminių metalų oksidas (B metodas)"},{"$f":"Translations!$B$405","v":"Bendra produkcija, įskaitant iš krosnių ir tiekiant atmestus produktus ir šukes [t]"},"Proceso metu išsiskiriančios ŠESD",1,{"$f":"Translations!$B$344","v":"± 7,5%"},{"$f":"Translations!$B$345","v":"± 5,0%"},null,null,{"$f":"Translations!$B$346","v":"± 2,5%"},null,3,"Keramikos dirbiniai.: Šarminių metalų oksidas (B metodas)",null,"ActivityData_Keramikos dirbiniai.: Šarminių metalų oksidas (B metodas)",null,null,null,null,null,null,false]
[30,{"$f":"B366","v":"Keramikos produktų gamyba"},{"$f":"C366","v":"Keramikos dirbiniai."},{"$f":"Translations!$B$406","v":"Dujų plovimas"},{"$f":"Translations!$B$407","v":"Sunaudoto sauso CaCO3 kiekis [t]"},"Proceso metu išsiskiriančios ŠESD",1,{"$f":"Translations!$B$344","v":"± 7,5%"},null,null,null,null,null,1,"Keramikos dirbiniai.: Dujų plovimas",null,"ActivityData_Keramikos dirbiniai.: Dujų plovimas",null,null,null,null,null,null,false]
[31,{"$f":"Translations!$B$408","v":"Celiuliozės ir popieriaus gamyba"},{"$f":"Translations!$B$409","v":"Celiuliozė ir popierius"},{"$f":"Translations!$B$410","v":"Sudėtinės cheminės medžiagos"},{"$f":"Translations!$B$411","v":"CaCO3 ir Na2CO3 kiekis [t]"},"Proceso metu išsiskiriančios ŠESD",1,{"$f":"Translations!$B$346","v":"± 2,5%"},{"$f":"Translations!$B$347","v":"± 1,5%"},null,null,null,null,2,"Celiuliozė ir popierius: Sudėtinės cheminės medžiagos",null,"ActivityData_Celiuliozė ir popierius: Sudėtinės cheminės medžiagos",null,null,null,null,null,null,false]
[32,{"$f":"Translations!$B$256","v":"Suodžių gamyba"},{"$f":"Translations!$B$412","v":"Padengtas kartonas Suodžiai"},{"$f":"Translations!$B$413","v":"Masės balanso metodika"},{"$f":"Translations!$B$352","v":"Kiekviena žaliava ir išeigos medžiaga [t]"},{"$f":"EUconst_MassBalance","v":"Masės balansas"},1,{"$f":"Translations!$B$344","v":"± 7,5%"},{"$f":"Translations!$B$345","v":"± 5,0%"},null,null,{"$f":"Translations!$B$346","v":"± 2,5%"},{"$f":"Translations!$B$347","v":"± 1,5%"},4,"Padengtas kartonas Suodžiai: Masės balanso metodika",null,"ActivityData_Padengtas kartonas Suodžiai: Masės balanso metodika",null,null,null,null,null,null,false]
[33,{"$f":"Translations!$B$260","v":"Amoniako gamyba"},{"$f":"Translations!$B$414","v":"Amoniakas"},{"$f":"Translations!$B$368","v":"Kuras kaip proceso žaliava"},{"$f":"Translations!$B$415","v":"Kuro, naudoto kaip proceso žaliava, kiekis [t] arba [Nm3]"},{"$f":"$F$338","v":"Degimas"},2,{"$f":"Translations!$B$344","v":"± 7,5%"},{"$f":"Translations!$B$345","v":"± 5,0%"},null,null,{"$f":"Translations!$B$346","v":"± 2,5%"},{"$f":"Translations!$B$347","v":"± 1,5%"},4,"Amoniakas: Kuras kaip proceso žaliava",null,"ActivityData_Amoniakas: Kuras kaip proceso žaliava",null,null,null,null,null,null,false]
[34,{"$f":"Translations!$B$262","v":"Vandenilio ar sintezės dujų gamyba"},{"$f":"Translations!$B$416","v":"Vandenilis ir sintezės dujos"},{"$f":"Translations!$B$368","v":"Kuras kaip proceso žaliava"},{"$f":"Translations!$B$417","v":"Kuro, naudoto kaip proceso žaliava gaminant vandenilį, kiekis [t] arba [Nm3]"},{"$f":"$F$338","v":"Degimas"},2,{"$f":"Translations!$B$344","v":"± 7,5%"},{"$f":"Translations!$B$345","v":"± 5,0%"},null,null,{"$f":"Translations!$B$346","v":"± 2,5%"},{"$f":"Translations!$B$347","v":"± 1,5%"},4,"Vandenilis ir sintezės dujos: Kuras kaip proceso žaliava",null,"ActivityData_Vandenilis ir sintezės dujos: Kuras kaip proceso žaliava",null,null,null,null,null,null,false]
[35,{"$f":"B371","v":"Vandenilio ar sintezės dujų gamyba"},{"$f":"C371","v":"Vandenilis ir sintezės dujos"},{"$f":"Translations!$B$413","v":"Masės balanso metodika"},{"$f":"Translations!$B$352","v":"Kiekviena žaliava ir išeigos medžiaga [t]"},{"$f":"EUconst_MassBalance","v":"Masės balansas"},1,{"$f":"Translations!$B$344","v":"± 7,5%"},{"$f":"Translations!$B$345","v":"± 5,0%"},null,null,{"$f":"Translations!$B$346","v":"± 2,5%"},{"$f":"Translations!$B$347","v":"± 1,5%"},4,"Vandenilis ir sintezės dujos: Masės balanso metodika",null,"ActivityData_Vandenilis ir sintezės dujos: Masės balanso metodika",null,null,null,null,null,null,false]
[36,{"$f":"Translations!$B$418","v":"Biriųjų organinių cheminių medžiagų gamyba"},{"$f":"Translations!$B$419","v":"Didelio masto organinių cheminių medžiagų gamyba"},{"$f":"Translations!$B$413","v":"Masės balanso metodika"},{"$f":"Translations!$B$352","v":"Kiekviena žaliava ir išeigos medžiaga [t]"},{"$f":"EUconst_MassBalance","v":"Masės balansas"},1,{"$f":"Translations!$B$344","v":"± 7,5%"},{"$f":"Translations!$B$345","v":"± 5,0%"},null,null,{"$f":"Translations!$B$346","v":"± 2,5%"},{"$f":"Translations!$B$347","v":"± 1,5%"},4,"Didelio masto organinių cheminių medžiagų gamyba: Masės balanso metodika",null,"ActivityData_Didelio masto organinių cheminių medžiagų gamyba: Masės balanso metodika",null,null,null,null,null,null,false]
[37,{"$f":"Translations!$B$420","v":"Juodųjų ir spalvotųjų metalų, įskaitant antrinį aliuminį, gamyba ar apdirbimas"},{"$f":"Translations!$B$421","v":"(Ne)spalvotieji, antrinis aliuminis"},{"$f":"Translations!$B$422","v":"Proceso metu išsiskiriančios ŠESD"},{"$f":"Translations!$B$423","v":"Kiekviena žaliava ar proceso atliekos, naudotos kaip proceso žaliava [t]"},{"$f":"$F$343","v":"Proceso metu išsiskiriančios ŠESD"},1,{"$f":"Translations!$B$345","v":"± 5,0%"},{"$f":"Translations!$B$346","v":"± 2,5%"},null,null,null,null,2,"(Ne)spalvotieji, antrinis aliuminis: Proceso metu išsiskiriančios ŠESD",null,"ActivityData_(Ne)spalvotieji, antrinis aliuminis: Proceso metu išsiskiriančios ŠESD",null,null,null,null,null,null,false]
[38,{"$f":"B374","v":"Juodųjų ir spalvotųjų metalų, įskaitant antrinį aliuminį, gamyba ar apdirbimas"},{"$f":"C374","v":"(Ne)spalvotieji, antrinis aliuminis"},{"$f":"Translations!$B$413","v":"Masės balanso metodika"},{"$f":"Translations!$B$352","v":"Kiekviena žaliava ir išeigos medžiaga [t]"},{"$f":"EUconst_MassBalance","v":"Masės balansas"},1,{"$f":"Translations!$B$344","v":"± 7,5%"},{"$f":"Translations!$B$345","v":"± 5,0%"},null,null,{"$f":"Translations!$B$346","v":"± 2,5%"},{"$f":"Translations!$B$347","v":"± 1,5%"},4,"(Ne)spalvotieji, antrinis aliuminis: Masės balanso metodika",null,"ActivityData_(Ne)spalvotieji, antrinis aliuminis: Masės balanso metodika",null,null,null,null,null,null,false]
[39,{"$f":"Translations!$B$263","v":"Natrio karbonato ir natrio hidrokarbonato gamyba"},{"$f":"Translations!$B$424","v":"Natrio karbonatas / natrio hidrokarbonatas"},{"$f":"Translations!$B$413","v":"Masės balanso metodika"},{"$f":"Translations!$B$352","v":"Kiekviena žaliava ir išeigos medžiaga [t]"},{"$f":"EUconst_MassBalance","v":"Masės balansas"},1,{"$f":"Translations!$B$344","v":"± 7,5%"},{"$f":"Translations!$B$345","v":"± 5,0%"},null,null,{"$f":"Translations!$B$346","v":"± 2,5%"},{"$f":"Translations!$B$347","v":"± 1,5%"},4,"Natrio karbonatas / natrio hidrokarbonatas: Masės balanso metodika",null,"ActivityData_Natrio karbonatas / natrio hidrokarbonatas: Masės balanso metodika",null,null,null,null,null,null,false]
[40,{"$f":"Translations!$B$425","v":"Pirminio aliuminio gamyba"},{"$f":"Translations!$B$426","v":"Pirminis aliuminis"},{"$f":"Translations!$B$413","v":"Masės balanso metodika"},{"$f":"Translations!$B$352","v":"Kiekviena žaliava ir išeigos medžiaga [t]"},{"$f":"EUconst_MassBalance","v":"Masės balansas"},1,{"$f":"Translations!$B$344","v":"± 7,5%"},{"$f":"Translations!$B$345","v":"± 5,0%"},null,null,{"$f":"Translations!$B$346","v":"± 2,5%"},{"$f":"Translations!$B$347","v":"± 1,5%"},4,"Pirminis aliuminis: Masės balanso metodika",null,"ActivityData_Pirminis aliuminis: Masės balanso metodika",null,null,null,null,null,null,false]
[41,{"$f":"B377","v":"Pirminio aliuminio gamyba"},{"$f":"C377","v":"Pirminis aliuminis"},{"$f":"Translations!$B$427","v":"Išmetamas PFC kiekis (nuolydžio metodas)"},{"$f":"Translations!$B$428","v":"Pirminio aliuminio gamyba [t], anodinio efekto trukmė [anodinių efektų skaičius / vonios diena] ir [anodinių efektų trukmė / atvejis]"},{"$f":"EUconst_ProcessPFC","v":"Išmetamas PFC kiekis"},1,{"$f":"Translations!$B$346","v":"± 2,5%"},{"$f":"Translations!$B$347","v":"± 1,5%"},null,null,null,null,2,"Pirminis aliuminis: Išmetamas PFC kiekis (nuolydžio metodas)",null,"ActivityData_Pirminis aliuminis: Išmetamas PFC kiekis (nuolydžio metodas)",null,null,null,null,null,null,false]
[42,{"$f":"B378","v":"Pirminio aliuminio gamyba"},{"$f":"C378","v":"Pirminis aliuminis"},{"$f":"Translations!$B$429","v":"Išmetamas PFC kiekis (viršįtampio metodas)"},{"$f":"Translations!$B$430","v":"pirminio aliuminio gamyba [t], anodinio efekto viršįtampis [mV] ir srovės išnaudojimo koeficientas [-]"},{"$f":"EUconst_ProcessPFC","v":"Išmetamas PFC kiekis"},1,{"$f":"Translations!$B$346","v":"± 2,5%"},{"$f":"Translations!$B$347","v":"± 1,5%"},null,null,null,null,2,"Pirminis aliuminis: Išmetamas PFC kiekis (viršįtampio metodas)",null,"ActivityData_Pirminis aliuminis: Išmetamas PFC kiekis (viršįtampio metodas)",null,null,null,null,null,null,false]
[null,null,null,null,null,null,null,null,null,null,null,null,null,null,null,null,null,null,null,null,null,null,null,false]
[null,"Carbonate decomp Method A",null,null,null,null,null,null,null,null,null,null,null,null,null,null,null,null,null,null,null,null,null,false]
[null,"Carbonate decomp Method B",null,null,null,null,null,null,null,null,null,null,null,null,null,null,null,null,null,null,null,null,null,false]
[null,{"$f":"Translations!$B$431","v":"masių balansas"},null,null,null,null,null,null,null,null,null,null,null,null,null,null,null,null,null,null,null,null,null,false]
[null,null,null,null,null,null,null,null,null,null,null,null,null,null,null,null,null,null,null,null,null,null,null,false]
[null,{"$f":"Translations!$B$432","v":"Išmetamųjų teršalų faktorius"},null,null,null,{"$f":"F337","v":"Šaltinio tipas"},{"$f":"Translations!$B$338","v":"Mažiausiai"},1,2,"2a",{"$f":"Translations!$B$306","v":"2b"},3,null,{"$f":"Translations!$B$339","v":"Didžiausia"},null,null,null,null,null,null,null,null,null,null,null,null,null,null,null,null,null,null,null,null,{"$f":"Translations!$B$433","v":"numatytoji vertė?"},1,2,"2a",{"$f":"Translations!$B$306","v":"2b"},3]
[{"$f":"A338","v":1},{"$f":"B338","v":"Kuro deginimas ir kaip proceso žaliava naudojamas kuras"},{"$f":"C338","v":"Degimas"},"Komercinis standartinių rūšių kuras",null,"Degimas","2a/2b",{"$f":"Translations!$B$653","v":"I tipas"},null,{"$f":"Translations!$B$654","v":"II tipas"},{"$f":"Translations!$B$911","v":"Pakaitinės vertės"},{"$f":"Translations!$B$912","v":"Laboratoriniai tyrimai"},null,{"$f":"G386","v":"2a/2b"},{"$f":"C386 & \": \" &D386","v":"Degimas: Komercinis standartinių rūšių kuras"},null,{"$f":"EUconst_CNTR_EF&O386","v":"EF_Degimas: Komercinis standartinių rūšių kuras"},null,null,null,null,null,null,false,null,"2a/2b",{"$f":"Translations!$B$434","v":"veiklos vykdytojas taiko vieną iš šių dalykų:\na) VI priedo 1 skirsnyje išvardytus standartinius faktorius;\nb) kitas pastovias vertes pagal 31 str. 1 dalies d ar e punktą, jeigu VI priedo 1 skirsnyje nenurodyta jokia taikytina vertė."},null,{"$f":"Translations!$B$435","v":"2a pakopa: Veiklos vykdytojas atitinkamam kurui ar medžiagai taiko atitinkamos šalies išmetamųjų teršalų faktorius pagal 31 str. 1 dalies b ir c punktus."},{"$f":"Translations!$B$436","v":"2b pakopa: Kuro išmetamųjų teršalų faktorius veiklos vykdytojas nustato remdamasis \nvienu iš toliau pateiktų nustatytų pakaitinių matų ir empirine koreliacija,\nnustatoma bent kartą per metus pagal 32–35 ir 39 straipsnius:"},{"$f":"Translations!$B$437","v":"Veiklos vykdytojas išmetamųjų teršalų faktorių nustato pagal atitinkamas \n32–35 straipsnių nuostatas."},null,{"$f":"Z386","v":"2a/2b"},null,null,1,null,1,{"$f":"Translations!$B$911","v":"Pakaitinės vertės"},2]
[{"$f":"A339","v":2},"Kuro deginimas ir kaip proceso žaliava naudojamas kuras","Degimas","Kitas dujinis ir skystasis kuras",null,"Degimas","2a/2b",{"$f":"H$386","v":"I tipas"},null,"II tipas","Pakaitinės vertės",{"$f":"L$386","v":"Laboratoriniai tyrimai"},null,{"$f":"IF(G387=EUconst_NA,EUconst_NA,IF(ISBLANK(J387),COUNTA(H387:M387),COUNTA(H387,J387,L387)))","v":3},"Degimas: Kitas dujinis ir skystasis kuras",null,"EF_Degimas: Kitas dujinis ir skystasis kuras",null,null,null,null,null,null,false,null,"2a/2b",{"$f":"AA$386","v":"veiklos vykdytojas taiko vieną iš šių dalykų:\na) VI priedo 1 skirsnyje išvardytus standartinius faktorius;\nb) kitas pastovias vertes pagal 31 str. 1 dalies d ar e punktą, jeigu VI priedo 1 skirsnyje nenurodyta jokia taikytina vertė."},null,"2a pakopa: Veiklos vykdytojas atitinkamam kurui ar medžiagai taiko atitinkamos šalies išmetamųjų teršalų faktorius pagal 31 str. 1 dalies b ir c punktus.","2b pakopa: Kuro išmetamųjų teršalų faktorius veiklos vykdytojas nustato remdamasis \nvienu iš toliau pateiktų nustatytų pakaitinių matų ir empirine koreliacija,\nnustatoma bent kartą per metus pagal 32–35 ir 39 straipsnius:",{"$f":"AE$386","v":"Veiklos vykdytojas išmetamųjų teršalų faktorių nustato pagal atitinkamas \n32–35 straipsnių nuostatas."},null,{"$f":"IF(Z387=EUconst_NA,EUconst_NA,IF(ISBLANK(AC387),COUNTA(AA387:AF387),COUNTA(AA387,AC387,AE387)))","v":3},null,null,{"$f":"AJ$386","v":1},null,1,"Pakaitinės vertės",{"$f":"AN$386","v":2}]
[3,"Kuro deginimas ir kaip proceso žaliava naudojamas kuras","Degimas","Kietasis kuras",null,"Degimas","2a/2b",{"$f":"H$386","v":"I tipas"},null,"II tipas","Pakaitinės vertės",{"$f":"L$386","v":"Laboratoriniai tyrimai"},null,3,"Degimas: Kietasis kuras",null,"EF_Degimas: Kietasis kuras",null,null,null,null,null,null,false,null,"2a/2b","veiklos vykdytojas taiko vieną iš šių dalykų:\na) VI priedo 1 skirsnyje išvardytus standartinius faktorius;\nb) kitas pastovias vertes pagal 31 str. 1 dalies d ar e punktą, jeigu VI priedo 1 skirsnyje nenurodyta jokia taikytina vertė.",null,"2a pakopa: Veiklos vykdytojas atitinkamam kurui ar medžiagai taiko atitinkamos šalies išmetamųjų teršalų faktorius pagal 31 str. 1 dalies b ir c punktus.","2b pakopa: Kuro išmetamųjų teršalų faktorius veiklos vykdytojas nustato remdamasis \nvienu iš toliau pateiktų nustatytų pakaitinių matų ir empirine koreliacija,\nnustatoma bent kartą per metus pagal 32–35 ir 39 straipsnius:",{"$f":"AE$386","v":"Veiklos vykdytojas išmetamųjų teršalų faktorių nustato pagal atitinkamas \n32–35 straipsnių nuostatas."},null,3,null,null,{"$f":"AJ$386","v":1},null,1,"Pakaitinės vertės",{"$f":"AN$386","v":2}]
[4,"Kuro deginimas ir kaip proceso žaliava naudojamas kuras","Degimas","Dujų perdirbimo terminalai",null,"Masės balansas",{"$f":"EUconst_NA","v":"netaik."},null,null,null,null,null,null,"netaik.","Degimas: Dujų perdirbimo terminalai",null,"EF_Degimas: Dujų perdirbimo terminalai",null,null,null,null,null,null,true,null,{"$f":"EUconst_NA","v":"netaik."},null,null,null,null,null,null,"netaik."]
[5,"Kuro deginimas ir kaip proceso žaliava naudojamas kuras","Degimas","Fakelai",null,"Degimas",1,{"$f":"Translations!$B$438","v":"0,00393 t CO2/Nm3"},null,{"$f":"J$386","v":"II tipas"},{"$f":"Translations!$B$913","v":"Specialieji koeficientai"},{"$f":"L$386","v":"Laboratoriniai tyrimai"},null,3,"Degimas: Fakelai",null,"EF_Degimas: Fakelai",null,null,null,null,null,null,false,null,1,{"$f":"Translations!$B$439","v":"Veiklos vykdytojas naudoja pamatinį išmetamųjų teršalų faktorių 0,00393 t CO2/Nm3, išvestą pagal sudegusio gryno etano kiekį, naudojamą kaip pakaitinį konservatyviai nustatytą fakelo dujų matą."},null,{"$f":"AC$386","v":"2a pakopa: Veiklos vykdytojas atitinkamam kurui ar medžiagai taiko atitinkamos šalies išmetamųjų teršalų faktorius pagal 31 str. 1 dalies b ir c punktus."},{"$f":"Translations!$B$440","v":"2b pakopa: Konkrečiam įrenginiui skirti išmetamųjų teršalų faktoriai gaunami įvertinus fakelo \nsrauto molekulinę masę modeliuojant procesą pagal standartinius pramonės modelius.  Įvertinant atitinkamas kiekvieno iš sudėtinių srautų santykines dalis ir molekulinę masę \ngaunama fakelo dujų masės svertinio metinio vidurkio vertė."},{"$f":"AE$386","v":"Veiklos vykdytojas išmetamųjų teršalų faktorių nustato pagal atitinkamas \n32–35 straipsnių nuostatas."},null,3,null,null,1,null,{"$f":"AL$386","v":1},{"$f":"Translations!$B$913","v":"Specialieji koeficientai"},{"$f":"AN$386","v":2}]
[6,"Kuro deginimas ir kaip proceso žaliava naudojamas kuras","Degimas","Dujų plovimas (karbonatai)",null,"Proceso metu išsiskiriančios ŠESD",1,{"$f":"Translations!$B$914","v":"I tipas ir geriausioji patirtis"},null,null,null,null,null,1,"Degimas: Dujų plovimas (karbonatai)",null,"EF_Degimas: Dujų plovimas (karbonatai)",null,null,null,null,null,null,false,null,1,{"$f":"Translations!$B$442","v":"Išmetamųjų teršalų faktorius nustatomas remiantis VI priedo 2 skirsnyje nustatytais \nstechiometriniais koeficientais. Atitinkamoje žaliavoje esančio CaCO3 ir MgCO3 kiekis \nnustatomas pagal sektoriaus geriausios patirties gaires."},null,null,null,null,null,1,null,null,{"$f":"Translations!$B$914","v":"I tipas ir geriausioji patirtis"}]
[7,"Kuro deginimas ir kaip proceso žaliava naudojamas kuras","Degimas","Dujų plovimas (gipsas)",null,"Proceso metu išsiskiriančios ŠESD",1,{"$f":"Translations!$B$915","v":"0,2558 t CO2/t"},null,null,null,null,null,1,"Degimas: Dujų plovimas (gipsas)",null,"EF_Degimas: Dujų plovimas (gipsas)",null,null,null,null,null,null,false,null,1,{"$f":"Translations!$B$443","v":"Išmetamųjų teršalų faktorius yra sauso gipso (CaSO4.2H2O) ir išmesto CO2 stechiometrinis koeficientas – 0,2558 t CO2/t gipso."},null,null,null,null,null,1,null,null,1]
[8,"Naftos perdirbimas ","Naftos perdirbimo įrenginiai","Masės balansas",null,"Masės balansas",{"$f":"EUconst_NA","v":"netaik."},null,null,null,null,null,null,"netaik.","Naftos perdirbimo įrenginiai: Masės balansas",null,"EF_Naftos perdirbimo įrenginiai: Masės balansas",null,null,null,null,null,null,true,null,{"$f":"EUconst_NA","v":"netaik."},null,null,null,null,null,null,"netaik."]
[9,"Naftos perdirbimas ","Naftos perdirbimo įrenginiai","Regeneravimas katalizinio krekingo įrenginiu",null,"Masės balansas",{"$f":"EUconst_NA","v":"netaik."},null,null,null,null,null,null,"netaik.","Naftos perdirbimo įrenginiai: Regeneravimas katalizinio krekingo įrenginiu",null,"EF_Naftos perdirbimo įrenginiai: Regeneravimas katalizinio krekingo įrenginiu",null,null,null,null,null,null,true,null,{"$f":"EUconst_NA","v":"netaik."},null,null,null,null,null,null,"netaik."]
[10,"Naftos perdirbimas ","Naftos perdirbimo įrenginiai","Vandenilio gamyba",null,"Proceso metu išsiskiriančios ŠESD",1,{"$f":"Translations!$B$916","v":"2,9 t CO2/t"},{"$f":"Translations!$B$912","v":"Laboratoriniai tyrimai"},null,null,null,null,2,"Naftos perdirbimo įrenginiai: Vandenilio gamyba",null,"EF_Naftos perdirbimo įrenginiai: Vandenilio gamyba",null,null,null,null,null,null,false,null,1,{"$f":"Translations!$B$444","v":"Veiklos vykdytojas tonai perdirbtos žaliavos taiko etaloninę atsargią 2,9 t CO2 vertę,\ngrindžiamą etanu."},{"$f":"Translations!$B$445","v":"Veiklos vykdytojas naudoja su konkrečia veikla susijusį išmetamųjų teršalų faktorių,\napskaičiuotą atsižvelgiant į anglies kiekį žaliavinėse dujose, nustatomą pagal 32–35 str."},null,null,null,null,2,null,null,1,2]
[11,"Kokso gamyba","Koksas","Kuras kaip proceso žaliava",null,"Degimas","2a/2b",{"$f":"H$386","v":"I tipas"},null,{"$f":"J$386","v":"II tipas"},{"$f":"K$386","v":"Pakaitinės vertės"},{"$f":"L$386","v":"Laboratoriniai tyrimai"},null,3,"Koksas: Kuras kaip proceso žaliava",null,"EF_Koksas: Kuras kaip proceso žaliava",null,null,null,null,null,null,false,null,"2a/2b",{"$f":"AA$386","v":"veiklos vykdytojas taiko vieną iš šių dalykų:\na) VI priedo 1 skirsnyje išvardytus standartinius faktorius;\nb) kitas pastovias vertes pagal 31 str. 1 dalies d ar e punktą, jeigu VI priedo 1 skirsnyje nenurodyta jokia taikytina vertė."},null,{"$f":"AC$386","v":"2a pakopa: Veiklos vykdytojas atitinkamam kurui ar medžiagai taiko atitinkamos šalies išmetamųjų teršalų faktorius pagal 31 str. 1 dalies b ir c punktus."},{"$f":"AD$386","v":"2b pakopa: Kuro išmetamųjų teršalų faktorius veiklos vykdytojas nustato remdamasis \nvienu iš toliau pateiktų nustatytų pakaitinių matų ir empirine koreliacija,\nnustatoma bent kartą per metus pagal 32–35 ir 39 straipsnius:"},{"$f":"AE$386","v":"Veiklos vykdytojas išmetamųjų teršalų faktorių nustato pagal atitinkamas \n32–35 straipsnių nuostatas."},null,3,null,null,{"$f":"AJ$386","v":1},null,{"$f":"AL$386","v":1},{"$f":"AM$386","v":"Pakaitinės vertės"},{"$f":"AN$386","v":2}]
[12,"Kokso gamyba","Koksas","Karbonatų sąnaudos (A metodas)",null,"Proceso metu išsiskiriančios ŠESD",1,{"$f":"H$429","v":"Laboratoriniai ir stechiometriniai"},null,null,null,null,null,1,"Koksas: Karbonatų sąnaudos (A metodas)",null,"EF_Koksas: Karbonatų sąnaudos (A metodas)",null,null,null,null,null,null,false,null,1,{"$f":"AA$429","v":"Atitinkamų karbonatų kiekis kiekvienoje atitinkamoje žaliavoje nustatomas pagal 32–35 str. Sudėties duomenims perskaičiuoti į išmetamųjų teršalų faktorius taikomi VI priedo \n2 skirsnyje pateikti stechiometriniai koeficientai."},null,null,null,null,null,1,null,null,{"$f":"AJ$429","v":2}]
[13,"Kokso gamyba","Koksas","Oksido išeiga (B metodas)",null,"Proceso metu išsiskiriančios ŠESD",1,{"$f":"H430","v":"I tipas"},{"$f":"I430","v":"II tipas"},null,null,{"$f":"L$386","v":"Laboratoriniai tyrimai"},null,3,"Koksas: Oksido išeiga (B metodas)",null,"EF_Koksas: Oksido išeiga (B metodas)",null,null,null,null,null,null,false,null,1,{"$f":"AA430","v":"Veiklos vykdytojas taiko standartinius VI priedo 2 skirsnio 3 lentelėje išvardytus faktorius."},{"$f":"AB430","v":"Veiklos vykdytojas atitinkamos šalies išmetamųjų teršalų faktorių taiko pagal 31 str. \n1 dalies b arba c punktą."},null,null,null,null,2,null,null,{"$f":"AJ430","v":1},{"$f":"AK430","v":2},null,null,2]
[14,"Kokso gamyba","Koksas","Masės balansas",null,"Masės balansas",{"$f":"EUconst_NA","v":"netaik."},null,null,null,null,null,null,"netaik.","Koksas: Masės balansas",null,"EF_Koksas: Masės balansas",null,null,null,null,null,null,true,null,{"$f":"EUconst_NA","v":"netaik."},null,null,null,null,null,null,"netaik."]
[15,"Metalo rūdų deginimas ir kepinimas","Metalų rūda","Karbonatų sąnaudos",null,"Proceso metu išsiskiriančios ŠESD",1,{"$f":"H$429","v":"Laboratoriniai ir stechiometriniai"},null,null,null,null,null,1,"Metalų rūda: Karbonatų sąnaudos",null,"EF_Metalų rūda: Karbonatų sąnaudos",null,null,null,null,null,null,false,null,1,{"$f":"AA$429","v":"Atitinkamų karbonatų kiekis kiekvienoje atitinkamoje žaliavoje nustatomas pagal 32–35 str. Sudėties duomenims perskaičiuoti į išmetamųjų teršalų faktorius taikomi VI priedo \n2 skirsnyje pateikti stechiometriniai koeficientai."},null,null,null,null,null,1,null,null,{"$f":"AJ$429","v":2}]
[16,"Metalo rūdų deginimas ir kepinimas","Metalų rūda","Masės balansas",null,"Masės balansas",{"$f":"EUconst_NA","v":"netaik."},null," ",null,null,null,null,"netaik.","Metalų rūda: Masės balansas",null,"EF_Metalų rūda: Masės balansas",null,null,null,null,null,null,true,null,{"$f":"EUconst_NA","v":"netaik."},null," ",null,null,null,null,"netaik.",null,null,null," "]
[17,"Geležies ir plieno gamyba","Geležis ir plienas","Kuras kaip proceso žaliava",null,"Degimas",2,{"$f":"H$386","v":"I tipas"},null,{"$f":"J$386","v":"II tipas"},{"$f":"K$386","v":"Pakaitinės vertės"},{"$f":"L$386","v":"Laboratoriniai tyrimai"},null,3,"Geležis ir plienas: Kuras kaip proceso žaliava",null,"EF_Geležis ir plienas: Kuras kaip proceso žaliava",null,null,null,null,null,null,{"$f":"IF(G402=EUconst_NA,TRUE,FALSE)","v":false},null,2,{"$f":"AA$386","v":"veiklos vykdytojas taiko vieną iš šių dalykų:\na) VI priedo 1 skirsnyje išvardytus standartinius faktorius;\nb) kitas pastovias vertes pagal 31 str. 1 dalies d ar e punktą, jeigu VI priedo 1 skirsnyje nenurodyta jokia taikytina vertė."},null,{"$f":"AC$386","v":"2a pakopa: Veiklos vykdytojas atitinkamam kurui ar medžiagai taiko atitinkamos šalies išmetamųjų teršalų faktorius pagal 31 str. 1 dalies b ir c punktus."},{"$f":"AD$386","v":"2b pakopa: Kuro išmetamųjų teršalų faktorius veiklos vykdytojas nustato remdamasis \nvienu iš toliau pateiktų nustatytų pakaitinių matų ir empirine koreliacija,\nnustatoma bent kartą per metus pagal 32–35 ir 39 straipsnius:"},{"$f":"AE$386","v":"Veiklos vykdytojas išmetamųjų teršalų faktorių nustato pagal atitinkamas \n32–35 straipsnių nuostatas."},null,3,null,null,{"$f":"AJ$386","v":1},null,{"$f":"AL$386","v":1},{"$f":"AM$386","v":"Pakaitinės vertės"},{"$f":"AN$386","v":2}]
[18,"Geležies ir plieno gamyba","Geležis ir plienas","Karbonatų sąnaudos",null,"Proceso metu išsiskiriančios ŠESD",1,{"$f":"H$429","v":"Laboratoriniai ir stechiometriniai"},null,null,null,null,null,1,"Geležis ir plienas: Karbonatų sąnaudos",null,"EF_Geležis ir plienas: Karbonatų sąnaudos",null,null,null,null,null,null,false,null,1,{"$f":"AA$429","v":"Atitinkamų karbonatų kiekis kiekvienoje atitinkamoje žaliavoje nustatomas pagal 32–35 str. Sudėties duomenims perskaičiuoti į išmetamųjų teršalų faktorius taikomi VI priedo \n2 skirsnyje pateikti stechiometriniai koeficientai."},null,null,null,null,null,1,null,null,{"$f":"AJ$429","v":2}]
[19,"Geležies ir plieno gamyba","Geležis ir plienas","Masės balansas",null,"Masės balansas",{"$f":"EUconst_NA","v":"netaik."},null,null,null,null,null,null,"netaik.","Geležis ir plienas: Masės balansas",null,"EF_Geležis ir plienas: Masės balansas",null,null,null,null,null,null,true,null,{"$f":"EUconst_NA","v":"netaik."},null,null,null,null,null,null,"netaik."]
[20,"Cemento klinkerio gamyba","Cemento klinkeriai","Grindžiamas krosnies žaliava (A metodas)",null,"Proceso metu išsiskiriančios ŠESD",1,{"$f":"H$429","v":"Laboratoriniai ir stechiometriniai"},null,null,null,null,null,1,"Cemento klinkeriai: Grindžiamas krosnies žaliava (A metodas)",null,"EF_Cemento klinkeriai: Grindžiamas krosnies žaliava (A metodas)",null,null,null,null,null,null,false,null,1,{"$f":"AA$386","v":"veiklos vykdytojas taiko vieną iš šių dalykų:\na) VI priedo 1 skirsnyje išvardytus standartinius faktorius;\nb) kitas pastovias vertes pagal 31 str. 1 dalies d ar e punktą, jeigu VI priedo 1 skirsnyje nenurodyta jokia taikytina vertė."},null,null,null,null,null,1,null,null,2]
[21,{"$f":"B358","v":"Cemento klinkerio gamyba"},"Cemento klinkeriai","Klinkerio išeiga (B metodas)",null,"Proceso metu išsiskiriančios ŠESD",1,{"$f":"Translations!$B$446","v":"0,525 t CO2/t klinkerio."},{"$f":"$I$430","v":"II tipas"},null,null,{"$f":"L$430","v":"Laboratoriniai ir stechiometriniai"},null,3,"Cemento klinkeriai: Klinkerio išeiga (B metodas)",null,"EF_Cemento klinkeriai: Klinkerio išeiga (B metodas)",null,null,null,null,null,null,false,null,1,{"$f":"Translations!$B$447","v":"Veiklos vykdytojas taiko 0,525 t CO2/t klinkerio išmetamųjų teršalų faktorių."},{"$f":"$I$430","v":"II tipas"},null,null,{"$f":"Translations!$B$448","v":"Atitinkamų metalo oksidų, susidarančių yrant produkte esantiems karbonatams, kiekis\nnustatomas pagal 32–35 str. Sudėties duomenis perskaičiuojant į išmetamųjų teršalų faktorius naudojami VI priedo 2 skirsnio 3 lentelėje nurodyti stechiometriniai koeficientai,\ndarant prielaidą, kad visi atitinkami metalų oksidai buvo gauti iš atitinkamų karbonatų."},null,3,null,null,1,{"$f":"$AK$430","v":2},null,null,2]
[22,"Cemento klinkerio gamyba","Cemento klinkeriai","Cemento degimo krosnių dulkės",null,"Proceso metu išsiskiriančios ŠESD",1,{"$f":"Translations!$B$449","v":"0,525 t CO2/t gipso."},{"$f":"Translations!$B$912","v":"Laboratoriniai tyrimai"},null,null,null,null,2,"Cemento klinkeriai: Cemento degimo krosnių dulkės",null,"EF_Cemento klinkeriai: Cemento degimo krosnių dulkės",null,null,null,null,null,null,false,null,1,{"$f":"Translations!$B$450","v":"Veiklos vykdytojas taiko 0,525 t CO2 / t dulkių išmetamųjų teršalų faktorių."},{"$f":"Translations!$B$451","v":"Veiklos vykdytojas bent kartą per metus nustato išmetamųjų teršalų faktorių (ITF) \npagal 32–35 str. ir naudoja šią formulę:"},null,null,null,null,2,null,null,1,2]
[23,"Cemento klinkerio gamyba","Cemento klinkeriai","Nekarbonatinė anglis",null,"Proceso metu išsiskiriančios ŠESD",1,{"$f":"Translations!$B$452","v":"Geriausia praktika"},{"$f":"Translations!$B$912","v":"Laboratoriniai tyrimai"},null,null,null,null,2,"Cemento klinkeriai: Nekarbonatinė anglis",null,"EF_Cemento klinkeriai: Nekarbonatinė anglis",null,null,null,null,null,null,false,null,1,{"$f":"Translations!$B$453","v":"Nekarbonatinės anglies kiekis atitinkamoje žaliavoje įvertinamas pagal\npramonės geriausios praktikos gaires."},{"$f":"Translations!$B$454","v":"Nekarbonatinės anglies kiekis atitinkamoje žaliavoje įvertinamas ne rečiau nei \nkartą per metus pagal 32–35 str."},null,null,{"$f":"Translations!$B$448","v":"Atitinkamų metalo oksidų, susidarančių yrant produkte esantiems karbonatams, kiekis\nnustatomas pagal 32–35 str. Sudėties duomenis perskaičiuojant į išmetamųjų teršalų faktorius naudojami VI priedo 2 skirsnio 3 lentelėje nurodyti stechiometriniai koeficientai,\ndarant prielaidą, kad visi atitinkami metalų oksidai buvo gauti iš atitinkamų karbonatų."},null,3,null,null,{"$f":"Translations!$B$452","v":"Geriausia praktika"},2]
[24,"Kalkių gamyba ir dolomitų bei magnezitų kalcinavimas","Kalkės, dolomitas, magnezitas","Karbonatai (A metodas)",null,"Proceso metu išsiskiriančios ŠESD",1,{"$f":"H$429","v":"Laboratoriniai ir stechiometriniai"},null,null,null,null,null,1,"Kalkės, dolomitas, magnezitas: Karbonatai (A metodas)",null,"EF_Kalkės, dolomitas, magnezitas: Karbonatai (A metodas)",null,null,null,null,null,null,false,null,1,{"$f":"Translations!$B$455","v":"Atitinkamų karbonatų kiekis kiekvienoje atitinkamoje žaliavoje nustatomas pagal 32–35 str. Sudėties duomenims perskaičiuoti į išmetamųjų teršalų faktorius taikomi VI priedo 2 skirsnyje pateikti stechiometriniai koeficientai. "},null,null,null,null,null,1,null,null,{"$f":"AJ$429","v":2}]
[25,"Kalkių gamyba ir dolomitų bei magnezitų kalcinavimas","Kalkės, dolomitas, magnezitas","Šarminių žemių metalų oksidas (B metodas)",null,"Proceso metu išsiskiriančios ŠESD",1,{"$f":"H$430","v":"I tipas"},{"$f":"I$430","v":"II tipas"},null,null,{"$f":"L$430","v":"Laboratoriniai ir stechiometriniai"},null,3,"Kalkės, dolomitas, magnezitas: Šarminių žemių metalų oksidas (B metodas)",null,"EF_Kalkės, dolomitas, magnezitas: Šarminių žemių metalų oksidas (B metodas)",null,null,null,null,null,null,false,null,1,{"$f":"Translations!$B$456","v":"Veiklos vykdytojas taiko standartinius VI priedo 2 skirsnio 3 lentelėje išvardytus faktorius."},{"$f":"Translations!$B$457","v":"Veiklos vykdytojas atitinkamos šalies išmetamųjų teršalų faktorių taiko pagal 31 str. \n1 dalies b arba c punktą."},null,null,{"$f":"Translations!$B$448","v":"Atitinkamų metalo oksidų, susidarančių yrant produkte esantiems karbonatams, kiekis\nnustatomas pagal 32–35 str. Sudėties duomenis perskaičiuojant į išmetamųjų teršalų faktorius naudojami VI priedo 2 skirsnio 3 lentelėje nurodyti stechiometriniai koeficientai,\ndarant prielaidą, kad visi atitinkami metalų oksidai buvo gauti iš atitinkamų karbonatų."},null,3,null,null,{"$f":"AJ$430","v":1},{"$f":"AK$430","v":2},null,null,2]
[26,"Kalkių gamyba ir dolomitų bei magnezitų kalcinavimas","Kalkės, dolomitas, magnezitas","Degimo krosnių dulkės (B metodas)",null,"Proceso metu išsiskiriančios ŠESD",1,{"$f":"H$430","v":"I tipas"},{"$f":"I$430","v":"II tipas"},null,null,{"$f":"L$430","v":"Laboratoriniai ir stechiometriniai"},null,3,"Kalkės, dolomitas, magnezitas: Degimo krosnių dulkės (B metodas)",null,"EF_Kalkės, dolomitas, magnezitas: Degimo krosnių dulkės (B metodas)",null,null,null,null,null,null,false,null,{"$f":"EUconst_NA","v":"netaik."},null,null,null,null,null,null,"netaik.",null,null,null,null,null,null,2]
[27,"Stiklo ir mineralinės vatos gamyba","Stiklas ir mineralinė vata","Karbonatai (žaliava)",null,"Proceso metu išsiskiriančios ŠESD",1,{"$f":"Translations!$B$914","v":"I tipas ir geriausioji patirtis"},{"$f":"Translations!$B$912","v":"Laboratoriniai tyrimai"},null,null,null,null,2,"Stiklas ir mineralinė vata: Karbonatai (žaliava)",null,"EF_Stiklas ir mineralinė vata: Karbonatai (žaliava)",null,null,null,null,null,null,false,null,1,{"$f":"Translations!$B$458","v":"Taikomi VI priedo 2 skirsnyje išvardyti stechiometriniai koeficientai. \nAtitinkamų sunaudojamų žaliavų grynumas nustatomas pagal geriausią sektoriaus praktiką."},{"$f":"Translations!$B$459","v":"Atitinkamų karbonatų kiekis kiekvienoje atitinkamoje žaliavoje nustatomas pagal 32–35 str."},null,null,null,null,2,null,null,{"$f":"Translations!$B$914","v":"I tipas ir geriausioji patirtis"},2]
[28,"Keramikos produktų gamyba","Keramikos dirbiniai.","Anglies sąnaudos (A metodas)",null,"Proceso metu išsiskiriančios ŠESD",1,{"$f":"Translations!$B$917","v":"0,08794 t CO2/t"},{"$f":"Translations!$B$452","v":"Geriausia praktika"},null,null,{"$f":"L$386","v":"Laboratoriniai tyrimai"},null,3,"Keramikos dirbiniai.: Anglies sąnaudos (A metodas)",null,"EF_Keramikos dirbiniai.: Anglies sąnaudos (A metodas)",null,null,null,null,null,null,false,null,1,{"$f":"Translations!$B$460","v":"Apskaičiuojant išmetamųjų teršalų faktorių vietoje tyrimų rezultatų taikoma 0,2 \ntonos CaCO3 konservatyvi vertė (atitinkanti 0,08794 tonos CO2) sauso molio tonai."},{"$f":"Translations!$B$461","v":"Kiekvieno sukėliklio išmetamųjų teršalų faktorius nustatomas ir atnaujinamas bent kartą per \nmetus šiuo tikslu naudojant sektoriaus geriausią patirtį, atitinkančią konkrečias vietos sąlygas\nir įrenginyje naudojamą produktų mišinį."},null,null,null,null,2,null,null,1,{"$f":"Translations!$B$452","v":"Geriausia praktika"},null,null,2]
[29,"Keramikos produktų gamyba","Keramikos dirbiniai.","Šarminių metalų oksidas (B metodas)",null,"Proceso metu išsiskiriančios ŠESD",1,{"$f":"Translations!$B$918","v":"0,09642 t CO2/t"},{"$f":"Translations!$B$452","v":"Geriausia praktika"},null,null,{"$f":"L$386","v":"Laboratoriniai tyrimai"},null,3,"Keramikos dirbiniai.: Šarminių metalų oksidas (B metodas)",null,"EF_Keramikos dirbiniai.: Šarminių metalų oksidas (B metodas)",null,null,null,null,null,null,false,null,1,{"$f":"Translations!$B$456","v":"Veiklos vykdytojas taiko standartinius VI priedo 2 skirsnio 3 lentelėje išvardytus faktorius."},{"$f":"Translations!$B$457","v":"Veiklos vykdytojas atitinkamos šalies išmetamųjų teršalų faktorių taiko pagal 31 str. \n1 dalies b arba c punktą."},null,null,{"$f":"Translations!$B$448","v":"Atitinkamų metalo oksidų, susidarančių yrant produkte esantiems karbonatams, kiekis\nnustatomas pagal 32–35 str. Sudėties duomenis perskaičiuojant į išmetamųjų teršalų faktorius naudojami VI priedo 2 skirsnio 3 lentelėje nurodyti stechiometriniai koeficientai,\ndarant prielaidą, kad visi atitinkami metalų oksidai buvo gauti iš atitinkamų karbonatų."},null,3,null,null,1,{"$f":"Translations!$B$452","v":"Geriausia praktika"},null,null,2]
[30,"Keramikos produktų gamyba","Keramikos dirbiniai.","Dujų plovimas",null,"Proceso metu išsiskiriančios ŠESD",1,{"$f":"Translations!$B$653","v":"I tipas"},null,null,null,null,null,1,"Keramikos dirbiniai.: Dujų plovimas",null,"EF_Keramikos dirbiniai.: Dujų plovimas",null,null,null,null,null,null,false,null,1,{"$f":"Translations!$B$462","v":"Veiklos vykdytojas taiko CaCO3 stechiometrinį koeficientą, kaip nurodyta VI priedo \n2 skirsnyje."},null,null,null,null,null,1,null,null,1]
[31,"Celiuliozės ir popieriaus gamyba","Celiuliozė ir popierius","Sudėtinės cheminės medžiagos",null,"Proceso metu išsiskiriančios ŠESD",1,{"$f":"Translations!$B$441","v":"I tipo nustatytoji vertė ir geriausia patirtis"},{"$f":"Translations!$B$912","v":"Laboratoriniai tyrimai"},null,null,null,null,2,"Celiuliozė ir popierius: Sudėtinės cheminės medžiagos",null,"EF_Celiuliozė ir popierius: Sudėtinės cheminės medžiagos",null,null,null,null,null,null,false,null,1,{"$f":"Translations!$B$463","v":"Taikomi VI priedo 2 skirsnyje išvardyti stechiometriniai koeficientai. \nAtitinkamų sunaudojamų žaliavų grynumas nustatomas pagal geriausią sektoriaus praktiką. Gautos vertės perskaičiuojamos pagal naudojamų karbonatinių \nmedžiagų drėgnumą ir uolienų priemaišų kiekį."},{"$f":"Translations!$B$459","v":"Atitinkamų karbonatų kiekis kiekvienoje atitinkamoje žaliavoje nustatomas pagal 32–35 str."},null,null,null,null,2,null,null,{"$f":"Translations!$B$441","v":"I tipo nustatytoji vertė ir geriausia patirtis"},2]
[32,"Suodžių gamyba","Padengtas kartonas Suodžiai","Masės balanso metodika",null,"Masės balansas",{"$f":"EUconst_NA","v":"netaik."},null,null,null,null,null,null,"netaik.","Padengtas kartonas Suodžiai: Masės balanso metodika",null,"EF_Padengtas kartonas Suodžiai: Masės balanso metodika",null,null,null,null,null,null,true,null,{"$f":"EUconst_NA","v":"netaik."},null,null,null,null,null,null,"netaik."]
[33,"Amoniako gamyba","Amoniakas","Kuras kaip proceso žaliava",null,"Degimas","2a/2b",{"$f":"H$386","v":"I tipas"},null,{"$f":"J$386","v":"II tipas"},"Pakaitinės vertės",{"$f":"L$386","v":"Laboratoriniai tyrimai"},null,3,"Amoniakas: Kuras kaip proceso žaliava",null,"EF_Amoniakas: Kuras kaip proceso žaliava",null,null,null,null,null,null,false,null,"2a/2b",{"$f":"AA$386","v":"veiklos vykdytojas taiko vieną iš šių dalykų:\na) VI priedo 1 skirsnyje išvardytus standartinius faktorius;\nb) kitas pastovias vertes pagal 31 str. 1 dalies d ar e punktą, jeigu VI priedo 1 skirsnyje nenurodyta jokia taikytina vertė."},null,{"$f":"AC$386","v":"2a pakopa: Veiklos vykdytojas atitinkamam kurui ar medžiagai taiko atitinkamos šalies išmetamųjų teršalų faktorius pagal 31 str. 1 dalies b ir c punktus."},"2b pakopa: Kuro išmetamųjų teršalų faktorius veiklos vykdytojas nustato remdamasis \nvienu iš toliau pateiktų nustatytų pakaitinių matų ir empirine koreliacija,\nnustatoma bent kartą per metus pagal 32–35 ir 39 straipsnius:","Veiklos vykdytojas išmetamųjų teršalų faktorių nustato pagal atitinkamas \n32–35 straipsnių nuostatas.",null,3,null,null,{"$f":"AJ$386","v":1},null,{"$f":"AL$386","v":1},"Pakaitinės vertės",2]
[34,"Vandenilio ar sintezės dujų gamyba","Vandenilis ir sintezės dujos","Kuras kaip proceso žaliava",null,"Degimas","2a/2b",{"$f":"H$386","v":"I tipas"},null,"II tipas","Pakaitinės vertės","Laboratoriniai tyrimai",null,3,"Vandenilis ir sintezės dujos: Kuras kaip proceso žaliava",null,"EF_Vandenilis ir sintezės dujos: Kuras kaip proceso žaliava",null,null,null,null,null,null,false,null,"2a/2b",{"$f":"AA$386","v":"veiklos vykdytojas taiko vieną iš šių dalykų:\na) VI priedo 1 skirsnyje išvardytus standartinius faktorius;\nb) kitas pastovias vertes pagal 31 str. 1 dalies d ar e punktą, jeigu VI priedo 1 skirsnyje nenurodyta jokia taikytina vertė."},null,"2a pakopa: Veiklos vykdytojas atitinkamam kurui ar medžiagai taiko atitinkamos šalies išmetamųjų teršalų faktorius pagal 31 str. 1 dalies b ir c punktus.","2b pakopa: Kuro išmetamųjų teršalų faktorius veiklos vykdytojas nustato remdamasis \nvienu iš toliau pateiktų nustatytų pakaitinių matų ir empirine koreliacija,\nnustatoma bent kartą per metus pagal 32–35 ir 39 straipsnius:","Veiklos vykdytojas išmetamųjų teršalų faktorių nustato pagal atitinkamas \n32–35 straipsnių nuostatas.",null,3,null,null,{"$f":"AJ$386","v":1},null,1,"Pakaitinės vertės",2]
[35,"Vandenilio ar sintezės dujų gamyba","Vandenilis ir sintezės dujos","Masės balanso metodika",null,"Masės balansas",{"$f":"EUconst_NA","v":"netaik."},null,null,null,null,null,null,"netaik.","Vandenilis ir sintezės dujos: Masės balanso metodika",null,"EF_Vandenilis ir sintezės dujos: Masės balanso metodika",null,null,null,null,null,null,true,null,{"$f":"EUconst_NA","v":"netaik."},null,null,null,null,null,null,"netaik."]
[36,"Biriųjų organinių cheminių medžiagų gamyba","Didelio masto organinių cheminių medžiagų gamyba","Masės balanso metodika",null,"Masės balansas",{"$f":"EUconst_NA","v":"netaik."},null,null,null,null,null,null,"netaik.","Didelio masto organinių cheminių medžiagų gamyba: Masės balanso metodika",null,"EF_Didelio masto organinių cheminių medžiagų gamyba: Masės balanso metodika",null,null,null,null,null,null,true,null,{"$f":"EUconst_NA","v":"netaik."},null,null,null,null,null,null,"netaik."]
[37,"Juodųjų ir spalvotųjų metalų, įskaitant antrinį aliuminį, gamyba ar apdirbimas","(Ne)spalvotieji, antrinis aliuminis","Proceso metu išsiskiriančios ŠESD",null,"Proceso metu išsiskiriančios ŠESD",1,{"$f":"$H$429","v":"Laboratoriniai ir stechiometriniai"},null,null,null,null,null,1,"(Ne)spalvotieji, antrinis aliuminis: Proceso metu išsiskiriančios ŠESD",null,"EF_(Ne)spalvotieji, antrinis aliuminis: Proceso metu išsiskiriančios ŠESD",null,null,null,null,null,null,false,null,1,{"$f":"AA$386","v":"veiklos vykdytojas taiko vieną iš šių dalykų:\na) VI priedo 1 skirsnyje išvardytus standartinius faktorius;\nb) kitas pastovias vertes pagal 31 str. 1 dalies d ar e punktą, jeigu VI priedo 1 skirsnyje nenurodyta jokia taikytina vertė."},null,null,null,null,null,1,null,null,{"$f":"AJ$386","v":1}]
[38,"Juodųjų ir spalvotųjų metalų, įskaitant antrinį aliuminį, gamyba ar apdirbimas","(Ne)spalvotieji, antrinis aliuminis","Masės balanso metodika",null,"Masės balansas",{"$f":"EUconst_NA","v":"netaik."},null,null,null,null,null,null,"netaik.","(Ne)spalvotieji, antrinis aliuminis: Masės balanso metodika",null,"EF_(Ne)spalvotieji, antrinis aliuminis: Masės balanso metodika",null,null,null,null,null,null,true,null,{"$f":"EUconst_NA","v":"netaik."},null,null,null,null,null,null,"netaik."]
[39,"Natrio karbonato ir natrio hidrokarbonato gamyba","Natrio karbonatas / natrio hidrokarbonatas","Masės balanso metodika",null,"Masės balansas",{"$f":"EUconst_NA","v":"netaik."},null,null,null,null,null,null,"netaik.","Natrio karbonatas / natrio hidrokarbonatas: Masės balanso metodika",null,"EF_Natrio karbonatas / natrio hidrokarbonatas: Masės balanso metodika",null,null,null,null,null,null,true,null,{"$f":"EUconst_NA","v":"netaik."},null,null,null,null,null,null,"netaik."]
[40,"Pirminio aliuminio gamyba","Pirminis aliuminis","Masės balanso metodika",null,"Masės balansas",{"$f":"EUconst_NA","v":"netaik."},null,null,null,null,null,null,"netaik.","Pirminis aliuminis: Masės balanso metodika",null,"EF_Pirminis aliuminis: Masės balanso metodika",null,null,null,null,null,null,true,null,{"$f":"EUconst_NA","v":"netaik."},null,null,null,null,null,null,"netaik."]
[41,{"$f":"B378","v":"Pirminio aliuminio gamyba"},"Pirminis aliuminis","Išmetamas PFC kiekis (nuolydžio metodas)",null,"Išmetamas PFC kiekis",1,{"$f":"H$386","v":"I tipas"},{"$f":"Translations!$B$744","v":"Konkretus ITF"},null,null,null,null,2,"Pirminis aliuminis: Išmetamas PFC kiekis (nuolydžio metodas)",null,"EF_Pirminis aliuminis: Išmetamas PFC kiekis (nuolydžio metodas)",null,null,null,null,null,null,false,null,1,{"$f":"Translations!$B$464","v":"Veiklos vykdytojas taiko IV priedo 8 skirsnio 1 lentelėje nustatytus konkrečių technologijų \nišmetamųjų teršalų faktorius."},{"$f":"Translations!$B$465","v":"Veiklos vykdytojas naudoja konkrečių įrenginių CF4 ir C2F6 išmetamųjų teršalų faktorius, kurie nustatyti atliekant nuolatinius arba pertraukiamus matavimus. Nustatydamas šiuos išmetamųjų teršalų faktorius veiklos vykdytojas naudojasi naujausia 2006 m. TKKK gairių 4.4.2.4. skirsnio 3 pakopai skirtoje dalyje nurodytų rekomendacijų versija. Kiekvieną išmetamųjų teršalų\nfaktorių veiklos vykdytojas nustato su ne didesne kaip ± 15 % neapibrėžtimi."},null,null,null,null,2,null,null,1,2]
[42,"Pirminio aliuminio gamyba","Pirminis aliuminis","Išmetamas PFC kiekis (viršįtampio metodas)",null,"Išmetamas PFC kiekis",1,{"$f":"H$386","v":"I tipas"},{"$f":"I426","v":"Konkretus ITF"},null,null,null,null,2,"Pirminis aliuminis: Išmetamas PFC kiekis (viršįtampio metodas)",null,"EF_Pirminis aliuminis: Išmetamas PFC kiekis (viršįtampio metodas)",null,null,null,null,null,null,false,null,1,{"$f":"Translations!$B$919","v":"Veiklos vykdytojas privalo taikyti konkrečiai technologijai nustatytus išmetamųjų teršalų faktorius, pateiktus IV priedo 8 skirsnio 2 lentelėje."},{"$f":"Translations!$B$466","v":"Veiklos vykdytojas naudoja nuolatiniu arba pertraukiamu matavimu nustatytus konkrečių\nįrenginių CF4 [(kg CF4/t Al) / (mV)] ir C2F6 [t C2F6/t CF4] išmetamųjų teršalų faktorius. Nustatydamas šiuos išmetamųjų teršalų faktorius veiklos vykdytojas naudojasi \nnaujausia 2006 m. TKKK gairių 4.4.2.4. skirsnio 3 pakopai skirtoje dalyje nurodytų\nrekomendacijų versija. Veiklos vykdytojas kiekvieną išmetamųjų teršalų faktorių nustato su ne didesne kaip ± 15 % neapibrėžtimi."},null,null,null,null,2,null,null,1,2]
[null,null,null,null,null,null,null,null,null,null,null,null,null,null,null,null,null,null,null,null,null,null,null,false]
[null,"Carbonate decomp Method A",null,null,null,null,null,{"$f":"Translations!$B$920","v":"Laboratoriniai ir stechiometriniai"},null,null,null,null,null,null,null,null,null,null,null,null,null,null,null,false,null,null,{"$f":"Translations!$B$467","v":"Atitinkamų karbonatų kiekis kiekvienoje atitinkamoje žaliavoje nustatomas pagal 32–35 str. Sudėties duomenims perskaičiuoti į išmetamųjų teršalų faktorius taikomi VI priedo \n2 skirsnyje pateikti stechiometriniai koeficientai."},null,null,null,null,null,null,null,null,2]
[null,"Carbonate decomp Method B",null,null,null,null,null,{"$f":"Translations!$B$653","v":"I tipas"},{"$f":"Translations!$B$654","v":"II tipas"},null,null,{"$f":"Translations!$B$920","v":"Laboratoriniai ir stechiometriniai"},null,null,null,null,null,null,null,null,null,null,null,false,null,null,{"$f":"Translations!$B$456","v":"Veiklos vykdytojas taiko standartinius VI priedo 2 skirsnio 3 lentelėje išvardytus faktorius."},{"$f":"Translations!$B$457","v":"Veiklos vykdytojas atitinkamos šalies išmetamųjų teršalų faktorių taiko pagal 31 str. \n1 dalies b arba c punktą."},{"$f":"Translations!$B$448","v":"Atitinkamų metalo oksidų, susidarančių yrant produkte esantiems karbonatams, kiekis\nnustatomas pagal 32–35 str. Sudėties duomenis perskaičiuojant į išmetamųjų teršalų faktorius naudojami VI priedo 2 skirsnio 3 lentelėje nurodyti stechiometriniai koeficientai,\ndarant prielaidą, kad visi atitinkami metalų oksidai buvo gauti iš atitinkamų karbonatų."},null,null,null,null,null,null,1,2,null,null,2]
[null,{"$f":"Translations!$B$431","v":"masių balansas"},null,null,null,null,null,{"$f":"EUconst_NA","v":"netaik."},{"$f":"EUconst_NA","v":"netaik."},null,null,{"$f":"EUconst_NA","v":"netaik."},null,null,null,null,null,null,null,null,null,null,null,false,null,null,{"$f":"EUconst_NA","v":"netaik."},{"$f":"EUconst_NA","v":"netaik."},null,null,{"$f":"EUconst_NA","v":"netaik."},null,null,null,null,{"$f":"EUconst_NA","v":"netaik."},{"$f":"EUconst_NA","v":"netaik."},null,null,{"$f":"EUconst_NA","v":"netaik."}]
[null,null,null,null,null,null,null,null,null,null,null,null,null,null,null,null,null,null,null,null,null,null,null,false]
[null,{"$f":"Translations!$B$468","v":"GŠV"},null,null,null,{"$f":"F385","v":"Šaltinio tipas"},{"$f":"Translations!$B$338","v":"Mažiausiai"},1,2,"2a",{"$f":"Translations!$B$306","v":"2b"},3,null,{"$f":"Translations!$B$339","v":"Didžiausia"},null,null,null,null,null,null,null,null,null,null,null,{"$f":"Translations!$B$338","v":"Mažiausiai"},1,2,"2a",{"$f":"Translations!$B$306","v":"2b"},3,null,{"$f":"Translations!$B$339","v":"Didžiausia"},null,{"$f":"Translations!$B$433","v":"numatytoji vertė?"},1,2,"2a",{"$f":"Translations!$B$306","v":"2b"},3]
[{"$f":"A386","v":1},{"$f":"B386","v":"Kuro deginimas ir kaip proceso žaliava naudojamas kuras"},"Degimas","Komercinis standartinių rūšių kuras",null,{"$f":"F386","v":"Degimas"},"2a/2b",{"$f":"Translations!$B$653","v":"I tipas"},null,{"$f":"Translations!$B$654","v":"II tipas"},{"$f":"Translations!$B$658","v":"Pirkimo dokumentai"},{"$f":"Translations!$B$912","v":"Laboratoriniai tyrimai"},null,{"$f":"G434","v":"2a/2b"},{"$f":"C434 & \": \" &D434","v":"Degimas: Komercinis standartinių rūšių kuras"},null,{"$f":"EUconst_CNTR_NCV&O434","v":"NCV_Degimas: Komercinis standartinių rūšių kuras"},null,null,null,null,null,null,false,null,"2a/2b",{"$f":"Translations!$B$434","v":"veiklos vykdytojas taiko vieną iš šių dalykų:\na) VI priedo 1 skirsnyje išvardytus standartinius faktorius;\nb) kitas pastovias vertes pagal 31 str. 1 dalies d ar e punktą, jeigu VI priedo 1 skirsnyje nenurodyta jokia taikytina vertė."},null,{"$f":"Translations!$B$469","v":"2a pakopa: Veiklos vykdytojas atitinkamam kurui taiko atitinkamos šalies išmetamųjų teršalų faktorius \npagal 31 str. 1 dalies b arba c punktą."},{"$f":"Translations!$B$470","v":"2b pakopa: Komercinio kuro grynojo šilumingumo vertė turi būti atitinkamo kuro pirkimo \ndokumentuose kuro tiekėjo nurodyta vertė, jei ji nustatyta remiantis pripažintais nacionaliniais\nar tarptautiniais standartais."},{"$f":"Translations!$B$471","v":"Veiklos vykdytojas grynojo šilumingumo vertę nustato pagal 32–35 str."},null,{"$f":"Z434","v":"2a/2b"},null,null,1,null,1,1,2]
[{"$f":"A387","v":2},"Kuro deginimas ir kaip proceso žaliava naudojamas kuras","Degimas","Kitas dujinis ir skystasis kuras",null,{"$f":"F387","v":"Degimas"},"2a/2b",{"$f":"H$434","v":"I tipas"},null,{"$f":"J$434","v":"II tipas"},{"$f":"Translations!$B$658","v":"Pirkimo dokumentai"},"Laboratoriniai tyrimai",null,{"$f":"IF(G435=EUconst_NA,EUconst_NA,IF(ISBLANK(J435),COUNTA(H435:M435),COUNTA(H435,J435,L435)))","v":3},"Degimas: Kitas dujinis ir skystasis kuras",null,"NCV_Degimas: Kitas dujinis ir skystasis kuras",null,null,null,null,null,null,false,null,"2a/2b",{"$f":"AA$434","v":"veiklos vykdytojas taiko vieną iš šių dalykų:\na) VI priedo 1 skirsnyje išvardytus standartinius faktorius;\nb) kitas pastovias vertes pagal 31 str. 1 dalies d ar e punktą, jeigu VI priedo 1 skirsnyje nenurodyta jokia taikytina vertė."},null,{"$f":"AC$434","v":"2a pakopa: Veiklos vykdytojas atitinkamam kurui taiko atitinkamos šalies išmetamųjų teršalų faktorius \npagal 31 str. 1 dalies b arba c punktą."},null,"Veiklos vykdytojas grynojo šilumingumo vertę nustato pagal 32–35 str.",null,{"$f":"IF(Z435=EUconst_NA,EUconst_NA,IF(ISBLANK(AC435),COUNTA(AA435:AF435),COUNTA(AA435,AC435,AE435)))","v":3},null,null,{"$f":"AJ$434","v":1},null,{"$f":"AL$434","v":1},1,2]
[3,"Kuro deginimas ir kaip proceso žaliava naudojamas kuras","Degimas","Kietasis kuras",null,"Degimas","2a/2b",{"$f":"H$434","v":"I tipas"},null,"II tipas",{"$f":"Translations!$B$658","v":"Pirkimo dokumentai"},"Laboratoriniai tyrimai",null,3,"Degimas: Kietasis kuras",null,"NCV_Degimas: Kietasis kuras",null,null,null,null,null,null,false,null,"2a/2b",{"$f":"AA$434","v":"veiklos vykdytojas taiko vieną iš šių dalykų:\na) VI priedo 1 skirsnyje išvardytus standartinius faktorius;\nb) kitas pastovias vertes pagal 31 str. 1 dalies d ar e punktą, jeigu VI priedo 1 skirsnyje nenurodyta jokia taikytina vertė."},null,"2a pakopa: Veiklos vykdytojas atitinkamam kurui taiko atitinkamos šalies išmetamųjų teršalų faktorius \npagal 31 str. 1 dalies b arba c punktą.",null,"Veiklos vykdytojas grynojo šilumingumo vertę nustato pagal 32–35 str.",null,3,null,null,{"$f":"AJ$434","v":1},null,1,1,2]
[4,"Kuro deginimas ir kaip proceso žaliava naudojamas kuras","Degimas","Dujų perdirbimo terminalai",null,"Masės balansas",null,{"$f":"H$479","v":"I tipas"},null,{"$f":"J$479","v":"II tipas"},{"$f":"Translations!$B$658","v":"Pirkimo dokumentai"},{"$f":"L$479","v":"Laboratoriniai tyrimai"},null,3,"Degimas: Dujų perdirbimo terminalai",null,"NCV_Degimas: Dujų perdirbimo terminalai",null,null,null,null,null,null,false,null,1,{"$f":"AA$479","v":"veiklos vykdytojas taiko vieną iš šių dalykų:\na) VI priedo 1 skirsnyje išvardytus standartinius faktorius;\nb) kitas pastovias vertes pagal 31 str. 1 dalies d ar e punktą, jeigu VI priedo 1 skirsnyje nenurodyta jokia taikytina vertė."},null,{"$f":"AC$479","v":"2a pakopa: Veiklos vykdytojas atitinkamam kurui taiko atitinkamos šalies išmetamųjų teršalų faktorius \npagal 31 str. 1 dalies b arba c punktą."},null,{"$f":"AE$479","v":"Veiklos vykdytojas grynojo šilumingumo vertę nustato pagal 32–35 str."},null,3,null,null,{"$f":"AJ$479","v":1},null,{"$f":"AL$479","v":1},1,{"$f":"AN$479","v":2}]
[5,"Kuro deginimas ir kaip proceso žaliava naudojamas kuras","Degimas","Fakelai",null,"Degimas",{"$f":"\"\"","v":""},{"$f":"H$434","v":"I tipas"},null,"II tipas",{"$f":"Translations!$B$658","v":"Pirkimo dokumentai"},"Laboratoriniai tyrimai",null,3,"Degimas: Fakelai",null,"NCV_Degimas: Fakelai",null,null,null,null,null,null,false,null,{"$f":"\"\"","v":""},{"$f":"AA$434","v":"veiklos vykdytojas taiko vieną iš šių dalykų:\na) VI priedo 1 skirsnyje išvardytus standartinius faktorius;\nb) kitas pastovias vertes pagal 31 str. 1 dalies d ar e punktą, jeigu VI priedo 1 skirsnyje nenurodyta jokia taikytina vertė."},null,"2a pakopa: Veiklos vykdytojas atitinkamam kurui taiko atitinkamos šalies išmetamųjų teršalų faktorius \npagal 31 str. 1 dalies b arba c punktą.",null,"Veiklos vykdytojas grynojo šilumingumo vertę nustato pagal 32–35 str.",null,3,null,null,{"$f":"AJ$434","v":1},null,1,1,2]
[6,"Kuro deginimas ir kaip proceso žaliava naudojamas kuras","Degimas","Dujų plovimas (karbonatai)",null,"Proceso metu išsiskiriančios ŠESD",{"$f":"EUconst_NA","v":"netaik."},null,null,null,null,null,null,"netaik.","Degimas: Dujų plovimas (karbonatai)",null,"NCV_Degimas: Dujų plovimas (karbonatai)",null,null,null,null,null,null,true,null,{"$f":"EUconst_NA","v":"netaik."},null,null,null,null,null,null,"netaik."]
[7,"Kuro deginimas ir kaip proceso žaliava naudojamas kuras","Degimas","Dujų plovimas (gipsas)",null,"Proceso metu išsiskiriančios ŠESD","netaik.",null,null,null,null,null,null,"netaik.","Degimas: Dujų plovimas (gipsas)",null,"NCV_Degimas: Dujų plovimas (gipsas)",null,null,null,null,null,null,true,null,"netaik.",null,null,null,null,null,null,"netaik."]
[8,"Naftos perdirbimas ","Naftos perdirbimo įrenginiai","Masės balansas",null,"Masės balansas",{"$f":"\"\"","v":""},{"$f":"H$479","v":"I tipas"},null,{"$f":"J$479","v":"II tipas"},{"$f":"Translations!$B$658","v":"Pirkimo dokumentai"},"Laboratoriniai tyrimai",null,3,"Naftos perdirbimo įrenginiai: Masės balansas",null,"NCV_Naftos perdirbimo įrenginiai: Masės balansas",null,null,null,null,null,null,false,null,{"$f":"\"\"","v":""},{"$f":"AA$479","v":"veiklos vykdytojas taiko vieną iš šių dalykų:\na) VI priedo 1 skirsnyje išvardytus standartinius faktorius;\nb) kitas pastovias vertes pagal 31 str. 1 dalies d ar e punktą, jeigu VI priedo 1 skirsnyje nenurodyta jokia taikytina vertė."},null,{"$f":"AC$479","v":"2a pakopa: Veiklos vykdytojas atitinkamam kurui taiko atitinkamos šalies išmetamųjų teršalų faktorius \npagal 31 str. 1 dalies b arba c punktą."},null,"Veiklos vykdytojas grynojo šilumingumo vertę nustato pagal 32–35 str.",null,3,null,null,{"$f":"AJ$479","v":1},null,{"$f":"AL$479","v":1},1,2]
[9,"Naftos perdirbimas ","Naftos perdirbimo įrenginiai","Regeneravimas katalizinio krekingo įrenginiu",null,"Masės balansas",{"$f":"\"\"","v":""},{"$f":"H$479","v":"I tipas"},null,"II tipas",{"$f":"Translations!$B$658","v":"Pirkimo dokumentai"},"Laboratoriniai tyrimai",null,3,"Naftos perdirbimo įrenginiai: Regeneravimas katalizinio krekingo įrenginiu",null,"NCV_Naftos perdirbimo įrenginiai: Regeneravimas katalizinio krekingo įrenginiu",null,null,null,null,null,null,false,null,{"$f":"\"\"","v":""},{"$f":"AA$479","v":"veiklos vykdytojas taiko vieną iš šių dalykų:\na) VI priedo 1 skirsnyje išvardytus standartinius faktorius;\nb) kitas pastovias vertes pagal 31 str. 1 dalies d ar e punktą, jeigu VI priedo 1 skirsnyje nenurodyta jokia taikytina vertė."},null,"2a pakopa: Veiklos vykdytojas atitinkamam kurui taiko atitinkamos šalies išmetamųjų teršalų faktorius \npagal 31 str. 1 dalies b arba c punktą.",null,"Veiklos vykdytojas grynojo šilumingumo vertę nustato pagal 32–35 str.",null,3,null,null,{"$f":"AJ$479","v":1},null,1,1,2]
[10,"Naftos perdirbimas ","Naftos perdirbimo įrenginiai","Vandenilio gamyba",null,"Proceso metu išsiskiriančios ŠESD","netaik.",null,null,null,null,null,null,"netaik.","Naftos perdirbimo įrenginiai: Vandenilio gamyba",null,"NCV_Naftos perdirbimo įrenginiai: Vandenilio gamyba",null,null,null,null,null,null,true,null,"netaik.",null,null,null,null,null,null,"netaik."]
[11,"Kokso gamyba","Koksas","Kuras kaip proceso žaliava",null,"Degimas",{"$f":"G434","v":"2a/2b"},{"$f":"H$434","v":"I tipas"},null,{"$f":"J$434","v":"II tipas"},{"$f":"Translations!$B$658","v":"Pirkimo dokumentai"},{"$f":"L$434","v":"Laboratoriniai tyrimai"},null,3,"Koksas: Kuras kaip proceso žaliava",null,"NCV_Koksas: Kuras kaip proceso žaliava",null,null,null,null,null,null,false,null,{"$f":"Z434","v":"2a/2b"},{"$f":"AA$434","v":"veiklos vykdytojas taiko vieną iš šių dalykų:\na) VI priedo 1 skirsnyje išvardytus standartinius faktorius;\nb) kitas pastovias vertes pagal 31 str. 1 dalies d ar e punktą, jeigu VI priedo 1 skirsnyje nenurodyta jokia taikytina vertė."},null,{"$f":"AC$434","v":"2a pakopa: Veiklos vykdytojas atitinkamam kurui taiko atitinkamos šalies išmetamųjų teršalų faktorius \npagal 31 str. 1 dalies b arba c punktą."},null,{"$f":"AE$434","v":"Veiklos vykdytojas grynojo šilumingumo vertę nustato pagal 32–35 str."},null,3,null,null,{"$f":"AJ$434","v":1},null,{"$f":"AL$434","v":1},1,{"$f":"AN$434","v":2}]
[12,"Kokso gamyba","Koksas","Karbonatų sąnaudos (A metodas)",null,"Proceso metu išsiskiriančios ŠESD","netaik.",null,null,null,null,null,null,"netaik.","Koksas: Karbonatų sąnaudos (A metodas)",null,"NCV_Koksas: Karbonatų sąnaudos (A metodas)",null,null,null,null,null,null,true,null,"netaik.",null,null,null,null,null,null,"netaik."]
[13,"Kokso gamyba","Koksas","Oksido išeiga (B metodas)",null,"Proceso metu išsiskiriančios ŠESD","netaik.",null,null,null,null,null,null,"netaik.","Koksas: Oksido išeiga (B metodas)",null,"NCV_Koksas: Oksido išeiga (B metodas)",null,null,null,null,null,null,true,null,"netaik.",null,null,null,null,null,null,"netaik."]
[14,"Kokso gamyba","Koksas","Masės balansas",null,"Masės balansas",{"$f":"\"\"","v":""},{"$f":"H$479","v":"I tipas"},null,{"$f":"J$479","v":"II tipas"},{"$f":"Translations!$B$658","v":"Pirkimo dokumentai"},{"$f":"L$479","v":"Laboratoriniai tyrimai"},null,3,"Koksas: Masės balansas",null,"NCV_Koksas: Masės balansas",null,null,null,null,null,null,false,null,{"$f":"\"\"","v":""},{"$f":"AA$479","v":"veiklos vykdytojas taiko vieną iš šių dalykų:\na) VI priedo 1 skirsnyje išvardytus standartinius faktorius;\nb) kitas pastovias vertes pagal 31 str. 1 dalies d ar e punktą, jeigu VI priedo 1 skirsnyje nenurodyta jokia taikytina vertė."},null,{"$f":"AC$479","v":"2a pakopa: Veiklos vykdytojas atitinkamam kurui taiko atitinkamos šalies išmetamųjų teršalų faktorius \npagal 31 str. 1 dalies b arba c punktą."},null,{"$f":"AE$479","v":"Veiklos vykdytojas grynojo šilumingumo vertę nustato pagal 32–35 str."},null,3,null,null,{"$f":"AJ$479","v":1},null,{"$f":"AL$479","v":1},1,{"$f":"AN$479","v":2}]
[15,"Metalo rūdų deginimas ir kepinimas","Metalų rūda","Karbonatų sąnaudos",null,"Proceso metu išsiskiriančios ŠESD","netaik.",null,null,null,null,null,null,"netaik.","Metalų rūda: Karbonatų sąnaudos",null,"NCV_Metalų rūda: Karbonatų sąnaudos",null,null,null,null,null,null,true,null,"netaik.",null,null,null,null,null,null,"netaik."]
[16,"Metalo rūdų deginimas ir kepinimas","Metalų rūda","Masės balansas",null,"Masės balansas",{"$f":"\"\"","v":""},{"$f":"H$479","v":"I tipas"},null,{"$f":"J$479","v":"II tipas"},{"$f":"Translations!$B$658","v":"Pirkimo dokumentai"},{"$f":"L$479","v":"Laboratoriniai tyrimai"},null,3,"Metalų rūda: Masės balansas",null,"NCV_Metalų rūda: Masės balansas",null,null,null,null,null,null,false,null,"netaik.",{"$f":"AA$479","v":"veiklos vykdytojas taiko vieną iš šių dalykų:\na) VI priedo 1 skirsnyje išvardytus standartinius faktorius;\nb) kitas pastovias vertes pagal 31 str. 1 dalies d ar e punktą, jeigu VI priedo 1 skirsnyje nenurodyta jokia taikytina vertė."},null,null,null,null,null,"netaik.",null,null,{"$f":"AJ$479","v":1},null,{"$f":"AL$434","v":1},1]
[17,"Geležies ir plieno gamyba","Geležis ir plienas","Kuras kaip proceso žaliava",null,"Degimas","2a/2b",{"$f":"H$434","v":"I tipas"},null,{"$f":"J$434","v":"II tipas"},{"$f":"Translations!$B$658","v":"Pirkimo dokumentai"},{"$f":"L$434","v":"Laboratoriniai tyrimai"},null,3,"Geležis ir plienas: Kuras kaip proceso žaliava",null,"NCV_Geležis ir plienas: Kuras kaip proceso žaliava",null,null,null,null,null,null,false,null,"2a/2b",{"$f":"AA$434","v":"veiklos vykdytojas taiko vieną iš šių dalykų:\na) VI priedo 1 skirsnyje išvardytus standartinius faktorius;\nb) kitas pastovias vertes pagal 31 str. 1 dalies d ar e punktą, jeigu VI priedo 1 skirsnyje nenurodyta jokia taikytina vertė."},null,{"$f":"AC$434","v":"2a pakopa: Veiklos vykdytojas atitinkamam kurui taiko atitinkamos šalies išmetamųjų teršalų faktorius \npagal 31 str. 1 dalies b arba c punktą."},null,{"$f":"AE$434","v":"Veiklos vykdytojas grynojo šilumingumo vertę nustato pagal 32–35 str."},null,3,null,null,{"$f":"AJ$434","v":1},null,{"$f":"AL$434","v":1},1,{"$f":"AN$434","v":2}]
[18,"Geležies ir plieno gamyba","Geležis ir plienas","Karbonatų sąnaudos",null,"Proceso metu išsiskiriančios ŠESD","netaik.",null,null,null,null,null,null,"netaik.","Geležis ir plienas: Karbonatų sąnaudos",null,"NCV_Geležis ir plienas: Karbonatų sąnaudos",null,null,null,null,null,null,true,null,"netaik.",null,null,null,null,null,null,"netaik."]
[19,"Geležies ir plieno gamyba","Geležis ir plienas","Masės balansas",null,"Masės balansas",{"$f":"\"\"","v":""},{"$f":"H$479","v":"I tipas"},null,{"$f":"J$479","v":"II tipas"},{"$f":"Translations!$B$658","v":"Pirkimo dokumentai"},{"$f":"L$479","v":"Laboratoriniai tyrimai"},null,3,"Geležis ir plienas: Masės balansas",null,"NCV_Geležis ir plienas: Masės balansas",null,null,null,null,null,null,false,null,{"$f":"\"\"","v":""},{"$f":"AA$479","v":"veiklos vykdytojas taiko vieną iš šių dalykų:\na) VI priedo 1 skirsnyje išvardytus standartinius faktorius;\nb) kitas pastovias vertes pagal 31 str. 1 dalies d ar e punktą, jeigu VI priedo 1 skirsnyje nenurodyta jokia taikytina vertė."},null,{"$f":"AC$479","v":"2a pakopa: Veiklos vykdytojas atitinkamam kurui taiko atitinkamos šalies išmetamųjų teršalų faktorius \npagal 31 str. 1 dalies b arba c punktą."},null,{"$f":"AE$479","v":"Veiklos vykdytojas grynojo šilumingumo vertę nustato pagal 32–35 str."},null,3,null,null,{"$f":"AJ$479","v":1},null,{"$f":"AL$479","v":1},1,{"$f":"AN$479","v":2}]
[20,"Cemento klinkerio gamyba","Cemento klinkeriai","Grindžiamas krosnies žaliava (A metodas)",null,"Proceso metu išsiskiriančios ŠESD",{"$f":"EUconst_NA","v":"netaik."},null,null,null,null,null,null,"netaik.","Cemento klinkeriai: Grindžiamas krosnies žaliava (A metodas)",null,"NCV_Cemento klinkeriai: Grindžiamas krosnies žaliava (A metodas)",null,null,null,null,null,null,true,null,{"$f":"EUconst_NA","v":"netaik."},null,null,null,null,null,null,"netaik."]
[21,{"$f":"B406","v":"Cemento klinkerio gamyba"},"Cemento klinkeriai","Klinkerio išeiga (B metodas)",null,"Proceso metu išsiskiriančios ŠESD","netaik.",null,null,null,null,null,null,"netaik.","Cemento klinkeriai: Klinkerio išeiga (B metodas)",null,"NCV_Cemento klinkeriai: Klinkerio išeiga (B metodas)",null,null,null,null,null,null,true,null,"netaik.",null,null,null,null,null,null,"netaik."]
[22,"Cemento klinkerio gamyba","Cemento klinkeriai","Cemento degimo krosnių dulkės",null,"Proceso metu išsiskiriančios ŠESD","netaik.",null,null,null,null,null,null,"netaik.","Cemento klinkeriai: Cemento degimo krosnių dulkės",null,"NCV_Cemento klinkeriai: Cemento degimo krosnių dulkės",null,null,null,null,null,null,true,null,"netaik.",null,null,null,null,null,null,"netaik."]
[23,"Cemento klinkerio gamyba","Cemento klinkeriai","Nekarbonatinė anglis",null,"Proceso metu išsiskiriančios ŠESD","netaik.",null,null,null,null,null,null,"netaik.","Cemento klinkeriai: Nekarbonatinė anglis",null,"NCV_Cemento klinkeriai: Nekarbonatinė anglis",null,null,null,null,null,null,true,null,"netaik.",null,null,null,null,null,null,"netaik."]
[24,"Kalkių gamyba ir dolomitų bei magnezitų kalcinavimas","Kalkės, dolomitas, magnezitas","Karbonatai (A metodas)",null,"Proceso metu išsiskiriančios ŠESD","netaik.",null,null,null,null,null,null,"netaik.","Kalkės, dolomitas, magnezitas: Karbonatai (A metodas)",null,"NCV_Kalkės, dolomitas, magnezitas: Karbonatai (A metodas)",null,null,null,null,null,null,true,null,"netaik.",null,null,null,null,null,null,"netaik."]
[25,"Kalkių gamyba ir dolomitų bei magnezitų kalcinavimas","Kalkės, dolomitas, magnezitas","Šarminių žemių metalų oksidas (B metodas)",null,"Proceso metu išsiskiriančios ŠESD","netaik.",null,null,null,null,null,null,"netaik.","Kalkės, dolomitas, magnezitas: Šarminių žemių metalų oksidas (B metodas)",null,"NCV_Kalkės, dolomitas, magnezitas: Šarminių žemių metalų oksidas (B metodas)",null,null,null,null,null,null,true,null,"netaik.",null,null,null,null,null,null,"netaik."]
[26,"Kalkių gamyba ir dolomitų bei magnezitų kalcinavimas","Kalkės, dolomitas, magnezitas","Degimo krosnių dulkės (B metodas)",null,"Proceso metu išsiskiriančios ŠESD","netaik.",null,null,null,null,null,null,"netaik.","Kalkės, dolomitas, magnezitas: Degimo krosnių dulkės (B metodas)",null,"NCV_Kalkės, dolomitas, magnezitas: Degimo krosnių dulkės (B metodas)",null,null,null,null,null,null,true,null,"netaik.",null,null,null,null,null,null,"netaik."]
[27,"Stiklo ir mineralinės vatos gamyba","Stiklas ir mineralinė vata","Karbonatai (žaliava)",null,"Proceso metu išsiskiriančios ŠESD","netaik.",null,null,null,null,null,null,"netaik.","Stiklas ir mineralinė vata: Karbonatai (žaliava)",null,"NCV_Stiklas ir mineralinė vata: Karbonatai (žaliava)",null,null,null,null,null,null,true,null,"netaik.",null,null,null,null,null,null,"netaik."]
[28,"Keramikos produktų gamyba","Keramikos dirbiniai.","Anglies sąnaudos (A metodas)",null,"Proceso metu išsiskiriančios ŠESD","netaik.",null,null,null,null,null,null,"netaik.","Keramikos dirbiniai.: Anglies sąnaudos (A metodas)",null,"NCV_Keramikos dirbiniai.: Anglies sąnaudos (A metodas)",null,null,null,null,null,null,true,null,"netaik.",null,null,null,null,null,null,"netaik."]
[29,"Keramikos produktų gamyba","Keramikos dirbiniai.","Šarminių metalų oksidas (B metodas)",null,"Proceso metu išsiskiriančios ŠESD","netaik.",null,null,null,null,null,null,"netaik.","Keramikos dirbiniai.: Šarminių metalų oksidas (B metodas)",null,"NCV_Keramikos dirbiniai.: Šarminių metalų oksidas (B metodas)",null,null,null,null,null,null,true,null,"netaik.",null,null,null,null,null,null,"netaik."]
[30,"Keramikos produktų gamyba","Keramikos dirbiniai.","Dujų plovimas",null,"Proceso metu išsiskiriančios ŠESD","netaik.",null,null,null,null,null,null,"netaik.","Keramikos dirbiniai.: Dujų plovimas",null,"NCV_Keramikos dirbiniai.: Dujų plovimas",null,null,null,null,null,null,true,null,"netaik.",null,null,null,null,null,null,"netaik."]
[31,"Celiuliozės ir popieriaus gamyba","Celiuliozė ir popierius","Sudėtinės cheminės medžiagos",null,"Proceso metu išsiskiriančios ŠESD","netaik.",null,null,null,null,null,null,"netaik.","Celiuliozė ir popierius: Sudėtinės cheminės medžiagos",null,"NCV_Celiuliozė ir popierius: Sudėtinės cheminės medžiagos",null,null,null,null,null,null,true,null,"netaik.",null,null,null,null,null,null,"netaik."]
[32,"Suodžių gamyba","Padengtas kartonas Suodžiai","Masės balanso metodika",null,"Masės balansas",{"$f":"\"\"","v":""},{"$f":"H$479","v":"I tipas"},null,{"$f":"J$479","v":"II tipas"},{"$f":"Translations!$B$658","v":"Pirkimo dokumentai"},{"$f":"L$479","v":"Laboratoriniai tyrimai"},null,3,"Padengtas kartonas Suodžiai: Masės balanso metodika",null,"NCV_Padengtas kartonas Suodžiai: Masės balanso metodika",null,null,null,null,null,null,false,null,{"$f":"\"\"","v":""},{"$f":"AA$479","v":"veiklos vykdytojas taiko vieną iš šių dalykų:\na) VI priedo 1 skirsnyje išvardytus standartinius faktorius;\nb) kitas pastovias vertes pagal 31 str. 1 dalies d ar e punktą, jeigu VI priedo 1 skirsnyje nenurodyta jokia taikytina vertė."},null,{"$f":"AC$479","v":"2a pakopa: Veiklos vykdytojas atitinkamam kurui taiko atitinkamos šalies išmetamųjų teršalų faktorius \npagal 31 str. 1 dalies b arba c punktą."},null,{"$f":"AE$479","v":"Veiklos vykdytojas grynojo šilumingumo vertę nustato pagal 32–35 str."},null,3,null,null,{"$f":"AJ$479","v":1},null,{"$f":"AL$479","v":1},1,{"$f":"AN$479","v":2}]
[33,"Amoniako gamyba","Amoniakas","Kuras kaip proceso žaliava",null,"Degimas","2a/2b",{"$f":"H$434","v":"I tipas"},null,{"$f":"J$434","v":"II tipas"},{"$f":"Translations!$B$658","v":"Pirkimo dokumentai"},"Laboratoriniai tyrimai",null,3,"Amoniakas: Kuras kaip proceso žaliava",null,"NCV_Amoniakas: Kuras kaip proceso žaliava",null,null,null,null,null,null,{"$f":"IF(G466=EUconst_NA,TRUE,FALSE)","v":false},null,"2a/2b",{"$f":"AA$434","v":"veiklos vykdytojas taiko vieną iš šių dalykų:\na) VI priedo 1 skirsnyje išvardytus standartinius faktorius;\nb) kitas pastovias vertes pagal 31 str. 1 dalies d ar e punktą, jeigu VI priedo 1 skirsnyje nenurodyta jokia taikytina vertė."},null,{"$f":"AC$434","v":"2a pakopa: Veiklos vykdytojas atitinkamam kurui taiko atitinkamos šalies išmetamųjų teršalų faktorius \npagal 31 str. 1 dalies b arba c punktą."},null,"Veiklos vykdytojas grynojo šilumingumo vertę nustato pagal 32–35 str.",null,3,null,null,{"$f":"AJ$434","v":1},null,{"$f":"AL$434","v":1},1,2]
[34,"Vandenilio ar sintezės dujų gamyba","Vandenilis ir sintezės dujos","Kuras kaip proceso žaliava",null,"Degimas","2a/2b",{"$f":"H$434","v":"I tipas"},null,"II tipas",{"$f":"Translations!$B$658","v":"Pirkimo dokumentai"},"Laboratoriniai tyrimai",null,3,"Vandenilis ir sintezės dujos: Kuras kaip proceso žaliava",null,"NCV_Vandenilis ir sintezės dujos: Kuras kaip proceso žaliava",null,null,null,null,null,null,false,null,"2a/2b",{"$f":"AA$434","v":"veiklos vykdytojas taiko vieną iš šių dalykų:\na) VI priedo 1 skirsnyje išvardytus standartinius faktorius;\nb) kitas pastovias vertes pagal 31 str. 1 dalies d ar e punktą, jeigu VI priedo 1 skirsnyje nenurodyta jokia taikytina vertė."},null,"2a pakopa: Veiklos vykdytojas atitinkamam kurui taiko atitinkamos šalies išmetamųjų teršalų faktorius \npagal 31 str. 1 dalies b arba c punktą.",null,"Veiklos vykdytojas grynojo šilumingumo vertę nustato pagal 32–35 str.",null,3,null,null,{"$f":"AJ$434","v":1},null,1,1,2]
[35,"Vandenilio ar sintezės dujų gamyba","Vandenilis ir sintezės dujos","Masės balanso metodika",null,"Masės balansas",{"$f":"\"\"","v":""},{"$f":"H$479","v":"I tipas"},null,{"$f":"J$479","v":"II tipas"},{"$f":"Translations!$B$658","v":"Pirkimo dokumentai"},"Laboratoriniai tyrimai",null,3,"Vandenilis ir sintezės dujos: Masės balanso metodika",null,"NCV_Vandenilis ir sintezės dujos: Masės balanso metodika",null,null,null,null,null,null,false,null,{"$f":"\"\"","v":""},{"$f":"AA$479","v":"veiklos vykdytojas taiko vieną iš šių dalykų:\na) VI priedo 1 skirsnyje išvardytus standartinius faktorius;\nb) kitas pastovias vertes pagal 31 str. 1 dalies d ar e punktą, jeigu VI priedo 1 skirsnyje nenurodyta jokia taikytina vertė."},null,{"$f":"AC$479","v":"2a pakopa: Veiklos vykdytojas atitinkamam kurui taiko atitinkamos šalies išmetamųjų teršalų faktorius \npagal 31 str. 1 dalies b arba c punktą."},null,"Veiklos vykdytojas grynojo šilumingumo vertę nustato pagal 32–35 str.",null,3,null,null,{"$f":"AJ$479","v":1},null,{"$f":"AL$479","v":1},1,2]
[36,"Biriųjų organinių cheminių medžiagų gamyba","Didelio masto organinių cheminių medžiagų gamyba","Masės balanso metodika",null,"Masės balansas",{"$f":"\"\"","v":""},{"$f":"H$479","v":"I tipas"},null,"II tipas",{"$f":"Translations!$B$658","v":"Pirkimo dokumentai"},"Laboratoriniai tyrimai",null,3,"Didelio masto organinių cheminių medžiagų gamyba: Masės balanso metodika",null,"NCV_Didelio masto organinių cheminių medžiagų gamyba: Masės balanso metodika",null,null,null,null,null,null,false,null,{"$f":"\"\"","v":""},{"$f":"AA$479","v":"veiklos vykdytojas taiko vieną iš šių dalykų:\na) VI priedo 1 skirsnyje išvardytus standartinius faktorius;\nb) kitas pastovias vertes pagal 31 str. 1 dalies d ar e punktą, jeigu VI priedo 1 skirsnyje nenurodyta jokia taikytina vertė."},null,"2a pakopa: Veiklos vykdytojas atitinkamam kurui taiko atitinkamos šalies išmetamųjų teršalų faktorius \npagal 31 str. 1 dalies b arba c punktą.",null,"Veiklos vykdytojas grynojo šilumingumo vertę nustato pagal 32–35 str.",null,3,null,null,{"$f":"AJ$479","v":1},null,1,1,2]
[37,"Juodųjų ir spalvotųjų metalų, įskaitant antrinį aliuminį, gamyba ar apdirbimas","(Ne)spalvotieji, antrinis aliuminis","Proceso metu išsiskiriančios ŠESD",null,"Proceso metu išsiskiriančios ŠESD",{"$f":"EUconst_NA","v":"netaik."},null,null,null,null,null,null,"netaik.","(Ne)spalvotieji, antrinis aliuminis: Proceso metu išsiskiriančios ŠESD",null,"NCV_(Ne)spalvotieji, antrinis aliuminis: Proceso metu išsiskiriančios ŠESD",null,null,null,null,null,null,true,null,{"$f":"EUconst_NA","v":"netaik."},null,null,null,null,null,null,"netaik."]
[38,"Juodųjų ir spalvotųjų metalų, įskaitant antrinį aliuminį, gamyba ar apdirbimas","(Ne)spalvotieji, antrinis aliuminis","Masės balanso metodika",null,"Masės balansas",{"$f":"\"\"","v":""},{"$f":"H$479","v":"I tipas"},null,{"$f":"J$479","v":"II tipas"},{"$f":"Translations!$B$658","v":"Pirkimo dokumentai"},"Laboratoriniai tyrimai",null,3,"(Ne)spalvotieji, antrinis aliuminis: Masės balanso metodika",null,"NCV_(Ne)spalvotieji, antrinis aliuminis: Masės balanso metodika",null,null,null,null,null,null,false,null,{"$f":"\"\"","v":""},{"$f":"AA$479","v":"veiklos vykdytojas taiko vieną iš šių dalykų:\na) VI priedo 1 skirsnyje išvardytus standartinius faktorius;\nb) kitas pastovias vertes pagal 31 str. 1 dalies d ar e punktą, jeigu VI priedo 1 skirsnyje nenurodyta jokia taikytina vertė."},null,{"$f":"AC$479","v":"2a pakopa: Veiklos vykdytojas atitinkamam kurui taiko atitinkamos šalies išmetamųjų teršalų faktorius \npagal 31 str. 1 dalies b arba c punktą."},null,"Veiklos vykdytojas grynojo šilumingumo vertę nustato pagal 32–35 str.",null,3,null,null,{"$f":"AJ$479","v":1},null,{"$f":"AL$479","v":1},1,2]
[39,"Natrio karbonato ir natrio hidrokarbonato gamyba","Natrio karbonatas / natrio hidrokarbonatas","Masės balanso metodika",null,"Masės balansas",{"$f":"\"\"","v":""},{"$f":"H$479","v":"I tipas"},null,"II tipas",{"$f":"Translations!$B$658","v":"Pirkimo dokumentai"},"Laboratoriniai tyrimai",null,3,"Natrio karbonatas / natrio hidrokarbonatas: Masės balanso metodika",null,"NCV_Natrio karbonatas / natrio hidrokarbonatas: Masės balanso metodika",null,null,null,null,null,null,false,null,{"$f":"\"\"","v":""},{"$f":"AA$479","v":"veiklos vykdytojas taiko vieną iš šių dalykų:\na) VI priedo 1 skirsnyje išvardytus standartinius faktorius;\nb) kitas pastovias vertes pagal 31 str. 1 dalies d ar e punktą, jeigu VI priedo 1 skirsnyje nenurodyta jokia taikytina vertė."},null,"2a pakopa: Veiklos vykdytojas atitinkamam kurui taiko atitinkamos šalies išmetamųjų teršalų faktorius \npagal 31 str. 1 dalies b arba c punktą.",null,"Veiklos vykdytojas grynojo šilumingumo vertę nustato pagal 32–35 str.",null,3,null,null,{"$f":"AJ$479","v":1},null,1,1,2]
[40,"Pirminio aliuminio gamyba","Pirminis aliuminis","Masės balanso metodika",null,"Masės balansas",{"$f":"\"\"","v":""},{"$f":"H$479","v":"I tipas"},null,"II tipas",{"$f":"Translations!$B$658","v":"Pirkimo dokumentai"},"Laboratoriniai tyrimai",null,3,"Pirminis aliuminis: Masės balanso metodika",null,"NCV_Pirminis aliuminis: Masės balanso metodika",null,null,null,null,null,null,false,null,{"$f":"\"\"","v":""},{"$f":"AA$479","v":"veiklos vykdytojas taiko vieną iš šių dalykų:\na) VI priedo 1 skirsnyje išvardytus standartinius faktorius;\nb) kitas pastovias vertes pagal 31 str. 1 dalies d ar e punktą, jeigu VI priedo 1 skirsnyje nenurodyta jokia taikytina vertė."},null,"2a pakopa: Veiklos vykdytojas atitinkamam kurui taiko atitinkamos šalies išmetamųjų teršalų faktorius \npagal 31 str. 1 dalies b arba c punktą.",null,"Veiklos vykdytojas grynojo šilumingumo vertę nustato pagal 32–35 str.",null,3,null,null,{"$f":"AJ$479","v":1},null,1,1,2]
[41,{"$f":"B426","v":"Pirminio aliuminio gamyba"},"Pirminis aliuminis","Išmetamas PFC kiekis (nuolydžio metodas)",null,"Išmetamas PFC kiekis","netaik.",null,null,null,null,null,null,"netaik.","Pirminis aliuminis: Išmetamas PFC kiekis (nuolydžio metodas)",null,"NCV_Pirminis aliuminis: Išmetamas PFC kiekis (nuolydžio metodas)",null,null,null,null,null,null,true,null,"netaik.",null,null,null,null,null,null,"netaik."]
[42,"Pirminio aliuminio gamyba","Pirminis aliuminis","Išmetamas PFC kiekis (viršįtampio metodas)",null,"Išmetamas PFC kiekis","netaik.",null,null,null,null,null,null,"netaik.","Pirminis aliuminis: Išmetamas PFC kiekis (viršįtampio metodas)",null,"NCV_Pirminis aliuminis: Išmetamas PFC kiekis (viršįtampio metodas)",null,null,null,null,null,null,true,null,"netaik.",null,null,null,null,null,null,"netaik."]
[null,null,null,null,null,null,null,null,null,null,null,null,null,null,null,null,null,null,null,null,null,null,null,false]
[null,"Carbonate decomp Method A",null,null,null,null,null,null,null,null,null,null,null,null,null,null,null,null,null,null,null,null,null,false]
[null,"Carbonate decomp Method B",null,null,null,null,null,null,null,null,null,null,null,null,null,null,null,null,null,null,null,null,null,false]
[null,{"$f":"Translations!$B$431","v":"masių balansas"},null,null,null,null,null,{"$f":"H434","v":"I tipas"},null,{"$f":"J434","v":"II tipas"},null,{"$f":"L434","v":"Laboratoriniai tyrimai"},null,null,null,null,null,null,null,null,null,null,null,false,null,null,{"$f":"AA434","v":"veiklos vykdytojas taiko vieną iš šių dalykų:\na) VI priedo 1 skirsnyje išvardytus standartinius faktorius;\nb) kitas pastovias vertes pagal 31 str. 1 dalies d ar e punktą, jeigu VI priedo 1 skirsnyje nenurodyta jokia taikytina vertė."},null,{"$f":"AC434","v":"2a pakopa: Veiklos vykdytojas atitinkamam kurui taiko atitinkamos šalies išmetamųjų teršalų faktorius \npagal 31 str. 1 dalies b arba c punktą."},null,{"$f":"AE434","v":"Veiklos vykdytojas grynojo šilumingumo vertę nustato pagal 32–35 str."},null,null,null,null,{"$f":"AJ434","v":1},null,{"$f":"AL434","v":1},null,{"$f":"AN434","v":2}]
[null,null,null,null,null,null,null,null,null,null,null,null,null,null,null,null,null,null,null,null,null,null,null,false]
[null,{"$f":"Translations!$B$472","v":"Anglies kiekis"},null,null,null,{"$f":"F433","v":"Šaltinio tipas"},{"$f":"Translations!$B$338","v":"Mažiausiai"},1,2,"2a",{"$f":"Translations!$B$306","v":"2b"},3,null,{"$f":"Translations!$B$339","v":"Didžiausia"},null,null,null,null,null,null,null,null,null,null,null,{"$f":"Translations!$B$338","v":"Mažiausiai"},1,2,"2a",{"$f":"Translations!$B$306","v":"2b"},3,null,{"$f":"Translations!$B$339","v":"Didžiausia"},null,{"$f":"Translations!$B$433","v":"numatytoji vertė?"},1,2,"2a",{"$f":"Translations!$B$306","v":"2b"},3]
[{"$f":"A434","v":1},{"$f":"B434","v":"Kuro deginimas ir kaip proceso žaliava naudojamas kuras"},"Degimas","Komercinis standartinių rūšių kuras",null,{"$f":"F434","v":"Degimas"},{"$f":"EUconst_NA","v":"netaik."},null,null,null,null,null,null,{"$f":"IF(G482=EUconst_NA,EUconst_NA,IF(ISBLANK(J482),COUNTA(H482:M482),COUNTA(H482,J482,L482)))","v":"netaik."},{"$f":"C482 & \": \" &D482","v":"Degimas: Komercinis standartinių rūšių kuras"},null,{"$f":"EUconst_CNTR_CarbonContent&O482","v":"CarbC_Degimas: Komercinis standartinių rūšių kuras"},null,null,null,null,null,null,true,null,{"$f":"EUconst_NA","v":"netaik."},"netaik.","netaik.",null,null,{"$f":"EUconst_NA","v":"netaik."},null,{"$f":"IF(Z482=EUconst_NA,EUconst_NA,IF(ISBLANK(AC482),COUNTA(AA482:AF482),COUNTA(AA482,AC482,AE482)))","v":"netaik."},null,null,{"$f":"EUconst_NA","v":"netaik."},"netaik.",null,null,"netaik."]
[{"$f":"A435","v":2},"Kuro deginimas ir kaip proceso žaliava naudojamas kuras","Degimas","Kitas dujinis ir skystasis kuras",null,{"$f":"F435","v":"Degimas"},"netaik.",null,null,null,null,null,null,"netaik.","Degimas: Kitas dujinis ir skystasis kuras",null,"CarbC_Degimas: Kitas dujinis ir skystasis kuras",null,null,null,null,null,null,true,null,"netaik.","netaik.","netaik.",null,null,{"$f":"EUconst_NA","v":"netaik."},null,"netaik.",null,null,"netaik.","netaik.",null,null,"netaik."]
[3,"Kuro deginimas ir kaip proceso žaliava naudojamas kuras","Degimas","Kietasis kuras",null,"Degimas","netaik.",null,null,null,null,null,null,"netaik.","Degimas: Kietasis kuras",null,"CarbC_Degimas: Kietasis kuras",null,null,null,null,null,null,true,null,{"$f":"EUconst_NA","v":"netaik."},null,null,null,null,null,null,"netaik."]
[4,"Kuro deginimas ir kaip proceso žaliava naudojamas kuras","Degimas","Dujų perdirbimo terminalai",null,"Masės balansas",1,{"$f":"H$527","v":"I tipas"},null,{"$f":"J$527","v":"II tipas"},{"$f":"K$527","v":"Pakaitinės vertės"},{"$f":"L$527","v":"Laboratoriniai tyrimai"},null,3,"Degimas: Dujų perdirbimo terminalai",null,"CarbC_Degimas: Dujų perdirbimo terminalai",null,null,null,null,null,null,false,null,1,{"$f":"AA$527","v":"Veiklos vykdytojas taiko vieną iš šių dalykų:\na) anglies kiekį, nustatytą taikant VI priedo 1 ir 2 skirsniuose išvardytus standartinius faktorius;\nb) kitas pastovias vertes pagal 31 str. 1 dalies d ar e punktą, jeigu VI priedo\n1 ir 2 skirsniuose nenurodyta jokia taikytina vertė."},null,{"$f":"AC$527","v":"2a pakopa: Veiklos vykdytojas anglies kiekį nustato taikydamas atitinkamo kuro ar medžiagos \natitinkamos šalies išmetamųjų teršalų faktorius pagal 31 str. 1 dalies b arba c punktą."},{"$f":"AD$527","v":"2b pakopa: Veiklos vykdytojas anglies kiekį nustato pagal kuro išmetamųjų teršalų faktorius,\nremdamasis vienu iš toliau pateiktų nustatytų pakaitinių dydžių ir empirine koreliacija, nustatoma bent kartą per metus pagal 32–35 str.:\na) konkrečių naftos ar dujų rūšių, įprastų, pvz., naftos perdirbimo arba plieno\npramonėje, tankio matavimu;\nb) konkrečių anglių rūšių grynuoju šilumingumu,"},{"$f":"AE$527","v":"Veiklos vykdytojas anglies kiekį nustato pagal atitinkamas 32–35 str. nuostatas."},null,3,null,null,{"$f":"AJ$527","v":1},null,{"$f":"AL$527","v":1},{"$f":"AM$527","v":"Pakaitinės vertės"},{"$f":"AN$527","v":2}]
[5,"Kuro deginimas ir kaip proceso žaliava naudojamas kuras","Degimas","Fakelai",null,"Degimas","netaik.",null,null,null,null,null,null,"netaik.","Degimas: Fakelai",null,"CarbC_Degimas: Fakelai",null,null,null,null,null,null,true,null,{"$f":"EUconst_NA","v":"netaik."},null,null,null,null,null,null,"netaik."]
[6,"Kuro deginimas ir kaip proceso žaliava naudojamas kuras","Degimas","Dujų plovimas (karbonatai)",null,"Proceso metu išsiskiriančios ŠESD","netaik.",null,null,null,null,null,null,"netaik.","Degimas: Dujų plovimas (karbonatai)",null,"CarbC_Degimas: Dujų plovimas (karbonatai)",null,null,null,null,null,null,true,null,{"$f":"EUconst_NA","v":"netaik."},null,null,null,null,null,null,"netaik."]
[7,"Kuro deginimas ir kaip proceso žaliava naudojamas kuras","Degimas","Dujų plovimas (gipsas)",null,"Proceso metu išsiskiriančios ŠESD","netaik.",null,null,null,null,null,null,"netaik.","Degimas: Dujų plovimas (gipsas)",null,"CarbC_Degimas: Dujų plovimas (gipsas)",null,null,null,null,null,null,true,null,{"$f":"EUconst_NA","v":"netaik."},null,null,null,null,null,null,"netaik."]
[8,"Naftos perdirbimas ","Naftos perdirbimo įrenginiai","Masės balansas",null,"Masės balansas","2a/2b",{"$f":"H$527","v":"I tipas"},null,{"$f":"J$527","v":"II tipas"},"Pakaitinės vertės","Laboratoriniai tyrimai",null,3,"Naftos perdirbimo įrenginiai: Masės balansas",null,"CarbC_Naftos perdirbimo įrenginiai: Masės balansas",null,null,null,null,null,null,false,null,2,{"$f":"AA$527","v":"Veiklos vykdytojas taiko vieną iš šių dalykų:\na) anglies kiekį, nustatytą taikant VI priedo 1 ir 2 skirsniuose išvardytus standartinius faktorius;\nb) kitas pastovias vertes pagal 31 str. 1 dalies d ar e punktą, jeigu VI priedo\n1 ir 2 skirsniuose nenurodyta jokia taikytina vertė."},null,{"$f":"AC$527","v":"2a pakopa: Veiklos vykdytojas anglies kiekį nustato taikydamas atitinkamo kuro ar medžiagos \natitinkamos šalies išmetamųjų teršalų faktorius pagal 31 str. 1 dalies b arba c punktą."},{"$f":"AD$527","v":"2b pakopa: Veiklos vykdytojas anglies kiekį nustato pagal kuro išmetamųjų teršalų faktorius,\nremdamasis vienu iš toliau pateiktų nustatytų pakaitinių dydžių ir empirine koreliacija, nustatoma bent kartą per metus pagal 32–35 str.:\na) konkrečių naftos ar dujų rūšių, įprastų, pvz., naftos perdirbimo arba plieno\npramonėje, tankio matavimu;\nb) konkrečių anglių rūšių grynuoju šilumingumu,"},{"$f":"AE$527","v":"Veiklos vykdytojas anglies kiekį nustato pagal atitinkamas 32–35 str. nuostatas."},null,3,null,null,{"$f":"AJ$527","v":1},null,{"$f":"AL$527","v":1},{"$f":"AM$527","v":"Pakaitinės vertės"},{"$f":"AN$527","v":2}]
[9,"Naftos perdirbimas ","Naftos perdirbimo įrenginiai","Regeneravimas katalizinio krekingo įrenginiu",null,"Masės balansas",null,{"$f":"H$527","v":"I tipas"},null,"II tipas","Pakaitinės vertės","Laboratoriniai tyrimai",null,null,"Naftos perdirbimo įrenginiai: Regeneravimas katalizinio krekingo įrenginiu",null,"CarbC_Naftos perdirbimo įrenginiai: Regeneravimas katalizinio krekingo įrenginiu",null,null,null,null,null,null,false,null,{"$f":"EUconst_NA","v":"netaik."},null,null,null,null,null,null,"netaik."]
[10,"Naftos perdirbimas ","Naftos perdirbimo įrenginiai","Vandenilio gamyba",null,"Proceso metu išsiskiriančios ŠESD","netaik.",null,null,null,null,null,null,"netaik.","Naftos perdirbimo įrenginiai: Vandenilio gamyba",null,"CarbC_Naftos perdirbimo įrenginiai: Vandenilio gamyba",null,null,null,null,null,null,true,null,{"$f":"EUconst_NA","v":"netaik."},null,null,null,null,null,null,"netaik."]
[11,"Kokso gamyba","Koksas","Kuras kaip proceso žaliava",null,"Degimas","netaik.",null,null,null,null,null,null,"netaik.","Koksas: Kuras kaip proceso žaliava",null,"CarbC_Koksas: Kuras kaip proceso žaliava",null,null,null,null,null,null,true,null,{"$f":"EUconst_NA","v":"netaik."},null,null,null,null,null,null,"netaik."]
[12,"Kokso gamyba","Koksas","Karbonatų sąnaudos (A metodas)",null,"Proceso metu išsiskiriančios ŠESD","netaik.",null,null,null,null,null,null,"netaik.","Koksas: Karbonatų sąnaudos (A metodas)",null,"CarbC_Koksas: Karbonatų sąnaudos (A metodas)",null,null,null,null,null,null,true,null,{"$f":"EUconst_NA","v":"netaik."},null,null,null,null,null,null,"netaik."]
[13,"Kokso gamyba","Koksas","Oksido išeiga (B metodas)",null,"Proceso metu išsiskiriančios ŠESD","netaik.",null,null,null,null,null,null,"netaik.","Koksas: Oksido išeiga (B metodas)",null,"CarbC_Koksas: Oksido išeiga (B metodas)",null,null,null,null,null,null,true,null,{"$f":"EUconst_NA","v":"netaik."},null,null,null,null,null,null,"netaik."]
[14,"Kokso gamyba","Koksas","Masės balansas",null,"Masės balansas","2a/2b",{"$f":"H527","v":"I tipas"},null,{"$f":"J527","v":"II tipas"},{"$f":"K527","v":"Pakaitinės vertės"},{"$f":"L527","v":"Laboratoriniai tyrimai"},null,3,"Koksas: Masės balansas",null,"CarbC_Koksas: Masės balansas",null,null,null,null,null,null,false,null,2,{"$f":"AA527","v":"Veiklos vykdytojas taiko vieną iš šių dalykų:\na) anglies kiekį, nustatytą taikant VI priedo 1 ir 2 skirsniuose išvardytus standartinius faktorius;\nb) kitas pastovias vertes pagal 31 str. 1 dalies d ar e punktą, jeigu VI priedo\n1 ir 2 skirsniuose nenurodyta jokia taikytina vertė."},null,{"$f":"AC527","v":"2a pakopa: Veiklos vykdytojas anglies kiekį nustato taikydamas atitinkamo kuro ar medžiagos \natitinkamos šalies išmetamųjų teršalų faktorius pagal 31 str. 1 dalies b arba c punktą."},{"$f":"AD527","v":"2b pakopa: Veiklos vykdytojas anglies kiekį nustato pagal kuro išmetamųjų teršalų faktorius,\nremdamasis vienu iš toliau pateiktų nustatytų pakaitinių dydžių ir empirine koreliacija, nustatoma bent kartą per metus pagal 32–35 str.:\na) konkrečių naftos ar dujų rūšių, įprastų, pvz., naftos perdirbimo arba plieno\npramonėje, tankio matavimu;\nb) konkrečių anglių rūšių grynuoju šilumingumu,"},{"$f":"AE527","v":"Veiklos vykdytojas anglies kiekį nustato pagal atitinkamas 32–35 str. nuostatas."},null,3,null,null,{"$f":"AJ527","v":1},null,{"$f":"AL527","v":1},{"$f":"AM527","v":"Pakaitinės vertės"},{"$f":"AN527","v":2}]
[15,"Metalo rūdų deginimas ir kepinimas","Metalų rūda","Karbonatų sąnaudos",null,"Proceso metu išsiskiriančios ŠESD",{"$f":"EUconst_NA","v":"netaik."},null,null,null,null,null,null,"netaik.","Metalų rūda: Karbonatų sąnaudos",null,"CarbC_Metalų rūda: Karbonatų sąnaudos",null,null,null,null,null,null,true,null,{"$f":"EUconst_NA","v":"netaik."},null,null,null,null,null,null,"netaik."]
[16,"Metalo rūdų deginimas ir kepinimas","Metalų rūda","Masės balansas",null,"Masės balansas","2a/2b",{"$f":"H527","v":"I tipas"},null,{"$f":"J527","v":"II tipas"},{"$f":"K527","v":"Pakaitinės vertės"},{"$f":"L527","v":"Laboratoriniai tyrimai"},null,3,"Metalų rūda: Masės balansas",null,"CarbC_Metalų rūda: Masės balansas",null,null,null,null,null,null,false,null,2,{"$f":"AA527","v":"Veiklos vykdytojas taiko vieną iš šių dalykų:\na) anglies kiekį, nustatytą taikant VI priedo 1 ir 2 skirsniuose išvardytus standartinius faktorius;\nb) kitas pastovias vertes pagal 31 str. 1 dalies d ar e punktą, jeigu VI priedo\n1 ir 2 skirsniuose nenurodyta jokia taikytina vertė."},null,{"$f":"AC527","v":"2a pakopa: Veiklos vykdytojas anglies kiekį nustato taikydamas atitinkamo kuro ar medžiagos \natitinkamos šalies išmetamųjų teršalų faktorius pagal 31 str. 1 dalies b arba c punktą."},{"$f":"AD527","v":"2b pakopa: Veiklos vykdytojas anglies kiekį nustato pagal kuro išmetamųjų teršalų faktorius,\nremdamasis vienu iš toliau pateiktų nustatytų pakaitinių dydžių ir empirine koreliacija, nustatoma bent kartą per metus pagal 32–35 str.:\na) konkrečių naftos ar dujų rūšių, įprastų, pvz., naftos perdirbimo arba plieno\npramonėje, tankio matavimu;\nb) konkrečių anglių rūšių grynuoju šilumingumu,"},{"$f":"AE527","v":"Veiklos vykdytojas anglies kiekį nustato pagal atitinkamas 32–35 str. nuostatas."},null,3,null,null,{"$f":"AJ527","v":1},null,{"$f":"AL527","v":1},{"$f":"AM527","v":"Pakaitinės vertės"},{"$f":"AN527","v":2}]
[17,"Geležies ir plieno gamyba","Geležis ir plienas","Kuras kaip proceso žaliava",null,"Degimas",{"$f":"EUconst_NA","v":"netaik."},null,null,null,null,null,null,"netaik.","Geležis ir plienas: Kuras kaip proceso žaliava",null,"CarbC_Geležis ir plienas: Kuras kaip proceso žaliava",null,null,null,null,null,null,true,null,{"$f":"EUconst_NA","v":"netaik."},null,null,null,null,null,null,"netaik."]
[18,"Geležies ir plieno gamyba","Geležis ir plienas","Karbonatų sąnaudos",null,"Proceso metu išsiskiriančios ŠESD","netaik.",null,null,null,null,null,null,"netaik.","Geležis ir plienas: Karbonatų sąnaudos",null,"CarbC_Geležis ir plienas: Karbonatų sąnaudos",null,null,null,null,null,null,true,null,"netaik.",null,null,null,null,null,null,"netaik."]
[19,"Geležies ir plieno gamyba","Geležis ir plienas","Masės balansas",null,"Masės balansas","2a/2b",{"$f":"H$527","v":"I tipas"},null,{"$f":"J$527","v":"II tipas"},{"$f":"K$527","v":"Pakaitinės vertės"},{"$f":"L$527","v":"Laboratoriniai tyrimai"},null,3,"Geležis ir plienas: Masės balansas",null,"CarbC_Geležis ir plienas: Masės balansas",null,null,null,null,null,null,false,null,2,{"$f":"AA$527","v":"Veiklos vykdytojas taiko vieną iš šių dalykų:\na) anglies kiekį, nustatytą taikant VI priedo 1 ir 2 skirsniuose išvardytus standartinius faktorius;\nb) kitas pastovias vertes pagal 31 str. 1 dalies d ar e punktą, jeigu VI priedo\n1 ir 2 skirsniuose nenurodyta jokia taikytina vertė."},null,{"$f":"AC$527","v":"2a pakopa: Veiklos vykdytojas anglies kiekį nustato taikydamas atitinkamo kuro ar medžiagos \natitinkamos šalies išmetamųjų teršalų faktorius pagal 31 str. 1 dalies b arba c punktą."},{"$f":"AD$527","v":"2b pakopa: Veiklos vykdytojas anglies kiekį nustato pagal kuro išmetamųjų teršalų faktorius,\nremdamasis vienu iš toliau pateiktų nustatytų pakaitinių dydžių ir empirine koreliacija, nustatoma bent kartą per metus pagal 32–35 str.:\na) konkrečių naftos ar dujų rūšių, įprastų, pvz., naftos perdirbimo arba plieno\npramonėje, tankio matavimu;\nb) konkrečių anglių rūšių grynuoju šilumingumu,"},{"$f":"AE$527","v":"Veiklos vykdytojas anglies kiekį nustato pagal atitinkamas 32–35 str. nuostatas."},null,3,null,null,{"$f":"AJ$527","v":1},null,{"$f":"AL$527","v":1},{"$f":"AM$527","v":"Pakaitinės vertės"},{"$f":"AN$527","v":2}]
[20,"Cemento klinkerio gamyba","Cemento klinkeriai","Grindžiamas krosnies žaliava (A metodas)",null,"Proceso metu išsiskiriančios ŠESD","netaik.",null,null,null,null,null,null,"netaik.","Cemento klinkeriai: Grindžiamas krosnies žaliava (A metodas)",null,"CarbC_Cemento klinkeriai: Grindžiamas krosnies žaliava (A metodas)",null,null,null,null,null,null,true,null,"netaik.",null,null,null,null,null,null,"netaik."]
[21,{"$f":"B454","v":"Cemento klinkerio gamyba"},"Cemento klinkeriai","Klinkerio išeiga (B metodas)",null,"Proceso metu išsiskiriančios ŠESD","netaik.",null,null,null,null,null,null,"netaik.","Cemento klinkeriai: Klinkerio išeiga (B metodas)",null,"CarbC_Cemento klinkeriai: Klinkerio išeiga (B metodas)",null,null,null,null,null,null,true,null,"netaik.",null,null,null,null,null,null,"netaik."]
[22,"Cemento klinkerio gamyba","Cemento klinkeriai","Cemento degimo krosnių dulkės",null,"Proceso metu išsiskiriančios ŠESD","netaik.",null,null,null,null,null,null,"netaik.","Cemento klinkeriai: Cemento degimo krosnių dulkės",null,"CarbC_Cemento klinkeriai: Cemento degimo krosnių dulkės",null,null,null,null,null,null,true,null,"netaik.",null,null,null,null,null,null,"netaik."]
[23,"Cemento klinkerio gamyba","Cemento klinkeriai","Nekarbonatinė anglis",null,"Proceso metu išsiskiriančios ŠESD","netaik.",null,null,null,null,null,null,"netaik.","Cemento klinkeriai: Nekarbonatinė anglis",null,"CarbC_Cemento klinkeriai: Nekarbonatinė anglis",null,null,null,null,null,null,true,null,"netaik.",null,null,null,null,null,null,"netaik."]
[24,"Kalkių gamyba ir dolomitų bei magnezitų kalcinavimas","Kalkės, dolomitas, magnezitas","Karbonatai (A metodas)",null,"Proceso metu išsiskiriančios ŠESD","netaik.",null,null,null,null,null,null,"netaik.","Kalkės, dolomitas, magnezitas: Karbonatai (A metodas)",null,"CarbC_Kalkės, dolomitas, magnezitas: Karbonatai (A metodas)",null,null,null,null,null,null,true,null,"netaik.",null,null,null,null,null,null,"netaik."]
[25,"Kalkių gamyba ir dolomitų bei magnezitų kalcinavimas","Kalkės, dolomitas, magnezitas","Šarminių žemių metalų oksidas (B metodas)",null,"Proceso metu išsiskiriančios ŠESD","netaik.",null,null,null,null,null,null,"netaik.","Kalkės, dolomitas, magnezitas: Šarminių žemių metalų oksidas (B metodas)",null,"CarbC_Kalkės, dolomitas, magnezitas: Šarminių žemių metalų oksidas (B metodas)",null,null,null,null,null,null,true,null,"netaik.",null,null,null,null,null,null,"netaik."]
[26,"Kalkių gamyba ir dolomitų bei magnezitų kalcinavimas","Kalkės, dolomitas, magnezitas","Degimo krosnių dulkės (B metodas)",null,"Proceso metu išsiskiriančios ŠESD","netaik.",null,null,null,null,null,null,"netaik.","Kalkės, dolomitas, magnezitas: Degimo krosnių dulkės (B metodas)",null,"CarbC_Kalkės, dolomitas, magnezitas: Degimo krosnių dulkės (B metodas)",null,null,null,null,null,null,true,null,"netaik.",null,null,null,null,null,null,"netaik."]
[27,"Stiklo ir mineralinės vatos gamyba","Stiklas ir mineralinė vata","Karbonatai (žaliava)",null,"Proceso metu išsiskiriančios ŠESD","netaik.",null,null,null,null,null,null,"netaik.","Stiklas ir mineralinė vata: Karbonatai (žaliava)",null,"CarbC_Stiklas ir mineralinė vata: Karbonatai (žaliava)",null,null,null,null,null,null,true,null,"netaik.",null,null,null,null,null,null,"netaik."]
[28,"Keramikos produktų gamyba","Keramikos dirbiniai.","Anglies sąnaudos (A metodas)",null,"Proceso metu išsiskiriančios ŠESD","netaik.",null,null,null,null,null,null,"netaik.","Keramikos dirbiniai.: Anglies sąnaudos (A metodas)",null,"CarbC_Keramikos dirbiniai.: Anglies sąnaudos (A metodas)",null,null,null,null,null,null,true,null,"netaik.",null,null,null,null,null,null,"netaik."]
[29,"Keramikos produktų gamyba","Keramikos dirbiniai.","Šarminių metalų oksidas (B metodas)",null,"Proceso metu išsiskiriančios ŠESD","netaik.",null,null,null,null,null,null,"netaik.","Keramikos dirbiniai.: Šarminių metalų oksidas (B metodas)",null,"CarbC_Keramikos dirbiniai.: Šarminių metalų oksidas (B metodas)",null,null,null,null,null,null,true,null,"netaik.",null,null,null,null,null,null,"netaik."]
[30,"Keramikos produktų gamyba","Keramikos dirbiniai.","Dujų plovimas",null,"Proceso metu išsiskiriančios ŠESD","netaik.",null,null,null,null,null,null,"netaik.","Keramikos dirbiniai.: Dujų plovimas",null,"CarbC_Keramikos dirbiniai.: Dujų plovimas",null,null,null,null,null,null,true,null,"netaik.",null,null,null,null,null,null,"netaik."]
[31,"Celiuliozės ir popieriaus gamyba","Celiuliozė ir popierius","Sudėtinės cheminės medžiagos",null,"Proceso metu išsiskiriančios ŠESD","netaik.",null,null,null,null,null,null,"netaik.","Celiuliozė ir popierius: Sudėtinės cheminės medžiagos",null,"CarbC_Celiuliozė ir popierius: Sudėtinės cheminės medžiagos",null,null,null,null,null,null,true,null,"netaik.",null,null,null,null,null,null,"netaik."]
[32,"Suodžių gamyba","Padengtas kartonas Suodžiai","Masės balanso metodika",null,"Masės balansas",1,{"$f":"H$527","v":"I tipas"},null,{"$f":"J$527","v":"II tipas"},{"$f":"K$527","v":"Pakaitinės vertės"},{"$f":"L$527","v":"Laboratoriniai tyrimai"},null,3,"Padengtas kartonas Suodžiai: Masės balanso metodika",null,"CarbC_Padengtas kartonas Suodžiai: Masės balanso metodika",null,null,null,null,null,null,false,null,1,{"$f":"AA$527","v":"Veiklos vykdytojas taiko vieną iš šių dalykų:\na) anglies kiekį, nustatytą taikant VI priedo 1 ir 2 skirsniuose išvardytus standartinius faktorius;\nb) kitas pastovias vertes pagal 31 str. 1 dalies d ar e punktą, jeigu VI priedo\n1 ir 2 skirsniuose nenurodyta jokia taikytina vertė."},null,{"$f":"AC$527","v":"2a pakopa: Veiklos vykdytojas anglies kiekį nustato taikydamas atitinkamo kuro ar medžiagos \natitinkamos šalies išmetamųjų teršalų faktorius pagal 31 str. 1 dalies b arba c punktą."},{"$f":"AD$527","v":"2b pakopa: Veiklos vykdytojas anglies kiekį nustato pagal kuro išmetamųjų teršalų faktorius,\nremdamasis vienu iš toliau pateiktų nustatytų pakaitinių dydžių ir empirine koreliacija, nustatoma bent kartą per metus pagal 32–35 str.:\na) konkrečių naftos ar dujų rūšių, įprastų, pvz., naftos perdirbimo arba plieno\npramonėje, tankio matavimu;\nb) konkrečių anglių rūšių grynuoju šilumingumu,"},{"$f":"AE$527","v":"Veiklos vykdytojas anglies kiekį nustato pagal atitinkamas 32–35 str. nuostatas."},null,3,null,null,{"$f":"AJ$527","v":1},null,{"$f":"AL$527","v":1},{"$f":"AM$527","v":"Pakaitinės vertės"},{"$f":"AN$527","v":2}]
[33,"Amoniako gamyba","Amoniakas","Kuras kaip proceso žaliava",null,"Degimas",{"$f":"EUconst_NA","v":"netaik."},null,null,null,null,null,null,"netaik.","Amoniakas: Kuras kaip proceso žaliava",null,"CarbC_Amoniakas: Kuras kaip proceso žaliava",null,null,null,null,null,null,true,null,{"$f":"EUconst_NA","v":"netaik."},null,null,null,null,null,null,"netaik."]
[34,"Vandenilio ar sintezės dujų gamyba","Vandenilis ir sintezės dujos","Kuras kaip proceso žaliava",null,"Degimas",{"$f":"EUconst_NA","v":"netaik."},null,null,null,null,null,null,"netaik.","Vandenilis ir sintezės dujos: Kuras kaip proceso žaliava",null,"CarbC_Vandenilis ir sintezės dujos: Kuras kaip proceso žaliava",null,null,null,null,null,null,true,null,{"$f":"EUconst_NA","v":"netaik."},null,null,null,null,null,null,"netaik."]
[35,"Vandenilio ar sintezės dujų gamyba","Vandenilis ir sintezės dujos","Masės balanso metodika",null,"Masės balansas","2a/2b",{"$f":"H$527","v":"I tipas"},null,{"$f":"J$527","v":"II tipas"},"Pakaitinės vertės","Laboratoriniai tyrimai",null,3,"Vandenilis ir sintezės dujos: Masės balanso metodika",null,"CarbC_Vandenilis ir sintezės dujos: Masės balanso metodika",null,null,null,null,null,null,false,null,{"$f":"EUconst_NA","v":"netaik."},{"$f":"AA$527","v":"Veiklos vykdytojas taiko vieną iš šių dalykų:\na) anglies kiekį, nustatytą taikant VI priedo 1 ir 2 skirsniuose išvardytus standartinius faktorius;\nb) kitas pastovias vertes pagal 31 str. 1 dalies d ar e punktą, jeigu VI priedo\n1 ir 2 skirsniuose nenurodyta jokia taikytina vertė."},null,null,null,{"$f":"AE$527","v":"Veiklos vykdytojas anglies kiekį nustato pagal atitinkamas 32–35 str. nuostatas."},null,"netaik.",null,null,{"$f":"AJ$527","v":1},null,null,null,{"$f":"AN$527","v":2}]
[36,"Biriųjų organinių cheminių medžiagų gamyba","Didelio masto organinių cheminių medžiagų gamyba","Masės balanso metodika",null,"Masės balansas","2a/2b",{"$f":"H$527","v":"I tipas"},null,"II tipas","Pakaitinės vertės","Laboratoriniai tyrimai",null,3,"Didelio masto organinių cheminių medžiagų gamyba: Masės balanso metodika",null,"CarbC_Didelio masto organinių cheminių medžiagų gamyba: Masės balanso metodika",null,null,null,null,null,null,false,null,2,{"$f":"AA$527","v":"Veiklos vykdytojas taiko vieną iš šių dalykų:\na) anglies kiekį, nustatytą taikant VI priedo 1 ir 2 skirsniuose išvardytus standartinius faktorius;\nb) kitas pastovias vertes pagal 31 str. 1 dalies d ar e punktą, jeigu VI priedo\n1 ir 2 skirsniuose nenurodyta jokia taikytina vertė."},null,{"$f":"AC$527","v":"2a pakopa: Veiklos vykdytojas anglies kiekį nustato taikydamas atitinkamo kuro ar medžiagos \natitinkamos šalies išmetamųjų teršalų faktorius pagal 31 str. 1 dalies b arba c punktą."},{"$f":"AD$527","v":"2b pakopa: Veiklos vykdytojas anglies kiekį nustato pagal kuro išmetamųjų teršalų faktorius,\nremdamasis vienu iš toliau pateiktų nustatytų pakaitinių dydžių ir empirine koreliacija, nustatoma bent kartą per metus pagal 32–35 str.:\na) konkrečių naftos ar dujų rūšių, įprastų, pvz., naftos perdirbimo arba plieno\npramonėje, tankio matavimu;\nb) konkrečių anglių rūšių grynuoju šilumingumu,"},{"$f":"AE$527","v":"Veiklos vykdytojas anglies kiekį nustato pagal atitinkamas 32–35 str. nuostatas."},null,3,null,null,{"$f":"AJ$527","v":1},null,{"$f":"AL$527","v":1},{"$f":"AM$527","v":"Pakaitinės vertės"},{"$f":"AN$527","v":2}]
[37,"Juodųjų ir spalvotųjų metalų, įskaitant antrinį aliuminį, gamyba ar apdirbimas","(Ne)spalvotieji, antrinis aliuminis","Proceso metu išsiskiriančios ŠESD",null,"Proceso metu išsiskiriančios ŠESD",{"$f":"EUconst_NA","v":"netaik."},null,null,null,null,null,null,"netaik.","(Ne)spalvotieji, antrinis aliuminis: Proceso metu išsiskiriančios ŠESD",null,"CarbC_(Ne)spalvotieji, antrinis aliuminis: Proceso metu išsiskiriančios ŠESD",null,null,null,null,null,null,true,null,{"$f":"EUconst_NA","v":"netaik."},null,null,null,null,null,null,"netaik."]
[38,"Juodųjų ir spalvotųjų metalų, įskaitant antrinį aliuminį, gamyba ar apdirbimas","(Ne)spalvotieji, antrinis aliuminis","Masės balanso metodika",null,"Masės balansas","2a/2b",{"$f":"H$527","v":"I tipas"},null,"II tipas","Pakaitinės vertės",{"$f":"L$527","v":"Laboratoriniai tyrimai"},null,3,"(Ne)spalvotieji, antrinis aliuminis: Masės balanso metodika",null,"CarbC_(Ne)spalvotieji, antrinis aliuminis: Masės balanso metodika",null,null,null,null,null,null,false,null,2,{"$f":"AA$527","v":"Veiklos vykdytojas taiko vieną iš šių dalykų:\na) anglies kiekį, nustatytą taikant VI priedo 1 ir 2 skirsniuose išvardytus standartinius faktorius;\nb) kitas pastovias vertes pagal 31 str. 1 dalies d ar e punktą, jeigu VI priedo\n1 ir 2 skirsniuose nenurodyta jokia taikytina vertė."},null,"2a pakopa: Veiklos vykdytojas anglies kiekį nustato taikydamas atitinkamo kuro ar medžiagos \natitinkamos šalies išmetamųjų teršalų faktorius pagal 31 str. 1 dalies b arba c punktą.","2b pakopa: Veiklos vykdytojas anglies kiekį nustato pagal kuro išmetamųjų teršalų faktorius,\nremdamasis vienu iš toliau pateiktų nustatytų pakaitinių dydžių ir empirine koreliacija, nustatoma bent kartą per metus pagal 32–35 str.:\na) konkrečių naftos ar dujų rūšių, įprastų, pvz., naftos perdirbimo arba plieno\npramonėje, tankio matavimu;\nb) konkrečių anglių rūšių grynuoju šilumingumu,",{"$f":"AE$527","v":"Veiklos vykdytojas anglies kiekį nustato pagal atitinkamas 32–35 str. nuostatas."},null,3,null,null,{"$f":"AJ$527","v":1},null,1,"Pakaitinės vertės",{"$f":"AN$527","v":2}]
[39,"Natrio karbonato ir natrio hidrokarbonato gamyba","Natrio karbonatas / natrio hidrokarbonatas","Masės balanso metodika",null,"Masės balansas","2a/2b","I tipas",null,{"$f":"J$527","v":"II tipas"},"Pakaitinės vertės",{"$f":"L$527","v":"Laboratoriniai tyrimai"},null,3,"Natrio karbonatas / natrio hidrokarbonatas: Masės balanso metodika",null,"CarbC_Natrio karbonatas / natrio hidrokarbonatas: Masės balanso metodika",null,null,null,null,null,null,false,null,2,"Veiklos vykdytojas taiko vieną iš šių dalykų:\na) anglies kiekį, nustatytą taikant VI priedo 1 ir 2 skirsniuose išvardytus standartinius faktorius;\nb) kitas pastovias vertes pagal 31 str. 1 dalies d ar e punktą, jeigu VI priedo\n1 ir 2 skirsniuose nenurodyta jokia taikytina vertė.",null,"2a pakopa: Veiklos vykdytojas anglies kiekį nustato taikydamas atitinkamo kuro ar medžiagos \natitinkamos šalies išmetamųjų teršalų faktorius pagal 31 str. 1 dalies b arba c punktą.","2b pakopa: Veiklos vykdytojas anglies kiekį nustato pagal kuro išmetamųjų teršalų faktorius,\nremdamasis vienu iš toliau pateiktų nustatytų pakaitinių dydžių ir empirine koreliacija, nustatoma bent kartą per metus pagal 32–35 str.:\na) konkrečių naftos ar dujų rūšių, įprastų, pvz., naftos perdirbimo arba plieno\npramonėje, tankio matavimu;\nb) konkrečių anglių rūšių grynuoju šilumingumu,",{"$f":"AE$527","v":"Veiklos vykdytojas anglies kiekį nustato pagal atitinkamas 32–35 str. nuostatas."},null,3,null,null,1,null,{"$f":"AL$527","v":1},"Pakaitinės vertės",{"$f":"AN$527","v":2}]
[40,"Pirminio aliuminio gamyba","Pirminis aliuminis","Masės balanso metodika",null,"Masės balansas","2a/2b","I tipas",null,{"$f":"J$527","v":"II tipas"},"Pakaitinės vertės",{"$f":"L$527","v":"Laboratoriniai tyrimai"},null,3,"Pirminis aliuminis: Masės balanso metodika",null,"CarbC_Pirminis aliuminis: Masės balanso metodika",null,null,null,null,null,null,false,null,2,"Veiklos vykdytojas taiko vieną iš šių dalykų:\na) anglies kiekį, nustatytą taikant VI priedo 1 ir 2 skirsniuose išvardytus standartinius faktorius;\nb) kitas pastovias vertes pagal 31 str. 1 dalies d ar e punktą, jeigu VI priedo\n1 ir 2 skirsniuose nenurodyta jokia taikytina vertė.",null,null,null,{"$f":"AE$527","v":"Veiklos vykdytojas anglies kiekį nustato pagal atitinkamas 32–35 str. nuostatas."},null,2,null,null,1,null,1,null,{"$f":"AN$527","v":2}]
[41,{"$f":"B474","v":"Pirminio aliuminio gamyba"},"Pirminis aliuminis","Išmetamas PFC kiekis (nuolydžio metodas)",null,"Išmetamas PFC kiekis",{"$f":"EUconst_NA","v":"netaik."},null,null,null,null,null,null,"netaik.","Pirminis aliuminis: Išmetamas PFC kiekis (nuolydžio metodas)",null,"CarbC_Pirminis aliuminis: Išmetamas PFC kiekis (nuolydžio metodas)",null,null,null,null,null,null,true,null,{"$f":"EUconst_NA","v":"netaik."},null,null,null,null,null,null,"netaik."]
[42,"Pirminio aliuminio gamyba","Pirminis aliuminis","Išmetamas PFC kiekis (viršįtampio metodas)",null,"Išmetamas PFC kiekis",{"$f":"EUconst_NA","v":"netaik."},null,null,null,null,null,null,"netaik.","Pirminis aliuminis: Išmetamas PFC kiekis (viršįtampio metodas)",null,"CarbC_Pirminis aliuminis: Išmetamas PFC kiekis (viršįtampio metodas)",null,null,null,null,null,null,true,null,{"$f":"EUconst_NA","v":"netaik."},null,null,null,null,null,null,"netaik."]
[null,null,null,null,null,null,null,null,null,null,null,null,null,null,null,null,null,null,null,null,null,null,null,false]
[null,"Carbonate decomp Method A",null,null,null,null,null,null,null,null,null,null,null,null,null,null,null,null,null,null,null,null,null,false]
[null,"Carbonate decomp Method B",null,null,null,null,null,null,null,null,null,null,null,null,null,null,null,null,null,null,null,null,null,false]
[null,{"$f":"Translations!$B$431","v":"masių balansas"},null,null,null,null,null,{"$f":"Translations!$B$653","v":"I tipas"},null,{"$f":"Translations!$B$654","v":"II tipas"},{"$f":"Translations!$B$911","v":"Pakaitinės vertės"},{"$f":"Translations!$B$912","v":"Laboratoriniai tyrimai"},null,null,null,null,null,null,null,null,null,null,null,false,null,null,{"$f":"Translations!$B$473","v":"Veiklos vykdytojas taiko vieną iš šių dalykų:\na) anglies kiekį, nustatytą taikant VI priedo 1 ir 2 skirsniuose išvardytus standartinius faktorius;\nb) kitas pastovias vertes pagal 31 str. 1 dalies d ar e punktą, jeigu VI priedo\n1 ir 2 skirsniuose nenurodyta jokia taikytina vertė."},null,{"$f":"Translations!$B$474","v":"2a pakopa: Veiklos vykdytojas anglies kiekį nustato taikydamas atitinkamo kuro ar medžiagos \natitinkamos šalies išmetamųjų teršalų faktorius pagal 31 str. 1 dalies b arba c punktą."},{"$f":"Translations!$B$475","v":"2b pakopa: Veiklos vykdytojas anglies kiekį nustato pagal kuro išmetamųjų teršalų faktorius,\nremdamasis vienu iš toliau pateiktų nustatytų pakaitinių dydžių ir empirine koreliacija, nustatoma bent kartą per metus pagal 32–35 str.:\na) konkrečių naftos ar dujų rūšių, įprastų, pvz., naftos perdirbimo arba plieno\npramonėje, tankio matavimu;\nb) konkrečių anglių rūšių grynuoju šilumingumu,"},{"$f":"Translations!$B$476","v":"Veiklos vykdytojas anglies kiekį nustato pagal atitinkamas 32–35 str. nuostatas."},null,null,null,null,1,null,1,{"$f":"Translations!$B$911","v":"Pakaitinės vertės"},2]
[null,null,null,null,null,null,null,null,null,null,null,null,null,null,null,null,null,null,null,null,null,null,null,false]
[null,{"$f":"Translations!$B$477","v":"Biomasės kiekis"},null,null,null,{"$f":"F481","v":"Šaltinio tipas"},{"$f":"Translations!$B$338","v":"Mažiausiai"},1,2,"2a",{"$f":"Translations!$B$306","v":"2b"},3,null,{"$f":"Translations!$B$339","v":"Didžiausia"},null,null,null,null,null,null,null,null,null,null,null,{"$f":"Translations!$B$338","v":"Mažiausiai"},1,2,"2a",{"$f":"Translations!$B$306","v":"2b"},3,null,{"$f":"Translations!$B$339","v":"Didžiausia"},null,{"$f":"Translations!$B$433","v":"numatytoji vertė?"},1,2,"2a",{"$f":"Translations!$B$306","v":"2b"},3]
[{"$f":"A482","v":1},{"$f":"B482","v":"Kuro deginimas ir kaip proceso žaliava naudojamas kuras"},"Degimas","Komercinis standartinių rūšių kuras",null,{"$f":"F482","v":"Degimas"},{"$f":"\"\"","v":""},{"$f":"Translations!$B$659","v":"I tipas, biol."},{"$f":"Translations!$B$661","v":"II tipas, biol."},null,null,null,null,{"$f":"IF(G530=EUconst_NA,EUconst_NA,IF(ISBLANK(J530),COUNTA(H530:M530),COUNTA(H530,J530,L530)))","v":2},{"$f":"C530 & \": \" &D530","v":"Degimas: Komercinis standartinių rūšių kuras"},null,{"$f":"EUconst_CNTR_BiomassContent&O530","v":"BioC_Degimas: Komercinis standartinių rūšių kuras"},null,null,null,null,null,null,{"$f":"IF(G530=EUconst_NA,TRUE,FALSE)","v":false},null,{"$f":"\"\"","v":""},{"$f":"Translations!$B$478","v":"Veiklos vykdytojas taiko vieną iš verčių, paskelbtų pagal 39 str. 2 dalies pirmą \npastraipą, arba vertę, nustatytą pagal 39 str. 2 dalies antrą pastraipą arba 39 str. 3 dalį."},{"$f":"Translations!$B$479","v":"Veiklos vykdytojas konkrečius faktorius nustato pagal 39 str. 1 dalį."},null,null,null,null,{"$f":"IF(Z530=EUconst_NA,EUconst_NA,IF(ISBLANK(AC530),COUNTA(AA530:AF530),COUNTA(AA530,AC530,AE530)))","v":2},null,null,{"$f":"Translations!$B$659","v":"I tipas, biol."},{"$f":"Translations!$B$661","v":"II tipas, biol."}]
[{"$f":"A483","v":2},"Kuro deginimas ir kaip proceso žaliava naudojamas kuras","Degimas","Kitas dujinis ir skystasis kuras",null,{"$f":"F483","v":"Degimas"},{"$f":"\"\"","v":""},{"$f":"H$530","v":"I tipas, biol."},"II tipas, biol.",null,null,null,null,2,"Degimas: Kitas dujinis ir skystasis kuras",null,"BioC_Degimas: Kitas dujinis ir skystasis kuras",null,null,null,null,null,null,false,null,{"$f":"\"\"","v":""},{"$f":"AA$530","v":"Veiklos vykdytojas taiko vieną iš verčių, paskelbtų pagal 39 str. 2 dalies pirmą \npastraipą, arba vertę, nustatytą pagal 39 str. 2 dalies antrą pastraipą arba 39 str. 3 dalį."},"Veiklos vykdytojas konkrečius faktorius nustato pagal 39 str. 1 dalį.",null,null,null,null,2,null,null,{"$f":"AJ$530","v":"I tipas, biol."},"II tipas, biol."]
[3,"Kuro deginimas ir kaip proceso žaliava naudojamas kuras","Degimas","Kietasis kuras",null,"Degimas",{"$f":"\"\"","v":""},"I tipas, biol.","II tipas, biol.",null,null,null,null,2,"Degimas: Kietasis kuras",null,"BioC_Degimas: Kietasis kuras",null,null,null,null,null,null,false,null,{"$f":"\"\"","v":""},"Veiklos vykdytojas taiko vieną iš verčių, paskelbtų pagal 39 str. 2 dalies pirmą \npastraipą, arba vertę, nustatytą pagal 39 str. 2 dalies antrą pastraipą arba 39 str. 3 dalį.","Veiklos vykdytojas konkrečius faktorius nustato pagal 39 str. 1 dalį.",null,null,null,null,2,null,null,"I tipas, biol.","II tipas, biol."]
[4,"Kuro deginimas ir kaip proceso žaliava naudojamas kuras","Degimas","Dujų perdirbimo terminalai",null,"Masės balansas",{"$f":"\"\"","v":""},"I tipas, biol.","II tipas, biol.",null,null,null,null,2,"Degimas: Dujų perdirbimo terminalai",null,"BioC_Degimas: Dujų perdirbimo terminalai",null,null,null,null,null,null,false,null,{"$f":"\"\"","v":""},"Veiklos vykdytojas taiko vieną iš verčių, paskelbtų pagal 39 str. 2 dalies pirmą \npastraipą, arba vertę, nustatytą pagal 39 str. 2 dalies antrą pastraipą arba 39 str. 3 dalį.","Veiklos vykdytojas konkrečius faktorius nustato pagal 39 str. 1 dalį.",null,null,null,null,2,null,null,"I tipas, biol.","II tipas, biol."]
[5,"Kuro deginimas ir kaip proceso žaliava naudojamas kuras","Degimas","Fakelai",null,"Degimas",{"$f":"\"\"","v":""},"I tipas, biol.","II tipas, biol.",null,null,null,null,2,"Degimas: Fakelai",null,"BioC_Degimas: Fakelai",null,null,null,null,null,null,false,null,{"$f":"\"\"","v":""},null,null,null,null,null,null,0,null,null,"I tipas, biol.","II tipas, biol."]
[6,"Kuro deginimas ir kaip proceso žaliava naudojamas kuras","Degimas","Dujų plovimas (karbonatai)",null,"Proceso metu išsiskiriančios ŠESD",{"$f":"EUconst_NA","v":"netaik."},null,null,null,null,null,null,"netaik.","Degimas: Dujų plovimas (karbonatai)",null,"BioC_Degimas: Dujų plovimas (karbonatai)",null,null,null,null,null,null,true,null,{"$f":"EUconst_NA","v":"netaik."},null,null,null,null,null,null,"netaik."]
[7,"Kuro deginimas ir kaip proceso žaliava naudojamas kuras","Degimas","Dujų plovimas (gipsas)",null,"Proceso metu išsiskiriančios ŠESD",{"$f":"EUconst_NA","v":"netaik."},null,null,null,null,null,null,"netaik.","Degimas: Dujų plovimas (gipsas)",null,"BioC_Degimas: Dujų plovimas (gipsas)",null,null,null,null,null,null,true,null,{"$f":"EUconst_NA","v":"netaik."},null,null,null,null,null,null,"netaik."]
[8,"Naftos perdirbimas ","Naftos perdirbimo įrenginiai","Masės balansas",null,"Masės balansas",{"$f":"\"\"","v":""},{"$f":"H$530","v":"I tipas, biol."},{"$f":"I$530","v":"II tipas, biol."},null,null,null,null,2,"Naftos perdirbimo įrenginiai: Masės balansas",null,"BioC_Naftos perdirbimo įrenginiai: Masės balansas",null,null,null,null,null,null,false,null,{"$f":"\"\"","v":""},{"$f":"AA$530","v":"Veiklos vykdytojas taiko vieną iš verčių, paskelbtų pagal 39 str. 2 dalies pirmą \npastraipą, arba vertę, nustatytą pagal 39 str. 2 dalies antrą pastraipą arba 39 str. 3 dalį."},{"$f":"AB$530","v":"Veiklos vykdytojas konkrečius faktorius nustato pagal 39 str. 1 dalį."},null,null,null,null,2,null,null,{"$f":"AJ$530","v":"I tipas, biol."},{"$f":"AK$530","v":"II tipas, biol."}]
[9,"Naftos perdirbimas ","Naftos perdirbimo įrenginiai","Regeneravimas katalizinio krekingo įrenginiu",null,"Masės balansas",{"$f":"\"\"","v":""},{"$f":"H$530","v":"I tipas, biol."},{"$f":"I$530","v":"II tipas, biol."},null,null,null,null,2,"Naftos perdirbimo įrenginiai: Regeneravimas katalizinio krekingo įrenginiu",null,"BioC_Naftos perdirbimo įrenginiai: Regeneravimas katalizinio krekingo įrenginiu",null,null,null,null,null,null,false,null,{"$f":"\"\"","v":""},{"$f":"AA$530","v":"Veiklos vykdytojas taiko vieną iš verčių, paskelbtų pagal 39 str. 2 dalies pirmą \npastraipą, arba vertę, nustatytą pagal 39 str. 2 dalies antrą pastraipą arba 39 str. 3 dalį."},{"$f":"AB$530","v":"Veiklos vykdytojas konkrečius faktorius nustato pagal 39 str. 1 dalį."},null,null,null,null,2,null,null,{"$f":"AJ$530","v":"I tipas, biol."},{"$f":"AK$530","v":"II tipas, biol."}]
[10,"Naftos perdirbimas ","Naftos perdirbimo įrenginiai","Vandenilio gamyba",null,"Proceso metu išsiskiriančios ŠESD",{"$f":"EUconst_NA","v":"netaik."},null,null,null,null,null,null,"netaik.","Naftos perdirbimo įrenginiai: Vandenilio gamyba",null,"BioC_Naftos perdirbimo įrenginiai: Vandenilio gamyba",null,null,null,null,null,null,true,null,{"$f":"EUconst_NA","v":"netaik."},null,null,null,null,null,null,"netaik."]
[11,"Kokso gamyba","Koksas","Kuras kaip proceso žaliava",null,"Degimas",{"$f":"\"\"","v":""},{"$f":"H$530","v":"I tipas, biol."},{"$f":"I$530","v":"II tipas, biol."},null,null,null,null,2,"Koksas: Kuras kaip proceso žaliava",null,"BioC_Koksas: Kuras kaip proceso žaliava",null,null,null,null,null,null,false,null,{"$f":"\"\"","v":""},{"$f":"AA$530","v":"Veiklos vykdytojas taiko vieną iš verčių, paskelbtų pagal 39 str. 2 dalies pirmą \npastraipą, arba vertę, nustatytą pagal 39 str. 2 dalies antrą pastraipą arba 39 str. 3 dalį."},{"$f":"AB$530","v":"Veiklos vykdytojas konkrečius faktorius nustato pagal 39 str. 1 dalį."},null,null,null,null,2,null,null,{"$f":"AJ$530","v":"I tipas, biol."},{"$f":"AK$530","v":"II tipas, biol."}]
[12,"Kokso gamyba","Koksas","Karbonatų sąnaudos (A metodas)",null,"Proceso metu išsiskiriančios ŠESD",{"$f":"EUconst_NA","v":"netaik."},null,null,null,null,null,null,"netaik.","Koksas: Karbonatų sąnaudos (A metodas)",null,"BioC_Koksas: Karbonatų sąnaudos (A metodas)",null,null,null,null,null,null,true,null,{"$f":"EUconst_NA","v":"netaik."},null,null,null,null,null,null,"netaik."]
[13,"Kokso gamyba","Koksas","Oksido išeiga (B metodas)",null,"Proceso metu išsiskiriančios ŠESD",{"$f":"EUconst_NA","v":"netaik."},null,null,null,null,null,null,"netaik.","Koksas: Oksido išeiga (B metodas)",null,"BioC_Koksas: Oksido išeiga (B metodas)",null,null,null,null,null,null,true,null,{"$f":"EUconst_NA","v":"netaik."},null,null,null,null,null,null,"netaik."]
[14,"Kokso gamyba","Koksas","Masės balansas",null,"Masės balansas",{"$f":"\"\"","v":""},{"$f":"H$530","v":"I tipas, biol."},{"$f":"I$530","v":"II tipas, biol."},null,null,null,null,2,"Koksas: Masės balansas",null,"BioC_Koksas: Masės balansas",null,null,null,null,null,null,false,null,{"$f":"\"\"","v":""},{"$f":"AA$530","v":"Veiklos vykdytojas taiko vieną iš verčių, paskelbtų pagal 39 str. 2 dalies pirmą \npastraipą, arba vertę, nustatytą pagal 39 str. 2 dalies antrą pastraipą arba 39 str. 3 dalį."},{"$f":"AB$530","v":"Veiklos vykdytojas konkrečius faktorius nustato pagal 39 str. 1 dalį."},null,null,null,null,2,null,null,{"$f":"AJ$530","v":"I tipas, biol."},{"$f":"AK$530","v":"II tipas, biol."}]
[15,"Metalo rūdų deginimas ir kepinimas","Metalų rūda","Karbonatų sąnaudos",null,"Proceso metu išsiskiriančios ŠESD",{"$f":"EUconst_NA","v":"netaik."},null,null,null,null,null,null,"netaik.","Metalų rūda: Karbonatų sąnaudos",null,"BioC_Metalų rūda: Karbonatų sąnaudos",null,null,null,null,null,null,true,null,{"$f":"EUconst_NA","v":"netaik."},null,null,null,null,null,null,"netaik."]
[16,"Metalo rūdų deginimas ir kepinimas","Metalų rūda","Masės balansas",null,"Masės balansas",{"$f":"\"\"","v":""},{"$f":"H$530","v":"I tipas, biol."},{"$f":"I$530","v":"II tipas, biol."},null,null,null,null,2,"Metalų rūda: Masės balansas",null,"BioC_Metalų rūda: Masės balansas",null,null,null,null,null,null,false,null,{"$f":"\"\"","v":""},{"$f":"AA$530","v":"Veiklos vykdytojas taiko vieną iš verčių, paskelbtų pagal 39 str. 2 dalies pirmą \npastraipą, arba vertę, nustatytą pagal 39 str. 2 dalies antrą pastraipą arba 39 str. 3 dalį."},{"$f":"AB$530","v":"Veiklos vykdytojas konkrečius faktorius nustato pagal 39 str. 1 dalį."},null,null,null,null,2,null,null,{"$f":"AJ$530","v":"I tipas, biol."},{"$f":"AK$530","v":"II tipas, biol."}]
[17,"Geležies ir plieno gamyba","Geležis ir plienas","Kuras kaip proceso žaliava",null,"Degimas",{"$f":"\"\"","v":""},{"$f":"H$530","v":"I tipas, biol."},{"$f":"I$530","v":"II tipas, biol."},null,null,null,null,2,"Geležis ir plienas: Kuras kaip proceso žaliava",null,"BioC_Geležis ir plienas: Kuras kaip proceso žaliava",null,null,null,null,null,null,false,null,{"$f":"\"\"","v":""},{"$f":"AA$530","v":"Veiklos vykdytojas taiko vieną iš verčių, paskelbtų pagal 39 str. 2 dalies pirmą \npastraipą, arba vertę, nustatytą pagal 39 str. 2 dalies antrą pastraipą arba 39 str. 3 dalį."},{"$f":"AB$530","v":"Veiklos vykdytojas konkrečius faktorius nustato pagal 39 str. 1 dalį."},null,null,null,null,2,null,null,{"$f":"AJ$530","v":"I tipas, biol."},{"$f":"AK$530","v":"II tipas, biol."}]
[18,"Geležies ir plieno gamyba","Geležis ir plienas","Karbonatų sąnaudos",null,"Proceso metu išsiskiriančios ŠESD",{"$f":"EUconst_NA","v":"netaik."},null,null,null,null,null,null,"netaik.","Geležis ir plienas: Karbonatų sąnaudos",null,"BioC_Geležis ir plienas: Karbonatų sąnaudos",null,null,null,null,null,null,true,null,{"$f":"EUconst_NA","v":"netaik."},null,null,null,null,null,null,"netaik."]
[19,"Geležies ir plieno gamyba","Geležis ir plienas","Masės balansas",null,"Masės balansas",{"$f":"\"\"","v":""},{"$f":"H$530","v":"I tipas, biol."},{"$f":"I$530","v":"II tipas, biol."},null,null,null,null,2,"Geležis ir plienas: Masės balansas",null,"BioC_Geležis ir plienas: Masės balansas",null,null,null,null,null,null,false,null,{"$f":"\"\"","v":""},{"$f":"AA$530","v":"Veiklos vykdytojas taiko vieną iš verčių, paskelbtų pagal 39 str. 2 dalies pirmą \npastraipą, arba vertę, nustatytą pagal 39 str. 2 dalies antrą pastraipą arba 39 str. 3 dalį."},{"$f":"AB$530","v":"Veiklos vykdytojas konkrečius faktorius nustato pagal 39 str. 1 dalį."},null,null,null,null,2,null,null,{"$f":"AJ$530","v":"I tipas, biol."},{"$f":"AK$530","v":"II tipas, biol."}]
[20,"Cemento klinkerio gamyba","Cemento klinkeriai","Grindžiamas krosnies žaliava (A metodas)",null,"Proceso metu išsiskiriančios ŠESD",{"$f":"EUconst_NA","v":"netaik."},null,null,null,null,null,null,"netaik.","Cemento klinkeriai: Grindžiamas krosnies žaliava (A metodas)",null,"BioC_Cemento klinkeriai: Grindžiamas krosnies žaliava (A metodas)",null,null,null,null,null,null,true,null,{"$f":"EUconst_NA","v":"netaik."},null,null,null,null,null,null,"netaik."]
[21,{"$f":"B502","v":"Cemento klinkerio gamyba"},"Cemento klinkeriai","Klinkerio išeiga (B metodas)",null,"Proceso metu išsiskiriančios ŠESD","netaik.",null,null,null,null,null,null,"netaik.","Cemento klinkeriai: Klinkerio išeiga (B metodas)",null,"BioC_Cemento klinkeriai: Klinkerio išeiga (B metodas)",null,null,null,null,null,null,true,null,"netaik.",null,null,null,null,null,null,"netaik."]
[22,"Cemento klinkerio gamyba","Cemento klinkeriai","Cemento degimo krosnių dulkės",null,"Proceso metu išsiskiriančios ŠESD","netaik.",null,null,null,null,null,null,"netaik.","Cemento klinkeriai: Cemento degimo krosnių dulkės",null,"BioC_Cemento klinkeriai: Cemento degimo krosnių dulkės",null,null,null,null,null,null,true,null,"netaik.",null,null,null,null,null,null,"netaik."]
[23,"Cemento klinkerio gamyba","Cemento klinkeriai","Nekarbonatinė anglis",null,"Proceso metu išsiskiriančios ŠESD","netaik.",null,null,null,null,null,null,"netaik.","Cemento klinkeriai: Nekarbonatinė anglis",null,"BioC_Cemento klinkeriai: Nekarbonatinė anglis",null,null,null,null,null,null,true,null,"netaik.",null,null,null,null,null,null,"netaik."]
[24,"Kalkių gamyba ir dolomitų bei magnezitų kalcinavimas","Kalkės, dolomitas, magnezitas","Karbonatai (A metodas)",null,"Proceso metu išsiskiriančios ŠESD","netaik.",null,null,null,null,null,null,"netaik.","Kalkės, dolomitas, magnezitas: Karbonatai (A metodas)",null,"BioC_Kalkės, dolomitas, magnezitas: Karbonatai (A metodas)",null,null,null,null,null,null,true,null,"netaik.",null,null,null,null,null,null,"netaik."]
[25,"Kalkių gamyba ir dolomitų bei magnezitų kalcinavimas","Kalkės, dolomitas, magnezitas","Šarminių žemių metalų oksidas (B metodas)",null,"Proceso metu išsiskiriančios ŠESD","netaik.",null,null,null,null,null,null,"netaik.","Kalkės, dolomitas, magnezitas: Šarminių žemių metalų oksidas (B metodas)",null,"BioC_Kalkės, dolomitas, magnezitas: Šarminių žemių metalų oksidas (B metodas)",null,null,null,null,null,null,true,null,"netaik.",null,null,null,null,null,null,"netaik."]
[26,"Kalkių gamyba ir dolomitų bei magnezitų kalcinavimas","Kalkės, dolomitas, magnezitas","Degimo krosnių dulkės (B metodas)",null,"Proceso metu išsiskiriančios ŠESD","netaik.",null,null,null,null,null,null,"netaik.","Kalkės, dolomitas, magnezitas: Degimo krosnių dulkės (B metodas)",null,"BioC_Kalkės, dolomitas, magnezitas: Degimo krosnių dulkės (B metodas)",null,null,null,null,null,null,true,null,"netaik.",null,null,null,null,null,null,"netaik."]
[27,"Stiklo ir mineralinės vatos gamyba","Stiklas ir mineralinė vata","Karbonatai (žaliava)",null,"Proceso metu išsiskiriančios ŠESD","netaik.",null,null,null,null,null,null,"netaik.","Stiklas ir mineralinė vata: Karbonatai (žaliava)",null,"BioC_Stiklas ir mineralinė vata: Karbonatai (žaliava)",null,null,null,null,null,null,true,null,"netaik.",null,null,null,null,null,null,"netaik."]
[28,"Keramikos produktų gamyba","Keramikos dirbiniai.","Anglies sąnaudos (A metodas)",null,"Proceso metu išsiskiriančios ŠESD","netaik.",null,null,null,null,null,null,"netaik.","Keramikos dirbiniai.: Anglies sąnaudos (A metodas)",null,"BioC_Keramikos dirbiniai.: Anglies sąnaudos (A metodas)",null,null,null,null,null,null,true,null,"netaik.",null,null,null,null,null,null,"netaik."]
[29,"Keramikos produktų gamyba","Keramikos dirbiniai.","Šarminių metalų oksidas (B metodas)",null,"Proceso metu išsiskiriančios ŠESD","netaik.",null,null,null,null,null,null,"netaik.","Keramikos dirbiniai.: Šarminių metalų oksidas (B metodas)",null,"BioC_Keramikos dirbiniai.: Šarminių metalų oksidas (B metodas)",null,null,null,null,null,null,true,null,"netaik.",null,null,null,null,null,null,"netaik."]
[30,"Keramikos produktų gamyba","Keramikos dirbiniai.","Dujų plovimas",null,"Proceso metu išsiskiriančios ŠESD","netaik.",null,null,null,null,null,null,"netaik.","Keramikos dirbiniai.: Dujų plovimas",null,"BioC_Keramikos dirbiniai.: Dujų plovimas",null,null,null,null,null,null,true,null,"netaik.",null,null,null,null,null,null,"netaik."]
[31,"Celiuliozės ir popieriaus gamyba","Celiuliozė ir popierius","Sudėtinės cheminės medžiagos",null,"Proceso metu išsiskiriančios ŠESD","netaik.",null,null,null,null,null,null,"netaik.","Celiuliozė ir popierius: Sudėtinės cheminės medžiagos",null,"BioC_Celiuliozė ir popierius: Sudėtinės cheminės medžiagos",null,null,null,null,null,null,true,null,"netaik.",null,null,null,null,null,null,"netaik."]
[32,"Suodžių gamyba","Padengtas kartonas Suodžiai","Masės balanso metodika",null,"Masės balansas",{"$f":"\"\"","v":""},{"$f":"H$530","v":"I tipas, biol."},"II tipas, biol.",null,null,null,null,2,"Padengtas kartonas Suodžiai: Masės balanso metodika",null,"BioC_Padengtas kartonas Suodžiai: Masės balanso metodika",null,null,null,null,null,null,false,null,{"$f":"\"\"","v":""},{"$f":"AA$530","v":"Veiklos vykdytojas taiko vieną iš verčių, paskelbtų pagal 39 str. 2 dalies pirmą \npastraipą, arba vertę, nustatytą pagal 39 str. 2 dalies antrą pastraipą arba 39 str. 3 dalį."},"Veiklos vykdytojas konkrečius faktorius nustato pagal 39 str. 1 dalį.",null,null,null,null,2,null,null,{"$f":"AJ$530","v":"I tipas, biol."},"II tipas, biol."]
[33,"Amoniako gamyba","Amoniakas","Kuras kaip proceso žaliava",null,"Degimas",{"$f":"\"\"","v":""},"I tipas, biol.","II tipas, biol.",null,null,null,null,2,"Amoniakas: Kuras kaip proceso žaliava",null,"BioC_Amoniakas: Kuras kaip proceso žaliava",null,null,null,null,null,null,false,null,{"$f":"\"\"","v":""},"Veiklos vykdytojas taiko vieną iš verčių, paskelbtų pagal 39 str. 2 dalies pirmą \npastraipą, arba vertę, nustatytą pagal 39 str. 2 dalies antrą pastraipą arba 39 str. 3 dalį.","Veiklos vykdytojas konkrečius faktorius nustato pagal 39 str. 1 dalį.",null,null,null,null,2,null,null,"I tipas, biol.","II tipas, biol."]
[34,"Vandenilio ar sintezės dujų gamyba","Vandenilis ir sintezės dujos","Kuras kaip proceso žaliava",null,"Degimas",{"$f":"\"\"","v":""},"I tipas, biol.","II tipas, biol.",null,null,null,null,2,"Vandenilis ir sintezės dujos: Kuras kaip proceso žaliava",null,"BioC_Vandenilis ir sintezės dujos: Kuras kaip proceso žaliava",null,null,null,null,null,null,false,null,{"$f":"\"\"","v":""},"Veiklos vykdytojas taiko vieną iš verčių, paskelbtų pagal 39 str. 2 dalies pirmą \npastraipą, arba vertę, nustatytą pagal 39 str. 2 dalies antrą pastraipą arba 39 str. 3 dalį.","Veiklos vykdytojas konkrečius faktorius nustato pagal 39 str. 1 dalį.",null,null,null,null,2,null,null,"I tipas, biol.","II tipas, biol."]
[35,"Vandenilio ar sintezės dujų gamyba","Vandenilis ir sintezės dujos","Masės balanso metodika",null,"Masės balansas",{"$f":"\"\"","v":""},"I tipas, biol.","II tipas, biol.",null,null,null,null,2,"Vandenilis ir sintezės dujos: Masės balanso metodika",null,"BioC_Vandenilis ir sintezės dujos: Masės balanso metodika",null,null,null,null,null,null,false,null,{"$f":"\"\"","v":""},"Veiklos vykdytojas taiko vieną iš verčių, paskelbtų pagal 39 str. 2 dalies pirmą \npastraipą, arba vertę, nustatytą pagal 39 str. 2 dalies antrą pastraipą arba 39 str. 3 dalį.","Veiklos vykdytojas konkrečius faktorius nustato pagal 39 str. 1 dalį.",null,null,null,null,2,null,null,"I tipas, biol.","II tipas, biol."]
[36,"Biriųjų organinių cheminių medžiagų gamyba","Didelio masto organinių cheminių medžiagų gamyba","Masės balanso metodika",null,"Masės balansas",{"$f":"\"\"","v":""},"I tipas, biol.","II tipas, biol.",null,null,null,null,2,"Didelio masto organinių cheminių medžiagų gamyba: Masės balanso metodika",null,"BioC_Didelio masto organinių cheminių medžiagų gamyba: Masės balanso metodika",null,null,null,null,null,null,false,null,{"$f":"\"\"","v":""},"Veiklos vykdytojas taiko vieną iš verčių, paskelbtų pagal 39 str. 2 dalies pirmą \npastraipą, arba vertę, nustatytą pagal 39 str. 2 dalies antrą pastraipą arba 39 str. 3 dalį.","Veiklos vykdytojas konkrečius faktorius nustato pagal 39 str. 1 dalį.",null,null,null,null,2,null,null,"I tipas, biol.","II tipas, biol."]
[37,"Juodųjų ir spalvotųjų metalų, įskaitant antrinį aliuminį, gamyba ar apdirbimas","(Ne)spalvotieji, antrinis aliuminis","Proceso metu išsiskiriančios ŠESD",null,"Proceso metu išsiskiriančios ŠESD",{"$f":"EUconst_NA","v":"netaik."},null,null,null,null,null,null,"netaik.","(Ne)spalvotieji, antrinis aliuminis: Proceso metu išsiskiriančios ŠESD",null,"BioC_(Ne)spalvotieji, antrinis aliuminis: Proceso metu išsiskiriančios ŠESD",null,null,null,null,null,null,true,null,{"$f":"EUconst_NA","v":"netaik."},null,null,null,null,null,null,"netaik."]
[38,"Juodųjų ir spalvotųjų metalų, įskaitant antrinį aliuminį, gamyba ar apdirbimas","(Ne)spalvotieji, antrinis aliuminis","Masės balanso metodika",null,"Masės balansas",{"$f":"\"\"","v":""},{"$f":"H$530","v":"I tipas, biol."},"II tipas, biol.",null,null,null,null,2,"(Ne)spalvotieji, antrinis aliuminis: Masės balanso metodika",null,"BioC_(Ne)spalvotieji, antrinis aliuminis: Masės balanso metodika",null,null,null,null,null,null,false,null,{"$f":"\"\"","v":""},{"$f":"AA$530","v":"Veiklos vykdytojas taiko vieną iš verčių, paskelbtų pagal 39 str. 2 dalies pirmą \npastraipą, arba vertę, nustatytą pagal 39 str. 2 dalies antrą pastraipą arba 39 str. 3 dalį."},"Veiklos vykdytojas konkrečius faktorius nustato pagal 39 str. 1 dalį.",null,null,null,null,2,null,null,{"$f":"AJ$530","v":"I tipas, biol."},"II tipas, biol."]
[39,"Natrio karbonato ir natrio hidrokarbonato gamyba","Natrio karbonatas / natrio hidrokarbonatas","Masės balanso metodika",null,"Masės balansas",{"$f":"\"\"","v":""},"I tipas, biol.","II tipas, biol.",null,null,null,null,2,"Natrio karbonatas / natrio hidrokarbonatas: Masės balanso metodika",null,"BioC_Natrio karbonatas / natrio hidrokarbonatas: Masės balanso metodika",null,null,null,null,null,null,false,null,{"$f":"\"\"","v":""},"Veiklos vykdytojas taiko vieną iš verčių, paskelbtų pagal 39 str. 2 dalies pirmą \npastraipą, arba vertę, nustatytą pagal 39 str. 2 dalies antrą pastraipą arba 39 str. 3 dalį.","Veiklos vykdytojas konkrečius faktorius nustato pagal 39 str. 1 dalį.",null,null,null,null,2,null,null,"I tipas, biol.","II tipas, biol."]
[40,"Pirminio aliuminio gamyba","Pirminis aliuminis","Masės balanso metodika",null,"Masės balansas",{"$f":"\"\"","v":""},"I tipas, biol.","II tipas, biol.",null,null,null,null,2,"Pirminis aliuminis: Masės balanso metodika",null,"BioC_Pirminis aliuminis: Masės balanso metodika",null,null,null,null,null,null,false,null,{"$f":"\"\"","v":""},"Veiklos vykdytojas taiko vieną iš verčių, paskelbtų pagal 39 str. 2 dalies pirmą \npastraipą, arba vertę, nustatytą pagal 39 str. 2 dalies antrą pastraipą arba 39 str. 3 dalį.","Veiklos vykdytojas konkrečius faktorius nustato pagal 39 str. 1 dalį.",null,null,null,null,2,null,null,"I tipas, biol.","II tipas, biol."]
[41,{"$f":"B522","v":"Pirminio aliuminio gamyba"},"Pirminis aliuminis","Išmetamas PFC kiekis (nuolydžio metodas)",null,"Išmetamas PFC kiekis",{"$f":"EUconst_NA","v":"netaik."},null,null,null,null,null,null,"netaik.","Pirminis aliuminis: Išmetamas PFC kiekis (nuolydžio metodas)",null,"BioC_Pirminis aliuminis: Išmetamas PFC kiekis (nuolydžio metodas)",null,null,null,null,null,null,true,null,{"$f":"EUconst_NA","v":"netaik."},null,null,null,null,null,null,"netaik."]
[42,"Pirminio aliuminio gamyba","Pirminis aliuminis","Išmetamas PFC kiekis (viršįtampio metodas)",null,"Išmetamas PFC kiekis",{"$f":"EUconst_NA","v":"netaik."},null,null,null,null,null,null,"netaik.","Pirminis aliuminis: Išmetamas PFC kiekis (viršįtampio metodas)",null,"BioC_Pirminis aliuminis: Išmetamas PFC kiekis (viršįtampio metodas)",null,null,null,null,null,null,true,null,{"$f":"EUconst_NA","v":"netaik."},null,null,null,null,null,null,"netaik."]
[null,null,null,null,null,null,null,null,null,null,null,null,null,null,null,null,null,null,null,null,null,null,null,false]
[null,"Carbonate decomp Method A",null,null,null,null,null,null,null,null,null,null,null,null,null,null,null,null,null,null,null,null,null,false]
[null,"Carbonate decomp Method B",null,null,null,null,null,null,null,null,null,null,null,null,null,null,null,null,null,null,null,null,null,false]
[null,{"$f":"Translations!$B$431","v":"masių balansas"},null,null,null,null,null,{"$f":"H$530","v":"I tipas, biol."},{"$f":"I$530","v":"II tipas, biol."},null,null,null,null,null,null,null,null,null,null,null,null,null,null,false,null,null,{"$f":"AA$530","v":"Veiklos vykdytojas taiko vieną iš verčių, paskelbtų pagal 39 str. 2 dalies pirmą \npastraipą, arba vertę, nustatytą pagal 39 str. 2 dalies antrą pastraipą arba 39 str. 3 dalį."},{"$f":"AB$530","v":"Veiklos vykdytojas konkrečius faktorius nustato pagal 39 str. 1 dalį."},null,null,null,null,null,null,null,{"$f":"AJ$530","v":"I tipas, biol."},{"$f":"AK$530","v":"II tipas, biol."}]
[null,null,null,null,null,null,null,null,null,null,null,null,null,null,null,null,null,null,null,null,null,null,null,false]
[null,{"$f":"Translations!$B$153","v":"Oksidacijos faktorius"},null,null,null,{"$f":"F529","v":"Šaltinio tipas"},{"$f":"Translations!$B$338","v":"Mažiausiai"},1,2,"2a",{"$f":"Translations!$B$306","v":"2b"},3,null,{"$f":"Translations!$B$339","v":"Didžiausia"},null,null,null,null,null,null,null,null,null,null,null,{"$f":"Translations!$B$338","v":"Mažiausiai"},1,2,"2a",{"$f":"Translations!$B$306","v":"2b"},3,null,{"$f":"Translations!$B$339","v":"Didžiausia"},null,{"$f":"Translations!$B$433","v":"numatytoji vertė?"},1,2,"2a",{"$f":"Translations!$B$306","v":"2b"},3]
[{"$f":"A530","v":1},{"$f":"B530","v":"Kuro deginimas ir kaip proceso žaliava naudojamas kuras"},"Degimas","Komercinis standartinių rūšių kuras",null,{"$f":"F530","v":"Degimas"},1,{"$f":"Translations!$B$921","v":"OksK = 1"},{"$f":"Translations!$B$654","v":"II tipas"},null,null,{"$f":"Translations!$B$912","v":"Laboratoriniai tyrimai"},null,1,{"$f":"C578 & \": \" &D578","v":"Degimas: Komercinis standartinių rūšių kuras"},null,{"$f":"EUconst_CNTR_OxidationFactor&O578","v":"OxF_Degimas: Komercinis standartinių rūšių kuras"},null,null,null,null,null,null,false,null,1,{"$f":"Translations!$B$480","v":"Veiklos vykdytojas taiko oksidacijos faktorių, kurio vertė 1."},{"$f":"Translations!$B$481","v":"Veiklos vykdytojas taiko vieną iš verčių, paskelbtų pagal 39 str. 2 dalies pirmą pastraipą,\narba vertę, nustatytą pagal 39 str. 2 dalies antrą pastraipą arba 39 str. 3 dalį."},null,null,{"$f":"Translations!$B$482","v":"Kuro atveju veiklos vykdytojas nustato tam tikrai veiklai taikomus oksidacijos faktorius remdamasis pelenuose, nuotekose ir kitose atliekose bei šalutiniuose produktuose esančios anglies kiekiu, taip pat kitomis atitinkamomis ne iki galo oksidavusiosiomis dujinėmis išmestos anglies formomis, išskyrus CO. \nSudėties duomenys nustatomi pagal 32–35 str."},null,{"$f":"IF(Z578=EUconst_NA,EUconst_NA,IF(ISBLANK(AC578),COUNTA(AA578:AF578),COUNTA(AA578,AC578,AE578)))","v":3},null,null,1,1,null,null,2]
[{"$f":"A531","v":2},"Kuro deginimas ir kaip proceso žaliava naudojamas kuras","Degimas","Kitas dujinis ir skystasis kuras",null,{"$f":"F531","v":"Degimas"},1,{"$f":"H$578","v":"OksK = 1"},{"$f":"I$578","v":"II tipas"},null,null,{"$f":"L$578","v":"Laboratoriniai tyrimai"},null,1,"Degimas: Kitas dujinis ir skystasis kuras",null,"OxF_Degimas: Kitas dujinis ir skystasis kuras",null,null,null,null,null,null,false,null,1,{"$f":"AA$578","v":"Veiklos vykdytojas taiko oksidacijos faktorių, kurio vertė 1."},{"$f":"AB$578","v":"Veiklos vykdytojas taiko vieną iš verčių, paskelbtų pagal 39 str. 2 dalies pirmą pastraipą,\narba vertę, nustatytą pagal 39 str. 2 dalies antrą pastraipą arba 39 str. 3 dalį."},null,null,{"$f":"AE$578","v":"Kuro atveju veiklos vykdytojas nustato tam tikrai veiklai taikomus oksidacijos faktorius remdamasis pelenuose, nuotekose ir kitose atliekose bei šalutiniuose produktuose esančios anglies kiekiu, taip pat kitomis atitinkamomis ne iki galo oksidavusiosiomis dujinėmis išmestos anglies formomis, išskyrus CO. \nSudėties duomenys nustatomi pagal 32–35 str."},null,3,null,null,{"$f":"AJ$578","v":1},{"$f":"AK$578","v":1},null,null,{"$f":"AN$578","v":2}]
[3,"Kuro deginimas ir kaip proceso žaliava naudojamas kuras","Degimas","Kietasis kuras",null,"Degimas",1,{"$f":"H$578","v":"OksK = 1"},{"$f":"I$578","v":"II tipas"},null,null,{"$f":"L$578","v":"Laboratoriniai tyrimai"},null,1,"Degimas: Kietasis kuras",null,"OxF_Degimas: Kietasis kuras",null,null,null,null,null,null,false,null,1,{"$f":"AA$578","v":"Veiklos vykdytojas taiko oksidacijos faktorių, kurio vertė 1."},{"$f":"AB$578","v":"Veiklos vykdytojas taiko vieną iš verčių, paskelbtų pagal 39 str. 2 dalies pirmą pastraipą,\narba vertę, nustatytą pagal 39 str. 2 dalies antrą pastraipą arba 39 str. 3 dalį."},null,null,{"$f":"AE$578","v":"Kuro atveju veiklos vykdytojas nustato tam tikrai veiklai taikomus oksidacijos faktorius remdamasis pelenuose, nuotekose ir kitose atliekose bei šalutiniuose produktuose esančios anglies kiekiu, taip pat kitomis atitinkamomis ne iki galo oksidavusiosiomis dujinėmis išmestos anglies formomis, išskyrus CO. \nSudėties duomenys nustatomi pagal 32–35 str."},null,3,null,null,{"$f":"AJ$578","v":1},{"$f":"AK$578","v":1},null,null,{"$f":"AN$578","v":2}]
[4,"Kuro deginimas ir kaip proceso žaliava naudojamas kuras","Degimas","Dujų perdirbimo terminalai",null,"Masės balansas",{"$f":"EUconst_NA","v":"netaik."},null,null,null,null,null,null,{"$f":"IF(G581=EUconst_NA,EUconst_NA,IF(ISBLANK(J581),COUNTA(H581:M581),COUNTA(H581,J581,L581)))","v":"netaik."},"Degimas: Dujų perdirbimo terminalai",null,"OxF_Degimas: Dujų perdirbimo terminalai",null,null,null,null,null,null,true,null,{"$f":"EUconst_NA","v":"netaik."},null,null,null,null,null,null,"netaik."]
[5,"Kuro deginimas ir kaip proceso žaliava naudojamas kuras","Degimas","Fakelai",null,"Degimas",1,{"$f":"H$578","v":"OksK = 1"},{"$f":"I$578","v":"II tipas"},null,null,null,null,1,"Degimas: Fakelai",null,"OxF_Degimas: Fakelai",null,null,null,null,null,null,false,null,1,{"$f":"AA$578","v":"Veiklos vykdytojas taiko oksidacijos faktorių, kurio vertė 1."},{"$f":"AB$578","v":"Veiklos vykdytojas taiko vieną iš verčių, paskelbtų pagal 39 str. 2 dalies pirmą pastraipą,\narba vertę, nustatytą pagal 39 str. 2 dalies antrą pastraipą arba 39 str. 3 dalį."},null,null,null,null,2,null,null,{"$f":"AJ$578","v":1},{"$f":"AK$578","v":1}]
[6,"Kuro deginimas ir kaip proceso žaliava naudojamas kuras","Degimas","Dujų plovimas (karbonatai)",null,"Proceso metu išsiskiriančios ŠESD","netaik.",null,null,null,null,null,null,"netaik.","Degimas: Dujų plovimas (karbonatai)",null,"OxF_Degimas: Dujų plovimas (karbonatai)",null,null,null,null,null,null,true,null,"netaik.",null,null,null,null,null,null,"netaik."]
[7,"Kuro deginimas ir kaip proceso žaliava naudojamas kuras","Degimas","Dujų plovimas (gipsas)",null,"Proceso metu išsiskiriančios ŠESD","netaik.",null,null,null,null,null,null,"netaik.","Degimas: Dujų plovimas (gipsas)",null,"OxF_Degimas: Dujų plovimas (gipsas)",null,null,null,null,null,null,true,null,"netaik.",null,null,null,null,null,null,"netaik."]
[8,"Naftos perdirbimas ","Naftos perdirbimo įrenginiai","Masės balansas",null,"Masės balansas","netaik.",null,null,null,null,null,null,"netaik.","Naftos perdirbimo įrenginiai: Masės balansas",null,"OxF_Naftos perdirbimo įrenginiai: Masės balansas",null,null,null,null,null,null,true,null,"netaik.",null,null,null,null,null,null,"netaik."]
[9,"Naftos perdirbimas ","Naftos perdirbimo įrenginiai","Regeneravimas katalizinio krekingo įrenginiu",null,"Masės balansas","netaik.",null,null,null,null,null,null,"netaik.","Naftos perdirbimo įrenginiai: Regeneravimas katalizinio krekingo įrenginiu",null,"OxF_Naftos perdirbimo įrenginiai: Regeneravimas katalizinio krekingo įrenginiu",null,null,null,null,null,null,true,null,"netaik.",null,null,null,null,null,null,"netaik."]
[10,"Naftos perdirbimas ","Naftos perdirbimo įrenginiai","Vandenilio gamyba",null,"Proceso metu išsiskiriančios ŠESD","netaik.",null,null,null,null,null,null,"netaik.","Naftos perdirbimo įrenginiai: Vandenilio gamyba",null,"OxF_Naftos perdirbimo įrenginiai: Vandenilio gamyba",null,null,null,null,null,null,true,null,"netaik.",null,null,null,null,null,null,"netaik."]
[11,"Kokso gamyba","Koksas","Kuras kaip proceso žaliava",null,"Degimas","netaik.",null,null,null,null,null,null,"netaik.","Koksas: Kuras kaip proceso žaliava",null,"OxF_Koksas: Kuras kaip proceso žaliava",null,null,null,null,null,null,true,null,"netaik.",null,null,null,null,null,null,"netaik."]
[12,"Kokso gamyba","Koksas","Karbonatų sąnaudos (A metodas)",null,"Proceso metu išsiskiriančios ŠESD","netaik.",null,null,null,null,null,null,"netaik.","Koksas: Karbonatų sąnaudos (A metodas)",null,"OxF_Koksas: Karbonatų sąnaudos (A metodas)",null,null,null,null,null,null,true,null,"netaik.",null,null,null,null,null,null,"netaik."]
[13,"Kokso gamyba","Koksas","Oksido išeiga (B metodas)",null,"Proceso metu išsiskiriančios ŠESD","netaik.",null,null,null,null,null,null,"netaik.","Koksas: Oksido išeiga (B metodas)",null,"OxF_Koksas: Oksido išeiga (B metodas)",null,null,null,null,null,null,true,null,"netaik.",null,null,null,null,null,null,"netaik."]
[14,"Kokso gamyba","Koksas","Masės balansas",null,"Masės balansas","netaik.",null,null,null,null,null,null,"netaik.","Koksas: Masės balansas",null,"OxF_Koksas: Masės balansas",null,null,null,null,null,null,true,null,"netaik.",null,null,null,null,null,null,"netaik."]
[15,"Metalo rūdų deginimas ir kepinimas","Metalų rūda","Karbonatų sąnaudos",null,"Proceso metu išsiskiriančios ŠESD","netaik.",null,null,null,null,null,null,"netaik.","Metalų rūda: Karbonatų sąnaudos",null,"OxF_Metalų rūda: Karbonatų sąnaudos",null,null,null,null,null,null,true,null,"netaik.",null,null,null,null,null,null,"netaik."]
[16,"Metalo rūdų deginimas ir kepinimas","Metalų rūda","Masės balansas",null,"Masės balansas","netaik.",null,null,null,null,null,null,"netaik.","Metalų rūda: Masės balansas",null,"OxF_Metalų rūda: Masės balansas",null,null,null,null,null,null,true,null,"netaik.",null,null,null,null,null,null,"netaik."]
[17,"Geležies ir plieno gamyba","Geležis ir plienas","Kuras kaip proceso žaliava",null,"Degimas","netaik.",null,null,null,null,null,null,"netaik.","Geležis ir plienas: Kuras kaip proceso žaliava",null,"OxF_Geležis ir plienas: Kuras kaip proceso žaliava",null,null,null,null,null,null,{"$f":"IF(G594=EUconst_NA,TRUE,FALSE)","v":true},null,"netaik.",null,null,null,null,null,null,"netaik."]
[18,"Geležies ir plieno gamyba","Geležis ir plienas","Karbonatų sąnaudos",null,"Proceso metu išsiskiriančios ŠESD","netaik.",null,null,null,null,null,null,"netaik.","Geležis ir plienas: Karbonatų sąnaudos",null,"OxF_Geležis ir plienas: Karbonatų sąnaudos",null,null,null,null,null,null,true,null,"netaik.",null,null,null,null,null,null,"netaik."]
[19,"Geležies ir plieno gamyba","Geležis ir plienas","Masės balansas",null,"Masės balansas","netaik.",null,null,null,null,null,null,"netaik.","Geležis ir plienas: Masės balansas",null,"OxF_Geležis ir plienas: Masės balansas",null,null,null,null,null,null,true,null,"netaik.",null,null,null,null,null,null,"netaik."]
[20,"Cemento klinkerio gamyba","Cemento klinkeriai","Grindžiamas krosnies žaliava (A metodas)",null,"Proceso metu išsiskiriančios ŠESD","netaik.",null,null,null,null,null,null,"netaik.","Cemento klinkeriai: Grindžiamas krosnies žaliava (A metodas)",null,"OxF_Cemento klinkeriai: Grindžiamas krosnies žaliava (A metodas)",null,null,null,null,null,null,true,null,"netaik.",null,null,null,null,null,null,"netaik."]
[21,{"$f":"B550","v":"Cemento klinkerio gamyba"},"Cemento klinkeriai","Klinkerio išeiga (B metodas)",null,"Proceso metu išsiskiriančios ŠESD","netaik.",null,null,null,null,null,null,"netaik.","Cemento klinkeriai: Klinkerio išeiga (B metodas)",null,"OxF_Cemento klinkeriai: Klinkerio išeiga (B metodas)",null,null,null,null,null,null,true,null,"netaik.",null,null,null,null,null,null,"netaik."]
[22,"Cemento klinkerio gamyba","Cemento klinkeriai","Cemento degimo krosnių dulkės",null,"Proceso metu išsiskiriančios ŠESD","netaik.",null,null,null,null,null,null,"netaik.","Cemento klinkeriai: Cemento degimo krosnių dulkės",null,"OxF_Cemento klinkeriai: Cemento degimo krosnių dulkės",null,null,null,null,null,null,true,null,"netaik.",null,null,null,null,null,null,"netaik."]
[23,"Cemento klinkerio gamyba","Cemento klinkeriai","Nekarbonatinė anglis",null,"Proceso metu išsiskiriančios ŠESD","netaik.",null,null,null,null,null,null,"netaik.","Cemento klinkeriai: Nekarbonatinė anglis",null,"OxF_Cemento klinkeriai: Nekarbonatinė anglis",null,null,null,null,null,null,true,null,"netaik.",null,null,null,null,null,null,"netaik."]
[24,"Kalkių gamyba ir dolomitų bei magnezitų kalcinavimas","Kalkės, dolomitas, magnezitas","Karbonatai (A metodas)",null,"Proceso metu išsiskiriančios ŠESD","netaik.",null,null,null,null,null,null,"netaik.","Kalkės, dolomitas, magnezitas: Karbonatai (A metodas)",null,"OxF_Kalkės, dolomitas, magnezitas: Karbonatai (A metodas)",null,null,null,null,null,null,true,null,"netaik.",null,null,null,null,null,null,"netaik."]
[25,"Kalkių gamyba ir dolomitų bei magnezitų kalcinavimas","Kalkės, dolomitas, magnezitas","Šarminių žemių metalų oksidas (B metodas)",null,"Proceso metu išsiskiriančios ŠESD","netaik.",null,null,null,null,null,null,"netaik.","Kalkės, dolomitas, magnezitas: Šarminių žemių metalų oksidas (B metodas)",null,"OxF_Kalkės, dolomitas, magnezitas: Šarminių žemių metalų oksidas (B metodas)",null,null,null,null,null,null,true,null,"netaik.",null,null,null,null,null,null,"netaik."]
[26,"Kalkių gamyba ir dolomitų bei magnezitų kalcinavimas","Kalkės, dolomitas, magnezitas","Degimo krosnių dulkės (B metodas)",null,"Proceso metu išsiskiriančios ŠESD","netaik.",null,null,null,null,null,null,"netaik.","Kalkės, dolomitas, magnezitas: Degimo krosnių dulkės (B metodas)",null,"OxF_Kalkės, dolomitas, magnezitas: Degimo krosnių dulkės (B metodas)",null,null,null,null,null,null,true,null,"netaik.",null,null,null,null,null,null,"netaik."]
[27,"Stiklo ir mineralinės vatos gamyba","Stiklas ir mineralinė vata","Karbonatai (žaliava)",null,"Proceso metu išsiskiriančios ŠESD","netaik.",null,null,null,null,null,null,"netaik.","Stiklas ir mineralinė vata: Karbonatai (žaliava)",null,"OxF_Stiklas ir mineralinė vata: Karbonatai (žaliava)",null,null,null,null,null,null,true,null,"netaik.",null,null,null,null,null,null,"netaik."]
[28,"Keramikos produktų gamyba","Keramikos dirbiniai.","Anglies sąnaudos (A metodas)",null,"Proceso metu išsiskiriančios ŠESD","netaik.",null,null,null,null,null,null,"netaik.","Keramikos dirbiniai.: Anglies sąnaudos (A metodas)",null,"OxF_Keramikos dirbiniai.: Anglies sąnaudos (A metodas)",null,null,null,null,null,null,true,null,"netaik.",null,null,null,null,null,null,"netaik."]
[29,"Keramikos produktų gamyba","Keramikos dirbiniai.","Šarminių metalų oksidas (B metodas)",null,"Proceso metu išsiskiriančios ŠESD","netaik.",null,null,null,null,null,null,"netaik.","Keramikos dirbiniai.: Šarminių metalų oksidas (B metodas)",null,"OxF_Keramikos dirbiniai.: Šarminių metalų oksidas (B metodas)",null,null,null,null,null,null,true,null,"netaik.",null,null,null,null,null,null,"netaik."]
[30,"Keramikos produktų gamyba","Keramikos dirbiniai.","Dujų plovimas",null,"Proceso metu išsiskiriančios ŠESD","netaik.",null,null,null,null,null,null,"netaik.","Keramikos dirbiniai.: Dujų plovimas",null,"OxF_Keramikos dirbiniai.: Dujų plovimas",null,null,null,null,null,null,true,null,"netaik.",null,null,null,null,null,null,"netaik."]
[31,"Celiuliozės ir popieriaus gamyba","Celiuliozė ir popierius","Sudėtinės cheminės medžiagos",null,"Proceso metu išsiskiriančios ŠESD","netaik.",null,null,null,null,null,null,"netaik.","Celiuliozė ir popierius: Sudėtinės cheminės medžiagos",null,"OxF_Celiuliozė ir popierius: Sudėtinės cheminės medžiagos",null,null,null,null,null,null,true,null,"netaik.",null,null,null,null,null,null,"netaik."]
[32,"Suodžių gamyba","Padengtas kartonas Suodžiai","Masės balanso metodika",null,"Masės balansas","netaik.",null,null,null,null,null,null,"netaik.","Padengtas kartonas Suodžiai: Masės balanso metodika",null,"OxF_Padengtas kartonas Suodžiai: Masės balanso metodika",null,null,null,null,null,null,true,null,"netaik.",null,null,null,null,null,null,"netaik."]
[33,"Amoniako gamyba","Amoniakas","Kuras kaip proceso žaliava",null,"Degimas","netaik.",null,null,null,null,null,null,"netaik.","Amoniakas: Kuras kaip proceso žaliava",null,"OxF_Amoniakas: Kuras kaip proceso žaliava",null,null,null,null,null,null,true,null,"netaik.",null,null,null,null,null,null,"netaik."]
[34,"Vandenilio ar sintezės dujų gamyba","Vandenilis ir sintezės dujos","Kuras kaip proceso žaliava",null,"Degimas","netaik.",null,null,null,null,null,null,"netaik.","Vandenilis ir sintezės dujos: Kuras kaip proceso žaliava",null,"OxF_Vandenilis ir sintezės dujos: Kuras kaip proceso žaliava",null,null,null,null,null,null,true,null,"netaik.",null,null,null,null,null,null,"netaik."]
[35,"Vandenilio ar sintezės dujų gamyba","Vandenilis ir sintezės dujos","Masės balanso metodika",null,"Masės balansas","netaik.",null,null,null,null,null,null,"netaik.","Vandenilis ir sintezės dujos: Masės balanso metodika",null,"OxF_Vandenilis ir sintezės dujos: Masės balanso metodika",null,null,null,null,null,null,true,null,"netaik.",null,null,null,null,null,null,"netaik."]
[36,"Biriųjų organinių cheminių medžiagų gamyba","Didelio masto organinių cheminių medžiagų gamyba","Masės balanso metodika",null,"Masės balansas","netaik.",null,null,null,null,null,null,"netaik.","Didelio masto organinių cheminių medžiagų gamyba: Masės balanso metodika",null,"OxF_Didelio masto organinių cheminių medžiagų gamyba: Masės balanso metodika",null,null,null,null,null,null,true,null,"netaik.",null,null,null,null,null,null,"netaik."]
[37,"Juodųjų ir spalvotųjų metalų, įskaitant antrinį aliuminį, gamyba ar apdirbimas","(Ne)spalvotieji, antrinis aliuminis","Proceso metu išsiskiriančios ŠESD",null,"Proceso metu išsiskiriančios ŠESD","netaik.",null,null,null,null,null,null,"netaik.","(Ne)spalvotieji, antrinis aliuminis: Proceso metu išsiskiriančios ŠESD",null,"OxF_(Ne)spalvotieji, antrinis aliuminis: Proceso metu išsiskiriančios ŠESD",null,null,null,null,null,null,true,null,"netaik.",null,null,null,null,null,null,"netaik."]
[38,"Juodųjų ir spalvotųjų metalų, įskaitant antrinį aliuminį, gamyba ar apdirbimas","(Ne)spalvotieji, antrinis aliuminis","Masės balanso metodika",null,"Masės balansas","netaik.",null,null,null,null,null,null,"netaik.","(Ne)spalvotieji, antrinis aliuminis: Masės balanso metodika",null,"OxF_(Ne)spalvotieji, antrinis aliuminis: Masės balanso metodika",null,null,null,null,null,null,true,null,"netaik.",null,null,null,null,null,null,"netaik."]
[39,"Natrio karbonato ir natrio hidrokarbonato gamyba","Natrio karbonatas / natrio hidrokarbonatas","Masės balanso metodika",null,"Masės balansas","netaik.",null,null,null,null,null,null,"netaik.","Natrio karbonatas / natrio hidrokarbonatas: Masės balanso metodika",null,"OxF_Natrio karbonatas / natrio hidrokarbonatas: Masės balanso metodika",null,null,null,null,null,null,true,null,"netaik.",null,null,null,null,null,null,"netaik."]
[40,"Pirminio aliuminio gamyba","Pirminis aliuminis","Masės balanso metodika",null,"Masės balansas","netaik.",null,null,null,null,null,null,"netaik.","Pirminis aliuminis: Masės balanso metodika",null,"OxF_Pirminis aliuminis: Masės balanso metodika",null,null,null,null,null,null,true,null,"netaik.",null,null,null,null,null,null,"netaik."]
[41,{"$f":"B570","v":"Pirminio aliuminio gamyba"},"Pirminis aliuminis","Išmetamas PFC kiekis (nuolydžio metodas)",null,"Išmetamas PFC kiekis","netaik.",null,null,null,null,null,null,"netaik.","Pirminis aliuminis: Išmetamas PFC kiekis (nuolydžio metodas)",null,"OxF_Pirminis aliuminis: Išmetamas PFC kiekis (nuolydžio metodas)",null,null,null,null,null,null,true,null,"netaik.",null,null,null,null,null,null,"netaik."]
[42,"Pirminio aliuminio gamyba","Pirminis aliuminis","Išmetamas PFC kiekis (viršįtampio metodas)",null,"Išmetamas PFC kiekis","netaik.",null,null,null,null,null,null,"netaik.","Pirminis aliuminis: Išmetamas PFC kiekis (viršįtampio metodas)",null,"OxF_Pirminis aliuminis: Išmetamas PFC kiekis (viršįtampio metodas)",null,null,null,null,null,null,true,null,"netaik.",null,null,null,null,null,null,"netaik."]
[null,null,null,null,null,null,null,null,null,null,null,null,null,null,null,null,null,null,null,null,null,null,null,false]
[null,"Carbonate decomp Method A",null,null,null,null,null,null,null,null,null,null,null,null,null,null,null,null,null,null,null,null,null,false]
[null,"Carbonate decomp Method B",null,null,null,null,null,null,null,null,null,null,null,null,null,null,null,null,null,null,null,null,null,false]
[null,{"$f":"Translations!$B$431","v":"masių balansas"},null,null,null,null,null,null,null,null,null,null,null,null,null,null,null,null,null,null,null,null,null,false]
[null,null,null,null,null,null,null,null,null,null,null,null,null,null,null,null,null,null,null,null,null,null,null,false]
[null,{"$f":"Translations!$B$154","v":"Perskaičiavimo koeficientas"},null,null,null,{"$f":"F577","v":"Šaltinio tipas"},{"$f":"Translations!$B$338","v":"Mažiausiai"},1,2,"2a",{"$f":"Translations!$B$306","v":"2b"},3,null,{"$f":"Translations!$B$339","v":"Didžiausia"},null,null,null,null,null,null,null,null,null,null,null,{"$f":"Translations!$B$338","v":"Mažiausiai"},1,2,"2a",{"$f":"Translations!$B$306","v":"2b"},3,null,{"$f":"Translations!$B$339","v":"Didžiausia"},null,{"$f":"Translations!$B$433","v":"numatytoji vertė?"},1,2,"2a",{"$f":"Translations!$B$306","v":"2b"},3]
[{"$f":"A578","v":1},{"$f":"B578","v":"Kuro deginimas ir kaip proceso žaliava naudojamas kuras"},"Degimas","Komercinis standartinių rūšių kuras",null,{"$f":"F578","v":"Degimas"},{"$f":"EUconst_NA","v":"netaik."},null,null,null,null,null,null,{"$f":"IF(G626=EUconst_NA,EUconst_NA,IF(ISBLANK(J626),COUNTA(H626:M626),COUNTA(H626,J626,L626)))","v":"netaik."},{"$f":"C626 & \": \" &D626","v":"Degimas: Komercinis standartinių rūšių kuras"},null,{"$f":"EUconst_CNTR_ConversionFactor&O626","v":"ConvF_Degimas: Komercinis standartinių rūšių kuras"},null,null,null,null,null,null,true,null,{"$f":"EUconst_NA","v":"netaik."},null,null,null,null,null,null,{"$f":"IF(Z626=EUconst_NA,EUconst_NA,IF(ISBLANK(AC626),COUNTA(AA626:AF626),COUNTA(AA626,AC626,AE626)))","v":"netaik."}]
[{"$f":"A579","v":2},"Kuro deginimas ir kaip proceso žaliava naudojamas kuras","Degimas","Kitas dujinis ir skystasis kuras",null,{"$f":"F579","v":"Degimas"},"netaik.",null,null,null,null,null,null,"netaik.","Degimas: Kitas dujinis ir skystasis kuras",null,"ConvF_Degimas: Kitas dujinis ir skystasis kuras",null,null,null,null,null,null,true,null,"netaik.",null,null,null,null,null,null,"netaik."]
[3,"Kuro deginimas ir kaip proceso žaliava naudojamas kuras","Degimas","Kietasis kuras",null,"Degimas","netaik.",null,null,null,null,null,null,"netaik.","Degimas: Kietasis kuras",null,"ConvF_Degimas: Kietasis kuras",null,null,null,null,null,null,true,null,"netaik.",null,null,null,null,null,null,"netaik."]
[4,"Kuro deginimas ir kaip proceso žaliava naudojamas kuras","Degimas","Dujų perdirbimo terminalai",null,"Masės balansas","netaik.",null,null,null,null,null,null,"netaik.","Degimas: Dujų perdirbimo terminalai",null,"ConvF_Degimas: Dujų perdirbimo terminalai",null,null,null,null,null,null,true,null,"netaik.",null,null,null,null,null,null,"netaik."]
[5,"Kuro deginimas ir kaip proceso žaliava naudojamas kuras","Degimas","Fakelai",null,"Degimas","netaik.",null,null,null,null,null,null,"netaik.","Degimas: Fakelai",null,"ConvF_Degimas: Fakelai",null,null,null,null,null,null,true,null,"netaik.",null,null,null,null,null,null,"netaik."]
[6,"Kuro deginimas ir kaip proceso žaliava naudojamas kuras","Degimas","Dujų plovimas (karbonatai)",null,"Proceso metu išsiskiriančios ŠESD","netaik.",null,null,null,null,null,null,"netaik.","Degimas: Dujų plovimas (karbonatai)",null,"ConvF_Degimas: Dujų plovimas (karbonatai)",null,null,null,null,null,null,true,null,"netaik.",null,null,null,null,null,null,"netaik."]
[7,"Kuro deginimas ir kaip proceso žaliava naudojamas kuras","Degimas","Dujų plovimas (gipsas)",null,"Proceso metu išsiskiriančios ŠESD","netaik.",null,null,null,null,null,null,"netaik.","Degimas: Dujų plovimas (gipsas)",null,"ConvF_Degimas: Dujų plovimas (gipsas)",null,null,null,null,null,null,true,null,"netaik.",null,null,null,null,null,null,"netaik."]
[8,"Naftos perdirbimas ","Naftos perdirbimo įrenginiai","Masės balansas",null,"Masės balansas","netaik.",null,null,null,null,null,null,"netaik.","Naftos perdirbimo įrenginiai: Masės balansas",null,"ConvF_Naftos perdirbimo įrenginiai: Masės balansas",null,null,null,null,null,null,true,null,"netaik.",null,null,null,null,null,null,"netaik."]
[9,"Naftos perdirbimas ","Naftos perdirbimo įrenginiai","Regeneravimas katalizinio krekingo įrenginiu",null,"Masės balansas","netaik.",null,null,null,null,null,null,"netaik.","Naftos perdirbimo įrenginiai: Regeneravimas katalizinio krekingo įrenginiu",null,"ConvF_Naftos perdirbimo įrenginiai: Regeneravimas katalizinio krekingo įrenginiu",null,null,null,null,null,null,true,null,"netaik.",null,null,null,null,null,null,"netaik."]
[10,"Naftos perdirbimas ","Naftos perdirbimo įrenginiai","Vandenilio gamyba",null,"Proceso metu išsiskiriančios ŠESD","netaik.",null,null,null,null,null,null,"netaik.","Naftos perdirbimo įrenginiai: Vandenilio gamyba",null,"ConvF_Naftos perdirbimo įrenginiai: Vandenilio gamyba",null,null,null,null,null,null,true,null,"netaik.",null,null,null,null,null,null,"netaik."]
[11,"Kokso gamyba","Koksas","Kuras kaip proceso žaliava",null,"Degimas","netaik.",null,null,null,null,null,null,"netaik.","Koksas: Kuras kaip proceso žaliava",null,"ConvF_Koksas: Kuras kaip proceso žaliava",null,null,null,null,null,null,true,null,"netaik.",null,null,null,null,null,null,"netaik."]
[12,"Kokso gamyba","Koksas","Karbonatų sąnaudos (A metodas)",null,"Proceso metu išsiskiriančios ŠESD",1,{"$f":"H$669","v":"KonvK = 1"},{"$f":"I$669","v":"Laboratoriniai ir stechiometriniai"},null,null,null,null,1,"Koksas: Karbonatų sąnaudos (A metodas)",null,"ConvF_Koksas: Karbonatų sąnaudos (A metodas)",null,null,null,null,null,null,false,null,1,{"$f":"AA$669","v":"Naudojamas konversijos koeficientas, kurio vertė 1."},{"$f":"AB$669","v":"Karbonatai ir kita iš proceso pašalinama anglis įvertinami taikant konversijos koeficientą, kurio vertė nuo 0 iki 1. Veiklos vykdytojas gali daryti prielaidą,\nkad vienos ar keleto žaliavos rūšių virsmas įvyksta visiškai, o nepakitusias medžiagas ar kitą \nanglį priskirti likusioms žaliavoms. Papildomi produktų atitinkami cheminiai parametrai nustatomi pagal 32–35 str."},null,null,null,null,2,null,null,{"$f":"AJ$669","v":1},2]
[13,"Kokso gamyba","Koksas","Oksido išeiga (B metodas)",null,"Proceso metu išsiskiriančios ŠESD",1,{"$f":"H$670","v":"KonvK = 1"},{"$f":"I$670","v":"Laboratoriniai ir stechiometriniai"},null,null,null,null,1,"Koksas: Oksido išeiga (B metodas)",null,"ConvF_Koksas: Oksido išeiga (B metodas)",null,null,null,null,null,null,false,null,1,{"$f":"AA$670","v":"Naudojamas konversijos koeficientas, kurio vertė 1."},{"$f":"AB$670","v":"Atitinkamų metalų ne karbonatų junginių kiekis žaliavose, įskaitant grįžtamąsias dulkes ar \nlakiuosius pelenus ar kitas jau kalcinuotas medžiagas, yra perteikiamas naudojant konversijos\nkoeficientus, kurių vertė nuo 0 iki 1, kai vertė 1 atitinka visišką žaliavos karbonatų virtimą į oksidus. Papildomi proceso žaliavų atitinkami cheminiai parametrai nustatomi pagal 32–35 str."},null,null,null,null,2,null,null,{"$f":"AJ$670","v":1},2]
[14,"Kokso gamyba","Koksas","Masės balansas",null,"Masės balansas","netaik.",null,null,null,null,null,null,"netaik.","Koksas: Masės balansas",null,"ConvF_Koksas: Masės balansas",null,null,null,null,null,null,true,null,"netaik.",null,null,null,null,null,null,"netaik."]
[15,"Metalo rūdų deginimas ir kepinimas","Metalų rūda","Karbonatų sąnaudos",null,"Proceso metu išsiskiriančios ŠESD",1,{"$f":"H$669","v":"KonvK = 1"},{"$f":"I$669","v":"Laboratoriniai ir stechiometriniai"},null,null,null,null,1,"Metalų rūda: Karbonatų sąnaudos",null,"ConvF_Metalų rūda: Karbonatų sąnaudos",null,null,null,null,null,null,false,null,1,{"$f":"AA$669","v":"Naudojamas konversijos koeficientas, kurio vertė 1."},{"$f":"AB$669","v":"Karbonatai ir kita iš proceso pašalinama anglis įvertinami taikant konversijos koeficientą, kurio vertė nuo 0 iki 1. Veiklos vykdytojas gali daryti prielaidą,\nkad vienos ar keleto žaliavos rūšių virsmas įvyksta visiškai, o nepakitusias medžiagas ar kitą \nanglį priskirti likusioms žaliavoms. Papildomi produktų atitinkami cheminiai parametrai nustatomi pagal 32–35 str."},null,null,null,null,2,null,null,{"$f":"AJ$669","v":1},2]
[16,"Metalo rūdų deginimas ir kepinimas","Metalų rūda","Masės balansas",null,"Masės balansas",{"$f":"EUconst_NA","v":"netaik."},null,null,null,null,null,null,"netaik.","Metalų rūda: Masės balansas",null,"ConvF_Metalų rūda: Masės balansas",null,null,null,null,null,null,true,null,{"$f":"EUconst_NA","v":"netaik."},null,null,null,null,null,null,"netaik."]
[17,"Geležies ir plieno gamyba","Geležis ir plienas","Kuras kaip proceso žaliava",null,"Degimas",{"$f":"EUconst_NA","v":"netaik."},null,null,null,null,null,null,"netaik.","Geležis ir plienas: Kuras kaip proceso žaliava",null,"ConvF_Geležis ir plienas: Kuras kaip proceso žaliava",null,null,null,null,null,null,true,null,{"$f":"EUconst_NA","v":"netaik."},null,null,null,null,null,null,"netaik."]
[18,"Geležies ir plieno gamyba","Geležis ir plienas","Karbonatų sąnaudos",null,"Proceso metu išsiskiriančios ŠESD",1,{"$f":"H$669","v":"KonvK = 1"},{"$f":"I$669","v":"Laboratoriniai ir stechiometriniai"},null,null,null,null,1,"Geležis ir plienas: Karbonatų sąnaudos",null,"ConvF_Geležis ir plienas: Karbonatų sąnaudos",null,null,null,null,null,null,false,null,1,{"$f":"AA$669","v":"Naudojamas konversijos koeficientas, kurio vertė 1."},{"$f":"AB$669","v":"Karbonatai ir kita iš proceso pašalinama anglis įvertinami taikant konversijos koeficientą, kurio vertė nuo 0 iki 1. Veiklos vykdytojas gali daryti prielaidą,\nkad vienos ar keleto žaliavos rūšių virsmas įvyksta visiškai, o nepakitusias medžiagas ar kitą \nanglį priskirti likusioms žaliavoms. Papildomi produktų atitinkami cheminiai parametrai nustatomi pagal 32–35 str."},null,null,null,null,2,null,null,{"$f":"AJ$669","v":1},2]
[19,"Geležies ir plieno gamyba","Geležis ir plienas","Masės balansas",null,"Masės balansas",{"$f":"EUconst_NA","v":"netaik."},null,null,null,null,null,null,"netaik.","Geležis ir plienas: Masės balansas",null,"ConvF_Geležis ir plienas: Masės balansas",null,null,null,null,null,null,true,null,{"$f":"EUconst_NA","v":"netaik."},null,null,null,null,null,null,"netaik."]
[20,"Cemento klinkerio gamyba","Cemento klinkeriai","Grindžiamas krosnies žaliava (A metodas)",null,"Proceso metu išsiskiriančios ŠESD",1,{"$f":"H$669","v":"KonvK = 1"},{"$f":"I$669","v":"Laboratoriniai ir stechiometriniai"},null,null,null,null,1,"Cemento klinkeriai: Grindžiamas krosnies žaliava (A metodas)",null,"ConvF_Cemento klinkeriai: Grindžiamas krosnies žaliava (A metodas)",null,null,null,null,null,null,false,null,1,{"$f":"AA$669","v":"Naudojamas konversijos koeficientas, kurio vertė 1."},{"$f":"AB$669","v":"Karbonatai ir kita iš proceso pašalinama anglis įvertinami taikant konversijos koeficientą, kurio vertė nuo 0 iki 1. Veiklos vykdytojas gali daryti prielaidą,\nkad vienos ar keleto žaliavos rūšių virsmas įvyksta visiškai, o nepakitusias medžiagas ar kitą \nanglį priskirti likusioms žaliavoms. Papildomi produktų atitinkami cheminiai parametrai nustatomi pagal 32–35 str."},null,null,null,null,2,null,null,{"$f":"AJ$669","v":1},2]
[21,{"$f":"B598","v":"Cemento klinkerio gamyba"},"Cemento klinkeriai","Klinkerio išeiga (B metodas)",null,"Proceso metu išsiskiriančios ŠESD",1,{"$f":"H$670","v":"KonvK = 1"},{"$f":"I$670","v":"Laboratoriniai ir stechiometriniai"},null,null,null,null,1,"Cemento klinkeriai: Klinkerio išeiga (B metodas)",null,"ConvF_Cemento klinkeriai: Klinkerio išeiga (B metodas)",null,null,null,null,null,null,false,null,1,{"$f":"AA$670","v":"Naudojamas konversijos koeficientas, kurio vertė 1."},{"$f":"AB$670","v":"Atitinkamų metalų ne karbonatų junginių kiekis žaliavose, įskaitant grįžtamąsias dulkes ar \nlakiuosius pelenus ar kitas jau kalcinuotas medžiagas, yra perteikiamas naudojant konversijos\nkoeficientus, kurių vertė nuo 0 iki 1, kai vertė 1 atitinka visišką žaliavos karbonatų virtimą į oksidus. Papildomi proceso žaliavų atitinkami cheminiai parametrai nustatomi pagal 32–35 str."},null,null,null,null,2,null,null,{"$f":"AJ$670","v":1},2]
[22,"Cemento klinkerio gamyba","Cemento klinkeriai","Cemento degimo krosnių dulkės",null,"Proceso metu išsiskiriančios ŠESD",{"$f":"EUconst_NA","v":"netaik."},null,null,null,null,null,null,"netaik.","Cemento klinkeriai: Cemento degimo krosnių dulkės",null,"ConvF_Cemento klinkeriai: Cemento degimo krosnių dulkės",null,null,null,null,null,null,true,null,{"$f":"EUconst_NA","v":"netaik."},null,null,null,null,null,null,"netaik."]
[23,"Cemento klinkerio gamyba","Cemento klinkeriai","Nekarbonatinė anglis",null,"Proceso metu išsiskiriančios ŠESD",1,{"$f":"$H$670","v":"KonvK = 1"},{"$f":"Translations!$B$452","v":"Geriausia praktika"},null,null,null,null,1,"Cemento klinkeriai: Nekarbonatinė anglis",null,"ConvF_Cemento klinkeriai: Nekarbonatinė anglis",null,null,null,null,null,null,false,null,1,{"$f":"$H$670","v":"KonvK = 1"},{"$f":"Translations!$B$483","v":"Konversijos koeficientas apskaičiuojamas pagal sektoriaus geriausios patirties gaires."},null,null,null,null,2,null,null,{"$f":"$AJ$670","v":1},{"$f":"Translations!$B$452","v":"Geriausia praktika"}]
[24,"Kalkių gamyba ir dolomitų bei magnezitų kalcinavimas","Kalkės, dolomitas, magnezitas","Karbonatai (A metodas)",null,"Proceso metu išsiskiriančios ŠESD",1,{"$f":"H$669","v":"KonvK = 1"},{"$f":"I$669","v":"Laboratoriniai ir stechiometriniai"},null,null,null,null,1,"Kalkės, dolomitas, magnezitas: Karbonatai (A metodas)",null,"ConvF_Kalkės, dolomitas, magnezitas: Karbonatai (A metodas)",null,null,null,null,null,null,false,null,1,{"$f":"AA$669","v":"Naudojamas konversijos koeficientas, kurio vertė 1."},{"$f":"AB$669","v":"Karbonatai ir kita iš proceso pašalinama anglis įvertinami taikant konversijos koeficientą, kurio vertė nuo 0 iki 1. Veiklos vykdytojas gali daryti prielaidą,\nkad vienos ar keleto žaliavos rūšių virsmas įvyksta visiškai, o nepakitusias medžiagas ar kitą \nanglį priskirti likusioms žaliavoms. Papildomi produktų atitinkami cheminiai parametrai nustatomi pagal 32–35 str."},null,null,null,null,2,null,null,{"$f":"AJ$669","v":1},2]
[25,"Kalkių gamyba ir dolomitų bei magnezitų kalcinavimas","Kalkės, dolomitas, magnezitas","Šarminių žemių metalų oksidas (B metodas)",null,"Proceso metu išsiskiriančios ŠESD",1,{"$f":"H$670","v":"KonvK = 1"},{"$f":"I$670","v":"Laboratoriniai ir stechiometriniai"},null,null,null,null,1,"Kalkės, dolomitas, magnezitas: Šarminių žemių metalų oksidas (B metodas)",null,"ConvF_Kalkės, dolomitas, magnezitas: Šarminių žemių metalų oksidas (B metodas)",null,null,null,null,null,null,false,null,1,{"$f":"AA$670","v":"Naudojamas konversijos koeficientas, kurio vertė 1."},{"$f":"AB$670","v":"Atitinkamų metalų ne karbonatų junginių kiekis žaliavose, įskaitant grįžtamąsias dulkes ar \nlakiuosius pelenus ar kitas jau kalcinuotas medžiagas, yra perteikiamas naudojant konversijos\nkoeficientus, kurių vertė nuo 0 iki 1, kai vertė 1 atitinka visišką žaliavos karbonatų virtimą į oksidus. Papildomi proceso žaliavų atitinkami cheminiai parametrai nustatomi pagal 32–35 str."},null,null,null,null,2,null,null,{"$f":"AJ$670","v":1},2]
[26,"Kalkių gamyba ir dolomitų bei magnezitų kalcinavimas","Kalkės, dolomitas, magnezitas","Degimo krosnių dulkės (B metodas)",null,"Proceso metu išsiskiriančios ŠESD",1,{"$f":"H$670","v":"KonvK = 1"},{"$f":"I$670","v":"Laboratoriniai ir stechiometriniai"},null,null,null,null,1,"Kalkės, dolomitas, magnezitas: Degimo krosnių dulkės (B metodas)",null,"ConvF_Kalkės, dolomitas, magnezitas: Degimo krosnių dulkės (B metodas)",null,null,null,null,null,null,false,null,{"$f":"EUconst_NA","v":"netaik."},null,null,null,null,null,null,"netaik."]
[27,"Stiklo ir mineralinės vatos gamyba","Stiklas ir mineralinė vata","Karbonatai (žaliava)",null,"Proceso metu išsiskiriančios ŠESD",1,{"$f":"H$669","v":"KonvK = 1"},null,null,null,null,null,1,"Stiklas ir mineralinė vata: Karbonatai (žaliava)",null,"ConvF_Stiklas ir mineralinė vata: Karbonatai (žaliava)",null,null,null,null,null,null,false,null,{"$f":"EUconst_NA","v":"netaik."},null,null,null,null,null,null,"netaik.",null,null,{"$f":"AJ$669","v":1}]
[28,"Keramikos produktų gamyba","Keramikos dirbiniai.","Anglies sąnaudos (A metodas)",null,"Proceso metu išsiskiriančios ŠESD",1,{"$f":"H$669","v":"KonvK = 1"},{"$f":"I$669","v":"Laboratoriniai ir stechiometriniai"},null,null,null,null,1,"Keramikos dirbiniai.: Anglies sąnaudos (A metodas)",null,"ConvF_Keramikos dirbiniai.: Anglies sąnaudos (A metodas)",null,null,null,null,null,null,false,null,1,{"$f":"AA$669","v":"Naudojamas konversijos koeficientas, kurio vertė 1."},{"$f":"AB$669","v":"Karbonatai ir kita iš proceso pašalinama anglis įvertinami taikant konversijos koeficientą, kurio vertė nuo 0 iki 1. Veiklos vykdytojas gali daryti prielaidą,\nkad vienos ar keleto žaliavos rūšių virsmas įvyksta visiškai, o nepakitusias medžiagas ar kitą \nanglį priskirti likusioms žaliavoms. Papildomi produktų atitinkami cheminiai parametrai nustatomi pagal 32–35 str."},null,null,null,null,2,null,null,{"$f":"AJ$669","v":1},2]
[29,"Keramikos produktų gamyba","Keramikos dirbiniai.","Šarminių metalų oksidas (B metodas)",null,"Proceso metu išsiskiriančios ŠESD",1,{"$f":"H$670","v":"KonvK = 1"},{"$f":"I$670","v":"Laboratoriniai ir stechiometriniai"},null,null,null,null,1,"Keramikos dirbiniai.: Šarminių metalų oksidas (B metodas)",null,"ConvF_Keramikos dirbiniai.: Šarminių metalų oksidas (B metodas)",null,null,null,null,null,null,false,null,1,{"$f":"AA$670","v":"Naudojamas konversijos koeficientas, kurio vertė 1."},{"$f":"AB$670","v":"Atitinkamų metalų ne karbonatų junginių kiekis žaliavose, įskaitant grįžtamąsias dulkes ar \nlakiuosius pelenus ar kitas jau kalcinuotas medžiagas, yra perteikiamas naudojant konversijos\nkoeficientus, kurių vertė nuo 0 iki 1, kai vertė 1 atitinka visišką žaliavos karbonatų virtimą į oksidus. Papildomi proceso žaliavų atitinkami cheminiai parametrai nustatomi pagal 32–35 str."},null,null,null,null,2,null,null,{"$f":"AJ$670","v":1},2]
[30,"Keramikos produktų gamyba","Keramikos dirbiniai.","Dujų plovimas",null,"Proceso metu išsiskiriančios ŠESD",{"$f":"EUconst_NA","v":"netaik."},null,null,null,null,null,null,"netaik.","Keramikos dirbiniai.: Dujų plovimas",null,"ConvF_Keramikos dirbiniai.: Dujų plovimas",null,null,null,null,null,null,true,null,{"$f":"EUconst_NA","v":"netaik."},null,null,null,null,null,null,"netaik."]
[31,"Celiuliozės ir popieriaus gamyba","Celiuliozė ir popierius","Sudėtinės cheminės medžiagos",null,"Proceso metu išsiskiriančios ŠESD",1,{"$f":"H669","v":"KonvK = 1"},null,null,null,null,null,1,"Celiuliozė ir popierius: Sudėtinės cheminės medžiagos",null,"ConvF_Celiuliozė ir popierius: Sudėtinės cheminės medžiagos",null,null,null,null,null,null,false,null,"netaik.",null,null,null,null,null,null,"netaik.",null,null,{"$f":"AJ669","v":1}]
[32,"Suodžių gamyba","Padengtas kartonas Suodžiai","Masės balanso metodika",null,"Masės balansas","netaik.",null,null,null,null,null,null,"netaik.","Padengtas kartonas Suodžiai: Masės balanso metodika",null,"ConvF_Padengtas kartonas Suodžiai: Masės balanso metodika",null,null,null,null,null,null,true,null,"netaik.",null,null,null,null,null,null,"netaik."]
[33,"Amoniako gamyba","Amoniakas","Kuras kaip proceso žaliava",null,"Degimas","netaik.",null,null,null,null,null,null,"netaik.","Amoniakas: Kuras kaip proceso žaliava",null,"ConvF_Amoniakas: Kuras kaip proceso žaliava",null,null,null,null,null,null,{"$f":"IF(G658=EUconst_NA,TRUE,FALSE)","v":true},null,"netaik.",null,null,null,null,null,null,"netaik."]
[34,"Vandenilio ar sintezės dujų gamyba","Vandenilis ir sintezės dujos","Kuras kaip proceso žaliava",null,"Degimas","netaik.",null,null,null,null,null,null,"netaik.","Vandenilis ir sintezės dujos: Kuras kaip proceso žaliava",null,"ConvF_Vandenilis ir sintezės dujos: Kuras kaip proceso žaliava",null,null,null,null,null,null,true,null,"netaik.",null,null,null,null,null,null,"netaik."]
[35,"Vandenilio ar sintezės dujų gamyba","Vandenilis ir sintezės dujos","Masės balanso metodika",null,"Masės balansas","netaik.",null,null,null,null,null,null,"netaik.","Vandenilis ir sintezės dujos: Masės balanso metodika",null,"ConvF_Vandenilis ir sintezės dujos: Masės balanso metodika",null,null,null,null,null,null,true,null,"netaik.",null,null,null,null,null,null,"netaik."]
[36,"Biriųjų organinių cheminių medžiagų gamyba","Didelio masto organinių cheminių medžiagų gamyba","Masės balanso metodika",null,"Masės balansas","netaik.",null,null,null,null,null,null,"netaik.","Didelio masto organinių cheminių medžiagų gamyba: Masės balanso metodika",null,"ConvF_Didelio masto organinių cheminių medžiagų gamyba: Masės balanso metodika",null,null,null,null,null,null,true,null,"netaik.",null,null,null,null,null,null,"netaik."]
[37,"Juodųjų ir spalvotųjų metalų, įskaitant antrinį aliuminį, gamyba ar apdirbimas","(Ne)spalvotieji, antrinis aliuminis","Proceso metu išsiskiriančios ŠESD",null,"Proceso metu išsiskiriančios ŠESD",1,{"$f":"H$669","v":"KonvK = 1"},{"$f":"I$669","v":"Laboratoriniai ir stechiometriniai"},null,null,null,null,1,"(Ne)spalvotieji, antrinis aliuminis: Proceso metu išsiskiriančios ŠESD",null,"ConvF_(Ne)spalvotieji, antrinis aliuminis: Proceso metu išsiskiriančios ŠESD",null,null,null,null,null,null,false,null,1,{"$f":"AA$669","v":"Naudojamas konversijos koeficientas, kurio vertė 1."},{"$f":"AB$669","v":"Karbonatai ir kita iš proceso pašalinama anglis įvertinami taikant konversijos koeficientą, kurio vertė nuo 0 iki 1. Veiklos vykdytojas gali daryti prielaidą,\nkad vienos ar keleto žaliavos rūšių virsmas įvyksta visiškai, o nepakitusias medžiagas ar kitą \nanglį priskirti likusioms žaliavoms. Papildomi produktų atitinkami cheminiai parametrai nustatomi pagal 32–35 str."},null,null,null,null,2,null,null,{"$f":"AJ$669","v":1},2]
[38,"Juodųjų ir spalvotųjų metalų, įskaitant antrinį aliuminį, gamyba ar apdirbimas","(Ne)spalvotieji, antrinis aliuminis","Masės balanso metodika",null,"Masės balansas",{"$f":"EUconst_NA","v":"netaik."},null,null,null,null,null,null,"netaik.","(Ne)spalvotieji, antrinis aliuminis: Masės balanso metodika",null,"ConvF_(Ne)spalvotieji, antrinis aliuminis: Masės balanso metodika",null,null,null,null,null,null,true,null,{"$f":"EUconst_NA","v":"netaik."},null,null,null,null,null,null,"netaik."]
[39,"Natrio karbonato ir natrio hidrokarbonato gamyba",{"$f":"C616","v":"Natrio karbonatas / natrio hidrokarbonatas"},"Masės balanso metodika",null,"Masės balansas",{"$f":"EUconst_NA","v":"netaik."},null,null,null,null,null,null,"netaik.",{"$f":"C664 & \": \" &D664","v":"Natrio karbonatas / natrio hidrokarbonatas: Masės balanso metodika"},null,{"$f":"EUconst_CNTR_ConversionFactor&O664","v":"ConvF_Natrio karbonatas / natrio hidrokarbonatas: Masės balanso metodika"},null,null,null,null,null,null,true,null,{"$f":"EUconst_NA","v":"netaik."},null,null,null,null,null,null,"netaik."]
[40,"Pirminio aliuminio gamyba","Pirminis aliuminis","Masės balanso metodika",null,"Masės balansas",{"$f":"EUconst_NA","v":"netaik."},null,null,null,null,null,null,"netaik.",{"$f":"C665 & \": \" &D665","v":"Pirminis aliuminis: Masės balanso metodika"},null,{"$f":"EUconst_CNTR_ConversionFactor&O665","v":"ConvF_Pirminis aliuminis: Masės balanso metodika"},null,null,null,null,null,null,true,null,{"$f":"EUconst_NA","v":"netaik."},null,null,null,null,null,null,"netaik."]
[41,{"$f":"B618","v":"Pirminio aliuminio gamyba"},"Pirminis aliuminis","Išmetamas PFC kiekis (nuolydžio metodas)",null,"Išmetamas PFC kiekis",{"$f":"EUconst_NA","v":"netaik."},null,null,null,null,null,null,"netaik.",{"$f":"C666 & \": \" &D666","v":"Pirminis aliuminis: Išmetamas PFC kiekis (nuolydžio metodas)"},null,{"$f":"EUconst_CNTR_ConversionFactor&O666","v":"ConvF_Pirminis aliuminis: Išmetamas PFC kiekis (nuolydžio metodas)"},null,null,null,null,null,null,true,null,{"$f":"EUconst_NA","v":"netaik."},null,null,null,null,null,null,"netaik."]
[42,"Pirminio aliuminio gamyba","Pirminis aliuminis","Išmetamas PFC kiekis (viršįtampio metodas)",null,"Išmetamas PFC kiekis",{"$f":"EUconst_NA","v":"netaik."},null,null,null,null,null,null,"netaik.",{"$f":"C667 & \": \" &D667","v":"Pirminis aliuminis: Išmetamas PFC kiekis (viršįtampio metodas)"},null,{"$f":"EUconst_CNTR_ConversionFactor&O667","v":"ConvF_Pirminis aliuminis: Išmetamas PFC kiekis (viršįtampio metodas)"},null,null,null,null,null,null,true,null,{"$f":"EUconst_NA","v":"netaik."},null,null,null,null,null,null,"netaik."]
[]
[null,"Carbonate decomp Method A",null,null,null,null,null,{"$f":"Translations!$B$922","v":"KonvK = 1"},{"$f":"Translations!$B$920","v":"Laboratoriniai ir stechiometriniai"},null,null,null,null,null,null,null,null,null,null,null,null,null,null,null,null,null,{"$f":"Translations!$B$484","v":"Naudojamas konversijos koeficientas, kurio vertė 1."},{"$f":"Translations!$B$485","v":"Karbonatai ir kita iš proceso pašalinama anglis įvertinami taikant konversijos koeficientą, kurio vertė nuo 0 iki 1. Veiklos vykdytojas gali daryti prielaidą,\nkad vienos ar keleto žaliavos rūšių virsmas įvyksta visiškai, o nepakitusias medžiagas ar kitą \nanglį priskirti likusioms žaliavoms. Papildomi produktų atitinkami cheminiai parametrai nustatomi pagal 32–35 str."},null,null,null,null,null,null,null,1,2]
[null,"Carbonate decomp Method B",null,null,null,null,null,{"$f":"H669","v":"KonvK = 1"},{"$f":"I669","v":"Laboratoriniai ir stechiometriniai"},null,null,null,null,null,null,null,null,null,null,null,null,null,null,null,null,null,{"$f":"Translations!$B$484","v":"Naudojamas konversijos koeficientas, kurio vertė 1."},{"$f":"Translations!$B$486","v":"Atitinkamų metalų ne karbonatų junginių kiekis žaliavose, įskaitant grįžtamąsias dulkes ar \nlakiuosius pelenus ar kitas jau kalcinuotas medžiagas, yra perteikiamas naudojant konversijos\nkoeficientus, kurių vertė nuo 0 iki 1, kai vertė 1 atitinka visišką žaliavos karbonatų virtimą į oksidus. Papildomi proceso žaliavų atitinkami cheminiai parametrai nustatomi pagal 32–35 str."},null,null,null,null,null,null,null,{"$f":"AJ669","v":1},2]
[null,{"$f":"Translations!$B$431","v":"masių balansas"}]
[]
[null,{"$f":"Translations!$B$487","v":"Matavimas"},null,null,null,null,{"$f":"Translations!$B$338","v":"Mažiausiai"},1,2,"2a",{"$f":"Translations!$B$306","v":"2b"},3,4,{"$f":"Translations!$B$339","v":"Didžiausia"}]
[null,{"$f":"B95","v":"CO2"},null,null,null,null,2,{"$f":"Translations!$B$488","v":"± 10,0%"},{"$f":"Translations!$B$344","v":"± 7,5%"},null,null,{"$f":"Translations!$B$345","v":"± 5,0%"},{"$f":"Translations!$B$346","v":"± 2,5%"},{"$f":"IF(G674=EUconst_NA,EUconst_NA,IF(ISBLANK(J674),COUNTA(H674:M674),COUNTA(H674,J674,L674)))","v":4}]
[null,{"$f":"C95","v":"N2O"},null,null,null,null,2,{"$f":"Translations!$B$488","v":"± 10,0%"},{"$f":"Translations!$B$344","v":"± 7,5%"},null,null,{"$f":"Translations!$B$345","v":"± 5,0%"},{"$f":"EUconst_NA","v":"netaik."},3]
[null,{"$f":"D95","v":"CO2 perdavimas"},null,null,null,null,null,{"$f":"Translations!$B$488","v":"± 10,0%"},{"$f":"Translations!$B$344","v":"± 7,5%"},null,null,{"$f":"Translations!$B$345","v":"± 5,0%"},{"$f":"Translations!$B$346","v":"± 2,5%"},{"$f":"IF(G676=EUconst_NA,EUconst_NA,IF(ISBLANK(J676),COUNTA(H676:M676),COUNTA(H676,J676,L676)))","v":4}]
[]
[]
[]
[null,null,null,{"$f":"Translations!$B$489","v":"Pakopa"}]
[null,null,1,1]
[null,null,2,2]
[null,null,3,"2a"]
[null,null,4,{"$f":"Translations!$B$306","v":"2b"}]
[null,null,5,3]
[null,null,6,4]
[]
[null,"Euconst_EPRTRList"]
[null,{"$f":"Translations!$B$923","v":"1. a) Naftos ir dujų perdirbimo gamyklos"}]
[null,{"$f":"Translations!$B$924","v":"1. b) Dujofikavimo ir skystinimo įrenginiai"}]
[null,{"$f":"Translations!$B$925","v":"1. c) Šiluminės elektrinės ir kiti deginimo įrenginiai"}]
[null,{"$f":"Translations!$B$926","v":"1. d) Koksavimo krosnys"}]
[null,{"$f":"Translations!$B$927","v":"1. e) Anglių smulkinimo įrenginiai"}]
[null,{"$f":"Translations!$B$928","v":"1. f) Anglių produktų ir kietojo bedūmio kuro\ngamybos įmonės"}]
[null,{"$f":"Translations!$B$929","v":"2. a) Metalo rūdų (įskaitant sulfido rūdą) išdeginimo arba sukepinimo įrenginiai"}]
[null,{"$f":"Translations!$B$930","v":"2. b) Ketaus ar plieno (pirminio ar\nantrinio lydymo) gamybos luitais įrenginiai, įskaitant nepertraukiamą liejimą"}]
[null,{"$f":"Translations!$B$931","v":"2. c) i) Juodųjų metalų apdorojimo įrenginiai: karštojo valcavimo įmonės"}]
[null,{"$f":"Translations!$B$932","v":"2. c) ii) Juodųjų metalų apdorojimo įrenginiai: kalvės, kuriose naudojami kūjai"}]
[null,{"$f":"Translations!$B$933","v":"2. c) iii) Juodųjų metalų apdorojimo įrenginiai: dengimo lydalinėmis metalo dangomis įrenginiai"}]
[null,{"$f":"Translations!$B$934","v":"2. d) Juodųjų metalų liejyklos"}]
[null,{"$f":"Translations!$B$935","v":"2.e i) Spalvotųjų žaliavinių metalų gamybos iš rūdos,\nkoncentratų ar antrinių žaliavų metalurginiais,\ncheminiais ar elektrolizės procesais"}]
[null,{"$f":"Translations!$B$936","v":"2.e ii) Spalvotųjų metalų lydymo, įskaitant legiravimą,\ntaip pat ir perdirbtų produktų (taurinimas, liejimas ir kt.)"}]
[null,{"$f":"Translations!$B$937","v":"2. f) Metalų ir plastikų paviršiaus apdorojimo elektrolizės\nar cheminiais procesais įrenginiai"}]
[null,{"$f":"Translations!$B$938","v":"3. a) Požeminė kasyba ir susijusios operacijos"}]
[null,{"$f":"Translations!$B$939","v":"3. b) Atviroji kasyba ir karjerų eksploatavimas"}]
[null,{"$f":"Translations!$B$940","v":"3. c) i) Įrenginiai, skirti gaminti: cemento klinkeriui sukamosiose krosnyse"}]
[null,{"$f":"Translations!$B$941","v":"3. c) ii) Įrenginiai, skirti gaminti: kalkėms sukamosiose krosnyse"}]
[null,{"$f":"Translations!$B$942","v":"3. c) iii) Įrenginiai, skirti gaminti: cemento klinkeriui ar kalkėms kitose krosnyse"}]
[null,{"$f":"Translations!$B$943","v":"3. d) Asbesto ir asbestinių produktų gamybos įrenginiai"}]
[null,{"$f":"Translations!$B$944","v":"3. e) Stiklo, įskaitant stiklo pluoštą, gamybos įrenginiai"}]
[null,{"$f":"Translations!$B$945","v":"3. f) Mineralų lydymo įrenginiai, įskaitant mineralinio pluošto gamybą"}]
[null,{"$f":"Translations!$B$946","v":"3. g) Keramikos gaminių gamybos degimo būdu,\nypač čerpių, plytų, ugniai atsparių plytų, plytelių,\nkeramikos ar porceliano, įrenginiai"}]
[null,{"$f":"Translations!$B$947","v":"4. a) i) Chemijos įrenginiai, skirti šioms pagrindinėms organinėms\ncheminėms medžiagoms pramoniniu būdu gaminti: angliavandeniliams (linijiniams ar cikliniams, sotiesiems ar nesotiesiems,\nalifatiniams ar aromatiniams)"}]
[null,{"$f":"Translations!$B$948","v":"4. a) ii) Chemijos įrenginiai, skirti šioms pagrindinėms organinėms\ncheminėms medžiagoms pramoniniu būdu gaminti: deguonies turintiems angliavandeniliams, pvz., spiritui, aldehidams,\nketonams, karboksilo rūgštims, esteriams, acetatams, eteriams,\nperoksidams, epoksidinei dervai"}]
[null,{"$f":"Translations!$B$949","v":"4. a) iii) Chemijos įrenginiai, skirti šioms pagrindinėms organinėms\ncheminėms medžiagoms pramoniniu būdu gaminti: sieros angliavandeniliams"}]
[null,{"$f":"Translations!$B$950","v":"4. a) iv) Chemijos įrenginiai, skirti šioms pagrindinėms organinėms\ncheminėms medžiagoms pramoniniu būdu gaminti: azoto turintiems angliavandeniliams, pvz., aminams, amidams\nnitritiniams junginiams, nitro junginiams ar nitrato junginiams,\nnitrilams, cianatams, izocianatams"}]
[null,{"$f":"Translations!$B$951","v":"4. a) v) Chemijos įrenginiai, skirti šioms pagrindinėms organinėms\ncheminėms medžiagoms pramoniniu būdu gaminti: fosforo turintiems angliavandeniliams"}]
[null,{"$f":"Translations!$B$952","v":"4. a) vi) Chemijos įrenginiai, skirti šioms pagrindinėms organinėms\ncheminėms medžiagoms pramoniniu būdu gaminti: halogeniniams angliavandeniliams"}]
[null,{"$f":"Translations!$B$953","v":"4. a) vii) Chemijos įrenginiai, skirti šioms pagrindinėms organinėms\ncheminėms medžiagoms pramoniniu būdu gaminti: organometaliniams junginiams"}]
[null,{"$f":"Translations!$B$954","v":"4. a) viii) Chemijos įrenginiai, skirti šioms pagrindinėms organinėms\ncheminėms medžiagoms pramoniniu būdu gaminti: pagrindinėms plastinėms medžiagoms (polimerams, sintetiniam pluoštui ir celiuliozės\npluoštui)"}]
[null,{"$f":"Translations!$B$955","v":"4. a) ix) Chemijos įrenginiai, skirti šioms pagrindinėms organinėms\ncheminėms medžiagoms pramoniniu būdu gaminti: sintetinei gumai"}]
[null,{"$f":"Translations!$B$956","v":"4. a) x) Chemijos įrenginiai, skirti šioms pagrindinėms organinėms\ncheminėms medžiagoms pramoniniu būdu gaminti: dažams ir pigmentams"}]
[null,{"$f":"Translations!$B$957","v":"4. a) xi) Chemijos įrenginiai, skirti šioms pagrindinėms organinėms\ncheminėms medžiagoms pramoniniu būdu gaminti: paviršinio aktyvumo agentams ir medžiagoms"}]
[null,{"$f":"Translations!$B$958","v":"4. b) i) Chemijos įrenginiai, skirti šioms pagrindinėms neorganinėms\ncheminėms medžiagoms pramoniniu būdu gaminti: dujoms, pvz., amoniakui, chlorui ar vandeninio chloridui,\nfluorui ar vandenilio fluoridui, anglies oksidams, sieros junginiams,\nazoto oksidams, vandeniliui, sieros dioksidui, karbonilo chloridui"}]
[null,{"$f":"Translations!$B$959","v":"4. b) ii) Chemijos įrenginiai, skirti šioms pagrindinėms neorganinėms\ncheminėms medžiagoms pramoniniu būdu gaminti: rūgštims, pvz., chromo rūgščiai, fluoro vandenilio rūgščiai, fosforo\nrūgščiai, azoto rūgščiai, druskos rūgščiai, sieros rūgščiai,\noleumui, sulfitinėms rūgštims"}]
[null,{"$f":"Translations!$B$960","v":"4. b) iii) Chemijos įrenginiai, skirti šioms pagrindinėms neorganinėms\ncheminėms medžiagoms pramoniniu būdu gaminti: bazėms, pvz., amonio hidroksidui, kalio hidroksidui,\nnatrio hidroksidui"}]
[null,{"$f":"Translations!$B$961","v":"4. b) iv) Chemijos įrenginiai, skirti šioms pagrindinėms neorganinėms\ncheminėms medžiagoms pramoniniu būdu gaminti: druskoms, pvz., amonio chloridui, kalio chloratui,\nkalio karbonatui, natrio karbonatui, perboratui, sidabro\nnitratui"}]
[null,{"$f":"Translations!$B$962","v":"4. b) v) Chemijos įrenginiai, skirti šioms pagrindinėms neorganinėms\ncheminėms medžiagoms pramoniniu būdu gaminti: ne metalams, metalų oksidams ar kitiems neorganiniams junginiams,\npvz., kalcio karbidui, siliciui, silicio karbidui"}]
[null,{"$f":"Translations!$B$963","v":"4. c) Chemijos įrenginiai, skirti fosforo, azoto ar kalio trąšoms\n(paprastosioms ar mišriosioms trąšoms) pramoniniu būdu gaminti"}]
[null,{"$f":"Translations!$B$964","v":"4. d) Chemijos įrenginiai, skirti pagrindiniams augalų apsaugos\nproduktams ir biocidams pramoniniu būdu gaminti"}]
[null,{"$f":"Translations!$B$965","v":"4. e) Įrenginiai, skirti taikant cheminį ar biologinį procesą\npagrindiniams farmacijos produktams pramoniniu būdu gaminti"}]
[null,{"$f":"Translations!$B$966","v":"4. f) Įrenginiai, skirti sprogmenims ir pirotechnikos gaminiams\npramoniniu būdu gaminti"}]
[null,{"$f":"Translations!$B$967","v":"5. a) Pavojingų atliekų utilizavimo ar šalinimo įrenginiai"}]
[null,{"$f":"Translations!$B$968","v":"5. b) Nepavojingų atliekų deginimo įrenginiai, kuriems taikoma\n2000 m. gruodžio 4 d. Europos Parlamento ir Tarybos direktyva\n2000/76/EB dėl atliekų deginimo"}]
[null,{"$f":"Translations!$B$969","v":"5. c) Nepavojingų atliekų šalinimo įrenginiai"}]
[null,{"$f":"Translations!$B$970","v":"5. d) Sąvartynai (išskyrus inertinių atliekų sąvartynus ir sąvartynus,\nkurie galutinai uždaryti iki 2001 m. liepos 16 d. arba kurių vėlesnės\npriežiūros etapas, kompetentingų institucijų nustatytas kaip\nprivalomas pagal 1999 m. balandžio 26 d. Tarybos direktyvos\n1999/31/EB dėl atliekų sąvartynų 13 straipsnį, yra pasibaigęs)"}]
[null,{"$f":"Translations!$B$971","v":"5. e) Gyvūnų skerdenų ir gyvūninių atliekų šalinimo ar perdirbimo įrenginiai"}]
[null,{"$f":"Translations!$B$972","v":"5. f) Miesto nuotekų valymo įrenginiai"}]
[null,{"$f":"Translations!$B$973","v":"5. g) Nepriklausomai dirbantys pramonės nuotekų valymo įrenginiai, naudojami vienai ar kelioms šiame priede nurodytoms veiklos rūšims"}]
[null,{"$f":"Translations!$B$974","v":"6. a) Celiuliozės gamybos iš medienos ar panašių pluoštinių\nmedžiagų pramoniniai įrenginiai"}]
[null,{"$f":"Translations!$B$975","v":"6. b) Popieriaus bei kartono ir kitų pirminių medienos produktų\n(pvz., medienos drožlių plokščių, plaušo plokščių ir faneros)\ngamybos pramoniniai įrenginiai"}]
[null,{"$f":"Translations!$B$976","v":"6. c) Medienos ir medienos produktų konservavimo\nchemikalais pramoniniai įrenginiai"}]
[null,{"$f":"Translations!$B$977","v":"7. a) Intensyvaus paukščių arba kiaulių auginimo įrenginiai"}]
[null,{"$f":"Translations!$B$978","v":"7. b) Intensyvi akvakultūra"}]
[null,{"$f":"Translations!$B$979","v":"8. a) Skerdyklos"}]
[null,{"$f":"Translations!$B$980","v":"8. b) i) Apdorojimas ir perdirbimas, skirti maistui ir gėrimams gaminti iš:\ngyvulinių žaliavų (išskyrus pieną)"}]
[null,{"$f":"Translations!$B$981","v":"8. b) ii) Apdorojimas ir perdirbimas, skirti maistui ir gėrimams gaminti iš:\naugalinės kilmės žaliavų"}]
[null,{"$f":"Translations!$B$982","v":"8. c) Pieno apdorojimas ir perdirbimas"}]
[null,{"$f":"Translations!$B$983","v":"9. a) Pluošto ar tekstilės pirminio apdorojimo (tokiomis operacijomis\nkaip plovimas, balinimas, merserizavimas) ar dažymo įrenginiai"}]
[null,{"$f":"Translations!$B$984","v":"9. b) Kailių ir odų rauginimo įrenginiai"}]
[null,{"$f":"Translations!$B$985","v":"9. c) Medžiagų, daiktų arba gaminių paviršiaus apdorojimo naudojant\norganinius tirpiklius, ypač apdailos, spausdinimo, dengimo, riebalų\nšalinimo, hermetizavimo, klijavimo, dažymo, valymo ar\nimpregnavimo įrenginiai"}]
[null,{"$f":"Translations!$B$986","v":"9. d) Anglies (perdegtos anglies) ar anglies grafito gamybos deginimo\nar grafitizacijos būdu įrenginiai"}]
[null,{"$f":"Translations!$B$987","v":"9. e) Laivų statymo, dažymo ar dažų šalinimo įrenginiai"}]
[]
[]
["<END of list>"]

{"sheet":"MSParameters","index":13,"n_rows":376,"n_cols":112,"rows_kept":376,"cut":false,"hidden":true,"merged":[[71,1,71,8],[71,11,71,20],[73,0,74,1],[206,4,206,5],[206,2,206,3],[72,1,72,8],[73,18,73,19],[73,3,73,4],[73,5,73,6],[73,7,73,8],[73,14,73,15],[72,11,72,20],[73,12,73,13]]}
[]
["MS are free to use this sheet"]
[]
["Source stream category list for each source stream type"]
[]
["CRF Reporting mandatory?",false,"\"TRUE\" makes the reporting of CRF categories in sheet B, section 6 mandatory. Default value is \"FALSE\" = \"optional\""]
["Production details mandatory?",false,"\"TRUE\" makes the requiremet to report production data in sheet H, section 14 mandatory. Default value is \"FALSE\" = \"optional\""]
["Batch reporting mandatory?",false,"\"TRUE\" makes the reporting of stock changes as well as imported/exported quantities of fuels/materials in sheet C, section 8, point i. mandatory. Default value is \"FALSE\" = \"optional\""]
[]
["Source stream category list for each source stream type"]
["Please note: When this list is amended by the MS competent authority, the following technicalities are to be respected:",null,null,null,null,null,null,null,null,null,null,null,null,null,"Name of this sheet",{"$f":"IF(ISERROR(CELL(\"filename\",Q11)),\"MSParameters\",MID(CELL(\"filename\",Q11),FIND(\"]\",CELL(\"filename\",Q11))+1,1024))","v":"MSParameters"}]
["For each \"source stream type\" selected in section 7(b) the corresponding line in grey contains the fuels and materials that can then be selected in the same section under \"source stream category\"."]
["1. Only cells in the grey area below should be changed. No empty cells should be contained in the grey area (otherwise the operator can enter values which are not contained in the list)",null,null,null,null,null,null,null,null,null,null,null,"CHECK if there are empty cells:",null,null,{"$f":"IF(COUNTIF(MSPara_CategoryMatrix,\"\")>0,EUconst_ERR_Incomplete,\"\")","v":""}]
["2. If the list is too short, cells containing \"n.a\" can be replaced by additional fuels or materials."]
["3. Consider to also add those additional fuels/materials in the table below to attribute properties such as standard calculation factors or if the should be considered as purely fossil by default, where relevant."]
["4. As a final step it should be checked if the input area (grey) is identical to the defined Name: MSPara_CategoryMatrix"]
[null,null,null,null,"MSPara_CategoryAddress",null,"MSPara_CategoryMatrix"]
[1,{"$f":"INDEX(EUConst_TierActivityListNames,A18)","v":"Degimas: Komercinis standartinių rūšių kuras"},null,null,{"$f":"ADDRESS(ROW(),COLUMN(G18),,,$P$11)&\":\"&ADDRESS(ROW(),COLUMN(G18)+MAX(0,99-COUNTIF(G18:DB18,EUconst_NA)-COUNTIF(G18:DB18,\"\")))","v":"MSParameters!$G$18:$Q$18"},null,{"$f":"Translations!$B$988","v":"Dujinis – Etanas"},{"$f":"Translations!$B$989","v":"Dujinis – Propanas"},{"$f":"Translations!$B$990","v":"Dujinis – Butanas"},{"$f":"Translations!$B$991","v":"Skystasis – Dyzelinis krosnių kuras"},{"$f":"Translations!$B$992","v":"Skystasis – Gazolis"},{"$f":"Translations!$B$993","v":"Skystasis – Gazolinas"},{"$f":"Translations!$B$994","v":"Skystasis – Valytas žibalas"},{"$f":"Translations!$B$995","v":"Skystasis – Žibalas"},{"$f":"Translations!$B$996","v":"Skystasis – Reaktyvinis žibalas (Jet A1 arba Jet A)"},{"$f":"Translations!$B$997","v":"Skystasis – Reaktyvinis gazolinas (benzinas) (Jet B)"},{"$f":"Translations!$B$998","v":"Skystasis – Aviacinis gazolinas (benzinas) (AvGas)"},{"$f":"Translations!$B$157","v":"netaik."},{"$f":"Translations!$B$157","v":"netaik."},{"$f":"Translations!$B$157","v":"netaik."},{"$f":"Translations!$B$157","v":"netaik."},{"$f":"Translations!$B$157","v":"netaik."},{"$f":"Translations!$B$157","v":"netaik."},{"$f":"Translations!$B$157","v":"netaik."},{"$f":"Translations!$B$157","v":"netaik."},{"$f":"Translations!$B$157","v":"netaik."},{"$f":"Translations!$B$157","v":"netaik."},{"$f":"Translations!$B$157","v":"netaik."},{"$f":"Translations!$B$157","v":"netaik."},{"$f":"Translations!$B$157","v":"netaik."},{"$f":"Translations!$B$157","v":"netaik."},{"$f":"Translations!$B$157","v":"netaik."},{"$f":"Translations!$B$157","v":"netaik."},{"$f":"Translations!$B$157","v":"netaik."},{"$f":"Translations!$B$157","v":"netaik."},{"$f":"Translations!$B$157","v":"netaik."},{"$f":"Translations!$B$157","v":"netaik."},{"$f":"Translations!$B$157","v":"netaik."},{"$f":"Translations!$B$157","v":"netaik."},{"$f":"Translations!$B$157","v":"netaik."},{"$f":"Translations!$B$157","v":"netaik."},{"$f":"Translations!$B$157","v":"netaik."},{"$f":"Translations!$B$157","v":"netaik."},{"$f":"Translations!$B$157","v":"netaik."},{"$f":"Translations!$B$157","v":"netaik."},{"$f":"Translations!$B$157","v":"netaik."},{"$f":"Translations!$B$157","v":"netaik."},{"$f":"Translations!$B$157","v":"netaik."},{"$f":"Translations!$B$157","v":"netaik."},{"$f":"Translations!$B$157","v":"netaik."},{"$f":"Translations!$B$157","v":"netaik."},{"$f":"Translations!$B$157","v":"netaik."},{"$f":"Translations!$B$157","v":"netaik."},{"$f":"Translations!$B$157","v":"netaik."},{"$f":"Translations!$B$157","v":"netaik."},{"$f":"Translations!$B$157","v":"netaik."},{"$f":"Translations!$B$157","v":"netaik."},{"$f":"Translations!$B$157","v":"netaik."},{"$f":"Translations!$B$157","v":"netaik."},{"$f":"Translations!$B$157","v":"netaik."},{"$f":"Translations!$B$157","v":"netaik."},{"$f":"Translations!$B$157","v":"netaik."},{"$f":"Translations!$B$157","v":"netaik."},{"$f":"Translations!$B$157","v":"netaik."},{"$f":"Translations!$B$157","v":"netaik."},{"$f":"Translations!$B$157","v":"netaik."},{"$f":"Translations!$B$157","v":"netaik."},{"$f":"Translations!$B$157","v":"netaik."},{"$f":"Translations!$B$157","v":"netaik."},{"$f":"Translations!$B$157","v":"netaik."},{"$f":"Translations!$B$157","v":"netaik."},{"$f":"Translations!$B$157","v":"netaik."},{"$f":"Translations!$B$157","v":"netaik."},{"$f":"Translations!$B$157","v":"netaik."},{"$f":"Translations!$B$157","v":"netaik."},{"$f":"Translations!$B$157","v":"netaik."},{"$f":"Translations!$B$157","v":"netaik."},{"$f":"Translations!$B$157","v":"netaik."},{"$f":"Translations!$B$157","v":"netaik."},{"$f":"Translations!$B$157","v":"netaik."},{"$f":"Translations!$B$157","v":"netaik."},{"$f":"Translations!$B$157","v":"netaik."},{"$f":"Translations!$B$157","v":"netaik."},{"$f":"Translations!$B$157","v":"netaik."},{"$f":"Translations!$B$157","v":"netaik."},{"$f":"Translations!$B$157","v":"netaik."},{"$f":"Translations!$B$157","v":"netaik."},{"$f":"Translations!$B$157","v":"netaik."},{"$f":"Translations!$B$157","v":"netaik."},{"$f":"Translations!$B$157","v":"netaik."},{"$f":"Translations!$B$157","v":"netaik."},{"$f":"Translations!$B$157","v":"netaik."},{"$f":"Translations!$B$157","v":"netaik."},{"$f":"Translations!$B$157","v":"netaik."},{"$f":"Translations!$B$157","v":"netaik."},{"$f":"Translations!$B$157","v":"netaik."},{"$f":"Translations!$B$157","v":"netaik."},{"$f":"Translations!$B$157","v":"netaik."},{"$f":"Translations!$B$157","v":"netaik."},{"$f":"Translations!$B$157","v":"netaik."},{"$f":"Translations!$B$157","v":"netaik."},{"$f":"Translations!$B$157","v":"netaik."},{"$f":"Translations!$B$157","v":"netaik."},{"$f":"Translations!$B$157","v":"netaik."},{"$f":"Translations!$B$157","v":"netaik."},{"$f":"Translations!$B$157","v":"netaik."}]
[2,"Degimas: Kitas dujinis ir skystasis kuras",null,null,"MSParameters!$G$19:$AU$19",null,{"$f":"Translations!$B$999","v":"Dujinis – Gamtinės dujos"},{"$f":"Translations!$B$1000","v":"Dujinis – Dujų gamyklos dujos"},{"$f":"Translations!$B$1001","v":"Dujinis – Koksavimo dujos"},{"$f":"Translations!$B$1002","v":"Dujinis – Aukštakrosnių dujos"},{"$f":"Translations!$B$1003","v":"Dujinis – Deguoninių plieno aukštakrosnių dujos"},{"$f":"Translations!$B$1004","v":"Dujinis – Biodujos"},{"$f":"Translations!$B$1005","v":"Dujinis – Dumblo dujos"},{"$f":"Translations!$B$1006","v":"Dujinis – Sąvartynų dujos"},{"$f":"Translations!$B$1007","v":"Dujinis – Anglies monoksidas"},{"$f":"Translations!$B$1008","v":"Dujinis – Metanas"},{"$f":"Translations!$B$1009","v":"Dujinis – Kitų rūšių dujinis kuras"},{"$f":"Translations!$B$1010","v":"Dujinis – Kitų rūšių dujinė biomasė"},{"$f":"Translations!$B$1011","v":"Skystasis – Labai lengvos distiliacijos kuras"},{"$f":"Translations!$B$1012","v":"Skystasis – Vidutinės distiliacijos kuras"},{"$f":"Translations!$B$1013","v":"Skystasis – Sunkusis mazutas"},{"$f":"Translations!$B$1014","v":"Skystasis – Suskystintosios naftos dujos"},{"$f":"Translations!$B$1015","v":"Skystasis – Žalia nafta"},{"$f":"Translations!$B$1016","v":"Skystasis – Orimulsija"},{"$f":"Translations!$B$1017","v":"Skystasis – Gamtinių dujų kondensatai"},{"$f":"Translations!$B$1018","v":"Skystasis – Automobilinis benzinas"},{"$f":"Translations!$B$1019","v":"Skystasis – Skalūnų alyva"},{"$f":"Translations!$B$1020","v":"Skystasis – Dujos ir (arba) dyzelinas"},{"$f":"Translations!$B$1021","v":"Skystasis – Mazuto distiliavimo likutis"},{"$f":"Translations!$B$1022","v":"Skystasis – Pirminis benzinas"},{"$f":"Translations!$B$1023","v":"Skystasis – Tepalai"},{"$f":"Translations!$B$1024","v":"Skystasis – Vaitspiritas ir SBP"},{"$f":"Translations!$B$1025","v":"Skystasis – Skalūnų alyva ir gudoniniai smėliai"},{"$f":"Translations!$B$1026","v":"Skystasis – Akmens anglių briketai"},{"$f":"Translations!$B$1027","v":"Skystasis – Alyvų atliekos"},{"$f":"Translations!$B$1028","v":"Skystasis – Biobenzinas"},{"$f":"Translations!$B$1029","v":"Skystasi – Biodyzelinas"},{"$f":"Translations!$B$1030","v":"Skystasis – Bitumas"},{"$f":"Translations!$B$1031","v":"Skystasis – Organiniai tirpikliai"},{"$f":"Translations!$B$1032","v":"Skystasis – Kitų rūšių skystasis kuras"},{"$f":"Translations!$B$1033","v":"Skystasis – Kitų rūšių skystoji biomasė"},{"$f":"Translations!$B$1034","v":"Atliekos – Komunalinės ir pramoninės atliekos"},{"$f":"Translations!$B$1035","v":"Atliekos – Pramoninės atliekos"},{"$f":"Translations!$B$1036","v":"Naftos perdirbimo įmonių žaliava – Naftos perdirbimo įmonių dujos"},{"$f":"Translations!$B$1037","v":"Naftos perdirbimo įmonių žaliava – Liekanos"},{"$f":"Translations!$B$1038","v":"Naftos perdirbimo įmonių žaliava – Kita naftos perdirbimo įmonių žaliava"},{"$f":"Translations!$B$1039","v":"Naftos perdirbimo įmonių žaliava – Kiti naftos produktai"},{"$f":"Translations!$B$157","v":"netaik."},{"$f":"Translations!$B$157","v":"netaik."},{"$f":"Translations!$B$157","v":"netaik."},{"$f":"Translations!$B$157","v":"netaik."},{"$f":"Translations!$B$157","v":"netaik."},{"$f":"Translations!$B$157","v":"netaik."},{"$f":"Translations!$B$157","v":"netaik."},{"$f":"Translations!$B$157","v":"netaik."},{"$f":"Translations!$B$157","v":"netaik."},{"$f":"Translations!$B$157","v":"netaik."},{"$f":"Translations!$B$157","v":"netaik."},{"$f":"Translations!$B$157","v":"netaik."},{"$f":"Translations!$B$157","v":"netaik."},{"$f":"Translations!$B$157","v":"netaik."},{"$f":"Translations!$B$157","v":"netaik."},{"$f":"Translations!$B$157","v":"netaik."},{"$f":"Translations!$B$157","v":"netaik."},{"$f":"Translations!$B$157","v":"netaik."},{"$f":"Translations!$B$157","v":"netaik."},{"$f":"Translations!$B$157","v":"netaik."},{"$f":"Translations!$B$157","v":"netaik."},{"$f":"Translations!$B$157","v":"netaik."},{"$f":"Translations!$B$157","v":"netaik."},{"$f":"Translations!$B$157","v":"netaik."},{"$f":"Translations!$B$157","v":"netaik."},{"$f":"Translations!$B$157","v":"netaik."},{"$f":"Translations!$B$157","v":"netaik."},{"$f":"Translations!$B$157","v":"netaik."},{"$f":"Translations!$B$157","v":"netaik."},{"$f":"Translations!$B$157","v":"netaik."},{"$f":"Translations!$B$157","v":"netaik."},{"$f":"Translations!$B$157","v":"netaik."},{"$f":"Translations!$B$157","v":"netaik."},{"$f":"Translations!$B$157","v":"netaik."},{"$f":"Translations!$B$157","v":"netaik."},{"$f":"Translations!$B$157","v":"netaik."},{"$f":"Translations!$B$157","v":"netaik."},{"$f":"Translations!$B$157","v":"netaik."},{"$f":"Translations!$B$157","v":"netaik."},{"$f":"Translations!$B$157","v":"netaik."},{"$f":"Translations!$B$157","v":"netaik."},{"$f":"Translations!$B$157","v":"netaik."},{"$f":"Translations!$B$157","v":"netaik."},{"$f":"Translations!$B$157","v":"netaik."},{"$f":"Translations!$B$157","v":"netaik."},{"$f":"Translations!$B$157","v":"netaik."},{"$f":"Translations!$B$157","v":"netaik."},{"$f":"Translations!$B$157","v":"netaik."},{"$f":"Translations!$B$157","v":"netaik."},{"$f":"Translations!$B$157","v":"netaik."},{"$f":"Translations!$B$157","v":"netaik."},{"$f":"Translations!$B$157","v":"netaik."},{"$f":"Translations!$B$157","v":"netaik."},{"$f":"Translations!$B$157","v":"netaik."},{"$f":"Translations!$B$157","v":"netaik."},{"$f":"Translations!$B$157","v":"netaik."},{"$f":"Translations!$B$157","v":"netaik."},{"$f":"Translations!$B$157","v":"netaik."},{"$f":"Translations!$B$157","v":"netaik."}]
[3,"Degimas: Kietasis kuras",null,null,"MSParameters!$G$20:$AG$20",null,{"$f":"Translations!$B$1040","v":"Kietasis – Koksas"},{"$f":"Translations!$B$1041","v":"Kietasis – Naftos koksas"},{"$f":"Translations!$B$1042","v":"Kietasis – Akmens anglys"},{"$f":"Translations!$B$1043","v":"Kietasis – Lignitas"},{"$f":"Translations!$B$1044","v":"Kietasis – Antracitas"},{"$f":"Translations!$B$1045","v":"Kietasis – Koksinės anglys"},{"$f":"Translations!$B$1046","v":"Kietasis – Subbituminės akmens anglys"},{"$f":"Translations!$B$1047","v":"Kietasis – Kitos bituminės akmens anglys"},{"$f":"Translations!$B$1048","v":"Kietasis – Dujinis koksas"},{"$f":"Translations!$B$1049","v":"Kietasis – Parafinas"},{"$f":"Translations!$B$1050","v":"Kietasis – Sulfatinės išviros"},{"$f":"Translations!$B$1051","v":"Kietasis – Malkos"},{"$f":"Translations!$B$1052","v":"Kietasis – Mediena (ne atliekos)"},{"$f":"Translations!$B$1053","v":"Kietasis – Mediena (atliekos)"},{"$f":"Translations!$B$1054","v":"Kietasis – Durpės"},{"$f":"Translations!$B$1055","v":"Kietasis – Kanalizacijos dumblas"},{"$f":"Translations!$B$1056","v":"Kietasis – Komunalinių nuotekų dumblas"},{"$f":"Translations!$B$1057","v":"Kietasis – Akmens anglių degutas"},{"$f":"Translations!$B$1058","v":"Kietasis – Medžio anglys"},{"$f":"Translations!$B$1059","v":"Kietasis – Panaudos padangos"},{"$f":"Translations!$B$1060","v":"Kietasis – Kitų rūšių kietasis kuras"},{"$f":"Translations!$B$1061","v":"Kietasis – Kitų rūšių kietoji biomasė"},{"$f":"Translations!$B$1034","v":"Atliekos – Komunalinės ir pramoninės atliekos"},{"$f":"Translations!$B$1035","v":"Atliekos – Pramoninės atliekos"},{"$f":"Translations!$B$1037","v":"Naftos perdirbimo įmonių žaliava – Liekanos"},{"$f":"Translations!$B$1038","v":"Naftos perdirbimo įmonių žaliava – Kita naftos perdirbimo įmonių žaliava"},{"$f":"Translations!$B$1039","v":"Naftos perdirbimo įmonių žaliava – Kiti naftos produktai"},{"$f":"Translations!$B$157","v":"netaik."},{"$f":"Translations!$B$157","v":"netaik."},{"$f":"Translations!$B$157","v":"netaik."},{"$f":"Translations!$B$157","v":"netaik."},{"$f":"Translations!$B$157","v":"netaik."},{"$f":"Translations!$B$157","v":"netaik."},{"$f":"Translations!$B$157","v":"netaik."},{"$f":"Translations!$B$157","v":"netaik."},{"$f":"Translations!$B$157","v":"netaik."},{"$f":"Translations!$B$157","v":"netaik."},{"$f":"Translations!$B$157","v":"netaik."},{"$f":"Translations!$B$157","v":"netaik."},{"$f":"Translations!$B$157","v":"netaik."},{"$f":"Translations!$B$157","v":"netaik."},{"$f":"Translations!$B$157","v":"netaik."},{"$f":"Translations!$B$157","v":"netaik."},{"$f":"Translations!$B$157","v":"netaik."},{"$f":"Translations!$B$157","v":"netaik."},{"$f":"Translations!$B$157","v":"netaik."},{"$f":"Translations!$B$157","v":"netaik."},{"$f":"Translations!$B$157","v":"netaik."},{"$f":"Translations!$B$157","v":"netaik."},{"$f":"Translations!$B$157","v":"netaik."},{"$f":"Translations!$B$157","v":"netaik."},{"$f":"Translations!$B$157","v":"netaik."},{"$f":"Translations!$B$157","v":"netaik."},{"$f":"Translations!$B$157","v":"netaik."},{"$f":"Translations!$B$157","v":"netaik."},{"$f":"Translations!$B$157","v":"netaik."},{"$f":"Translations!$B$157","v":"netaik."},{"$f":"Translations!$B$157","v":"netaik."},{"$f":"Translations!$B$157","v":"netaik."},{"$f":"Translations!$B$157","v":"netaik."},{"$f":"Translations!$B$157","v":"netaik."},{"$f":"Translations!$B$157","v":"netaik."},{"$f":"Translations!$B$157","v":"netaik."},{"$f":"Translations!$B$157","v":"netaik."},{"$f":"Translations!$B$157","v":"netaik."},{"$f":"Translations!$B$157","v":"netaik."},{"$f":"Translations!$B$157","v":"netaik."},{"$f":"Translations!$B$157","v":"netaik."},{"$f":"Translations!$B$157","v":"netaik."},{"$f":"Translations!$B$157","v":"netaik."},{"$f":"Translations!$B$157","v":"netaik."},{"$f":"Translations!$B$157","v":"netaik."},{"$f":"Translations!$B$157","v":"netaik."},{"$f":"Translations!$B$157","v":"netaik."},{"$f":"Translations!$B$157","v":"netaik."},{"$f":"Translations!$B$157","v":"netaik."},{"$f":"Translations!$B$157","v":"netaik."},{"$f":"Translations!$B$157","v":"netaik."},{"$f":"Translations!$B$157","v":"netaik."},{"$f":"Translations!$B$157","v":"netaik."},{"$f":"Translations!$B$157","v":"netaik."},{"$f":"Translations!$B$157","v":"netaik."},{"$f":"Translations!$B$157","v":"netaik."},{"$f":"Translations!$B$157","v":"netaik."},{"$f":"Translations!$B$157","v":"netaik."},{"$f":"Translations!$B$157","v":"netaik."},{"$f":"Translations!$B$157","v":"netaik."},{"$f":"Translations!$B$157","v":"netaik."},{"$f":"Translations!$B$157","v":"netaik."},{"$f":"Translations!$B$157","v":"netaik."},{"$f":"Translations!$B$157","v":"netaik."},{"$f":"Translations!$B$157","v":"netaik."},{"$f":"Translations!$B$157","v":"netaik."},{"$f":"Translations!$B$157","v":"netaik."},{"$f":"Translations!$B$157","v":"netaik."},{"$f":"Translations!$B$157","v":"netaik."},{"$f":"Translations!$B$157","v":"netaik."},{"$f":"Translations!$B$157","v":"netaik."},{"$f":"Translations!$B$157","v":"netaik."},{"$f":"Translations!$B$157","v":"netaik."}]
[4,"Degimas: Dujų perdirbimo terminalai",null,null,"MSParameters!$G$21:$BJ$21",null,{"$f":"Translations!$B$1062","v":"Medžiaga – Kitų rūšių žaliavos"},{"$f":"Translations!$B$1063","v":"Medžiaga – Kitų rūšių produktai"},{"$f":"Translations!$B$1064","v":"Medžiaga – Kitos medžiagos"},{"$f":"Translations!$B$999","v":"Dujinis – Gamtinės dujos"},{"$f":"Translations!$B$1000","v":"Dujinis – Dujų gamyklos dujos"},{"$f":"Translations!$B$1001","v":"Dujinis – Koksavimo dujos"},{"$f":"Translations!$B$1002","v":"Dujinis – Aukštakrosnių dujos"},{"$f":"Translations!$B$1003","v":"Dujinis – Deguoninių plieno aukštakrosnių dujos"},{"$f":"Translations!$B$1004","v":"Dujinis – Biodujos"},{"$f":"Translations!$B$1005","v":"Dujinis – Dumblo dujos"},{"$f":"Translations!$B$1006","v":"Dujinis – Sąvartynų dujos"},{"$f":"Translations!$B$1007","v":"Dujinis – Anglies monoksidas"},{"$f":"Translations!$B$1008","v":"Dujinis – Metanas"},{"$f":"Translations!$B$988","v":"Dujinis – Etanas"},{"$f":"Translations!$B$989","v":"Dujinis – Propanas"},{"$f":"Translations!$B$990","v":"Dujinis – Butanas"},{"$f":"Translations!$B$1009","v":"Dujinis – Kitų rūšių dujinis kuras"},{"$f":"Translations!$B$1010","v":"Dujinis – Kitų rūšių dujinė biomasė"},{"$f":"Translations!$B$991","v":"Skystasis – Dyzelinis krosnių kuras"},{"$f":"Translations!$B$1011","v":"Skystasis – Labai lengvos distiliacijos kuras"},{"$f":"Translations!$B$1012","v":"Skystasis – Vidutinės distiliacijos kuras"},{"$f":"Translations!$B$1013","v":"Skystasis – Sunkusis mazutas"},{"$f":"Translations!$B$992","v":"Skystasis – Gazolis"},{"$f":"Translations!$B$993","v":"Skystasis – Gazolinas"},{"$f":"Translations!$B$994","v":"Skystasis – Valytas žibalas"},{"$f":"Translations!$B$995","v":"Skystasis – Žibalas"},{"$f":"Translations!$B$996","v":"Skystasis – Reaktyvinis žibalas (Jet A1 arba Jet A)"},{"$f":"Translations!$B$997","v":"Skystasis – Reaktyvinis gazolinas (benzinas) (Jet B)"},{"$f":"Translations!$B$998","v":"Skystasis – Aviacinis gazolinas (benzinas) (AvGas)"},{"$f":"Translations!$B$1014","v":"Skystasis – Suskystintosios naftos dujos"},{"$f":"Translations!$B$1015","v":"Skystasis – Žalia nafta"},{"$f":"Translations!$B$1016","v":"Skystasis – Orimulsija"},{"$f":"Translations!$B$1017","v":"Skystasis – Gamtinių dujų kondensatai"},{"$f":"Translations!$B$1018","v":"Skystasis – Automobilinis benzinas"},{"$f":"Translations!$B$1019","v":"Skystasis – Skalūnų alyva"},{"$f":"Translations!$B$1020","v":"Skystasis – Dujos ir (arba) dyzelinas"},{"$f":"Translations!$B$1021","v":"Skystasis – Mazuto distiliavimo likutis"},{"$f":"Translations!$B$1022","v":"Skystasis – Pirminis benzinas"},{"$f":"Translations!$B$1023","v":"Skystasis – Tepalai"},{"$f":"Translations!$B$1024","v":"Skystasis – Vaitspiritas ir SBP"},{"$f":"Translations!$B$1025","v":"Skystasis – Skalūnų alyva ir gudoniniai smėliai"},{"$f":"Translations!$B$1026","v":"Skystasis – Akmens anglių briketai"},{"$f":"Translations!$B$1027","v":"Skystasis – Alyvų atliekos"},{"$f":"Translations!$B$1028","v":"Skystasis – Biobenzinas"},{"$f":"Translations!$B$1029","v":"Skystasi – Biodyzelinas"},{"$f":"Translations!$B$1032","v":"Skystasis – Kitų rūšių skystasis kuras"},{"$f":"Translations!$B$1033","v":"Skystasis – Kitų rūšių skystoji biomasė"},{"$f":"Translations!$B$1050","v":"Kietasis – Sulfatinės išviros"},{"$f":"Translations!$B$1055","v":"Kietasis – Kanalizacijos dumblas"},{"$f":"Translations!$B$1056","v":"Kietasis – Komunalinių nuotekų dumblas"},{"$f":"Translations!$B$1034","v":"Atliekos – Komunalinės ir pramoninės atliekos"},{"$f":"Translations!$B$1035","v":"Atliekos – Pramoninės atliekos"},{"$f":"Translations!$B$1036","v":"Naftos perdirbimo įmonių žaliava – Naftos perdirbimo įmonių dujos"},{"$f":"Translations!$B$1037","v":"Naftos perdirbimo įmonių žaliava – Liekanos"},{"$f":"Translations!$B$1038","v":"Naftos perdirbimo įmonių žaliava – Kita naftos perdirbimo įmonių žaliava"},{"$f":"Translations!$B$1039","v":"Naftos perdirbimo įmonių žaliava – Kiti naftos produktai"},{"$f":"Translations!$B$157","v":"netaik."},{"$f":"Translations!$B$157","v":"netaik."},{"$f":"Translations!$B$157","v":"netaik."},{"$f":"Translations!$B$157","v":"netaik."},{"$f":"Translations!$B$157","v":"netaik."},{"$f":"Translations!$B$157","v":"netaik."},{"$f":"Translations!$B$157","v":"netaik."},{"$f":"Translations!$B$157","v":"netaik."},{"$f":"Translations!$B$157","v":"netaik."},{"$f":"Translations!$B$157","v":"netaik."},{"$f":"Translations!$B$157","v":"netaik."},{"$f":"Translations!$B$157","v":"netaik."},{"$f":"Translations!$B$157","v":"netaik."},{"$f":"Translations!$B$157","v":"netaik."},{"$f":"Translations!$B$157","v":"netaik."},{"$f":"Translations!$B$157","v":"netaik."},{"$f":"Translations!$B$157","v":"netaik."},{"$f":"Translations!$B$157","v":"netaik."},{"$f":"Translations!$B$157","v":"netaik."},{"$f":"Translations!$B$157","v":"netaik."},{"$f":"Translations!$B$157","v":"netaik."},{"$f":"Translations!$B$157","v":"netaik."},{"$f":"Translations!$B$157","v":"netaik."},{"$f":"Translations!$B$157","v":"netaik."},{"$f":"Translations!$B$157","v":"netaik."},{"$f":"Translations!$B$157","v":"netaik."},{"$f":"Translations!$B$157","v":"netaik."},{"$f":"Translations!$B$157","v":"netaik."},{"$f":"Translations!$B$157","v":"netaik."},{"$f":"Translations!$B$157","v":"netaik."},{"$f":"Translations!$B$157","v":"netaik."},{"$f":"Translations!$B$157","v":"netaik."},{"$f":"Translations!$B$157","v":"netaik."},{"$f":"Translations!$B$157","v":"netaik."},{"$f":"Translations!$B$157","v":"netaik."},{"$f":"Translations!$B$157","v":"netaik."},{"$f":"Translations!$B$157","v":"netaik."},{"$f":"Translations!$B$157","v":"netaik."},{"$f":"Translations!$B$157","v":"netaik."},{"$f":"Translations!$B$157","v":"netaik."},{"$f":"Translations!$B$157","v":"netaik."},{"$f":"Translations!$B$157","v":"netaik."},{"$f":"Translations!$B$157","v":"netaik."},{"$f":"Translations!$B$157","v":"netaik."}]
[5,"Degimas: Fakelai",null,null,"MSParameters!$G$22:$BG$22",null,{"$f":"Translations!$B$999","v":"Dujinis – Gamtinės dujos"},{"$f":"Translations!$B$1000","v":"Dujinis – Dujų gamyklos dujos"},{"$f":"Translations!$B$1001","v":"Dujinis – Koksavimo dujos"},{"$f":"Translations!$B$1002","v":"Dujinis – Aukštakrosnių dujos"},{"$f":"Translations!$B$1003","v":"Dujinis – Deguoninių plieno aukštakrosnių dujos"},{"$f":"Translations!$B$1004","v":"Dujinis – Biodujos"},{"$f":"Translations!$B$1005","v":"Dujinis – Dumblo dujos"},{"$f":"Translations!$B$1006","v":"Dujinis – Sąvartynų dujos"},{"$f":"Translations!$B$1007","v":"Dujinis – Anglies monoksidas"},{"$f":"Translations!$B$1008","v":"Dujinis – Metanas"},{"$f":"Translations!$B$988","v":"Dujinis – Etanas"},{"$f":"Translations!$B$989","v":"Dujinis – Propanas"},{"$f":"Translations!$B$990","v":"Dujinis – Butanas"},{"$f":"Translations!$B$1009","v":"Dujinis – Kitų rūšių dujinis kuras"},{"$f":"Translations!$B$1010","v":"Dujinis – Kitų rūšių dujinė biomasė"},{"$f":"Translations!$B$991","v":"Skystasis – Dyzelinis krosnių kuras"},{"$f":"Translations!$B$1011","v":"Skystasis – Labai lengvos distiliacijos kuras"},{"$f":"Translations!$B$1012","v":"Skystasis – Vidutinės distiliacijos kuras"},{"$f":"Translations!$B$1013","v":"Skystasis – Sunkusis mazutas"},{"$f":"Translations!$B$992","v":"Skystasis – Gazolis"},{"$f":"Translations!$B$993","v":"Skystasis – Gazolinas"},{"$f":"Translations!$B$994","v":"Skystasis – Valytas žibalas"},{"$f":"Translations!$B$995","v":"Skystasis – Žibalas"},{"$f":"Translations!$B$996","v":"Skystasis – Reaktyvinis žibalas (Jet A1 arba Jet A)"},{"$f":"Translations!$B$997","v":"Skystasis – Reaktyvinis gazolinas (benzinas) (Jet B)"},{"$f":"Translations!$B$998","v":"Skystasis – Aviacinis gazolinas (benzinas) (AvGas)"},{"$f":"Translations!$B$1014","v":"Skystasis – Suskystintosios naftos dujos"},{"$f":"Translations!$B$1015","v":"Skystasis – Žalia nafta"},{"$f":"Translations!$B$1016","v":"Skystasis – Orimulsija"},{"$f":"Translations!$B$1017","v":"Skystasis – Gamtinių dujų kondensatai"},{"$f":"Translations!$B$1018","v":"Skystasis – Automobilinis benzinas"},{"$f":"Translations!$B$1019","v":"Skystasis – Skalūnų alyva"},{"$f":"Translations!$B$1020","v":"Skystasis – Dujos ir (arba) dyzelinas"},{"$f":"Translations!$B$1021","v":"Skystasis – Mazuto distiliavimo likutis"},{"$f":"Translations!$B$1022","v":"Skystasis – Pirminis benzinas"},{"$f":"Translations!$B$1023","v":"Skystasis – Tepalai"},{"$f":"Translations!$B$1024","v":"Skystasis – Vaitspiritas ir SBP"},{"$f":"Translations!$B$1025","v":"Skystasis – Skalūnų alyva ir gudoniniai smėliai"},{"$f":"Translations!$B$1026","v":"Skystasis – Akmens anglių briketai"},{"$f":"Translations!$B$1027","v":"Skystasis – Alyvų atliekos"},{"$f":"Translations!$B$1028","v":"Skystasis – Biobenzinas"},{"$f":"Translations!$B$1029","v":"Skystasi – Biodyzelinas"},{"$f":"Translations!$B$1032","v":"Skystasis – Kitų rūšių skystasis kuras"},{"$f":"Translations!$B$1033","v":"Skystasis – Kitų rūšių skystoji biomasė"},{"$f":"Translations!$B$1050","v":"Kietasis – Sulfatinės išviros"},{"$f":"Translations!$B$1055","v":"Kietasis – Kanalizacijos dumblas"},{"$f":"Translations!$B$1056","v":"Kietasis – Komunalinių nuotekų dumblas"},{"$f":"Translations!$B$1034","v":"Atliekos – Komunalinės ir pramoninės atliekos"},{"$f":"Translations!$B$1035","v":"Atliekos – Pramoninės atliekos"},{"$f":"Translations!$B$1036","v":"Naftos perdirbimo įmonių žaliava – Naftos perdirbimo įmonių dujos"},{"$f":"Translations!$B$1037","v":"Naftos perdirbimo įmonių žaliava – Liekanos"},{"$f":"Translations!$B$1038","v":"Naftos perdirbimo įmonių žaliava – Kita naftos perdirbimo įmonių žaliava"},{"$f":"Translations!$B$1039","v":"Naftos perdirbimo įmonių žaliava – Kiti naftos produktai"},{"$f":"Translations!$B$157","v":"netaik."},{"$f":"Translations!$B$157","v":"netaik."},{"$f":"Translations!$B$157","v":"netaik."},{"$f":"Translations!$B$157","v":"netaik."},{"$f":"Translations!$B$157","v":"netaik."},{"$f":"Translations!$B$157","v":"netaik."},{"$f":"Translations!$B$157","v":"netaik."},{"$f":"Translations!$B$157","v":"netaik."},{"$f":"Translations!$B$157","v":"netaik."},{"$f":"Translations!$B$157","v":"netaik."},{"$f":"Translations!$B$157","v":"netaik."},{"$f":"Translations!$B$157","v":"netaik."},{"$f":"Translations!$B$157","v":"netaik."},{"$f":"Translations!$B$157","v":"netaik."},{"$f":"Translations!$B$157","v":"netaik."},{"$f":"Translations!$B$157","v":"netaik."},{"$f":"Translations!$B$157","v":"netaik."},{"$f":"Translations!$B$157","v":"netaik."},{"$f":"Translations!$B$157","v":"netaik."},{"$f":"Translations!$B$157","v":"netaik."},{"$f":"Translations!$B$157","v":"netaik."},{"$f":"Translations!$B$157","v":"netaik."},{"$f":"Translations!$B$157","v":"netaik."},{"$f":"Translations!$B$157","v":"netaik."},{"$f":"Translations!$B$157","v":"netaik."},{"$f":"Translations!$B$157","v":"netaik."},{"$f":"Translations!$B$157","v":"netaik."},{"$f":"Translations!$B$157","v":"netaik."},{"$f":"Translations!$B$157","v":"netaik."},{"$f":"Translations!$B$157","v":"netaik."},{"$f":"Translations!$B$157","v":"netaik."},{"$f":"Translations!$B$157","v":"netaik."},{"$f":"Translations!$B$157","v":"netaik."},{"$f":"Translations!$B$157","v":"netaik."},{"$f":"Translations!$B$157","v":"netaik."},{"$f":"Translations!$B$157","v":"netaik."},{"$f":"Translations!$B$157","v":"netaik."},{"$f":"Translations!$B$157","v":"netaik."},{"$f":"Translations!$B$157","v":"netaik."},{"$f":"Translations!$B$157","v":"netaik."},{"$f":"Translations!$B$157","v":"netaik."},{"$f":"Translations!$B$157","v":"netaik."},{"$f":"Translations!$B$157","v":"netaik."},{"$f":"Translations!$B$157","v":"netaik."},{"$f":"Translations!$B$157","v":"netaik."},{"$f":"Translations!$B$157","v":"netaik."},{"$f":"Translations!$B$157","v":"netaik."}]
[6,"Degimas: Dujų plovimas (karbonatai)",null,null,"MSParameters!$G$23:$V$23",null,{"$f":"Translations!$B$1065","v":"Medžiaga – Kalkakmenis"},{"$f":"Translations!$B$1066","v":"Medžiaga – Dolomitas"},{"$f":"Translations!$B$1067","v":"Medžiaga – Natrio vandenilio karbonatas"},{"$f":"Translations!$B$1068","v":"Medžiaga – Natrio karbonatas"},{"$f":"Translations!$B$1069","v":"Medžiaga – Kalio karbonatas (potašas)"},{"$f":"Translations!$B$1070","v":"Medžiaga – CaCO3"},{"$f":"Translations!$B$1071","v":"Medžiaga – MgCO3"},{"$f":"Translations!$B$1072","v":"Medžiaga – Na2CO3"},{"$f":"Translations!$B$1073","v":"Medžiaga – BaCO3"},{"$f":"Translations!$B$1074","v":"Medžiaga – Li2CO3"},{"$f":"Translations!$B$1075","v":"Medžiaga – K2CO3"},{"$f":"Translations!$B$1076","v":"Medžiaga – SrCO3"},{"$f":"Translations!$B$1077","v":"Medžiaga – NaHCO3"},{"$f":"Translations!$B$1078","v":"Medžiaga – FeCO3"},{"$f":"Translations!$B$1079","v":"Medžiaga – Kiti karbonatai"},{"$f":"Translations!$B$1064","v":"Medžiaga – Kitos medžiagos"},{"$f":"Translations!$B$157","v":"netaik."},{"$f":"Translations!$B$157","v":"netaik."},{"$f":"Translations!$B$157","v":"netaik."},{"$f":"Translations!$B$157","v":"netaik."},{"$f":"Translations!$B$157","v":"netaik."},{"$f":"Translations!$B$157","v":"netaik."},{"$f":"Translations!$B$157","v":"netaik."},{"$f":"Translations!$B$157","v":"netaik."},{"$f":"Translations!$B$157","v":"netaik."},{"$f":"Translations!$B$157","v":"netaik."},{"$f":"Translations!$B$157","v":"netaik."},{"$f":"Translations!$B$157","v":"netaik."},{"$f":"Translations!$B$157","v":"netaik."},{"$f":"Translations!$B$157","v":"netaik."},{"$f":"Translations!$B$157","v":"netaik."},{"$f":"Translations!$B$157","v":"netaik."},{"$f":"Translations!$B$157","v":"netaik."},{"$f":"Translations!$B$157","v":"netaik."},{"$f":"Translations!$B$157","v":"netaik."},{"$f":"Translations!$B$157","v":"netaik."},{"$f":"Translations!$B$157","v":"netaik."},{"$f":"Translations!$B$157","v":"netaik."},{"$f":"Translations!$B$157","v":"netaik."},{"$f":"Translations!$B$157","v":"netaik."},{"$f":"Translations!$B$157","v":"netaik."},{"$f":"Translations!$B$157","v":"netaik."},{"$f":"Translations!$B$157","v":"netaik."},{"$f":"Translations!$B$157","v":"netaik."},{"$f":"Translations!$B$157","v":"netaik."},{"$f":"Translations!$B$157","v":"netaik."},{"$f":"Translations!$B$157","v":"netaik."},{"$f":"Translations!$B$157","v":"netaik."},{"$f":"Translations!$B$157","v":"netaik."},{"$f":"Translations!$B$157","v":"netaik."},{"$f":"Translations!$B$157","v":"netaik."},{"$f":"Translations!$B$157","v":"netaik."},{"$f":"Translations!$B$157","v":"netaik."},{"$f":"Translations!$B$157","v":"netaik."},{"$f":"Translations!$B$157","v":"netaik."},{"$f":"Translations!$B$157","v":"netaik."},{"$f":"Translations!$B$157","v":"netaik."},{"$f":"Translations!$B$157","v":"netaik."},{"$f":"Translations!$B$157","v":"netaik."},{"$f":"Translations!$B$157","v":"netaik."},{"$f":"Translations!$B$157","v":"netaik."},{"$f":"Translations!$B$157","v":"netaik."},{"$f":"Translations!$B$157","v":"netaik."},{"$f":"Translations!$B$157","v":"netaik."},{"$f":"Translations!$B$157","v":"netaik."},{"$f":"Translations!$B$157","v":"netaik."},{"$f":"Translations!$B$157","v":"netaik."},{"$f":"Translations!$B$157","v":"netaik."},{"$f":"Translations!$B$157","v":"netaik."},{"$f":"Translations!$B$157","v":"netaik."},{"$f":"Translations!$B$157","v":"netaik."},{"$f":"Translations!$B$157","v":"netaik."},{"$f":"Translations!$B$157","v":"netaik."},{"$f":"Translations!$B$157","v":"netaik."},{"$f":"Translations!$B$157","v":"netaik."},{"$f":"Translations!$B$157","v":"netaik."},{"$f":"Translations!$B$157","v":"netaik."},{"$f":"Translations!$B$157","v":"netaik."},{"$f":"Translations!$B$157","v":"netaik."},{"$f":"Translations!$B$157","v":"netaik."},{"$f":"Translations!$B$157","v":"netaik."},{"$f":"Translations!$B$157","v":"netaik."},{"$f":"Translations!$B$157","v":"netaik."},{"$f":"Translations!$B$157","v":"netaik."},{"$f":"Translations!$B$157","v":"netaik."},{"$f":"Translations!$B$157","v":"netaik."},{"$f":"Translations!$B$157","v":"netaik."},{"$f":"Translations!$B$157","v":"netaik."},{"$f":"Translations!$B$157","v":"netaik."},{"$f":"Translations!$B$157","v":"netaik."},{"$f":"Translations!$B$157","v":"netaik."},{"$f":"Translations!$B$157","v":"netaik."},{"$f":"Translations!$B$157","v":"netaik."},{"$f":"Translations!$B$157","v":"netaik."},{"$f":"Translations!$B$157","v":"netaik."},{"$f":"Translations!$B$157","v":"netaik."},{"$f":"Translations!$B$157","v":"netaik."},{"$f":"Translations!$B$157","v":"netaik."},{"$f":"Translations!$B$157","v":"netaik."},{"$f":"Translations!$B$157","v":"netaik."}]
[7,"Degimas: Dujų plovimas (gipsas)",null,null,"MSParameters!$G$24:$G$24",null,{"$f":"Translations!$B$1080","v":"Medžiaga – Gipsas"},{"$f":"Translations!$B$157","v":"netaik."},{"$f":"Translations!$B$157","v":"netaik."},{"$f":"Translations!$B$157","v":"netaik."},{"$f":"Translations!$B$157","v":"netaik."},{"$f":"Translations!$B$157","v":"netaik."},{"$f":"Translations!$B$157","v":"netaik."},{"$f":"Translations!$B$157","v":"netaik."},{"$f":"Translations!$B$157","v":"netaik."},{"$f":"Translations!$B$157","v":"netaik."},{"$f":"Translations!$B$157","v":"netaik."},{"$f":"Translations!$B$157","v":"netaik."},{"$f":"Translations!$B$157","v":"netaik."},{"$f":"Translations!$B$157","v":"netaik."},{"$f":"Translations!$B$157","v":"netaik."},{"$f":"Translations!$B$157","v":"netaik."},{"$f":"Translations!$B$157","v":"netaik."},{"$f":"Translations!$B$157","v":"netaik."},{"$f":"Translations!$B$157","v":"netaik."},{"$f":"Translations!$B$157","v":"netaik."},{"$f":"Translations!$B$157","v":"netaik."},{"$f":"Translations!$B$157","v":"netaik."},{"$f":"Translations!$B$157","v":"netaik."},{"$f":"Translations!$B$157","v":"netaik."},{"$f":"Translations!$B$157","v":"netaik."},{"$f":"Translations!$B$157","v":"netaik."},{"$f":"Translations!$B$157","v":"netaik."},{"$f":"Translations!$B$157","v":"netaik."},{"$f":"Translations!$B$157","v":"netaik."},{"$f":"Translations!$B$157","v":"netaik."},{"$f":"Translations!$B$157","v":"netaik."},{"$f":"Translations!$B$157","v":"netaik."},{"$f":"Translations!$B$157","v":"netaik."},{"$f":"Translations!$B$157","v":"netaik."},{"$f":"Translations!$B$157","v":"netaik."},{"$f":"Translations!$B$157","v":"netaik."},{"$f":"Translations!$B$157","v":"netaik."},{"$f":"Translations!$B$157","v":"netaik."},{"$f":"Translations!$B$157","v":"netaik."},{"$f":"Translations!$B$157","v":"netaik."},{"$f":"Translations!$B$157","v":"netaik."},{"$f":"Translations!$B$157","v":"netaik."},{"$f":"Translations!$B$157","v":"netaik."},{"$f":"Translations!$B$157","v":"netaik."},{"$f":"Translations!$B$157","v":"netaik."},{"$f":"Translations!$B$157","v":"netaik."},{"$f":"Translations!$B$157","v":"netaik."},{"$f":"Translations!$B$157","v":"netaik."},{"$f":"Translations!$B$157","v":"netaik."},{"$f":"Translations!$B$157","v":"netaik."},{"$f":"Translations!$B$157","v":"netaik."},{"$f":"Translations!$B$157","v":"netaik."},{"$f":"Translations!$B$157","v":"netaik."},{"$f":"Translations!$B$157","v":"netaik."},{"$f":"Translations!$B$157","v":"netaik."},{"$f":"Translations!$B$157","v":"netaik."},{"$f":"Translations!$B$157","v":"netaik."},{"$f":"Translations!$B$157","v":"netaik."},{"$f":"Translations!$B$157","v":"netaik."},{"$f":"Translations!$B$157","v":"netaik."},{"$f":"Translations!$B$157","v":"netaik."},{"$f":"Translations!$B$157","v":"netaik."},{"$f":"Translations!$B$157","v":"netaik."},{"$f":"Translations!$B$157","v":"netaik."},{"$f":"Translations!$B$157","v":"netaik."},{"$f":"Translations!$B$157","v":"netaik."},{"$f":"Translations!$B$157","v":"netaik."},{"$f":"Translations!$B$157","v":"netaik."},{"$f":"Translations!$B$157","v":"netaik."},{"$f":"Translations!$B$157","v":"netaik."},{"$f":"Translations!$B$157","v":"netaik."},{"$f":"Translations!$B$157","v":"netaik."},{"$f":"Translations!$B$157","v":"netaik."},{"$f":"Translations!$B$157","v":"netaik."},{"$f":"Translations!$B$157","v":"netaik."},{"$f":"Translations!$B$157","v":"netaik."},{"$f":"Translations!$B$157","v":"netaik."},{"$f":"Translations!$B$157","v":"netaik."},{"$f":"Translations!$B$157","v":"netaik."},{"$f":"Translations!$B$157","v":"netaik."},{"$f":"Translations!$B$157","v":"netaik."},{"$f":"Translations!$B$157","v":"netaik."},{"$f":"Translations!$B$157","v":"netaik."},{"$f":"Translations!$B$157","v":"netaik."},{"$f":"Translations!$B$157","v":"netaik."},{"$f":"Translations!$B$157","v":"netaik."},{"$f":"Translations!$B$157","v":"netaik."},{"$f":"Translations!$B$157","v":"netaik."},{"$f":"Translations!$B$157","v":"netaik."},{"$f":"Translations!$B$157","v":"netaik."},{"$f":"Translations!$B$157","v":"netaik."},{"$f":"Translations!$B$157","v":"netaik."},{"$f":"Translations!$B$157","v":"netaik."},{"$f":"Translations!$B$157","v":"netaik."},{"$f":"Translations!$B$157","v":"netaik."},{"$f":"Translations!$B$157","v":"netaik."},{"$f":"Translations!$B$157","v":"netaik."},{"$f":"Translations!$B$157","v":"netaik."},{"$f":"Translations!$B$157","v":"netaik."},{"$f":"Translations!$B$157","v":"netaik."}]
[8,"Naftos perdirbimo įrenginiai: Masės balansas",null,null,"MSParameters!$G$25:$CB$25",null,{"$f":"Translations!$B$1064","v":"Medžiaga – Kitos medžiagos"},{"$f":"Translations!$B$999","v":"Dujinis – Gamtinės dujos"},{"$f":"Translations!$B$1000","v":"Dujinis – Dujų gamyklos dujos"},{"$f":"Translations!$B$1001","v":"Dujinis – Koksavimo dujos"},{"$f":"Translations!$B$1002","v":"Dujinis – Aukštakrosnių dujos"},{"$f":"Translations!$B$1003","v":"Dujinis – Deguoninių plieno aukštakrosnių dujos"},{"$f":"Translations!$B$1004","v":"Dujinis – Biodujos"},{"$f":"Translations!$B$1005","v":"Dujinis – Dumblo dujos"},{"$f":"Translations!$B$1006","v":"Dujinis – Sąvartynų dujos"},{"$f":"Translations!$B$1007","v":"Dujinis – Anglies monoksidas"},{"$f":"Translations!$B$1008","v":"Dujinis – Metanas"},{"$f":"Translations!$B$988","v":"Dujinis – Etanas"},{"$f":"Translations!$B$989","v":"Dujinis – Propanas"},{"$f":"Translations!$B$990","v":"Dujinis – Butanas"},{"$f":"Translations!$B$1009","v":"Dujinis – Kitų rūšių dujinis kuras"},{"$f":"Translations!$B$1010","v":"Dujinis – Kitų rūšių dujinė biomasė"},{"$f":"Translations!$B$991","v":"Skystasis – Dyzelinis krosnių kuras"},{"$f":"Translations!$B$1011","v":"Skystasis – Labai lengvos distiliacijos kuras"},{"$f":"Translations!$B$1012","v":"Skystasis – Vidutinės distiliacijos kuras"},{"$f":"Translations!$B$1013","v":"Skystasis – Sunkusis mazutas"},{"$f":"Translations!$B$992","v":"Skystasis – Gazolis"},{"$f":"Translations!$B$993","v":"Skystasis – Gazolinas"},{"$f":"Translations!$B$994","v":"Skystasis – Valytas žibalas"},{"$f":"Translations!$B$995","v":"Skystasis – Žibalas"},{"$f":"Translations!$B$996","v":"Skystasis – Reaktyvinis žibalas (Jet A1 arba Jet A)"},{"$f":"Translations!$B$997","v":"Skystasis – Reaktyvinis gazolinas (benzinas) (Jet B)"},{"$f":"Translations!$B$998","v":"Skystasis – Aviacinis gazolinas (benzinas) (AvGas)"},{"$f":"Translations!$B$1014","v":"Skystasis – Suskystintosios naftos dujos"},{"$f":"Translations!$B$1015","v":"Skystasis – Žalia nafta"},{"$f":"Translations!$B$1016","v":"Skystasis – Orimulsija"},{"$f":"Translations!$B$1017","v":"Skystasis – Gamtinių dujų kondensatai"},{"$f":"Translations!$B$1018","v":"Skystasis – Automobilinis benzinas"},{"$f":"Translations!$B$1019","v":"Skystasis – Skalūnų alyva"},{"$f":"Translations!$B$1020","v":"Skystasis – Dujos ir (arba) dyzelinas"},{"$f":"Translations!$B$1021","v":"Skystasis – Mazuto distiliavimo likutis"},{"$f":"Translations!$B$1022","v":"Skystasis – Pirminis benzinas"},{"$f":"Translations!$B$1023","v":"Skystasis – Tepalai"},{"$f":"Translations!$B$1024","v":"Skystasis – Vaitspiritas ir SBP"},{"$f":"Translations!$B$1025","v":"Skystasis – Skalūnų alyva ir gudoniniai smėliai"},{"$f":"Translations!$B$1026","v":"Skystasis – Akmens anglių briketai"},{"$f":"Translations!$B$1027","v":"Skystasis – Alyvų atliekos"},{"$f":"Translations!$B$1028","v":"Skystasis – Biobenzinas"},{"$f":"Translations!$B$1029","v":"Skystasi – Biodyzelinas"},{"$f":"Translations!$B$1030","v":"Skystasis – Bitumas"},{"$f":"Translations!$B$1032","v":"Skystasis – Kitų rūšių skystasis kuras"},{"$f":"Translations!$B$1033","v":"Skystasis – Kitų rūšių skystoji biomasė"},{"$f":"Translations!$B$1040","v":"Kietasis – Koksas"},{"$f":"Translations!$B$1041","v":"Kietasis – Naftos koksas"},{"$f":"Translations!$B$1042","v":"Kietasis – Akmens anglys"},{"$f":"Translations!$B$1043","v":"Kietasis – Lignitas"},{"$f":"Translations!$B$1044","v":"Kietasis – Antracitas"},{"$f":"Translations!$B$1045","v":"Kietasis – Koksinės anglys"},{"$f":"Translations!$B$1046","v":"Kietasis – Subbituminės akmens anglys"},{"$f":"Translations!$B$1047","v":"Kietasis – Kitos bituminės akmens anglys"},{"$f":"Translations!$B$1048","v":"Kietasis – Dujinis koksas"},{"$f":"Translations!$B$1049","v":"Kietasis – Parafinas"},{"$f":"Translations!$B$1050","v":"Kietasis – Sulfatinės išviros"},{"$f":"Translations!$B$1051","v":"Kietasis – Malkos"},{"$f":"Translations!$B$1052","v":"Kietasis – Mediena (ne atliekos)"},{"$f":"Translations!$B$1053","v":"Kietasis – Mediena (atliekos)"},{"$f":"Translations!$B$1054","v":"Kietasis – Durpės"},{"$f":"Translations!$B$1055","v":"Kietasis – Kanalizacijos dumblas"},{"$f":"Translations!$B$1056","v":"Kietasis – Komunalinių nuotekų dumblas"},{"$f":"Translations!$B$1057","v":"Kietasis – Akmens anglių degutas"},{"$f":"Translations!$B$1058","v":"Kietasis – Medžio anglys"},{"$f":"Translations!$B$1059","v":"Kietasis – Panaudos padangos"},{"$f":"Translations!$B$1060","v":"Kietasis – Kitų rūšių kietasis kuras"},{"$f":"Translations!$B$1061","v":"Kietasis – Kitų rūšių kietoji biomasė"},{"$f":"Translations!$B$1034","v":"Atliekos – Komunalinės ir pramoninės atliekos"},{"$f":"Translations!$B$1035","v":"Atliekos – Pramoninės atliekos"},{"$f":"Translations!$B$1036","v":"Naftos perdirbimo įmonių žaliava – Naftos perdirbimo įmonių dujos"},{"$f":"Translations!$B$1037","v":"Naftos perdirbimo įmonių žaliava – Liekanos"},{"$f":"Translations!$B$1038","v":"Naftos perdirbimo įmonių žaliava – Kita naftos perdirbimo įmonių žaliava"},{"$f":"Translations!$B$1039","v":"Naftos perdirbimo įmonių žaliava – Kiti naftos produktai"},{"$f":"Translations!$B$157","v":"netaik."},{"$f":"Translations!$B$157","v":"netaik."},{"$f":"Translations!$B$157","v":"netaik."},{"$f":"Translations!$B$157","v":"netaik."},{"$f":"Translations!$B$157","v":"netaik."},{"$f":"Translations!$B$157","v":"netaik."},{"$f":"Translations!$B$157","v":"netaik."},{"$f":"Translations!$B$157","v":"netaik."},{"$f":"Translations!$B$157","v":"netaik."},{"$f":"Translations!$B$157","v":"netaik."},{"$f":"Translations!$B$157","v":"netaik."},{"$f":"Translations!$B$157","v":"netaik."},{"$f":"Translations!$B$157","v":"netaik."},{"$f":"Translations!$B$157","v":"netaik."},{"$f":"Translations!$B$157","v":"netaik."},{"$f":"Translations!$B$157","v":"netaik."},{"$f":"Translations!$B$157","v":"netaik."},{"$f":"Translations!$B$157","v":"netaik."},{"$f":"Translations!$B$157","v":"netaik."},{"$f":"Translations!$B$157","v":"netaik."},{"$f":"Translations!$B$157","v":"netaik."},{"$f":"Translations!$B$157","v":"netaik."},{"$f":"Translations!$B$157","v":"netaik."},{"$f":"Translations!$B$157","v":"netaik."},{"$f":"Translations!$B$157","v":"netaik."},{"$f":"Translations!$B$157","v":"netaik."}]
[9,"Naftos perdirbimo įrenginiai: Regeneravimas katalizinio krekingo įrenginiu",null,null,"MSParameters!$G$26:$CB$26",null,{"$f":"Translations!$B$1064","v":"Medžiaga – Kitos medžiagos"},{"$f":"Translations!$B$999","v":"Dujinis – Gamtinės dujos"},{"$f":"Translations!$B$1000","v":"Dujinis – Dujų gamyklos dujos"},{"$f":"Translations!$B$1001","v":"Dujinis – Koksavimo dujos"},{"$f":"Translations!$B$1002","v":"Dujinis – Aukštakrosnių dujos"},{"$f":"Translations!$B$1003","v":"Dujinis – Deguoninių plieno aukštakrosnių dujos"},{"$f":"Translations!$B$1004","v":"Dujinis – Biodujos"},{"$f":"Translations!$B$1005","v":"Dujinis – Dumblo dujos"},{"$f":"Translations!$B$1006","v":"Dujinis – Sąvartynų dujos"},{"$f":"Translations!$B$1007","v":"Dujinis – Anglies monoksidas"},{"$f":"Translations!$B$1008","v":"Dujinis – Metanas"},{"$f":"Translations!$B$988","v":"Dujinis – Etanas"},{"$f":"Translations!$B$989","v":"Dujinis – Propanas"},{"$f":"Translations!$B$990","v":"Dujinis – Butanas"},{"$f":"Translations!$B$1009","v":"Dujinis – Kitų rūšių dujinis kuras"},{"$f":"Translations!$B$1010","v":"Dujinis – Kitų rūšių dujinė biomasė"},{"$f":"Translations!$B$991","v":"Skystasis – Dyzelinis krosnių kuras"},{"$f":"Translations!$B$1011","v":"Skystasis – Labai lengvos distiliacijos kuras"},{"$f":"Translations!$B$1012","v":"Skystasis – Vidutinės distiliacijos kuras"},{"$f":"Translations!$B$1013","v":"Skystasis – Sunkusis mazutas"},{"$f":"Translations!$B$992","v":"Skystasis – Gazolis"},{"$f":"Translations!$B$993","v":"Skystasis – Gazolinas"},{"$f":"Translations!$B$994","v":"Skystasis – Valytas žibalas"},{"$f":"Translations!$B$995","v":"Skystasis – Žibalas"},{"$f":"Translations!$B$996","v":"Skystasis – Reaktyvinis žibalas (Jet A1 arba Jet A)"},{"$f":"Translations!$B$997","v":"Skystasis – Reaktyvinis gazolinas (benzinas) (Jet B)"},{"$f":"Translations!$B$998","v":"Skystasis – Aviacinis gazolinas (benzinas) (AvGas)"},{"$f":"Translations!$B$1014","v":"Skystasis – Suskystintosios naftos dujos"},{"$f":"Translations!$B$1015","v":"Skystasis – Žalia nafta"},{"$f":"Translations!$B$1016","v":"Skystasis – Orimulsija"},{"$f":"Translations!$B$1017","v":"Skystasis – Gamtinių dujų kondensatai"},{"$f":"Translations!$B$1018","v":"Skystasis – Automobilinis benzinas"},{"$f":"Translations!$B$1019","v":"Skystasis – Skalūnų alyva"},{"$f":"Translations!$B$1020","v":"Skystasis – Dujos ir (arba) dyzelinas"},{"$f":"Translations!$B$1021","v":"Skystasis – Mazuto distiliavimo likutis"},{"$f":"Translations!$B$1022","v":"Skystasis – Pirminis benzinas"},{"$f":"Translations!$B$1023","v":"Skystasis – Tepalai"},{"$f":"Translations!$B$1024","v":"Skystasis – Vaitspiritas ir SBP"},{"$f":"Translations!$B$1025","v":"Skystasis – Skalūnų alyva ir gudoniniai smėliai"},{"$f":"Translations!$B$1026","v":"Skystasis – Akmens anglių briketai"},{"$f":"Translations!$B$1027","v":"Skystasis – Alyvų atliekos"},{"$f":"Translations!$B$1028","v":"Skystasis – Biobenzinas"},{"$f":"Translations!$B$1029","v":"Skystasi – Biodyzelinas"},{"$f":"Translations!$B$1030","v":"Skystasis – Bitumas"},{"$f":"Translations!$B$1032","v":"Skystasis – Kitų rūšių skystasis kuras"},{"$f":"Translations!$B$1033","v":"Skystasis – Kitų rūšių skystoji biomasė"},{"$f":"Translations!$B$1040","v":"Kietasis – Koksas"},{"$f":"Translations!$B$1041","v":"Kietasis – Naftos koksas"},{"$f":"Translations!$B$1042","v":"Kietasis – Akmens anglys"},{"$f":"Translations!$B$1043","v":"Kietasis – Lignitas"},{"$f":"Translations!$B$1044","v":"Kietasis – Antracitas"},{"$f":"Translations!$B$1045","v":"Kietasis – Koksinės anglys"},{"$f":"Translations!$B$1046","v":"Kietasis – Subbituminės akmens anglys"},{"$f":"Translations!$B$1047","v":"Kietasis – Kitos bituminės akmens anglys"},{"$f":"Translations!$B$1048","v":"Kietasis – Dujinis koksas"},{"$f":"Translations!$B$1049","v":"Kietasis – Parafinas"},{"$f":"Translations!$B$1050","v":"Kietasis – Sulfatinės išviros"},{"$f":"Translations!$B$1051","v":"Kietasis – Malkos"},{"$f":"Translations!$B$1052","v":"Kietasis – Mediena (ne atliekos)"},{"$f":"Translations!$B$1053","v":"Kietasis – Mediena (atliekos)"},{"$f":"Translations!$B$1054","v":"Kietasis – Durpės"},{"$f":"Translations!$B$1055","v":"Kietasis – Kanalizacijos dumblas"},{"$f":"Translations!$B$1056","v":"Kietasis – Komunalinių nuotekų dumblas"},{"$f":"Translations!$B$1057","v":"Kietasis – Akmens anglių degutas"},{"$f":"Translations!$B$1058","v":"Kietasis – Medžio anglys"},{"$f":"Translations!$B$1059","v":"Kietasis – Panaudos padangos"},{"$f":"Translations!$B$1060","v":"Kietasis – Kitų rūšių kietasis kuras"},{"$f":"Translations!$B$1061","v":"Kietasis – Kitų rūšių kietoji biomasė"},{"$f":"Translations!$B$1034","v":"Atliekos – Komunalinės ir pramoninės atliekos"},{"$f":"Translations!$B$1035","v":"Atliekos – Pramoninės atliekos"},{"$f":"Translations!$B$1036","v":"Naftos perdirbimo įmonių žaliava – Naftos perdirbimo įmonių dujos"},{"$f":"Translations!$B$1037","v":"Naftos perdirbimo įmonių žaliava – Liekanos"},{"$f":"Translations!$B$1038","v":"Naftos perdirbimo įmonių žaliava – Kita naftos perdirbimo įmonių žaliava"},{"$f":"Translations!$B$1039","v":"Naftos perdirbimo įmonių žaliava – Kiti naftos produktai"},{"$f":"Translations!$B$157","v":"netaik."},{"$f":"Translations!$B$157","v":"netaik."},{"$f":"Translations!$B$157","v":"netaik."},{"$f":"Translations!$B$157","v":"netaik."},{"$f":"Translations!$B$157","v":"netaik."},{"$f":"Translations!$B$157","v":"netaik."},{"$f":"Translations!$B$157","v":"netaik."},{"$f":"Translations!$B$157","v":"netaik."},{"$f":"Translations!$B$157","v":"netaik."},{"$f":"Translations!$B$157","v":"netaik."},{"$f":"Translations!$B$157","v":"netaik."},{"$f":"Translations!$B$157","v":"netaik."},{"$f":"Translations!$B$157","v":"netaik."},{"$f":"Translations!$B$157","v":"netaik."},{"$f":"Translations!$B$157","v":"netaik."},{"$f":"Translations!$B$157","v":"netaik."},{"$f":"Translations!$B$157","v":"netaik."},{"$f":"Translations!$B$157","v":"netaik."},{"$f":"Translations!$B$157","v":"netaik."},{"$f":"Translations!$B$157","v":"netaik."},{"$f":"Translations!$B$157","v":"netaik."},{"$f":"Translations!$B$157","v":"netaik."},{"$f":"Translations!$B$157","v":"netaik."},{"$f":"Translations!$B$157","v":"netaik."},{"$f":"Translations!$B$157","v":"netaik."},{"$f":"Translations!$B$157","v":"netaik."}]
[10,"Naftos perdirbimo įrenginiai: Vandenilio gamyba",null,null,"MSParameters!$G$27:$H$27",null,{"$f":"Translations!$B$1081","v":"Medžiaga – Proceso medžiaga"},{"$f":"Translations!$B$1037","v":"Naftos perdirbimo įmonių žaliava – Liekanos"},{"$f":"Translations!$B$157","v":"netaik."},{"$f":"Translations!$B$157","v":"netaik."},{"$f":"Translations!$B$157","v":"netaik."},{"$f":"Translations!$B$157","v":"netaik."},{"$f":"Translations!$B$157","v":"netaik."},{"$f":"Translations!$B$157","v":"netaik."},{"$f":"Translations!$B$157","v":"netaik."},{"$f":"Translations!$B$157","v":"netaik."},{"$f":"Translations!$B$157","v":"netaik."},{"$f":"Translations!$B$157","v":"netaik."},{"$f":"Translations!$B$157","v":"netaik."},{"$f":"Translations!$B$157","v":"netaik."},{"$f":"Translations!$B$157","v":"netaik."},{"$f":"Translations!$B$157","v":"netaik."},{"$f":"Translations!$B$157","v":"netaik."},{"$f":"Translations!$B$157","v":"netaik."},{"$f":"Translations!$B$157","v":"netaik."},{"$f":"Translations!$B$157","v":"netaik."},{"$f":"Translations!$B$157","v":"netaik."},{"$f":"Translations!$B$157","v":"netaik."},{"$f":"Translations!$B$157","v":"netaik."},{"$f":"Translations!$B$157","v":"netaik."},{"$f":"Translations!$B$157","v":"netaik."},{"$f":"Translations!$B$157","v":"netaik."},{"$f":"Translations!$B$157","v":"netaik."},{"$f":"Translations!$B$157","v":"netaik."},{"$f":"Translations!$B$157","v":"netaik."},{"$f":"Translations!$B$157","v":"netaik."},{"$f":"Translations!$B$157","v":"netaik."},{"$f":"Translations!$B$157","v":"netaik."},{"$f":"Translations!$B$157","v":"netaik."},{"$f":"Translations!$B$157","v":"netaik."},{"$f":"Translations!$B$157","v":"netaik."},{"$f":"Translations!$B$157","v":"netaik."},{"$f":"Translations!$B$157","v":"netaik."},{"$f":"Translations!$B$157","v":"netaik."},{"$f":"Translations!$B$157","v":"netaik."},{"$f":"Translations!$B$157","v":"netaik."},{"$f":"Translations!$B$157","v":"netaik."},{"$f":"Translations!$B$157","v":"netaik."},{"$f":"Translations!$B$157","v":"netaik."},{"$f":"Translations!$B$157","v":"netaik."},{"$f":"Translations!$B$157","v":"netaik."},{"$f":"Translations!$B$157","v":"netaik."},{"$f":"Translations!$B$157","v":"netaik."},{"$f":"Translations!$B$157","v":"netaik."},{"$f":"Translations!$B$157","v":"netaik."},{"$f":"Translations!$B$157","v":"netaik."},{"$f":"Translations!$B$157","v":"netaik."},{"$f":"Translations!$B$157","v":"netaik."},{"$f":"Translations!$B$157","v":"netaik."},{"$f":"Translations!$B$157","v":"netaik."},{"$f":"Translations!$B$157","v":"netaik."},{"$f":"Translations!$B$157","v":"netaik."},{"$f":"Translations!$B$157","v":"netaik."},{"$f":"Translations!$B$157","v":"netaik."},{"$f":"Translations!$B$157","v":"netaik."},{"$f":"Translations!$B$157","v":"netaik."},{"$f":"Translations!$B$157","v":"netaik."},{"$f":"Translations!$B$157","v":"netaik."},{"$f":"Translations!$B$157","v":"netaik."},{"$f":"Translations!$B$157","v":"netaik."},{"$f":"Translations!$B$157","v":"netaik."},{"$f":"Translations!$B$157","v":"netaik."},{"$f":"Translations!$B$157","v":"netaik."},{"$f":"Translations!$B$157","v":"netaik."},{"$f":"Translations!$B$157","v":"netaik."},{"$f":"Translations!$B$157","v":"netaik."},{"$f":"Translations!$B$157","v":"netaik."},{"$f":"Translations!$B$157","v":"netaik."},{"$f":"Translations!$B$157","v":"netaik."},{"$f":"Translations!$B$157","v":"netaik."},{"$f":"Translations!$B$157","v":"netaik."},{"$f":"Translations!$B$157","v":"netaik."},{"$f":"Translations!$B$157","v":"netaik."},{"$f":"Translations!$B$157","v":"netaik."},{"$f":"Translations!$B$157","v":"netaik."},{"$f":"Translations!$B$157","v":"netaik."},{"$f":"Translations!$B$157","v":"netaik."},{"$f":"Translations!$B$157","v":"netaik."},{"$f":"Translations!$B$157","v":"netaik."},{"$f":"Translations!$B$157","v":"netaik."},{"$f":"Translations!$B$157","v":"netaik."},{"$f":"Translations!$B$157","v":"netaik."},{"$f":"Translations!$B$157","v":"netaik."},{"$f":"Translations!$B$157","v":"netaik."},{"$f":"Translations!$B$157","v":"netaik."},{"$f":"Translations!$B$157","v":"netaik."},{"$f":"Translations!$B$157","v":"netaik."},{"$f":"Translations!$B$157","v":"netaik."},{"$f":"Translations!$B$157","v":"netaik."},{"$f":"Translations!$B$157","v":"netaik."},{"$f":"Translations!$B$157","v":"netaik."},{"$f":"Translations!$B$157","v":"netaik."},{"$f":"Translations!$B$157","v":"netaik."},{"$f":"Translations!$B$157","v":"netaik."},{"$f":"Translations!$B$157","v":"netaik."},{"$f":"Translations!$B$157","v":"netaik."}]
[11,"Koksas: Kuras kaip proceso žaliava",null,null,"MSParameters!$G$28:$BX$28",null,{"$f":"Translations!$B$999","v":"Dujinis – Gamtinės dujos"},{"$f":"Translations!$B$1000","v":"Dujinis – Dujų gamyklos dujos"},{"$f":"Translations!$B$1001","v":"Dujinis – Koksavimo dujos"},{"$f":"Translations!$B$1002","v":"Dujinis – Aukštakrosnių dujos"},{"$f":"Translations!$B$1003","v":"Dujinis – Deguoninių plieno aukštakrosnių dujos"},{"$f":"Translations!$B$1004","v":"Dujinis – Biodujos"},{"$f":"Translations!$B$1005","v":"Dujinis – Dumblo dujos"},{"$f":"Translations!$B$1006","v":"Dujinis – Sąvartynų dujos"},{"$f":"Translations!$B$1007","v":"Dujinis – Anglies monoksidas"},{"$f":"Translations!$B$1008","v":"Dujinis – Metanas"},{"$f":"Translations!$B$988","v":"Dujinis – Etanas"},{"$f":"Translations!$B$989","v":"Dujinis – Propanas"},{"$f":"Translations!$B$990","v":"Dujinis – Butanas"},{"$f":"Translations!$B$1009","v":"Dujinis – Kitų rūšių dujinis kuras"},{"$f":"Translations!$B$1010","v":"Dujinis – Kitų rūšių dujinė biomasė"},{"$f":"Translations!$B$991","v":"Skystasis – Dyzelinis krosnių kuras"},{"$f":"Translations!$B$1011","v":"Skystasis – Labai lengvos distiliacijos kuras"},{"$f":"Translations!$B$1012","v":"Skystasis – Vidutinės distiliacijos kuras"},{"$f":"Translations!$B$1013","v":"Skystasis – Sunkusis mazutas"},{"$f":"Translations!$B$992","v":"Skystasis – Gazolis"},{"$f":"Translations!$B$993","v":"Skystasis – Gazolinas"},{"$f":"Translations!$B$994","v":"Skystasis – Valytas žibalas"},{"$f":"Translations!$B$995","v":"Skystasis – Žibalas"},{"$f":"Translations!$B$996","v":"Skystasis – Reaktyvinis žibalas (Jet A1 arba Jet A)"},{"$f":"Translations!$B$997","v":"Skystasis – Reaktyvinis gazolinas (benzinas) (Jet B)"},{"$f":"Translations!$B$998","v":"Skystasis – Aviacinis gazolinas (benzinas) (AvGas)"},{"$f":"Translations!$B$1014","v":"Skystasis – Suskystintosios naftos dujos"},{"$f":"Translations!$B$1015","v":"Skystasis – Žalia nafta"},{"$f":"Translations!$B$1016","v":"Skystasis – Orimulsija"},{"$f":"Translations!$B$1017","v":"Skystasis – Gamtinių dujų kondensatai"},{"$f":"Translations!$B$1018","v":"Skystasis – Automobilinis benzinas"},{"$f":"Translations!$B$1019","v":"Skystasis – Skalūnų alyva"},{"$f":"Translations!$B$1020","v":"Skystasis – Dujos ir (arba) dyzelinas"},{"$f":"Translations!$B$1021","v":"Skystasis – Mazuto distiliavimo likutis"},{"$f":"Translations!$B$1022","v":"Skystasis – Pirminis benzinas"},{"$f":"Translations!$B$1023","v":"Skystasis – Tepalai"},{"$f":"Translations!$B$1024","v":"Skystasis – Vaitspiritas ir SBP"},{"$f":"Translations!$B$1025","v":"Skystasis – Skalūnų alyva ir gudoniniai smėliai"},{"$f":"Translations!$B$1026","v":"Skystasis – Akmens anglių briketai"},{"$f":"Translations!$B$1027","v":"Skystasis – Alyvų atliekos"},{"$f":"Translations!$B$1028","v":"Skystasis – Biobenzinas"},{"$f":"Translations!$B$1029","v":"Skystasi – Biodyzelinas"},{"$f":"Translations!$B$1030","v":"Skystasis – Bitumas"},{"$f":"Translations!$B$1032","v":"Skystasis – Kitų rūšių skystasis kuras"},{"$f":"Translations!$B$1033","v":"Skystasis – Kitų rūšių skystoji biomasė"},{"$f":"Translations!$B$1040","v":"Kietasis – Koksas"},{"$f":"Translations!$B$1041","v":"Kietasis – Naftos koksas"},{"$f":"Translations!$B$1042","v":"Kietasis – Akmens anglys"},{"$f":"Translations!$B$1043","v":"Kietasis – Lignitas"},{"$f":"Translations!$B$1044","v":"Kietasis – Antracitas"},{"$f":"Translations!$B$1045","v":"Kietasis – Koksinės anglys"},{"$f":"Translations!$B$1046","v":"Kietasis – Subbituminės akmens anglys"},{"$f":"Translations!$B$1047","v":"Kietasis – Kitos bituminės akmens anglys"},{"$f":"Translations!$B$1048","v":"Kietasis – Dujinis koksas"},{"$f":"Translations!$B$1049","v":"Kietasis – Parafinas"},{"$f":"Translations!$B$1050","v":"Kietasis – Sulfatinės išviros"},{"$f":"Translations!$B$1051","v":"Kietasis – Malkos"},{"$f":"Translations!$B$1052","v":"Kietasis – Mediena (ne atliekos)"},{"$f":"Translations!$B$1053","v":"Kietasis – Mediena (atliekos)"},{"$f":"Translations!$B$1054","v":"Kietasis – Durpės"},{"$f":"Translations!$B$1055","v":"Kietasis – Kanalizacijos dumblas"},{"$f":"Translations!$B$1056","v":"Kietasis – Komunalinių nuotekų dumblas"},{"$f":"Translations!$B$1057","v":"Kietasis – Akmens anglių degutas"},{"$f":"Translations!$B$1058","v":"Kietasis – Medžio anglys"},{"$f":"Translations!$B$1059","v":"Kietasis – Panaudos padangos"},{"$f":"Translations!$B$1060","v":"Kietasis – Kitų rūšių kietasis kuras"},{"$f":"Translations!$B$1061","v":"Kietasis – Kitų rūšių kietoji biomasė"},{"$f":"Translations!$B$1034","v":"Atliekos – Komunalinės ir pramoninės atliekos"},{"$f":"Translations!$B$1035","v":"Atliekos – Pramoninės atliekos"},{"$f":"Translations!$B$1036","v":"Naftos perdirbimo įmonių žaliava – Naftos perdirbimo įmonių dujos"},{"$f":"Translations!$B$157","v":"netaik."},{"$f":"Translations!$B$157","v":"netaik."},{"$f":"Translations!$B$157","v":"netaik."},{"$f":"Translations!$B$157","v":"netaik."},{"$f":"Translations!$B$157","v":"netaik."},{"$f":"Translations!$B$157","v":"netaik."},{"$f":"Translations!$B$157","v":"netaik."},{"$f":"Translations!$B$157","v":"netaik."},{"$f":"Translations!$B$157","v":"netaik."},{"$f":"Translations!$B$157","v":"netaik."},{"$f":"Translations!$B$157","v":"netaik."},{"$f":"Translations!$B$157","v":"netaik."},{"$f":"Translations!$B$157","v":"netaik."},{"$f":"Translations!$B$157","v":"netaik."},{"$f":"Translations!$B$157","v":"netaik."},{"$f":"Translations!$B$157","v":"netaik."},{"$f":"Translations!$B$157","v":"netaik."},{"$f":"Translations!$B$157","v":"netaik."},{"$f":"Translations!$B$157","v":"netaik."},{"$f":"Translations!$B$157","v":"netaik."},{"$f":"Translations!$B$157","v":"netaik."},{"$f":"Translations!$B$157","v":"netaik."},{"$f":"Translations!$B$157","v":"netaik."},{"$f":"Translations!$B$157","v":"netaik."},{"$f":"Translations!$B$157","v":"netaik."},{"$f":"Translations!$B$157","v":"netaik."},{"$f":"Translations!$B$157","v":"netaik."},{"$f":"Translations!$B$157","v":"netaik."},{"$f":"Translations!$B$157","v":"netaik."},{"$f":"Translations!$B$157","v":"netaik."}]
[12,"Koksas: Karbonatų sąnaudos (A metodas)",null,null,"MSParameters!$G$29:$U$29",null,{"$f":"Translations!$B$1065","v":"Medžiaga – Kalkakmenis"},{"$f":"Translations!$B$1066","v":"Medžiaga – Dolomitas"},{"$f":"Translations!$B$1067","v":"Medžiaga – Natrio vandenilio karbonatas"},{"$f":"Translations!$B$1068","v":"Medžiaga – Natrio karbonatas"},{"$f":"Translations!$B$1069","v":"Medžiaga – Kalio karbonatas (potašas)"},{"$f":"Translations!$B$1070","v":"Medžiaga – CaCO3"},{"$f":"Translations!$B$1071","v":"Medžiaga – MgCO3"},{"$f":"Translations!$B$1072","v":"Medžiaga – Na2CO3"},{"$f":"Translations!$B$1073","v":"Medžiaga – BaCO3"},{"$f":"Translations!$B$1074","v":"Medžiaga – Li2CO3"},{"$f":"Translations!$B$1075","v":"Medžiaga – K2CO3"},{"$f":"Translations!$B$1076","v":"Medžiaga – SrCO3"},{"$f":"Translations!$B$1077","v":"Medžiaga – NaHCO3"},{"$f":"Translations!$B$1078","v":"Medžiaga – FeCO3"},{"$f":"Translations!$B$1079","v":"Medžiaga – Kiti karbonatai"},{"$f":"Translations!$B$157","v":"netaik."},{"$f":"Translations!$B$157","v":"netaik."},{"$f":"Translations!$B$157","v":"netaik."},{"$f":"Translations!$B$157","v":"netaik."},{"$f":"Translations!$B$157","v":"netaik."},{"$f":"Translations!$B$157","v":"netaik."},{"$f":"Translations!$B$157","v":"netaik."},{"$f":"Translations!$B$157","v":"netaik."},{"$f":"Translations!$B$157","v":"netaik."},{"$f":"Translations!$B$157","v":"netaik."},{"$f":"Translations!$B$157","v":"netaik."},{"$f":"Translations!$B$157","v":"netaik."},{"$f":"Translations!$B$157","v":"netaik."},{"$f":"Translations!$B$157","v":"netaik."},{"$f":"Translations!$B$157","v":"netaik."},{"$f":"Translations!$B$157","v":"netaik."},{"$f":"Translations!$B$157","v":"netaik."},{"$f":"Translations!$B$157","v":"netaik."},{"$f":"Translations!$B$157","v":"netaik."},{"$f":"Translations!$B$157","v":"netaik."},{"$f":"Translations!$B$157","v":"netaik."},{"$f":"Translations!$B$157","v":"netaik."},{"$f":"Translations!$B$157","v":"netaik."},{"$f":"Translations!$B$157","v":"netaik."},{"$f":"Translations!$B$157","v":"netaik."},{"$f":"Translations!$B$157","v":"netaik."},{"$f":"Translations!$B$157","v":"netaik."},{"$f":"Translations!$B$157","v":"netaik."},{"$f":"Translations!$B$157","v":"netaik."},{"$f":"Translations!$B$157","v":"netaik."},{"$f":"Translations!$B$157","v":"netaik."},{"$f":"Translations!$B$157","v":"netaik."},{"$f":"Translations!$B$157","v":"netaik."},{"$f":"Translations!$B$157","v":"netaik."},{"$f":"Translations!$B$157","v":"netaik."},{"$f":"Translations!$B$157","v":"netaik."},{"$f":"Translations!$B$157","v":"netaik."},{"$f":"Translations!$B$157","v":"netaik."},{"$f":"Translations!$B$157","v":"netaik."},{"$f":"Translations!$B$157","v":"netaik."},{"$f":"Translations!$B$157","v":"netaik."},{"$f":"Translations!$B$157","v":"netaik."},{"$f":"Translations!$B$157","v":"netaik."},{"$f":"Translations!$B$157","v":"netaik."},{"$f":"Translations!$B$157","v":"netaik."},{"$f":"Translations!$B$157","v":"netaik."},{"$f":"Translations!$B$157","v":"netaik."},{"$f":"Translations!$B$157","v":"netaik."},{"$f":"Translations!$B$157","v":"netaik."},{"$f":"Translations!$B$157","v":"netaik."},{"$f":"Translations!$B$157","v":"netaik."},{"$f":"Translations!$B$157","v":"netaik."},{"$f":"Translations!$B$157","v":"netaik."},{"$f":"Translations!$B$157","v":"netaik."},{"$f":"Translations!$B$157","v":"netaik."},{"$f":"Translations!$B$157","v":"netaik."},{"$f":"Translations!$B$157","v":"netaik."},{"$f":"Translations!$B$157","v":"netaik."},{"$f":"Translations!$B$157","v":"netaik."},{"$f":"Translations!$B$157","v":"netaik."},{"$f":"Translations!$B$157","v":"netaik."},{"$f":"Translations!$B$157","v":"netaik."},{"$f":"Translations!$B$157","v":"netaik."},{"$f":"Translations!$B$157","v":"netaik."},{"$f":"Translations!$B$157","v":"netaik."},{"$f":"Translations!$B$157","v":"netaik."},{"$f":"Translations!$B$157","v":"netaik."},{"$f":"Translations!$B$157","v":"netaik."},{"$f":"Translations!$B$157","v":"netaik."},{"$f":"Translations!$B$157","v":"netaik."},{"$f":"Translations!$B$157","v":"netaik."},{"$f":"Translations!$B$157","v":"netaik."},{"$f":"Translations!$B$157","v":"netaik."},{"$f":"Translations!$B$157","v":"netaik."},{"$f":"Translations!$B$157","v":"netaik."},{"$f":"Translations!$B$157","v":"netaik."},{"$f":"Translations!$B$157","v":"netaik."},{"$f":"Translations!$B$157","v":"netaik."},{"$f":"Translations!$B$157","v":"netaik."},{"$f":"Translations!$B$157","v":"netaik."},{"$f":"Translations!$B$157","v":"netaik."},{"$f":"Translations!$B$157","v":"netaik."},{"$f":"Translations!$B$157","v":"netaik."},{"$f":"Translations!$B$157","v":"netaik."},{"$f":"Translations!$B$157","v":"netaik."}]
[13,"Koksas: Oksido išeiga (B metodas)",null,null,"MSParameters!$G$30:$J$30",null,{"$f":"Translations!$B$1082","v":"Medžiaga – CaO"},{"$f":"Translations!$B$1083","v":"Medžiaga – MgO"},{"$f":"Translations!$B$1084","v":"Medžiaga – BaO"},{"$f":"Translations!$B$1085","v":"Medžiaga – Kiti produktai"},{"$f":"Translations!$B$157","v":"netaik."},{"$f":"Translations!$B$157","v":"netaik."},{"$f":"Translations!$B$157","v":"netaik."},{"$f":"Translations!$B$157","v":"netaik."},{"$f":"Translations!$B$157","v":"netaik."},{"$f":"Translations!$B$157","v":"netaik."},{"$f":"Translations!$B$157","v":"netaik."},{"$f":"Translations!$B$157","v":"netaik."},{"$f":"Translations!$B$157","v":"netaik."},{"$f":"Translations!$B$157","v":"netaik."},{"$f":"Translations!$B$157","v":"netaik."},{"$f":"Translations!$B$157","v":"netaik."},{"$f":"Translations!$B$157","v":"netaik."},{"$f":"Translations!$B$157","v":"netaik."},{"$f":"Translations!$B$157","v":"netaik."},{"$f":"Translations!$B$157","v":"netaik."},{"$f":"Translations!$B$157","v":"netaik."},{"$f":"Translations!$B$157","v":"netaik."},{"$f":"Translations!$B$157","v":"netaik."},{"$f":"Translations!$B$157","v":"netaik."},{"$f":"Translations!$B$157","v":"netaik."},{"$f":"Translations!$B$157","v":"netaik."},{"$f":"Translations!$B$157","v":"netaik."},{"$f":"Translations!$B$157","v":"netaik."},{"$f":"Translations!$B$157","v":"netaik."},{"$f":"Translations!$B$157","v":"netaik."},{"$f":"Translations!$B$157","v":"netaik."},{"$f":"Translations!$B$157","v":"netaik."},{"$f":"Translations!$B$157","v":"netaik."},{"$f":"Translations!$B$157","v":"netaik."},{"$f":"Translations!$B$157","v":"netaik."},{"$f":"Translations!$B$157","v":"netaik."},{"$f":"Translations!$B$157","v":"netaik."},{"$f":"Translations!$B$157","v":"netaik."},{"$f":"Translations!$B$157","v":"netaik."},{"$f":"Translations!$B$157","v":"netaik."},{"$f":"Translations!$B$157","v":"netaik."},{"$f":"Translations!$B$157","v":"netaik."},{"$f":"Translations!$B$157","v":"netaik."},{"$f":"Translations!$B$157","v":"netaik."},{"$f":"Translations!$B$157","v":"netaik."},{"$f":"Translations!$B$157","v":"netaik."},{"$f":"Translations!$B$157","v":"netaik."},{"$f":"Translations!$B$157","v":"netaik."},{"$f":"Translations!$B$157","v":"netaik."},{"$f":"Translations!$B$157","v":"netaik."},{"$f":"Translations!$B$157","v":"netaik."},{"$f":"Translations!$B$157","v":"netaik."},{"$f":"Translations!$B$157","v":"netaik."},{"$f":"Translations!$B$157","v":"netaik."},{"$f":"Translations!$B$157","v":"netaik."},{"$f":"Translations!$B$157","v":"netaik."},{"$f":"Translations!$B$157","v":"netaik."},{"$f":"Translations!$B$157","v":"netaik."},{"$f":"Translations!$B$157","v":"netaik."},{"$f":"Translations!$B$157","v":"netaik."},{"$f":"Translations!$B$157","v":"netaik."},{"$f":"Translations!$B$157","v":"netaik."},{"$f":"Translations!$B$157","v":"netaik."},{"$f":"Translations!$B$157","v":"netaik."},{"$f":"Translations!$B$157","v":"netaik."},{"$f":"Translations!$B$157","v":"netaik."},{"$f":"Translations!$B$157","v":"netaik."},{"$f":"Translations!$B$157","v":"netaik."},{"$f":"Translations!$B$157","v":"netaik."},{"$f":"Translations!$B$157","v":"netaik."},{"$f":"Translations!$B$157","v":"netaik."},{"$f":"Translations!$B$157","v":"netaik."},{"$f":"Translations!$B$157","v":"netaik."},{"$f":"Translations!$B$157","v":"netaik."},{"$f":"Translations!$B$157","v":"netaik."},{"$f":"Translations!$B$157","v":"netaik."},{"$f":"Translations!$B$157","v":"netaik."},{"$f":"Translations!$B$157","v":"netaik."},{"$f":"Translations!$B$157","v":"netaik."},{"$f":"Translations!$B$157","v":"netaik."},{"$f":"Translations!$B$157","v":"netaik."},{"$f":"Translations!$B$157","v":"netaik."},{"$f":"Translations!$B$157","v":"netaik."},{"$f":"Translations!$B$157","v":"netaik."},{"$f":"Translations!$B$157","v":"netaik."},{"$f":"Translations!$B$157","v":"netaik."},{"$f":"Translations!$B$157","v":"netaik."},{"$f":"Translations!$B$157","v":"netaik."},{"$f":"Translations!$B$157","v":"netaik."},{"$f":"Translations!$B$157","v":"netaik."},{"$f":"Translations!$B$157","v":"netaik."},{"$f":"Translations!$B$157","v":"netaik."},{"$f":"Translations!$B$157","v":"netaik."},{"$f":"Translations!$B$157","v":"netaik."},{"$f":"Translations!$B$157","v":"netaik."},{"$f":"Translations!$B$157","v":"netaik."},{"$f":"Translations!$B$157","v":"netaik."},{"$f":"Translations!$B$157","v":"netaik."},{"$f":"Translations!$B$157","v":"netaik."},{"$f":"Translations!$B$157","v":"netaik."}]
[14,"Koksas: Masės balansas",null,null,"MSParameters!$G$31:$CD$31",null,{"$f":"Translations!$B$1086","v":"Medžiaga – Rūdos"},{"$f":"Translations!$B$1087","v":"Medžiaga – Priedai"},{"$f":"Translations!$B$1088","v":"Medžiaga – Metalo laužas"},{"$f":"Translations!$B$1089","v":"Medžiaga – Geležies rūdos"},{"$f":"Translations!$B$1090","v":"Medžiaga – Aukštakrosnių šlakas"},{"$f":"Translations!$B$1091","v":"Medžiaga – Kitų rūšių šlakas"},{"$f":"Translations!$B$1092","v":"Medžiaga – Kitų rūšių reduktoriai"},{"$f":"Translations!$B$999","v":"Dujinis – Gamtinės dujos"},{"$f":"Translations!$B$1000","v":"Dujinis – Dujų gamyklos dujos"},{"$f":"Translations!$B$1001","v":"Dujinis – Koksavimo dujos"},{"$f":"Translations!$B$1002","v":"Dujinis – Aukštakrosnių dujos"},{"$f":"Translations!$B$1003","v":"Dujinis – Deguoninių plieno aukštakrosnių dujos"},{"$f":"Translations!$B$1004","v":"Dujinis – Biodujos"},{"$f":"Translations!$B$1005","v":"Dujinis – Dumblo dujos"},{"$f":"Translations!$B$1006","v":"Dujinis – Sąvartynų dujos"},{"$f":"Translations!$B$1007","v":"Dujinis – Anglies monoksidas"},{"$f":"Translations!$B$1008","v":"Dujinis – Metanas"},{"$f":"Translations!$B$988","v":"Dujinis – Etanas"},{"$f":"Translations!$B$989","v":"Dujinis – Propanas"},{"$f":"Translations!$B$990","v":"Dujinis – Butanas"},{"$f":"Translations!$B$1009","v":"Dujinis – Kitų rūšių dujinis kuras"},{"$f":"Translations!$B$1010","v":"Dujinis – Kitų rūšių dujinė biomasė"},{"$f":"Translations!$B$991","v":"Skystasis – Dyzelinis krosnių kuras"},{"$f":"Translations!$B$1011","v":"Skystasis – Labai lengvos distiliacijos kuras"},{"$f":"Translations!$B$1012","v":"Skystasis – Vidutinės distiliacijos kuras"},{"$f":"Translations!$B$1013","v":"Skystasis – Sunkusis mazutas"},{"$f":"Translations!$B$992","v":"Skystasis – Gazolis"},{"$f":"Translations!$B$993","v":"Skystasis – Gazolinas"},{"$f":"Translations!$B$994","v":"Skystasis – Valytas žibalas"},{"$f":"Translations!$B$995","v":"Skystasis – Žibalas"},{"$f":"Translations!$B$996","v":"Skystasis – Reaktyvinis žibalas (Jet A1 arba Jet A)"},{"$f":"Translations!$B$997","v":"Skystasis – Reaktyvinis gazolinas (benzinas) (Jet B)"},{"$f":"Translations!$B$998","v":"Skystasis – Aviacinis gazolinas (benzinas) (AvGas)"},{"$f":"Translations!$B$1014","v":"Skystasis – Suskystintosios naftos dujos"},{"$f":"Translations!$B$1015","v":"Skystasis – Žalia nafta"},{"$f":"Translations!$B$1016","v":"Skystasis – Orimulsija"},{"$f":"Translations!$B$1017","v":"Skystasis – Gamtinių dujų kondensatai"},{"$f":"Translations!$B$1018","v":"Skystasis – Automobilinis benzinas"},{"$f":"Translations!$B$1019","v":"Skystasis – Skalūnų alyva"},{"$f":"Translations!$B$1020","v":"Skystasis – Dujos ir (arba) dyzelinas"},{"$f":"Translations!$B$1021","v":"Skystasis – Mazuto distiliavimo likutis"},{"$f":"Translations!$B$1022","v":"Skystasis – Pirminis benzinas"},{"$f":"Translations!$B$1023","v":"Skystasis – Tepalai"},{"$f":"Translations!$B$1024","v":"Skystasis – Vaitspiritas ir SBP"},{"$f":"Translations!$B$1025","v":"Skystasis – Skalūnų alyva ir gudoniniai smėliai"},{"$f":"Translations!$B$1026","v":"Skystasis – Akmens anglių briketai"},{"$f":"Translations!$B$1027","v":"Skystasis – Alyvų atliekos"},{"$f":"Translations!$B$1028","v":"Skystasis – Biobenzinas"},{"$f":"Translations!$B$1029","v":"Skystasi – Biodyzelinas"},{"$f":"Translations!$B$1030","v":"Skystasis – Bitumas"},{"$f":"Translations!$B$1032","v":"Skystasis – Kitų rūšių skystasis kuras"},{"$f":"Translations!$B$1033","v":"Skystasis – Kitų rūšių skystoji biomasė"},{"$f":"Translations!$B$1040","v":"Kietasis – Koksas"},{"$f":"Translations!$B$1041","v":"Kietasis – Naftos koksas"},{"$f":"Translations!$B$1042","v":"Kietasis – Akmens anglys"},{"$f":"Translations!$B$1043","v":"Kietasis – Lignitas"},{"$f":"Translations!$B$1044","v":"Kietasis – Antracitas"},{"$f":"Translations!$B$1045","v":"Kietasis – Koksinės anglys"},{"$f":"Translations!$B$1046","v":"Kietasis – Subbituminės akmens anglys"},{"$f":"Translations!$B$1047","v":"Kietasis – Kitos bituminės akmens anglys"},{"$f":"Translations!$B$1048","v":"Kietasis – Dujinis koksas"},{"$f":"Translations!$B$1049","v":"Kietasis – Parafinas"},{"$f":"Translations!$B$1050","v":"Kietasis – Sulfatinės išviros"},{"$f":"Translations!$B$1051","v":"Kietasis – Malkos"},{"$f":"Translations!$B$1052","v":"Kietasis – Mediena (ne atliekos)"},{"$f":"Translations!$B$1053","v":"Kietasis – Mediena (atliekos)"},{"$f":"Translations!$B$1054","v":"Kietasis – Durpės"},{"$f":"Translations!$B$1055","v":"Kietasis – Kanalizacijos dumblas"},{"$f":"Translations!$B$1056","v":"Kietasis – Komunalinių nuotekų dumblas"},{"$f":"Translations!$B$1057","v":"Kietasis – Akmens anglių degutas"},{"$f":"Translations!$B$1058","v":"Kietasis – Medžio anglys"},{"$f":"Translations!$B$1059","v":"Kietasis – Panaudos padangos"},{"$f":"Translations!$B$1060","v":"Kietasis – Kitų rūšių kietasis kuras"},{"$f":"Translations!$B$1061","v":"Kietasis – Kitų rūšių kietoji biomasė"},{"$f":"Translations!$B$1034","v":"Atliekos – Komunalinės ir pramoninės atliekos"},{"$f":"Translations!$B$1035","v":"Atliekos – Pramoninės atliekos"},{"$f":"Translations!$B$157","v":"netaik."},{"$f":"Translations!$B$157","v":"netaik."},{"$f":"Translations!$B$157","v":"netaik."},{"$f":"Translations!$B$157","v":"netaik."},{"$f":"Translations!$B$157","v":"netaik."},{"$f":"Translations!$B$157","v":"netaik."},{"$f":"Translations!$B$157","v":"netaik."},{"$f":"Translations!$B$157","v":"netaik."},{"$f":"Translations!$B$157","v":"netaik."},{"$f":"Translations!$B$157","v":"netaik."},{"$f":"Translations!$B$157","v":"netaik."},{"$f":"Translations!$B$157","v":"netaik."},{"$f":"Translations!$B$157","v":"netaik."},{"$f":"Translations!$B$157","v":"netaik."},{"$f":"Translations!$B$157","v":"netaik."},{"$f":"Translations!$B$157","v":"netaik."},{"$f":"Translations!$B$157","v":"netaik."},{"$f":"Translations!$B$157","v":"netaik."},{"$f":"Translations!$B$157","v":"netaik."},{"$f":"Translations!$B$157","v":"netaik."},{"$f":"Translations!$B$157","v":"netaik."},{"$f":"Translations!$B$157","v":"netaik."},{"$f":"Translations!$B$157","v":"netaik."},{"$f":"Translations!$B$157","v":"netaik."}]
[15,"Metalų rūda: Karbonatų sąnaudos",null,null,"MSParameters!$G$32:$V$32",null,{"$f":"Translations!$B$1065","v":"Medžiaga – Kalkakmenis"},{"$f":"Translations!$B$1066","v":"Medžiaga – Dolomitas"},{"$f":"Translations!$B$1067","v":"Medžiaga – Natrio vandenilio karbonatas"},{"$f":"Translations!$B$1089","v":"Medžiaga – Geležies rūdos"},{"$f":"Translations!$B$1068","v":"Medžiaga – Natrio karbonatas"},{"$f":"Translations!$B$1069","v":"Medžiaga – Kalio karbonatas (potašas)"},{"$f":"Translations!$B$1070","v":"Medžiaga – CaCO3"},{"$f":"Translations!$B$1071","v":"Medžiaga – MgCO3"},{"$f":"Translations!$B$1072","v":"Medžiaga – Na2CO3"},{"$f":"Translations!$B$1073","v":"Medžiaga – BaCO3"},{"$f":"Translations!$B$1074","v":"Medžiaga – Li2CO3"},{"$f":"Translations!$B$1075","v":"Medžiaga – K2CO3"},{"$f":"Translations!$B$1076","v":"Medžiaga – SrCO3"},{"$f":"Translations!$B$1077","v":"Medžiaga – NaHCO3"},{"$f":"Translations!$B$1078","v":"Medžiaga – FeCO3"},{"$f":"Translations!$B$1079","v":"Medžiaga – Kiti karbonatai"},{"$f":"Translations!$B$157","v":"netaik."},{"$f":"Translations!$B$157","v":"netaik."},{"$f":"Translations!$B$157","v":"netaik."},{"$f":"Translations!$B$157","v":"netaik."},{"$f":"Translations!$B$157","v":"netaik."},{"$f":"Translations!$B$157","v":"netaik."},{"$f":"Translations!$B$157","v":"netaik."},{"$f":"Translations!$B$157","v":"netaik."},{"$f":"Translations!$B$157","v":"netaik."},{"$f":"Translations!$B$157","v":"netaik."},{"$f":"Translations!$B$157","v":"netaik."},{"$f":"Translations!$B$157","v":"netaik."},{"$f":"Translations!$B$157","v":"netaik."},{"$f":"Translations!$B$157","v":"netaik."},{"$f":"Translations!$B$157","v":"netaik."},{"$f":"Translations!$B$157","v":"netaik."},{"$f":"Translations!$B$157","v":"netaik."},{"$f":"Translations!$B$157","v":"netaik."},{"$f":"Translations!$B$157","v":"netaik."},{"$f":"Translations!$B$157","v":"netaik."},{"$f":"Translations!$B$157","v":"netaik."},{"$f":"Translations!$B$157","v":"netaik."},{"$f":"Translations!$B$157","v":"netaik."},{"$f":"Translations!$B$157","v":"netaik."},{"$f":"Translations!$B$157","v":"netaik."},{"$f":"Translations!$B$157","v":"netaik."},{"$f":"Translations!$B$157","v":"netaik."},{"$f":"Translations!$B$157","v":"netaik."},{"$f":"Translations!$B$157","v":"netaik."},{"$f":"Translations!$B$157","v":"netaik."},{"$f":"Translations!$B$157","v":"netaik."},{"$f":"Translations!$B$157","v":"netaik."},{"$f":"Translations!$B$157","v":"netaik."},{"$f":"Translations!$B$157","v":"netaik."},{"$f":"Translations!$B$157","v":"netaik."},{"$f":"Translations!$B$157","v":"netaik."},{"$f":"Translations!$B$157","v":"netaik."},{"$f":"Translations!$B$157","v":"netaik."},{"$f":"Translations!$B$157","v":"netaik."},{"$f":"Translations!$B$157","v":"netaik."},{"$f":"Translations!$B$157","v":"netaik."},{"$f":"Translations!$B$157","v":"netaik."},{"$f":"Translations!$B$157","v":"netaik."},{"$f":"Translations!$B$157","v":"netaik."},{"$f":"Translations!$B$157","v":"netaik."},{"$f":"Translations!$B$157","v":"netaik."},{"$f":"Translations!$B$157","v":"netaik."},{"$f":"Translations!$B$157","v":"netaik."},{"$f":"Translations!$B$157","v":"netaik."},{"$f":"Translations!$B$157","v":"netaik."},{"$f":"Translations!$B$157","v":"netaik."},{"$f":"Translations!$B$157","v":"netaik."},{"$f":"Translations!$B$157","v":"netaik."},{"$f":"Translations!$B$157","v":"netaik."},{"$f":"Translations!$B$157","v":"netaik."},{"$f":"Translations!$B$157","v":"netaik."},{"$f":"Translations!$B$157","v":"netaik."},{"$f":"Translations!$B$157","v":"netaik."},{"$f":"Translations!$B$157","v":"netaik."},{"$f":"Translations!$B$157","v":"netaik."},{"$f":"Translations!$B$157","v":"netaik."},{"$f":"Translations!$B$157","v":"netaik."},{"$f":"Translations!$B$157","v":"netaik."},{"$f":"Translations!$B$157","v":"netaik."},{"$f":"Translations!$B$157","v":"netaik."},{"$f":"Translations!$B$157","v":"netaik."},{"$f":"Translations!$B$157","v":"netaik."},{"$f":"Translations!$B$157","v":"netaik."},{"$f":"Translations!$B$157","v":"netaik."},{"$f":"Translations!$B$157","v":"netaik."},{"$f":"Translations!$B$157","v":"netaik."},{"$f":"Translations!$B$157","v":"netaik."},{"$f":"Translations!$B$157","v":"netaik."},{"$f":"Translations!$B$157","v":"netaik."},{"$f":"Translations!$B$157","v":"netaik."},{"$f":"Translations!$B$157","v":"netaik."},{"$f":"Translations!$B$157","v":"netaik."},{"$f":"Translations!$B$157","v":"netaik."},{"$f":"Translations!$B$157","v":"netaik."},{"$f":"Translations!$B$157","v":"netaik."},{"$f":"Translations!$B$157","v":"netaik."},{"$f":"Translations!$B$157","v":"netaik."},{"$f":"Translations!$B$157","v":"netaik."},{"$f":"Translations!$B$157","v":"netaik."}]
[16,"Metalų rūda: Masės balansas",null,null,"MSParameters!$G$33:$CO$33",null,{"$f":"Translations!$B$1065","v":"Medžiaga – Kalkakmenis"},{"$f":"Translations!$B$1066","v":"Medžiaga – Dolomitas"},{"$f":"Translations!$B$1067","v":"Medžiaga – Natrio vandenilio karbonatas"},{"$f":"Translations!$B$1089","v":"Medžiaga – Geležies rūdos"},{"$f":"Translations!$B$1068","v":"Medžiaga – Natrio karbonatas"},{"$f":"Translations!$B$1069","v":"Medžiaga – Kalio karbonatas (potašas)"},{"$f":"Translations!$B$1070","v":"Medžiaga – CaCO3"},{"$f":"Translations!$B$1071","v":"Medžiaga – MgCO3"},{"$f":"Translations!$B$1072","v":"Medžiaga – Na2CO3"},{"$f":"Translations!$B$1073","v":"Medžiaga – BaCO3"},{"$f":"Translations!$B$1074","v":"Medžiaga – Li2CO3"},{"$f":"Translations!$B$1075","v":"Medžiaga – K2CO3"},{"$f":"Translations!$B$1076","v":"Medžiaga – SrCO3"},{"$f":"Translations!$B$1077","v":"Medžiaga – NaHCO3"},{"$f":"Translations!$B$1078","v":"Medžiaga – FeCO3"},{"$f":"Translations!$B$1082","v":"Medžiaga – CaO"},{"$f":"Translations!$B$1083","v":"Medžiaga – MgO"},{"$f":"Translations!$B$1084","v":"Medžiaga – BaO"},{"$f":"Translations!$B$1079","v":"Medžiaga – Kiti karbonatai"},{"$f":"Translations!$B$1064","v":"Medžiaga – Kitos medžiagos"},{"$f":"Translations!$B$999","v":"Dujinis – Gamtinės dujos"},{"$f":"Translations!$B$1000","v":"Dujinis – Dujų gamyklos dujos"},{"$f":"Translations!$B$1001","v":"Dujinis – Koksavimo dujos"},{"$f":"Translations!$B$1002","v":"Dujinis – Aukštakrosnių dujos"},{"$f":"Translations!$B$1003","v":"Dujinis – Deguoninių plieno aukštakrosnių dujos"},{"$f":"Translations!$B$1004","v":"Dujinis – Biodujos"},{"$f":"Translations!$B$1005","v":"Dujinis – Dumblo dujos"},{"$f":"Translations!$B$1006","v":"Dujinis – Sąvartynų dujos"},{"$f":"Translations!$B$1007","v":"Dujinis – Anglies monoksidas"},{"$f":"Translations!$B$1008","v":"Dujinis – Metanas"},{"$f":"Translations!$B$988","v":"Dujinis – Etanas"},{"$f":"Translations!$B$989","v":"Dujinis – Propanas"},{"$f":"Translations!$B$990","v":"Dujinis – Butanas"},{"$f":"Translations!$B$1009","v":"Dujinis – Kitų rūšių dujinis kuras"},{"$f":"Translations!$B$1010","v":"Dujinis – Kitų rūšių dujinė biomasė"},{"$f":"Translations!$B$991","v":"Skystasis – Dyzelinis krosnių kuras"},{"$f":"Translations!$B$1011","v":"Skystasis – Labai lengvos distiliacijos kuras"},{"$f":"Translations!$B$1012","v":"Skystasis – Vidutinės distiliacijos kuras"},{"$f":"Translations!$B$1013","v":"Skystasis – Sunkusis mazutas"},{"$f":"Translations!$B$992","v":"Skystasis – Gazolis"},{"$f":"Translations!$B$993","v":"Skystasis – Gazolinas"},{"$f":"Translations!$B$994","v":"Skystasis – Valytas žibalas"},{"$f":"Translations!$B$995","v":"Skystasis – Žibalas"},{"$f":"Translations!$B$996","v":"Skystasis – Reaktyvinis žibalas (Jet A1 arba Jet A)"},{"$f":"Translations!$B$997","v":"Skystasis – Reaktyvinis gazolinas (benzinas) (Jet B)"},{"$f":"Translations!$B$998","v":"Skystasis – Aviacinis gazolinas (benzinas) (AvGas)"},{"$f":"Translations!$B$1014","v":"Skystasis – Suskystintosios naftos dujos"},{"$f":"Translations!$B$1016","v":"Skystasis – Orimulsija"},{"$f":"Translations!$B$1017","v":"Skystasis – Gamtinių dujų kondensatai"},{"$f":"Translations!$B$1018","v":"Skystasis – Automobilinis benzinas"},{"$f":"Translations!$B$1020","v":"Skystasis – Dujos ir (arba) dyzelinas"},{"$f":"Translations!$B$1021","v":"Skystasis – Mazuto distiliavimo likutis"},{"$f":"Translations!$B$1022","v":"Skystasis – Pirminis benzinas"},{"$f":"Translations!$B$1023","v":"Skystasis – Tepalai"},{"$f":"Translations!$B$1024","v":"Skystasis – Vaitspiritas ir SBP"},{"$f":"Translations!$B$1025","v":"Skystasis – Skalūnų alyva ir gudoniniai smėliai"},{"$f":"Translations!$B$1026","v":"Skystasis – Akmens anglių briketai"},{"$f":"Translations!$B$1027","v":"Skystasis – Alyvų atliekos"},{"$f":"Translations!$B$1028","v":"Skystasis – Biobenzinas"},{"$f":"Translations!$B$1029","v":"Skystasi – Biodyzelinas"},{"$f":"Translations!$B$1030","v":"Skystasis – Bitumas"},{"$f":"Translations!$B$1032","v":"Skystasis – Kitų rūšių skystasis kuras"},{"$f":"Translations!$B$1033","v":"Skystasis – Kitų rūšių skystoji biomasė"},{"$f":"Translations!$B$1040","v":"Kietasis – Koksas"},{"$f":"Translations!$B$1041","v":"Kietasis – Naftos koksas"},{"$f":"Translations!$B$1042","v":"Kietasis – Akmens anglys"},{"$f":"Translations!$B$1043","v":"Kietasis – Lignitas"},{"$f":"Translations!$B$1044","v":"Kietasis – Antracitas"},{"$f":"Translations!$B$1045","v":"Kietasis – Koksinės anglys"},{"$f":"Translations!$B$1046","v":"Kietasis – Subbituminės akmens anglys"},{"$f":"Translations!$B$1047","v":"Kietasis – Kitos bituminės akmens anglys"},{"$f":"Translations!$B$1048","v":"Kietasis – Dujinis koksas"},{"$f":"Translations!$B$1049","v":"Kietasis – Parafinas"},{"$f":"Translations!$B$1050","v":"Kietasis – Sulfatinės išviros"},{"$f":"Translations!$B$1051","v":"Kietasis – Malkos"},{"$f":"Translations!$B$1052","v":"Kietasis – Mediena (ne atliekos)"},{"$f":"Translations!$B$1053","v":"Kietasis – Mediena (atliekos)"},{"$f":"Translations!$B$1054","v":"Kietasis – Durpės"},{"$f":"Translations!$B$1055","v":"Kietasis – Kanalizacijos dumblas"},{"$f":"Translations!$B$1056","v":"Kietasis – Komunalinių nuotekų dumblas"},{"$f":"Translations!$B$1057","v":"Kietasis – Akmens anglių degutas"},{"$f":"Translations!$B$1058","v":"Kietasis – Medžio anglys"},{"$f":"Translations!$B$1059","v":"Kietasis – Panaudos padangos"},{"$f":"Translations!$B$1060","v":"Kietasis – Kitų rūšių kietasis kuras"},{"$f":"Translations!$B$1061","v":"Kietasis – Kitų rūšių kietoji biomasė"},{"$f":"Translations!$B$1034","v":"Atliekos – Komunalinės ir pramoninės atliekos"},{"$f":"Translations!$B$1035","v":"Atliekos – Pramoninės atliekos"},{"$f":"Translations!$B$157","v":"netaik."},{"$f":"Translations!$B$157","v":"netaik."},{"$f":"Translations!$B$157","v":"netaik."},{"$f":"Translations!$B$157","v":"netaik."},{"$f":"Translations!$B$157","v":"netaik."},{"$f":"Translations!$B$157","v":"netaik."},{"$f":"Translations!$B$157","v":"netaik."},{"$f":"Translations!$B$157","v":"netaik."},{"$f":"Translations!$B$157","v":"netaik."},{"$f":"Translations!$B$157","v":"netaik."},{"$f":"Translations!$B$157","v":"netaik."},{"$f":"Translations!$B$157","v":"netaik."},{"$f":"Translations!$B$157","v":"netaik."}]
[17,"Geležis ir plienas: Kuras kaip proceso žaliava",null,null,"MSParameters!$G$34:$BW$34",null,{"$f":"Translations!$B$999","v":"Dujinis – Gamtinės dujos"},{"$f":"Translations!$B$1000","v":"Dujinis – Dujų gamyklos dujos"},{"$f":"Translations!$B$1001","v":"Dujinis – Koksavimo dujos"},{"$f":"Translations!$B$1002","v":"Dujinis – Aukštakrosnių dujos"},{"$f":"Translations!$B$1003","v":"Dujinis – Deguoninių plieno aukštakrosnių dujos"},{"$f":"Translations!$B$1004","v":"Dujinis – Biodujos"},{"$f":"Translations!$B$1005","v":"Dujinis – Dumblo dujos"},{"$f":"Translations!$B$1006","v":"Dujinis – Sąvartynų dujos"},{"$f":"Translations!$B$1007","v":"Dujinis – Anglies monoksidas"},{"$f":"Translations!$B$1008","v":"Dujinis – Metanas"},{"$f":"Translations!$B$988","v":"Dujinis – Etanas"},{"$f":"Translations!$B$989","v":"Dujinis – Propanas"},{"$f":"Translations!$B$990","v":"Dujinis – Butanas"},{"$f":"Translations!$B$1009","v":"Dujinis – Kitų rūšių dujinis kuras"},{"$f":"Translations!$B$1010","v":"Dujinis – Kitų rūšių dujinė biomasė"},{"$f":"Translations!$B$991","v":"Skystasis – Dyzelinis krosnių kuras"},{"$f":"Translations!$B$1011","v":"Skystasis – Labai lengvos distiliacijos kuras"},{"$f":"Translations!$B$1012","v":"Skystasis – Vidutinės distiliacijos kuras"},{"$f":"Translations!$B$1013","v":"Skystasis – Sunkusis mazutas"},{"$f":"Translations!$B$992","v":"Skystasis – Gazolis"},{"$f":"Translations!$B$993","v":"Skystasis – Gazolinas"},{"$f":"Translations!$B$994","v":"Skystasis – Valytas žibalas"},{"$f":"Translations!$B$995","v":"Skystasis – Žibalas"},{"$f":"Translations!$B$996","v":"Skystasis – Reaktyvinis žibalas (Jet A1 arba Jet A)"},{"$f":"Translations!$B$997","v":"Skystasis – Reaktyvinis gazolinas (benzinas) (Jet B)"},{"$f":"Translations!$B$998","v":"Skystasis – Aviacinis gazolinas (benzinas) (AvGas)"},{"$f":"Translations!$B$1014","v":"Skystasis – Suskystintosios naftos dujos"},{"$f":"Translations!$B$1015","v":"Skystasis – Žalia nafta"},{"$f":"Translations!$B$1016","v":"Skystasis – Orimulsija"},{"$f":"Translations!$B$1017","v":"Skystasis – Gamtinių dujų kondensatai"},{"$f":"Translations!$B$1018","v":"Skystasis – Automobilinis benzinas"},{"$f":"Translations!$B$1019","v":"Skystasis – Skalūnų alyva"},{"$f":"Translations!$B$1020","v":"Skystasis – Dujos ir (arba) dyzelinas"},{"$f":"Translations!$B$1021","v":"Skystasis – Mazuto distiliavimo likutis"},{"$f":"Translations!$B$1022","v":"Skystasis – Pirminis benzinas"},{"$f":"Translations!$B$1023","v":"Skystasis – Tepalai"},{"$f":"Translations!$B$1024","v":"Skystasis – Vaitspiritas ir SBP"},{"$f":"Translations!$B$1025","v":"Skystasis – Skalūnų alyva ir gudoniniai smėliai"},{"$f":"Translations!$B$1026","v":"Skystasis – Akmens anglių briketai"},{"$f":"Translations!$B$1027","v":"Skystasis – Alyvų atliekos"},{"$f":"Translations!$B$1028","v":"Skystasis – Biobenzinas"},{"$f":"Translations!$B$1029","v":"Skystasi – Biodyzelinas"},{"$f":"Translations!$B$1030","v":"Skystasis – Bitumas"},{"$f":"Translations!$B$1032","v":"Skystasis – Kitų rūšių skystasis kuras"},{"$f":"Translations!$B$1033","v":"Skystasis – Kitų rūšių skystoji biomasė"},{"$f":"Translations!$B$1040","v":"Kietasis – Koksas"},{"$f":"Translations!$B$1041","v":"Kietasis – Naftos koksas"},{"$f":"Translations!$B$1042","v":"Kietasis – Akmens anglys"},{"$f":"Translations!$B$1043","v":"Kietasis – Lignitas"},{"$f":"Translations!$B$1044","v":"Kietasis – Antracitas"},{"$f":"Translations!$B$1045","v":"Kietasis – Koksinės anglys"},{"$f":"Translations!$B$1046","v":"Kietasis – Subbituminės akmens anglys"},{"$f":"Translations!$B$1047","v":"Kietasis – Kitos bituminės akmens anglys"},{"$f":"Translations!$B$1048","v":"Kietasis – Dujinis koksas"},{"$f":"Translations!$B$1049","v":"Kietasis – Parafinas"},{"$f":"Translations!$B$1050","v":"Kietasis – Sulfatinės išviros"},{"$f":"Translations!$B$1051","v":"Kietasis – Malkos"},{"$f":"Translations!$B$1052","v":"Kietasis – Mediena (ne atliekos)"},{"$f":"Translations!$B$1053","v":"Kietasis – Mediena (atliekos)"},{"$f":"Translations!$B$1054","v":"Kietasis – Durpės"},{"$f":"Translations!$B$1055","v":"Kietasis – Kanalizacijos dumblas"},{"$f":"Translations!$B$1056","v":"Kietasis – Komunalinių nuotekų dumblas"},{"$f":"Translations!$B$1057","v":"Kietasis – Akmens anglių degutas"},{"$f":"Translations!$B$1058","v":"Kietasis – Medžio anglys"},{"$f":"Translations!$B$1059","v":"Kietasis – Panaudos padangos"},{"$f":"Translations!$B$1060","v":"Kietasis – Kitų rūšių kietasis kuras"},{"$f":"Translations!$B$1061","v":"Kietasis – Kitų rūšių kietoji biomasė"},{"$f":"Translations!$B$1034","v":"Atliekos – Komunalinės ir pramoninės atliekos"},{"$f":"Translations!$B$1035","v":"Atliekos – Pramoninės atliekos"},{"$f":"Translations!$B$157","v":"netaik."},{"$f":"Translations!$B$157","v":"netaik."},{"$f":"Translations!$B$157","v":"netaik."},{"$f":"Translations!$B$157","v":"netaik."},{"$f":"Translations!$B$157","v":"netaik."},{"$f":"Translations!$B$157","v":"netaik."},{"$f":"Translations!$B$157","v":"netaik."},{"$f":"Translations!$B$157","v":"netaik."},{"$f":"Translations!$B$157","v":"netaik."},{"$f":"Translations!$B$157","v":"netaik."},{"$f":"Translations!$B$157","v":"netaik."},{"$f":"Translations!$B$157","v":"netaik."},{"$f":"Translations!$B$157","v":"netaik."},{"$f":"Translations!$B$157","v":"netaik."},{"$f":"Translations!$B$157","v":"netaik."},{"$f":"Translations!$B$157","v":"netaik."},{"$f":"Translations!$B$157","v":"netaik."},{"$f":"Translations!$B$157","v":"netaik."},{"$f":"Translations!$B$157","v":"netaik."},{"$f":"Translations!$B$157","v":"netaik."},{"$f":"Translations!$B$157","v":"netaik."},{"$f":"Translations!$B$157","v":"netaik."},{"$f":"Translations!$B$157","v":"netaik."},{"$f":"Translations!$B$157","v":"netaik."},{"$f":"Translations!$B$157","v":"netaik."},{"$f":"Translations!$B$157","v":"netaik."},{"$f":"Translations!$B$157","v":"netaik."},{"$f":"Translations!$B$157","v":"netaik."},{"$f":"Translations!$B$157","v":"netaik."},{"$f":"Translations!$B$157","v":"netaik."},{"$f":"Translations!$B$157","v":"netaik."}]
[18,"Geležis ir plienas: Karbonatų sąnaudos",null,null,"MSParameters!$G$35:$U$35",null,{"$f":"Translations!$B$1065","v":"Medžiaga – Kalkakmenis"},{"$f":"Translations!$B$1066","v":"Medžiaga – Dolomitas"},{"$f":"Translations!$B$1067","v":"Medžiaga – Natrio vandenilio karbonatas"},{"$f":"Translations!$B$1068","v":"Medžiaga – Natrio karbonatas"},{"$f":"Translations!$B$1069","v":"Medžiaga – Kalio karbonatas (potašas)"},{"$f":"Translations!$B$1070","v":"Medžiaga – CaCO3"},{"$f":"Translations!$B$1071","v":"Medžiaga – MgCO3"},{"$f":"Translations!$B$1072","v":"Medžiaga – Na2CO3"},{"$f":"Translations!$B$1073","v":"Medžiaga – BaCO3"},{"$f":"Translations!$B$1074","v":"Medžiaga – Li2CO3"},{"$f":"Translations!$B$1075","v":"Medžiaga – K2CO3"},{"$f":"Translations!$B$1076","v":"Medžiaga – SrCO3"},{"$f":"Translations!$B$1077","v":"Medžiaga – NaHCO3"},{"$f":"Translations!$B$1078","v":"Medžiaga – FeCO3"},{"$f":"Translations!$B$1079","v":"Medžiaga – Kiti karbonatai"},{"$f":"Translations!$B$157","v":"netaik."},{"$f":"Translations!$B$157","v":"netaik."},{"$f":"Translations!$B$157","v":"netaik."},{"$f":"Translations!$B$157","v":"netaik."},{"$f":"Translations!$B$157","v":"netaik."},{"$f":"Translations!$B$157","v":"netaik."},{"$f":"Translations!$B$157","v":"netaik."},{"$f":"Translations!$B$157","v":"netaik."},{"$f":"Translations!$B$157","v":"netaik."},{"$f":"Translations!$B$157","v":"netaik."},{"$f":"Translations!$B$157","v":"netaik."},{"$f":"Translations!$B$157","v":"netaik."},{"$f":"Translations!$B$157","v":"netaik."},{"$f":"Translations!$B$157","v":"netaik."},{"$f":"Translations!$B$157","v":"netaik."},{"$f":"Translations!$B$157","v":"netaik."},{"$f":"Translations!$B$157","v":"netaik."},{"$f":"Translations!$B$157","v":"netaik."},{"$f":"Translations!$B$157","v":"netaik."},{"$f":"Translations!$B$157","v":"netaik."},{"$f":"Translations!$B$157","v":"netaik."},{"$f":"Translations!$B$157","v":"netaik."},{"$f":"Translations!$B$157","v":"netaik."},{"$f":"Translations!$B$157","v":"netaik."},{"$f":"Translations!$B$157","v":"netaik."},{"$f":"Translations!$B$157","v":"netaik."},{"$f":"Translations!$B$157","v":"netaik."},{"$f":"Translations!$B$157","v":"netaik."},{"$f":"Translations!$B$157","v":"netaik."},{"$f":"Translations!$B$157","v":"netaik."},{"$f":"Translations!$B$157","v":"netaik."},{"$f":"Translations!$B$157","v":"netaik."},{"$f":"Translations!$B$157","v":"netaik."},{"$f":"Translations!$B$157","v":"netaik."},{"$f":"Translations!$B$157","v":"netaik."},{"$f":"Translations!$B$157","v":"netaik."},{"$f":"Translations!$B$157","v":"netaik."},{"$f":"Translations!$B$157","v":"netaik."},{"$f":"Translations!$B$157","v":"netaik."},{"$f":"Translations!$B$157","v":"netaik."},{"$f":"Translations!$B$157","v":"netaik."},{"$f":"Translations!$B$157","v":"netaik."},{"$f":"Translations!$B$157","v":"netaik."},{"$f":"Translations!$B$157","v":"netaik."},{"$f":"Translations!$B$157","v":"netaik."},{"$f":"Translations!$B$157","v":"netaik."},{"$f":"Translations!$B$157","v":"netaik."},{"$f":"Translations!$B$157","v":"netaik."},{"$f":"Translations!$B$157","v":"netaik."},{"$f":"Translations!$B$157","v":"netaik."},{"$f":"Translations!$B$157","v":"netaik."},{"$f":"Translations!$B$157","v":"netaik."},{"$f":"Translations!$B$157","v":"netaik."},{"$f":"Translations!$B$157","v":"netaik."},{"$f":"Translations!$B$157","v":"netaik."},{"$f":"Translations!$B$157","v":"netaik."},{"$f":"Translations!$B$157","v":"netaik."},{"$f":"Translations!$B$157","v":"netaik."},{"$f":"Translations!$B$157","v":"netaik."},{"$f":"Translations!$B$157","v":"netaik."},{"$f":"Translations!$B$157","v":"netaik."},{"$f":"Translations!$B$157","v":"netaik."},{"$f":"Translations!$B$157","v":"netaik."},{"$f":"Translations!$B$157","v":"netaik."},{"$f":"Translations!$B$157","v":"netaik."},{"$f":"Translations!$B$157","v":"netaik."},{"$f":"Translations!$B$157","v":"netaik."},{"$f":"Translations!$B$157","v":"netaik."},{"$f":"Translations!$B$157","v":"netaik."},{"$f":"Translations!$B$157","v":"netaik."},{"$f":"Translations!$B$157","v":"netaik."},{"$f":"Translations!$B$157","v":"netaik."},{"$f":"Translations!$B$157","v":"netaik."},{"$f":"Translations!$B$157","v":"netaik."},{"$f":"Translations!$B$157","v":"netaik."},{"$f":"Translations!$B$157","v":"netaik."},{"$f":"Translations!$B$157","v":"netaik."},{"$f":"Translations!$B$157","v":"netaik."},{"$f":"Translations!$B$157","v":"netaik."},{"$f":"Translations!$B$157","v":"netaik."},{"$f":"Translations!$B$157","v":"netaik."},{"$f":"Translations!$B$157","v":"netaik."},{"$f":"Translations!$B$157","v":"netaik."},{"$f":"Translations!$B$157","v":"netaik."},{"$f":"Translations!$B$157","v":"netaik."}]
[19,"Geležis ir plienas: Masės balansas",null,null,"MSParameters!$G$36:$DA$36",null,{"$f":"Translations!$B$1065","v":"Medžiaga – Kalkakmenis"},{"$f":"Translations!$B$1066","v":"Medžiaga – Dolomitas"},{"$f":"Translations!$B$1067","v":"Medžiaga – Natrio vandenilio karbonatas"},{"$f":"Translations!$B$1088","v":"Medžiaga – Metalo laužas"},{"$f":"Translations!$B$1089","v":"Medžiaga – Geležies rūdos"},{"$f":"Translations!$B$1093","v":"Medžiaga – Tiesiogiai redukuojama geležis"},{"$f":"Translations!$B$1094","v":"Medžiaga – EAF anglies elektrodai"},{"$f":"Translations!$B$1095","v":"Medžiaga – EAF krūvio anglis"},{"$f":"Translations!$B$1096","v":"Medžiaga – Karštojo briketavimo geležis"},{"$f":"Translations!$B$1097","v":"Medžiaga – Perkama geležis luitais"},{"$f":"Translations!$B$1098","v":"Medžiaga – Plienas"},{"$f":"Translations!$B$1099","v":"Medžiaga – Plieno laužas"},{"$f":"Translations!$B$1100","v":"Medžiaga – Išlydytas metalas"},{"$f":"Translations!$B$1101","v":"Medžiaga – Lydžiosios sudedamosios dalys"},{"$f":"Translations!$B$1090","v":"Medžiaga – Aukštakrosnių šlakas"},{"$f":"Translations!$B$1091","v":"Medžiaga – Kitų rūšių šlakas"},{"$f":"Translations!$B$1068","v":"Medžiaga – Natrio karbonatas"},{"$f":"Translations!$B$1069","v":"Medžiaga – Kalio karbonatas (potašas)"},{"$f":"Translations!$B$1070","v":"Medžiaga – CaCO3"},{"$f":"Translations!$B$1071","v":"Medžiaga – MgCO3"},{"$f":"Translations!$B$1072","v":"Medžiaga – Na2CO3"},{"$f":"Translations!$B$1073","v":"Medžiaga – BaCO3"},{"$f":"Translations!$B$1074","v":"Medžiaga – Li2CO3"},{"$f":"Translations!$B$1075","v":"Medžiaga – K2CO3"},{"$f":"Translations!$B$1076","v":"Medžiaga – SrCO3"},{"$f":"Translations!$B$1077","v":"Medžiaga – NaHCO3"},{"$f":"Translations!$B$1078","v":"Medžiaga – FeCO3"},{"$f":"Translations!$B$1082","v":"Medžiaga – CaO"},{"$f":"Translations!$B$1083","v":"Medžiaga – MgO"},{"$f":"Translations!$B$1084","v":"Medžiaga – BaO"},{"$f":"Translations!$B$1079","v":"Medžiaga – Kiti karbonatai"},{"$f":"Translations!$B$1064","v":"Medžiaga – Kitos medžiagos"},{"$f":"Translations!$B$999","v":"Dujinis – Gamtinės dujos"},{"$f":"Translations!$B$1000","v":"Dujinis – Dujų gamyklos dujos"},{"$f":"Translations!$B$1001","v":"Dujinis – Koksavimo dujos"},{"$f":"Translations!$B$1002","v":"Dujinis – Aukštakrosnių dujos"},{"$f":"Translations!$B$1003","v":"Dujinis – Deguoninių plieno aukštakrosnių dujos"},{"$f":"Translations!$B$1004","v":"Dujinis – Biodujos"},{"$f":"Translations!$B$1005","v":"Dujinis – Dumblo dujos"},{"$f":"Translations!$B$1006","v":"Dujinis – Sąvartynų dujos"},{"$f":"Translations!$B$1007","v":"Dujinis – Anglies monoksidas"},{"$f":"Translations!$B$1008","v":"Dujinis – Metanas"},{"$f":"Translations!$B$988","v":"Dujinis – Etanas"},{"$f":"Translations!$B$989","v":"Dujinis – Propanas"},{"$f":"Translations!$B$990","v":"Dujinis – Butanas"},{"$f":"Translations!$B$1009","v":"Dujinis – Kitų rūšių dujinis kuras"},{"$f":"Translations!$B$1010","v":"Dujinis – Kitų rūšių dujinė biomasė"},{"$f":"Translations!$B$991","v":"Skystasis – Dyzelinis krosnių kuras"},{"$f":"Translations!$B$1011","v":"Skystasis – Labai lengvos distiliacijos kuras"},{"$f":"Translations!$B$1012","v":"Skystasis – Vidutinės distiliacijos kuras"},{"$f":"Translations!$B$1013","v":"Skystasis – Sunkusis mazutas"},{"$f":"Translations!$B$992","v":"Skystasis – Gazolis"},{"$f":"Translations!$B$993","v":"Skystasis – Gazolinas"},{"$f":"Translations!$B$994","v":"Skystasis – Valytas žibalas"},{"$f":"Translations!$B$995","v":"Skystasis – Žibalas"},{"$f":"Translations!$B$996","v":"Skystasis – Reaktyvinis žibalas (Jet A1 arba Jet A)"},{"$f":"Translations!$B$997","v":"Skystasis – Reaktyvinis gazolinas (benzinas) (Jet B)"},{"$f":"Translations!$B$998","v":"Skystasis – Aviacinis gazolinas (benzinas) (AvGas)"},{"$f":"Translations!$B$1014","v":"Skystasis – Suskystintosios naftos dujos"},{"$f":"Translations!$B$1016","v":"Skystasis – Orimulsija"},{"$f":"Translations!$B$1017","v":"Skystasis – Gamtinių dujų kondensatai"},{"$f":"Translations!$B$1018","v":"Skystasis – Automobilinis benzinas"},{"$f":"Translations!$B$1020","v":"Skystasis – Dujos ir (arba) dyzelinas"},{"$f":"Translations!$B$1021","v":"Skystasis – Mazuto distiliavimo likutis"},{"$f":"Translations!$B$1022","v":"Skystasis – Pirminis benzinas"},{"$f":"Translations!$B$1023","v":"Skystasis – Tepalai"},{"$f":"Translations!$B$1024","v":"Skystasis – Vaitspiritas ir SBP"},{"$f":"Translations!$B$1025","v":"Skystasis – Skalūnų alyva ir gudoniniai smėliai"},{"$f":"Translations!$B$1026","v":"Skystasis – Akmens anglių briketai"},{"$f":"Translations!$B$1027","v":"Skystasis – Alyvų atliekos"},{"$f":"Translations!$B$1028","v":"Skystasis – Biobenzinas"},{"$f":"Translations!$B$1029","v":"Skystasi – Biodyzelinas"},{"$f":"Translations!$B$1030","v":"Skystasis – Bitumas"},{"$f":"Translations!$B$1032","v":"Skystasis – Kitų rūšių skystasis kuras"},{"$f":"Translations!$B$1033","v":"Skystasis – Kitų rūšių skystoji biomasė"},{"$f":"Translations!$B$1040","v":"Kietasis – Koksas"},{"$f":"Translations!$B$1041","v":"Kietasis – Naftos koksas"},{"$f":"Translations!$B$1042","v":"Kietasis – Akmens anglys"},{"$f":"Translations!$B$1043","v":"Kietasis – Lignitas"},{"$f":"Translations!$B$1044","v":"Kietasis – Antracitas"},{"$f":"Translations!$B$1045","v":"Kietasis – Koksinės anglys"},{"$f":"Translations!$B$1046","v":"Kietasis – Subbituminės akmens anglys"},{"$f":"Translations!$B$1047","v":"Kietasis – Kitos bituminės akmens anglys"},{"$f":"Translations!$B$1048","v":"Kietasis – Dujinis koksas"},{"$f":"Translations!$B$1049","v":"Kietasis – Parafinas"},{"$f":"Translations!$B$1050","v":"Kietasis – Sulfatinės išviros"},{"$f":"Translations!$B$1051","v":"Kietasis – Malkos"},{"$f":"Translations!$B$1052","v":"Kietasis – Mediena (ne atliekos)"},{"$f":"Translations!$B$1053","v":"Kietasis – Mediena (atliekos)"},{"$f":"Translations!$B$1054","v":"Kietasis – Durpės"},{"$f":"Translations!$B$1055","v":"Kietasis – Kanalizacijos dumblas"},{"$f":"Translations!$B$1056","v":"Kietasis – Komunalinių nuotekų dumblas"},{"$f":"Translations!$B$1057","v":"Kietasis – Akmens anglių degutas"},{"$f":"Translations!$B$1058","v":"Kietasis – Medžio anglys"},{"$f":"Translations!$B$1059","v":"Kietasis – Panaudos padangos"},{"$f":"Translations!$B$1060","v":"Kietasis – Kitų rūšių kietasis kuras"},{"$f":"Translations!$B$1061","v":"Kietasis – Kitų rūšių kietoji biomasė"},{"$f":"Translations!$B$1034","v":"Atliekos – Komunalinės ir pramoninės atliekos"},{"$f":"Translations!$B$1035","v":"Atliekos – Pramoninės atliekos"},{"$f":"Translations!$B$157","v":"netaik."}]
[20,"Cemento klinkeriai: Grindžiamas krosnies žaliava (A metodas)",null,null,"MSParameters!$G$37:$H$37",null,{"$f":"Translations!$B$1102","v":"Medžiaga – Žaliavinis mišinys"},{"$f":"Translations!$B$1079","v":"Medžiaga – Kiti karbonatai"},{"$f":"Translations!$B$157","v":"netaik."},{"$f":"Translations!$B$157","v":"netaik."},{"$f":"Translations!$B$157","v":"netaik."},{"$f":"Translations!$B$157","v":"netaik."},{"$f":"Translations!$B$157","v":"netaik."},{"$f":"Translations!$B$157","v":"netaik."},{"$f":"Translations!$B$157","v":"netaik."},{"$f":"Translations!$B$157","v":"netaik."},{"$f":"Translations!$B$157","v":"netaik."},{"$f":"Translations!$B$157","v":"netaik."},{"$f":"Translations!$B$157","v":"netaik."},{"$f":"Translations!$B$157","v":"netaik."},{"$f":"Translations!$B$157","v":"netaik."},{"$f":"Translations!$B$157","v":"netaik."},{"$f":"Translations!$B$157","v":"netaik."},{"$f":"Translations!$B$157","v":"netaik."},{"$f":"Translations!$B$157","v":"netaik."},{"$f":"Translations!$B$157","v":"netaik."},{"$f":"Translations!$B$157","v":"netaik."},{"$f":"Translations!$B$157","v":"netaik."},{"$f":"Translations!$B$157","v":"netaik."},{"$f":"Translations!$B$157","v":"netaik."},{"$f":"Translations!$B$157","v":"netaik."},{"$f":"Translations!$B$157","v":"netaik."},{"$f":"Translations!$B$157","v":"netaik."},{"$f":"Translations!$B$157","v":"netaik."},{"$f":"Translations!$B$157","v":"netaik."},{"$f":"Translations!$B$157","v":"netaik."},{"$f":"Translations!$B$157","v":"netaik."},{"$f":"Translations!$B$157","v":"netaik."},{"$f":"Translations!$B$157","v":"netaik."},{"$f":"Translations!$B$157","v":"netaik."},{"$f":"Translations!$B$157","v":"netaik."},{"$f":"Translations!$B$157","v":"netaik."},{"$f":"Translations!$B$157","v":"netaik."},{"$f":"Translations!$B$157","v":"netaik."},{"$f":"Translations!$B$157","v":"netaik."},{"$f":"Translations!$B$157","v":"netaik."},{"$f":"Translations!$B$157","v":"netaik."},{"$f":"Translations!$B$157","v":"netaik."},{"$f":"Translations!$B$157","v":"netaik."},{"$f":"Translations!$B$157","v":"netaik."},{"$f":"Translations!$B$157","v":"netaik."},{"$f":"Translations!$B$157","v":"netaik."},{"$f":"Translations!$B$157","v":"netaik."},{"$f":"Translations!$B$157","v":"netaik."},{"$f":"Translations!$B$157","v":"netaik."},{"$f":"Translations!$B$157","v":"netaik."},{"$f":"Translations!$B$157","v":"netaik."},{"$f":"Translations!$B$157","v":"netaik."},{"$f":"Translations!$B$157","v":"netaik."},{"$f":"Translations!$B$157","v":"netaik."},{"$f":"Translations!$B$157","v":"netaik."},{"$f":"Translations!$B$157","v":"netaik."},{"$f":"Translations!$B$157","v":"netaik."},{"$f":"Translations!$B$157","v":"netaik."},{"$f":"Translations!$B$157","v":"netaik."},{"$f":"Translations!$B$157","v":"netaik."},{"$f":"Translations!$B$157","v":"netaik."},{"$f":"Translations!$B$157","v":"netaik."},{"$f":"Translations!$B$157","v":"netaik."},{"$f":"Translations!$B$157","v":"netaik."},{"$f":"Translations!$B$157","v":"netaik."},{"$f":"Translations!$B$157","v":"netaik."},{"$f":"Translations!$B$157","v":"netaik."},{"$f":"Translations!$B$157","v":"netaik."},{"$f":"Translations!$B$157","v":"netaik."},{"$f":"Translations!$B$157","v":"netaik."},{"$f":"Translations!$B$157","v":"netaik."},{"$f":"Translations!$B$157","v":"netaik."},{"$f":"Translations!$B$157","v":"netaik."},{"$f":"Translations!$B$157","v":"netaik."},{"$f":"Translations!$B$157","v":"netaik."},{"$f":"Translations!$B$157","v":"netaik."},{"$f":"Translations!$B$157","v":"netaik."},{"$f":"Translations!$B$157","v":"netaik."},{"$f":"Translations!$B$157","v":"netaik."},{"$f":"Translations!$B$157","v":"netaik."},{"$f":"Translations!$B$157","v":"netaik."},{"$f":"Translations!$B$157","v":"netaik."},{"$f":"Translations!$B$157","v":"netaik."},{"$f":"Translations!$B$157","v":"netaik."},{"$f":"Translations!$B$157","v":"netaik."},{"$f":"Translations!$B$157","v":"netaik."},{"$f":"Translations!$B$157","v":"netaik."},{"$f":"Translations!$B$157","v":"netaik."},{"$f":"Translations!$B$157","v":"netaik."},{"$f":"Translations!$B$157","v":"netaik."},{"$f":"Translations!$B$157","v":"netaik."},{"$f":"Translations!$B$157","v":"netaik."},{"$f":"Translations!$B$157","v":"netaik."},{"$f":"Translations!$B$157","v":"netaik."},{"$f":"Translations!$B$157","v":"netaik."},{"$f":"Translations!$B$157","v":"netaik."},{"$f":"Translations!$B$157","v":"netaik."},{"$f":"Translations!$B$157","v":"netaik."},{"$f":"Translations!$B$157","v":"netaik."},{"$f":"Translations!$B$157","v":"netaik."}]
[21,"Cemento klinkeriai: Klinkerio išeiga (B metodas)",null,null,"MSParameters!$G$38:$K$38",null,{"$f":"Translations!$B$1103","v":"Medžiaga – Cemento klinkeris"},{"$f":"Translations!$B$1082","v":"Medžiaga – CaO"},{"$f":"Translations!$B$1083","v":"Medžiaga – MgO"},{"$f":"Translations!$B$1084","v":"Medžiaga – BaO"},{"$f":"Translations!$B$1085","v":"Medžiaga – Kiti produktai"},{"$f":"Translations!$B$157","v":"netaik."},{"$f":"Translations!$B$157","v":"netaik."},{"$f":"Translations!$B$157","v":"netaik."},{"$f":"Translations!$B$157","v":"netaik."},{"$f":"Translations!$B$157","v":"netaik."},{"$f":"Translations!$B$157","v":"netaik."},{"$f":"Translations!$B$157","v":"netaik."},{"$f":"Translations!$B$157","v":"netaik."},{"$f":"Translations!$B$157","v":"netaik."},{"$f":"Translations!$B$157","v":"netaik."},{"$f":"Translations!$B$157","v":"netaik."},{"$f":"Translations!$B$157","v":"netaik."},{"$f":"Translations!$B$157","v":"netaik."},{"$f":"Translations!$B$157","v":"netaik."},{"$f":"Translations!$B$157","v":"netaik."},{"$f":"Translations!$B$157","v":"netaik."},{"$f":"Translations!$B$157","v":"netaik."},{"$f":"Translations!$B$157","v":"netaik."},{"$f":"Translations!$B$157","v":"netaik."},{"$f":"Translations!$B$157","v":"netaik."},{"$f":"Translations!$B$157","v":"netaik."},{"$f":"Translations!$B$157","v":"netaik."},{"$f":"Translations!$B$157","v":"netaik."},{"$f":"Translations!$B$157","v":"netaik."},{"$f":"Translations!$B$157","v":"netaik."},{"$f":"Translations!$B$157","v":"netaik."},{"$f":"Translations!$B$157","v":"netaik."},{"$f":"Translations!$B$157","v":"netaik."},{"$f":"Translations!$B$157","v":"netaik."},{"$f":"Translations!$B$157","v":"netaik."},{"$f":"Translations!$B$157","v":"netaik."},{"$f":"Translations!$B$157","v":"netaik."},{"$f":"Translations!$B$157","v":"netaik."},{"$f":"Translations!$B$157","v":"netaik."},{"$f":"Translations!$B$157","v":"netaik."},{"$f":"Translations!$B$157","v":"netaik."},{"$f":"Translations!$B$157","v":"netaik."},{"$f":"Translations!$B$157","v":"netaik."},{"$f":"Translations!$B$157","v":"netaik."},{"$f":"Translations!$B$157","v":"netaik."},{"$f":"Translations!$B$157","v":"netaik."},{"$f":"Translations!$B$157","v":"netaik."},{"$f":"Translations!$B$157","v":"netaik."},{"$f":"Translations!$B$157","v":"netaik."},{"$f":"Translations!$B$157","v":"netaik."},{"$f":"Translations!$B$157","v":"netaik."},{"$f":"Translations!$B$157","v":"netaik."},{"$f":"Translations!$B$157","v":"netaik."},{"$f":"Translations!$B$157","v":"netaik."},{"$f":"Translations!$B$157","v":"netaik."},{"$f":"Translations!$B$157","v":"netaik."},{"$f":"Translations!$B$157","v":"netaik."},{"$f":"Translations!$B$157","v":"netaik."},{"$f":"Translations!$B$157","v":"netaik."},{"$f":"Translations!$B$157","v":"netaik."},{"$f":"Translations!$B$157","v":"netaik."},{"$f":"Translations!$B$157","v":"netaik."},{"$f":"Translations!$B$157","v":"netaik."},{"$f":"Translations!$B$157","v":"netaik."},{"$f":"Translations!$B$157","v":"netaik."},{"$f":"Translations!$B$157","v":"netaik."},{"$f":"Translations!$B$157","v":"netaik."},{"$f":"Translations!$B$157","v":"netaik."},{"$f":"Translations!$B$157","v":"netaik."},{"$f":"Translations!$B$157","v":"netaik."},{"$f":"Translations!$B$157","v":"netaik."},{"$f":"Translations!$B$157","v":"netaik."},{"$f":"Translations!$B$157","v":"netaik."},{"$f":"Translations!$B$157","v":"netaik."},{"$f":"Translations!$B$157","v":"netaik."},{"$f":"Translations!$B$157","v":"netaik."},{"$f":"Translations!$B$157","v":"netaik."},{"$f":"Translations!$B$157","v":"netaik."},{"$f":"Translations!$B$157","v":"netaik."},{"$f":"Translations!$B$157","v":"netaik."},{"$f":"Translations!$B$157","v":"netaik."},{"$f":"Translations!$B$157","v":"netaik."},{"$f":"Translations!$B$157","v":"netaik."},{"$f":"Translations!$B$157","v":"netaik."},{"$f":"Translations!$B$157","v":"netaik."},{"$f":"Translations!$B$157","v":"netaik."},{"$f":"Translations!$B$157","v":"netaik."},{"$f":"Translations!$B$157","v":"netaik."},{"$f":"Translations!$B$157","v":"netaik."},{"$f":"Translations!$B$157","v":"netaik."},{"$f":"Translations!$B$157","v":"netaik."},{"$f":"Translations!$B$157","v":"netaik."},{"$f":"Translations!$B$157","v":"netaik."},{"$f":"Translations!$B$157","v":"netaik."},{"$f":"Translations!$B$157","v":"netaik."},{"$f":"Translations!$B$157","v":"netaik."},{"$f":"Translations!$B$157","v":"netaik."},{"$f":"Translations!$B$157","v":"netaik."},{"$f":"Translations!$B$157","v":"netaik."},{"$f":"Translations!$B$157","v":"netaik."}]
[22,"Cemento klinkeriai: Cemento degimo krosnių dulkės",null,null,"MSParameters!$G$39:$L$39",null,{"$f":"Translations!$B$1104","v":"Medžiaga – Pašalinės dulkės"},{"$f":"Translations!$B$1105","v":"Medžiaga – Pašaliniai miltai"},{"$f":"Translations!$B$1082","v":"Medžiaga – CaO"},{"$f":"Translations!$B$1083","v":"Medžiaga – MgO"},{"$f":"Translations!$B$1084","v":"Medžiaga – BaO"},{"$f":"Translations!$B$1106","v":"Medžiaga – Kitos pašalinės medžiagos"},{"$f":"Translations!$B$157","v":"netaik."},{"$f":"Translations!$B$157","v":"netaik."},{"$f":"Translations!$B$157","v":"netaik."},{"$f":"Translations!$B$157","v":"netaik."},{"$f":"Translations!$B$157","v":"netaik."},{"$f":"Translations!$B$157","v":"netaik."},{"$f":"Translations!$B$157","v":"netaik."},{"$f":"Translations!$B$157","v":"netaik."},{"$f":"Translations!$B$157","v":"netaik."},{"$f":"Translations!$B$157","v":"netaik."},{"$f":"Translations!$B$157","v":"netaik."},{"$f":"Translations!$B$157","v":"netaik."},{"$f":"Translations!$B$157","v":"netaik."},{"$f":"Translations!$B$157","v":"netaik."},{"$f":"Translations!$B$157","v":"netaik."},{"$f":"Translations!$B$157","v":"netaik."},{"$f":"Translations!$B$157","v":"netaik."},{"$f":"Translations!$B$157","v":"netaik."},{"$f":"Translations!$B$157","v":"netaik."},{"$f":"Translations!$B$157","v":"netaik."},{"$f":"Translations!$B$157","v":"netaik."},{"$f":"Translations!$B$157","v":"netaik."},{"$f":"Translations!$B$157","v":"netaik."},{"$f":"Translations!$B$157","v":"netaik."},{"$f":"Translations!$B$157","v":"netaik."},{"$f":"Translations!$B$157","v":"netaik."},{"$f":"Translations!$B$157","v":"netaik."},{"$f":"Translations!$B$157","v":"netaik."},{"$f":"Translations!$B$157","v":"netaik."},{"$f":"Translations!$B$157","v":"netaik."},{"$f":"Translations!$B$157","v":"netaik."},{"$f":"Translations!$B$157","v":"netaik."},{"$f":"Translations!$B$157","v":"netaik."},{"$f":"Translations!$B$157","v":"netaik."},{"$f":"Translations!$B$157","v":"netaik."},{"$f":"Translations!$B$157","v":"netaik."},{"$f":"Translations!$B$157","v":"netaik."},{"$f":"Translations!$B$157","v":"netaik."},{"$f":"Translations!$B$157","v":"netaik."},{"$f":"Translations!$B$157","v":"netaik."},{"$f":"Translations!$B$157","v":"netaik."},{"$f":"Translations!$B$157","v":"netaik."},{"$f":"Translations!$B$157","v":"netaik."},{"$f":"Translations!$B$157","v":"netaik."},{"$f":"Translations!$B$157","v":"netaik."},{"$f":"Translations!$B$157","v":"netaik."},{"$f":"Translations!$B$157","v":"netaik."},{"$f":"Translations!$B$157","v":"netaik."},{"$f":"Translations!$B$157","v":"netaik."},{"$f":"Translations!$B$157","v":"netaik."},{"$f":"Translations!$B$157","v":"netaik."},{"$f":"Translations!$B$157","v":"netaik."},{"$f":"Translations!$B$157","v":"netaik."},{"$f":"Translations!$B$157","v":"netaik."},{"$f":"Translations!$B$157","v":"netaik."},{"$f":"Translations!$B$157","v":"netaik."},{"$f":"Translations!$B$157","v":"netaik."},{"$f":"Translations!$B$157","v":"netaik."},{"$f":"Translations!$B$157","v":"netaik."},{"$f":"Translations!$B$157","v":"netaik."},{"$f":"Translations!$B$157","v":"netaik."},{"$f":"Translations!$B$157","v":"netaik."},{"$f":"Translations!$B$157","v":"netaik."},{"$f":"Translations!$B$157","v":"netaik."},{"$f":"Translations!$B$157","v":"netaik."},{"$f":"Translations!$B$157","v":"netaik."},{"$f":"Translations!$B$157","v":"netaik."},{"$f":"Translations!$B$157","v":"netaik."},{"$f":"Translations!$B$157","v":"netaik."},{"$f":"Translations!$B$157","v":"netaik."},{"$f":"Translations!$B$157","v":"netaik."},{"$f":"Translations!$B$157","v":"netaik."},{"$f":"Translations!$B$157","v":"netaik."},{"$f":"Translations!$B$157","v":"netaik."},{"$f":"Translations!$B$157","v":"netaik."},{"$f":"Translations!$B$157","v":"netaik."},{"$f":"Translations!$B$157","v":"netaik."},{"$f":"Translations!$B$157","v":"netaik."},{"$f":"Translations!$B$157","v":"netaik."},{"$f":"Translations!$B$157","v":"netaik."},{"$f":"Translations!$B$157","v":"netaik."},{"$f":"Translations!$B$157","v":"netaik."},{"$f":"Translations!$B$157","v":"netaik."},{"$f":"Translations!$B$157","v":"netaik."},{"$f":"Translations!$B$157","v":"netaik."},{"$f":"Translations!$B$157","v":"netaik."},{"$f":"Translations!$B$157","v":"netaik."},{"$f":"Translations!$B$157","v":"netaik."},{"$f":"Translations!$B$157","v":"netaik."},{"$f":"Translations!$B$157","v":"netaik."},{"$f":"Translations!$B$157","v":"netaik."},{"$f":"Translations!$B$157","v":"netaik."},{"$f":"Translations!$B$157","v":"netaik."},{"$f":"Translations!$B$157","v":"netaik."}]
[23,"Cemento klinkeriai: Nekarbonatinė anglis",null,null,"MSParameters!$G$40:$J$40",null,{"$f":"Translations!$B$1107","v":"Medžiaga – Lakieji pelenai"},{"$f":"Translations!$B$1090","v":"Medžiaga – Aukštakrosnių šlakas"},{"$f":"Translations!$B$1091","v":"Medžiaga – Kitų rūšių šlakas"},{"$f":"Translations!$B$1108","v":"Medžiaga – Kitos medžiagos, kurių sudėtyje yra anglies"},{"$f":"Translations!$B$157","v":"netaik."},{"$f":"Translations!$B$157","v":"netaik."},{"$f":"Translations!$B$157","v":"netaik."},{"$f":"Translations!$B$157","v":"netaik."},{"$f":"Translations!$B$157","v":"netaik."},{"$f":"Translations!$B$157","v":"netaik."},{"$f":"Translations!$B$157","v":"netaik."},{"$f":"Translations!$B$157","v":"netaik."},{"$f":"Translations!$B$157","v":"netaik."},{"$f":"Translations!$B$157","v":"netaik."},{"$f":"Translations!$B$157","v":"netaik."},{"$f":"Translations!$B$157","v":"netaik."},{"$f":"Translations!$B$157","v":"netaik."},{"$f":"Translations!$B$157","v":"netaik."},{"$f":"Translations!$B$157","v":"netaik."},{"$f":"Translations!$B$157","v":"netaik."},{"$f":"Translations!$B$157","v":"netaik."},{"$f":"Translations!$B$157","v":"netaik."},{"$f":"Translations!$B$157","v":"netaik."},{"$f":"Translations!$B$157","v":"netaik."},{"$f":"Translations!$B$157","v":"netaik."},{"$f":"Translations!$B$157","v":"netaik."},{"$f":"Translations!$B$157","v":"netaik."},{"$f":"Translations!$B$157","v":"netaik."},{"$f":"Translations!$B$157","v":"netaik."},{"$f":"Translations!$B$157","v":"netaik."},{"$f":"Translations!$B$157","v":"netaik."},{"$f":"Translations!$B$157","v":"netaik."},{"$f":"Translations!$B$157","v":"netaik."},{"$f":"Translations!$B$157","v":"netaik."},{"$f":"Translations!$B$157","v":"netaik."},{"$f":"Translations!$B$157","v":"netaik."},{"$f":"Translations!$B$157","v":"netaik."},{"$f":"Translations!$B$157","v":"netaik."},{"$f":"Translations!$B$157","v":"netaik."},{"$f":"Translations!$B$157","v":"netaik."},{"$f":"Translations!$B$157","v":"netaik."},{"$f":"Translations!$B$157","v":"netaik."},{"$f":"Translations!$B$157","v":"netaik."},{"$f":"Translations!$B$157","v":"netaik."},{"$f":"Translations!$B$157","v":"netaik."},{"$f":"Translations!$B$157","v":"netaik."},{"$f":"Translations!$B$157","v":"netaik."},{"$f":"Translations!$B$157","v":"netaik."},{"$f":"Translations!$B$157","v":"netaik."},{"$f":"Translations!$B$157","v":"netaik."},{"$f":"Translations!$B$157","v":"netaik."},{"$f":"Translations!$B$157","v":"netaik."},{"$f":"Translations!$B$157","v":"netaik."},{"$f":"Translations!$B$157","v":"netaik."},{"$f":"Translations!$B$157","v":"netaik."},{"$f":"Translations!$B$157","v":"netaik."},{"$f":"Translations!$B$157","v":"netaik."},{"$f":"Translations!$B$157","v":"netaik."},{"$f":"Translations!$B$157","v":"netaik."},{"$f":"Translations!$B$157","v":"netaik."},{"$f":"Translations!$B$157","v":"netaik."},{"$f":"Translations!$B$157","v":"netaik."},{"$f":"Translations!$B$157","v":"netaik."},{"$f":"Translations!$B$157","v":"netaik."},{"$f":"Translations!$B$157","v":"netaik."},{"$f":"Translations!$B$157","v":"netaik."},{"$f":"Translations!$B$157","v":"netaik."},{"$f":"Translations!$B$157","v":"netaik."},{"$f":"Translations!$B$157","v":"netaik."},{"$f":"Translations!$B$157","v":"netaik."},{"$f":"Translations!$B$157","v":"netaik."},{"$f":"Translations!$B$157","v":"netaik."},{"$f":"Translations!$B$157","v":"netaik."},{"$f":"Translations!$B$157","v":"netaik."},{"$f":"Translations!$B$157","v":"netaik."},{"$f":"Translations!$B$157","v":"netaik."},{"$f":"Translations!$B$157","v":"netaik."},{"$f":"Translations!$B$157","v":"netaik."},{"$f":"Translations!$B$157","v":"netaik."},{"$f":"Translations!$B$157","v":"netaik."},{"$f":"Translations!$B$157","v":"netaik."},{"$f":"Translations!$B$157","v":"netaik."},{"$f":"Translations!$B$157","v":"netaik."},{"$f":"Translations!$B$157","v":"netaik."},{"$f":"Translations!$B$157","v":"netaik."},{"$f":"Translations!$B$157","v":"netaik."},{"$f":"Translations!$B$157","v":"netaik."},{"$f":"Translations!$B$157","v":"netaik."},{"$f":"Translations!$B$157","v":"netaik."},{"$f":"Translations!$B$157","v":"netaik."},{"$f":"Translations!$B$157","v":"netaik."},{"$f":"Translations!$B$157","v":"netaik."},{"$f":"Translations!$B$157","v":"netaik."},{"$f":"Translations!$B$157","v":"netaik."},{"$f":"Translations!$B$157","v":"netaik."},{"$f":"Translations!$B$157","v":"netaik."},{"$f":"Translations!$B$157","v":"netaik."},{"$f":"Translations!$B$157","v":"netaik."},{"$f":"Translations!$B$157","v":"netaik."},{"$f":"Translations!$B$157","v":"netaik."}]
[24,"Kalkės, dolomitas, magnezitas: Karbonatai (A metodas)",null,null,"MSParameters!$G$41:$Y$41",null,{"$f":"Translations!$B$1065","v":"Medžiaga – Kalkakmenis"},{"$f":"Translations!$B$1066","v":"Medžiaga – Dolomitas"},{"$f":"Translations!$B$1067","v":"Medžiaga – Natrio vandenilio karbonatas"},{"$f":"Translations!$B$1109","v":"Medžiaga – Žaliavinis magnezitas"},{"$f":"Translations!$B$1068","v":"Medžiaga – Natrio karbonatas"},{"$f":"Translations!$B$1069","v":"Medžiaga – Kalio karbonatas (potašas)"},{"$f":"Translations!$B$1070","v":"Medžiaga – CaCO3"},{"$f":"Translations!$B$1071","v":"Medžiaga – MgCO3"},{"$f":"Translations!$B$1072","v":"Medžiaga – Na2CO3"},{"$f":"Translations!$B$1073","v":"Medžiaga – BaCO3"},{"$f":"Translations!$B$1074","v":"Medžiaga – Li2CO3"},{"$f":"Translations!$B$1075","v":"Medžiaga – K2CO3"},{"$f":"Translations!$B$1076","v":"Medžiaga – SrCO3"},{"$f":"Translations!$B$1077","v":"Medžiaga – NaHCO3"},{"$f":"Translations!$B$1078","v":"Medžiaga – FeCO3"},{"$f":"Translations!$B$1082","v":"Medžiaga – CaO"},{"$f":"Translations!$B$1083","v":"Medžiaga – MgO"},{"$f":"Translations!$B$1084","v":"Medžiaga – BaO"},{"$f":"Translations!$B$1079","v":"Medžiaga – Kiti karbonatai"},{"$f":"Translations!$B$157","v":"netaik."},{"$f":"Translations!$B$157","v":"netaik."},{"$f":"Translations!$B$157","v":"netaik."},{"$f":"Translations!$B$157","v":"netaik."},{"$f":"Translations!$B$157","v":"netaik."},{"$f":"Translations!$B$157","v":"netaik."},{"$f":"Translations!$B$157","v":"netaik."},{"$f":"Translations!$B$157","v":"netaik."},{"$f":"Translations!$B$157","v":"netaik."},{"$f":"Translations!$B$157","v":"netaik."},{"$f":"Translations!$B$157","v":"netaik."},{"$f":"Translations!$B$157","v":"netaik."},{"$f":"Translations!$B$157","v":"netaik."},{"$f":"Translations!$B$157","v":"netaik."},{"$f":"Translations!$B$157","v":"netaik."},{"$f":"Translations!$B$157","v":"netaik."},{"$f":"Translations!$B$157","v":"netaik."},{"$f":"Translations!$B$157","v":"netaik."},{"$f":"Translations!$B$157","v":"netaik."},{"$f":"Translations!$B$157","v":"netaik."},{"$f":"Translations!$B$157","v":"netaik."},{"$f":"Translations!$B$157","v":"netaik."},{"$f":"Translations!$B$157","v":"netaik."},{"$f":"Translations!$B$157","v":"netaik."},{"$f":"Translations!$B$157","v":"netaik."},{"$f":"Translations!$B$157","v":"netaik."},{"$f":"Translations!$B$157","v":"netaik."},{"$f":"Translations!$B$157","v":"netaik."},{"$f":"Translations!$B$157","v":"netaik."},{"$f":"Translations!$B$157","v":"netaik."},{"$f":"Translations!$B$157","v":"netaik."},{"$f":"Translations!$B$157","v":"netaik."},{"$f":"Translations!$B$157","v":"netaik."},{"$f":"Translations!$B$157","v":"netaik."},{"$f":"Translations!$B$157","v":"netaik."},{"$f":"Translations!$B$157","v":"netaik."},{"$f":"Translations!$B$157","v":"netaik."},{"$f":"Translations!$B$157","v":"netaik."},{"$f":"Translations!$B$157","v":"netaik."},{"$f":"Translations!$B$157","v":"netaik."},{"$f":"Translations!$B$157","v":"netaik."},{"$f":"Translations!$B$157","v":"netaik."},{"$f":"Translations!$B$157","v":"netaik."},{"$f":"Translations!$B$157","v":"netaik."},{"$f":"Translations!$B$157","v":"netaik."},{"$f":"Translations!$B$157","v":"netaik."},{"$f":"Translations!$B$157","v":"netaik."},{"$f":"Translations!$B$157","v":"netaik."},{"$f":"Translations!$B$157","v":"netaik."},{"$f":"Translations!$B$157","v":"netaik."},{"$f":"Translations!$B$157","v":"netaik."},{"$f":"Translations!$B$157","v":"netaik."},{"$f":"Translations!$B$157","v":"netaik."},{"$f":"Translations!$B$157","v":"netaik."},{"$f":"Translations!$B$157","v":"netaik."},{"$f":"Translations!$B$157","v":"netaik."},{"$f":"Translations!$B$157","v":"netaik."},{"$f":"Translations!$B$157","v":"netaik."},{"$f":"Translations!$B$157","v":"netaik."},{"$f":"Translations!$B$157","v":"netaik."},{"$f":"Translations!$B$157","v":"netaik."},{"$f":"Translations!$B$157","v":"netaik."},{"$f":"Translations!$B$157","v":"netaik."},{"$f":"Translations!$B$157","v":"netaik."},{"$f":"Translations!$B$157","v":"netaik."},{"$f":"Translations!$B$157","v":"netaik."},{"$f":"Translations!$B$157","v":"netaik."},{"$f":"Translations!$B$157","v":"netaik."},{"$f":"Translations!$B$157","v":"netaik."},{"$f":"Translations!$B$157","v":"netaik."},{"$f":"Translations!$B$157","v":"netaik."},{"$f":"Translations!$B$157","v":"netaik."},{"$f":"Translations!$B$157","v":"netaik."},{"$f":"Translations!$B$157","v":"netaik."},{"$f":"Translations!$B$157","v":"netaik."},{"$f":"Translations!$B$157","v":"netaik."},{"$f":"Translations!$B$157","v":"netaik."},{"$f":"Translations!$B$157","v":"netaik."},{"$f":"Translations!$B$157","v":"netaik."},{"$f":"Translations!$B$157","v":"netaik."},{"$f":"Translations!$B$157","v":"netaik."}]
[25,"Kalkės, dolomitas, magnezitas: Šarminių žemių metalų oksidas (B metodas)",null,null,"MSParameters!$G$42:$I$42",null,{"$f":"Translations!$B$1110","v":"Medžiaga – Kalkės"},{"$f":"Translations!$B$1111","v":"Medžiaga – Magnio oksidas"},{"$f":"Translations!$B$1085","v":"Medžiaga – Kiti produktai"},{"$f":"Translations!$B$157","v":"netaik."},{"$f":"Translations!$B$157","v":"netaik."},{"$f":"Translations!$B$157","v":"netaik."},{"$f":"Translations!$B$157","v":"netaik."},{"$f":"Translations!$B$157","v":"netaik."},{"$f":"Translations!$B$157","v":"netaik."},{"$f":"Translations!$B$157","v":"netaik."},{"$f":"Translations!$B$157","v":"netaik."},{"$f":"Translations!$B$157","v":"netaik."},{"$f":"Translations!$B$157","v":"netaik."},{"$f":"Translations!$B$157","v":"netaik."},{"$f":"Translations!$B$157","v":"netaik."},{"$f":"Translations!$B$157","v":"netaik."},{"$f":"Translations!$B$157","v":"netaik."},{"$f":"Translations!$B$157","v":"netaik."},{"$f":"Translations!$B$157","v":"netaik."},{"$f":"Translations!$B$157","v":"netaik."},{"$f":"Translations!$B$157","v":"netaik."},{"$f":"Translations!$B$157","v":"netaik."},{"$f":"Translations!$B$157","v":"netaik."},{"$f":"Translations!$B$157","v":"netaik."},{"$f":"Translations!$B$157","v":"netaik."},{"$f":"Translations!$B$157","v":"netaik."},{"$f":"Translations!$B$157","v":"netaik."},{"$f":"Translations!$B$157","v":"netaik."},{"$f":"Translations!$B$157","v":"netaik."},{"$f":"Translations!$B$157","v":"netaik."},{"$f":"Translations!$B$157","v":"netaik."},{"$f":"Translations!$B$157","v":"netaik."},{"$f":"Translations!$B$157","v":"netaik."},{"$f":"Translations!$B$157","v":"netaik."},{"$f":"Translations!$B$157","v":"netaik."},{"$f":"Translations!$B$157","v":"netaik."},{"$f":"Translations!$B$157","v":"netaik."},{"$f":"Translations!$B$157","v":"netaik."},{"$f":"Translations!$B$157","v":"netaik."},{"$f":"Translations!$B$157","v":"netaik."},{"$f":"Translations!$B$157","v":"netaik."},{"$f":"Translations!$B$157","v":"netaik."},{"$f":"Translations!$B$157","v":"netaik."},{"$f":"Translations!$B$157","v":"netaik."},{"$f":"Translations!$B$157","v":"netaik."},{"$f":"Translations!$B$157","v":"netaik."},{"$f":"Translations!$B$157","v":"netaik."},{"$f":"Translations!$B$157","v":"netaik."},{"$f":"Translations!$B$157","v":"netaik."},{"$f":"Translations!$B$157","v":"netaik."},{"$f":"Translations!$B$157","v":"netaik."},{"$f":"Translations!$B$157","v":"netaik."},{"$f":"Translations!$B$157","v":"netaik."},{"$f":"Translations!$B$157","v":"netaik."},{"$f":"Translations!$B$157","v":"netaik."},{"$f":"Translations!$B$157","v":"netaik."},{"$f":"Translations!$B$157","v":"netaik."},{"$f":"Translations!$B$157","v":"netaik."},{"$f":"Translations!$B$157","v":"netaik."},{"$f":"Translations!$B$157","v":"netaik."},{"$f":"Translations!$B$157","v":"netaik."},{"$f":"Translations!$B$157","v":"netaik."},{"$f":"Translations!$B$157","v":"netaik."},{"$f":"Translations!$B$157","v":"netaik."},{"$f":"Translations!$B$157","v":"netaik."},{"$f":"Translations!$B$157","v":"netaik."},{"$f":"Translations!$B$157","v":"netaik."},{"$f":"Translations!$B$157","v":"netaik."},{"$f":"Translations!$B$157","v":"netaik."},{"$f":"Translations!$B$157","v":"netaik."},{"$f":"Translations!$B$157","v":"netaik."},{"$f":"Translations!$B$157","v":"netaik."},{"$f":"Translations!$B$157","v":"netaik."},{"$f":"Translations!$B$157","v":"netaik."},{"$f":"Translations!$B$157","v":"netaik."},{"$f":"Translations!$B$157","v":"netaik."},{"$f":"Translations!$B$157","v":"netaik."},{"$f":"Translations!$B$157","v":"netaik."},{"$f":"Translations!$B$157","v":"netaik."},{"$f":"Translations!$B$157","v":"netaik."},{"$f":"Translations!$B$157","v":"netaik."},{"$f":"Translations!$B$157","v":"netaik."},{"$f":"Translations!$B$157","v":"netaik."},{"$f":"Translations!$B$157","v":"netaik."},{"$f":"Translations!$B$157","v":"netaik."},{"$f":"Translations!$B$157","v":"netaik."},{"$f":"Translations!$B$157","v":"netaik."},{"$f":"Translations!$B$157","v":"netaik."},{"$f":"Translations!$B$157","v":"netaik."},{"$f":"Translations!$B$157","v":"netaik."},{"$f":"Translations!$B$157","v":"netaik."},{"$f":"Translations!$B$157","v":"netaik."},{"$f":"Translations!$B$157","v":"netaik."},{"$f":"Translations!$B$157","v":"netaik."},{"$f":"Translations!$B$157","v":"netaik."},{"$f":"Translations!$B$157","v":"netaik."},{"$f":"Translations!$B$157","v":"netaik."},{"$f":"Translations!$B$157","v":"netaik."},{"$f":"Translations!$B$157","v":"netaik."},{"$f":"Translations!$B$157","v":"netaik."}]
[26,"Kalkės, dolomitas, magnezitas: Degimo krosnių dulkės (B metodas)",null,null,"MSParameters!$G$43:$H$43",null,{"$f":"Translations!$B$1112","v":"Medžiaga – Degimo krosnies dulkės"},{"$f":"Translations!$B$1085","v":"Medžiaga – Kiti produktai"},{"$f":"Translations!$B$157","v":"netaik."},{"$f":"Translations!$B$157","v":"netaik."},{"$f":"Translations!$B$157","v":"netaik."},{"$f":"Translations!$B$157","v":"netaik."},{"$f":"Translations!$B$157","v":"netaik."},{"$f":"Translations!$B$157","v":"netaik."},{"$f":"Translations!$B$157","v":"netaik."},{"$f":"Translations!$B$157","v":"netaik."},{"$f":"Translations!$B$157","v":"netaik."},{"$f":"Translations!$B$157","v":"netaik."},{"$f":"Translations!$B$157","v":"netaik."},{"$f":"Translations!$B$157","v":"netaik."},{"$f":"Translations!$B$157","v":"netaik."},{"$f":"Translations!$B$157","v":"netaik."},{"$f":"Translations!$B$157","v":"netaik."},{"$f":"Translations!$B$157","v":"netaik."},{"$f":"Translations!$B$157","v":"netaik."},{"$f":"Translations!$B$157","v":"netaik."},{"$f":"Translations!$B$157","v":"netaik."},{"$f":"Translations!$B$157","v":"netaik."},{"$f":"Translations!$B$157","v":"netaik."},{"$f":"Translations!$B$157","v":"netaik."},{"$f":"Translations!$B$157","v":"netaik."},{"$f":"Translations!$B$157","v":"netaik."},{"$f":"Translations!$B$157","v":"netaik."},{"$f":"Translations!$B$157","v":"netaik."},{"$f":"Translations!$B$157","v":"netaik."},{"$f":"Translations!$B$157","v":"netaik."},{"$f":"Translations!$B$157","v":"netaik."},{"$f":"Translations!$B$157","v":"netaik."},{"$f":"Translations!$B$157","v":"netaik."},{"$f":"Translations!$B$157","v":"netaik."},{"$f":"Translations!$B$157","v":"netaik."},{"$f":"Translations!$B$157","v":"netaik."},{"$f":"Translations!$B$157","v":"netaik."},{"$f":"Translations!$B$157","v":"netaik."},{"$f":"Translations!$B$157","v":"netaik."},{"$f":"Translations!$B$157","v":"netaik."},{"$f":"Translations!$B$157","v":"netaik."},{"$f":"Translations!$B$157","v":"netaik."},{"$f":"Translations!$B$157","v":"netaik."},{"$f":"Translations!$B$157","v":"netaik."},{"$f":"Translations!$B$157","v":"netaik."},{"$f":"Translations!$B$157","v":"netaik."},{"$f":"Translations!$B$157","v":"netaik."},{"$f":"Translations!$B$157","v":"netaik."},{"$f":"Translations!$B$157","v":"netaik."},{"$f":"Translations!$B$157","v":"netaik."},{"$f":"Translations!$B$157","v":"netaik."},{"$f":"Translations!$B$157","v":"netaik."},{"$f":"Translations!$B$157","v":"netaik."},{"$f":"Translations!$B$157","v":"netaik."},{"$f":"Translations!$B$157","v":"netaik."},{"$f":"Translations!$B$157","v":"netaik."},{"$f":"Translations!$B$157","v":"netaik."},{"$f":"Translations!$B$157","v":"netaik."},{"$f":"Translations!$B$157","v":"netaik."},{"$f":"Translations!$B$157","v":"netaik."},{"$f":"Translations!$B$157","v":"netaik."},{"$f":"Translations!$B$157","v":"netaik."},{"$f":"Translations!$B$157","v":"netaik."},{"$f":"Translations!$B$157","v":"netaik."},{"$f":"Translations!$B$157","v":"netaik."},{"$f":"Translations!$B$157","v":"netaik."},{"$f":"Translations!$B$157","v":"netaik."},{"$f":"Translations!$B$157","v":"netaik."},{"$f":"Translations!$B$157","v":"netaik."},{"$f":"Translations!$B$157","v":"netaik."},{"$f":"Translations!$B$157","v":"netaik."},{"$f":"Translations!$B$157","v":"netaik."},{"$f":"Translations!$B$157","v":"netaik."},{"$f":"Translations!$B$157","v":"netaik."},{"$f":"Translations!$B$157","v":"netaik."},{"$f":"Translations!$B$157","v":"netaik."},{"$f":"Translations!$B$157","v":"netaik."},{"$f":"Translations!$B$157","v":"netaik."},{"$f":"Translations!$B$157","v":"netaik."},{"$f":"Translations!$B$157","v":"netaik."},{"$f":"Translations!$B$157","v":"netaik."},{"$f":"Translations!$B$157","v":"netaik."},{"$f":"Translations!$B$157","v":"netaik."},{"$f":"Translations!$B$157","v":"netaik."},{"$f":"Translations!$B$157","v":"netaik."},{"$f":"Translations!$B$157","v":"netaik."},{"$f":"Translations!$B$157","v":"netaik."},{"$f":"Translations!$B$157","v":"netaik."},{"$f":"Translations!$B$157","v":"netaik."},{"$f":"Translations!$B$157","v":"netaik."},{"$f":"Translations!$B$157","v":"netaik."},{"$f":"Translations!$B$157","v":"netaik."},{"$f":"Translations!$B$157","v":"netaik."},{"$f":"Translations!$B$157","v":"netaik."},{"$f":"Translations!$B$157","v":"netaik."},{"$f":"Translations!$B$157","v":"netaik."},{"$f":"Translations!$B$157","v":"netaik."},{"$f":"Translations!$B$157","v":"netaik."},{"$f":"Translations!$B$157","v":"netaik."},{"$f":"Translations!$B$157","v":"netaik."}]
[27,"Stiklas ir mineralinė vata: Karbonatai (žaliava)",null,null,"MSParameters!$G$44:$V$44",null,{"$f":"Translations!$B$1065","v":"Medžiaga – Kalkakmenis"},{"$f":"Translations!$B$1066","v":"Medžiaga – Dolomitas"},{"$f":"Translations!$B$1067","v":"Medžiaga – Natrio vandenilio karbonatas"},{"$f":"Translations!$B$1110","v":"Medžiaga – Kalkės"},{"$f":"Translations!$B$1068","v":"Medžiaga – Natrio karbonatas"},{"$f":"Translations!$B$1069","v":"Medžiaga – Kalio karbonatas (potašas)"},{"$f":"Translations!$B$1070","v":"Medžiaga – CaCO3"},{"$f":"Translations!$B$1071","v":"Medžiaga – MgCO3"},{"$f":"Translations!$B$1072","v":"Medžiaga – Na2CO3"},{"$f":"Translations!$B$1073","v":"Medžiaga – BaCO3"},{"$f":"Translations!$B$1074","v":"Medžiaga – Li2CO3"},{"$f":"Translations!$B$1075","v":"Medžiaga – K2CO3"},{"$f":"Translations!$B$1076","v":"Medžiaga – SrCO3"},{"$f":"Translations!$B$1077","v":"Medžiaga – NaHCO3"},{"$f":"Translations!$B$1078","v":"Medžiaga – FeCO3"},{"$f":"Translations!$B$1079","v":"Medžiaga – Kiti karbonatai"},{"$f":"Translations!$B$157","v":"netaik."},{"$f":"Translations!$B$157","v":"netaik."},{"$f":"Translations!$B$157","v":"netaik."},{"$f":"Translations!$B$157","v":"netaik."},{"$f":"Translations!$B$157","v":"netaik."},{"$f":"Translations!$B$157","v":"netaik."},{"$f":"Translations!$B$157","v":"netaik."},{"$f":"Translations!$B$157","v":"netaik."},{"$f":"Translations!$B$157","v":"netaik."},{"$f":"Translations!$B$157","v":"netaik."},{"$f":"Translations!$B$157","v":"netaik."},{"$f":"Translations!$B$157","v":"netaik."},{"$f":"Translations!$B$157","v":"netaik."},{"$f":"Translations!$B$157","v":"netaik."},{"$f":"Translations!$B$157","v":"netaik."},{"$f":"Translations!$B$157","v":"netaik."},{"$f":"Translations!$B$157","v":"netaik."},{"$f":"Translations!$B$157","v":"netaik."},{"$f":"Translations!$B$157","v":"netaik."},{"$f":"Translations!$B$157","v":"netaik."},{"$f":"Translations!$B$157","v":"netaik."},{"$f":"Translations!$B$157","v":"netaik."},{"$f":"Translations!$B$157","v":"netaik."},{"$f":"Translations!$B$157","v":"netaik."},{"$f":"Translations!$B$157","v":"netaik."},{"$f":"Translations!$B$157","v":"netaik."},{"$f":"Translations!$B$157","v":"netaik."},{"$f":"Translations!$B$157","v":"netaik."},{"$f":"Translations!$B$157","v":"netaik."},{"$f":"Translations!$B$157","v":"netaik."},{"$f":"Translations!$B$157","v":"netaik."},{"$f":"Translations!$B$157","v":"netaik."},{"$f":"Translations!$B$157","v":"netaik."},{"$f":"Translations!$B$157","v":"netaik."},{"$f":"Translations!$B$157","v":"netaik."},{"$f":"Translations!$B$157","v":"netaik."},{"$f":"Translations!$B$157","v":"netaik."},{"$f":"Translations!$B$157","v":"netaik."},{"$f":"Translations!$B$157","v":"netaik."},{"$f":"Translations!$B$157","v":"netaik."},{"$f":"Translations!$B$157","v":"netaik."},{"$f":"Translations!$B$157","v":"netaik."},{"$f":"Translations!$B$157","v":"netaik."},{"$f":"Translations!$B$157","v":"netaik."},{"$f":"Translations!$B$157","v":"netaik."},{"$f":"Translations!$B$157","v":"netaik."},{"$f":"Translations!$B$157","v":"netaik."},{"$f":"Translations!$B$157","v":"netaik."},{"$f":"Translations!$B$157","v":"netaik."},{"$f":"Translations!$B$157","v":"netaik."},{"$f":"Translations!$B$157","v":"netaik."},{"$f":"Translations!$B$157","v":"netaik."},{"$f":"Translations!$B$157","v":"netaik."},{"$f":"Translations!$B$157","v":"netaik."},{"$f":"Translations!$B$157","v":"netaik."},{"$f":"Translations!$B$157","v":"netaik."},{"$f":"Translations!$B$157","v":"netaik."},{"$f":"Translations!$B$157","v":"netaik."},{"$f":"Translations!$B$157","v":"netaik."},{"$f":"Translations!$B$157","v":"netaik."},{"$f":"Translations!$B$157","v":"netaik."},{"$f":"Translations!$B$157","v":"netaik."},{"$f":"Translations!$B$157","v":"netaik."},{"$f":"Translations!$B$157","v":"netaik."},{"$f":"Translations!$B$157","v":"netaik."},{"$f":"Translations!$B$157","v":"netaik."},{"$f":"Translations!$B$157","v":"netaik."},{"$f":"Translations!$B$157","v":"netaik."},{"$f":"Translations!$B$157","v":"netaik."},{"$f":"Translations!$B$157","v":"netaik."},{"$f":"Translations!$B$157","v":"netaik."},{"$f":"Translations!$B$157","v":"netaik."},{"$f":"Translations!$B$157","v":"netaik."},{"$f":"Translations!$B$157","v":"netaik."},{"$f":"Translations!$B$157","v":"netaik."},{"$f":"Translations!$B$157","v":"netaik."},{"$f":"Translations!$B$157","v":"netaik."},{"$f":"Translations!$B$157","v":"netaik."},{"$f":"Translations!$B$157","v":"netaik."},{"$f":"Translations!$B$157","v":"netaik."},{"$f":"Translations!$B$157","v":"netaik."},{"$f":"Translations!$B$157","v":"netaik."},{"$f":"Translations!$B$157","v":"netaik."},{"$f":"Translations!$B$157","v":"netaik."}]
[28,"Keramikos dirbiniai.: Anglies sąnaudos (A metodas)",null,null,"MSParameters!$G$45:$H$45",null,{"$f":"Translations!$B$1113","v":"Medžiaga – Molis"},{"$f":"Translations!$B$1108","v":"Medžiaga – Kitos medžiagos, kurių sudėtyje yra anglies"},{"$f":"Translations!$B$157","v":"netaik."},{"$f":"Translations!$B$157","v":"netaik."},{"$f":"Translations!$B$157","v":"netaik."},{"$f":"Translations!$B$157","v":"netaik."},{"$f":"Translations!$B$157","v":"netaik."},{"$f":"Translations!$B$157","v":"netaik."},{"$f":"Translations!$B$157","v":"netaik."},{"$f":"Translations!$B$157","v":"netaik."},{"$f":"Translations!$B$157","v":"netaik."},{"$f":"Translations!$B$157","v":"netaik."},{"$f":"Translations!$B$157","v":"netaik."},{"$f":"Translations!$B$157","v":"netaik."},{"$f":"Translations!$B$157","v":"netaik."},{"$f":"Translations!$B$157","v":"netaik."},{"$f":"Translations!$B$157","v":"netaik."},{"$f":"Translations!$B$157","v":"netaik."},{"$f":"Translations!$B$157","v":"netaik."},{"$f":"Translations!$B$157","v":"netaik."},{"$f":"Translations!$B$157","v":"netaik."},{"$f":"Translations!$B$157","v":"netaik."},{"$f":"Translations!$B$157","v":"netaik."},{"$f":"Translations!$B$157","v":"netaik."},{"$f":"Translations!$B$157","v":"netaik."},{"$f":"Translations!$B$157","v":"netaik."},{"$f":"Translations!$B$157","v":"netaik."},{"$f":"Translations!$B$157","v":"netaik."},{"$f":"Translations!$B$157","v":"netaik."},{"$f":"Translations!$B$157","v":"netaik."},{"$f":"Translations!$B$157","v":"netaik."},{"$f":"Translations!$B$157","v":"netaik."},{"$f":"Translations!$B$157","v":"netaik."},{"$f":"Translations!$B$157","v":"netaik."},{"$f":"Translations!$B$157","v":"netaik."},{"$f":"Translations!$B$157","v":"netaik."},{"$f":"Translations!$B$157","v":"netaik."},{"$f":"Translations!$B$157","v":"netaik."},{"$f":"Translations!$B$157","v":"netaik."},{"$f":"Translations!$B$157","v":"netaik."},{"$f":"Translations!$B$157","v":"netaik."},{"$f":"Translations!$B$157","v":"netaik."},{"$f":"Translations!$B$157","v":"netaik."},{"$f":"Translations!$B$157","v":"netaik."},{"$f":"Translations!$B$157","v":"netaik."},{"$f":"Translations!$B$157","v":"netaik."},{"$f":"Translations!$B$157","v":"netaik."},{"$f":"Translations!$B$157","v":"netaik."},{"$f":"Translations!$B$157","v":"netaik."},{"$f":"Translations!$B$157","v":"netaik."},{"$f":"Translations!$B$157","v":"netaik."},{"$f":"Translations!$B$157","v":"netaik."},{"$f":"Translations!$B$157","v":"netaik."},{"$f":"Translations!$B$157","v":"netaik."},{"$f":"Translations!$B$157","v":"netaik."},{"$f":"Translations!$B$157","v":"netaik."},{"$f":"Translations!$B$157","v":"netaik."},{"$f":"Translations!$B$157","v":"netaik."},{"$f":"Translations!$B$157","v":"netaik."},{"$f":"Translations!$B$157","v":"netaik."},{"$f":"Translations!$B$157","v":"netaik."},{"$f":"Translations!$B$157","v":"netaik."},{"$f":"Translations!$B$157","v":"netaik."},{"$f":"Translations!$B$157","v":"netaik."},{"$f":"Translations!$B$157","v":"netaik."},{"$f":"Translations!$B$157","v":"netaik."},{"$f":"Translations!$B$157","v":"netaik."},{"$f":"Translations!$B$157","v":"netaik."},{"$f":"Translations!$B$157","v":"netaik."},{"$f":"Translations!$B$157","v":"netaik."},{"$f":"Translations!$B$157","v":"netaik."},{"$f":"Translations!$B$157","v":"netaik."},{"$f":"Translations!$B$157","v":"netaik."},{"$f":"Translations!$B$157","v":"netaik."},{"$f":"Translations!$B$157","v":"netaik."},{"$f":"Translations!$B$157","v":"netaik."},{"$f":"Translations!$B$157","v":"netaik."},{"$f":"Translations!$B$157","v":"netaik."},{"$f":"Translations!$B$157","v":"netaik."},{"$f":"Translations!$B$157","v":"netaik."},{"$f":"Translations!$B$157","v":"netaik."},{"$f":"Translations!$B$157","v":"netaik."},{"$f":"Translations!$B$157","v":"netaik."},{"$f":"Translations!$B$157","v":"netaik."},{"$f":"Translations!$B$157","v":"netaik."},{"$f":"Translations!$B$157","v":"netaik."},{"$f":"Translations!$B$157","v":"netaik."},{"$f":"Translations!$B$157","v":"netaik."},{"$f":"Translations!$B$157","v":"netaik."},{"$f":"Translations!$B$157","v":"netaik."},{"$f":"Translations!$B$157","v":"netaik."},{"$f":"Translations!$B$157","v":"netaik."},{"$f":"Translations!$B$157","v":"netaik."},{"$f":"Translations!$B$157","v":"netaik."},{"$f":"Translations!$B$157","v":"netaik."},{"$f":"Translations!$B$157","v":"netaik."},{"$f":"Translations!$B$157","v":"netaik."},{"$f":"Translations!$B$157","v":"netaik."},{"$f":"Translations!$B$157","v":"netaik."},{"$f":"Translations!$B$157","v":"netaik."}]
[29,"Keramikos dirbiniai.: Šarminių metalų oksidas (B metodas)",null,null,"MSParameters!$G$46:$K$46",null,{"$f":"Translations!$B$1082","v":"Medžiaga – CaO"},{"$f":"Translations!$B$1083","v":"Medžiaga – MgO"},{"$f":"Translations!$B$1084","v":"Medžiaga – BaO"},{"$f":"Translations!$B$1114","v":"Medžiaga – Plytos"},{"$f":"Translations!$B$1085","v":"Medžiaga – Kiti produktai"},{"$f":"Translations!$B$157","v":"netaik."},{"$f":"Translations!$B$157","v":"netaik."},{"$f":"Translations!$B$157","v":"netaik."},{"$f":"Translations!$B$157","v":"netaik."},{"$f":"Translations!$B$157","v":"netaik."},{"$f":"Translations!$B$157","v":"netaik."},{"$f":"Translations!$B$157","v":"netaik."},{"$f":"Translations!$B$157","v":"netaik."},{"$f":"Translations!$B$157","v":"netaik."},{"$f":"Translations!$B$157","v":"netaik."},{"$f":"Translations!$B$157","v":"netaik."},{"$f":"Translations!$B$157","v":"netaik."},{"$f":"Translations!$B$157","v":"netaik."},{"$f":"Translations!$B$157","v":"netaik."},{"$f":"Translations!$B$157","v":"netaik."},{"$f":"Translations!$B$157","v":"netaik."},{"$f":"Translations!$B$157","v":"netaik."},{"$f":"Translations!$B$157","v":"netaik."},{"$f":"Translations!$B$157","v":"netaik."},{"$f":"Translations!$B$157","v":"netaik."},{"$f":"Translations!$B$157","v":"netaik."},{"$f":"Translations!$B$157","v":"netaik."},{"$f":"Translations!$B$157","v":"netaik."},{"$f":"Translations!$B$157","v":"netaik."},{"$f":"Translations!$B$157","v":"netaik."},{"$f":"Translations!$B$157","v":"netaik."},{"$f":"Translations!$B$157","v":"netaik."},{"$f":"Translations!$B$157","v":"netaik."},{"$f":"Translations!$B$157","v":"netaik."},{"$f":"Translations!$B$157","v":"netaik."},{"$f":"Translations!$B$157","v":"netaik."},{"$f":"Translations!$B$157","v":"netaik."},{"$f":"Translations!$B$157","v":"netaik."},{"$f":"Translations!$B$157","v":"netaik."},{"$f":"Translations!$B$157","v":"netaik."},{"$f":"Translations!$B$157","v":"netaik."},{"$f":"Translations!$B$157","v":"netaik."},{"$f":"Translations!$B$157","v":"netaik."},{"$f":"Translations!$B$157","v":"netaik."},{"$f":"Translations!$B$157","v":"netaik."},{"$f":"Translations!$B$157","v":"netaik."},{"$f":"Translations!$B$157","v":"netaik."},{"$f":"Translations!$B$157","v":"netaik."},{"$f":"Translations!$B$157","v":"netaik."},{"$f":"Translations!$B$157","v":"netaik."},{"$f":"Translations!$B$157","v":"netaik."},{"$f":"Translations!$B$157","v":"netaik."},{"$f":"Translations!$B$157","v":"netaik."},{"$f":"Translations!$B$157","v":"netaik."},{"$f":"Translations!$B$157","v":"netaik."},{"$f":"Translations!$B$157","v":"netaik."},{"$f":"Translations!$B$157","v":"netaik."},{"$f":"Translations!$B$157","v":"netaik."},{"$f":"Translations!$B$157","v":"netaik."},{"$f":"Translations!$B$157","v":"netaik."},{"$f":"Translations!$B$157","v":"netaik."},{"$f":"Translations!$B$157","v":"netaik."},{"$f":"Translations!$B$157","v":"netaik."},{"$f":"Translations!$B$157","v":"netaik."},{"$f":"Translations!$B$157","v":"netaik."},{"$f":"Translations!$B$157","v":"netaik."},{"$f":"Translations!$B$157","v":"netaik."},{"$f":"Translations!$B$157","v":"netaik."},{"$f":"Translations!$B$157","v":"netaik."},{"$f":"Translations!$B$157","v":"netaik."},{"$f":"Translations!$B$157","v":"netaik."},{"$f":"Translations!$B$157","v":"netaik."},{"$f":"Translations!$B$157","v":"netaik."},{"$f":"Translations!$B$157","v":"netaik."},{"$f":"Translations!$B$157","v":"netaik."},{"$f":"Translations!$B$157","v":"netaik."},{"$f":"Translations!$B$157","v":"netaik."},{"$f":"Translations!$B$157","v":"netaik."},{"$f":"Translations!$B$157","v":"netaik."},{"$f":"Translations!$B$157","v":"netaik."},{"$f":"Translations!$B$157","v":"netaik."},{"$f":"Translations!$B$157","v":"netaik."},{"$f":"Translations!$B$157","v":"netaik."},{"$f":"Translations!$B$157","v":"netaik."},{"$f":"Translations!$B$157","v":"netaik."},{"$f":"Translations!$B$157","v":"netaik."},{"$f":"Translations!$B$157","v":"netaik."},{"$f":"Translations!$B$157","v":"netaik."},{"$f":"Translations!$B$157","v":"netaik."},{"$f":"Translations!$B$157","v":"netaik."},{"$f":"Translations!$B$157","v":"netaik."},{"$f":"Translations!$B$157","v":"netaik."},{"$f":"Translations!$B$157","v":"netaik."},{"$f":"Translations!$B$157","v":"netaik."},{"$f":"Translations!$B$157","v":"netaik."},{"$f":"Translations!$B$157","v":"netaik."},{"$f":"Translations!$B$157","v":"netaik."},{"$f":"Translations!$B$157","v":"netaik."},{"$f":"Translations!$B$157","v":"netaik."},{"$f":"Translations!$B$157","v":"netaik."}]
[30,"Keramikos dirbiniai.: Dujų plovimas",null,null,"MSParameters!$G$47:$V$47",null,{"$f":"Translations!$B$1065","v":"Medžiaga – Kalkakmenis"},{"$f":"Translations!$B$1066","v":"Medžiaga – Dolomitas"},{"$f":"Translations!$B$1067","v":"Medžiaga – Natrio vandenilio karbonatas"},{"$f":"Translations!$B$1068","v":"Medžiaga – Natrio karbonatas"},{"$f":"Translations!$B$1069","v":"Medžiaga – Kalio karbonatas (potašas)"},{"$f":"Translations!$B$1070","v":"Medžiaga – CaCO3"},{"$f":"Translations!$B$1071","v":"Medžiaga – MgCO3"},{"$f":"Translations!$B$1072","v":"Medžiaga – Na2CO3"},{"$f":"Translations!$B$1073","v":"Medžiaga – BaCO3"},{"$f":"Translations!$B$1074","v":"Medžiaga – Li2CO3"},{"$f":"Translations!$B$1075","v":"Medžiaga – K2CO3"},{"$f":"Translations!$B$1076","v":"Medžiaga – SrCO3"},{"$f":"Translations!$B$1077","v":"Medžiaga – NaHCO3"},{"$f":"Translations!$B$1078","v":"Medžiaga – FeCO3"},{"$f":"Translations!$B$1079","v":"Medžiaga – Kiti karbonatai"},{"$f":"Translations!$B$1064","v":"Medžiaga – Kitos medžiagos"},{"$f":"Translations!$B$157","v":"netaik."},{"$f":"Translations!$B$157","v":"netaik."},{"$f":"Translations!$B$157","v":"netaik."},{"$f":"Translations!$B$157","v":"netaik."},{"$f":"Translations!$B$157","v":"netaik."},{"$f":"Translations!$B$157","v":"netaik."},{"$f":"Translations!$B$157","v":"netaik."},{"$f":"Translations!$B$157","v":"netaik."},{"$f":"Translations!$B$157","v":"netaik."},{"$f":"Translations!$B$157","v":"netaik."},{"$f":"Translations!$B$157","v":"netaik."},{"$f":"Translations!$B$157","v":"netaik."},{"$f":"Translations!$B$157","v":"netaik."},{"$f":"Translations!$B$157","v":"netaik."},{"$f":"Translations!$B$157","v":"netaik."},{"$f":"Translations!$B$157","v":"netaik."},{"$f":"Translations!$B$157","v":"netaik."},{"$f":"Translations!$B$157","v":"netaik."},{"$f":"Translations!$B$157","v":"netaik."},{"$f":"Translations!$B$157","v":"netaik."},{"$f":"Translations!$B$157","v":"netaik."},{"$f":"Translations!$B$157","v":"netaik."},{"$f":"Translations!$B$157","v":"netaik."},{"$f":"Translations!$B$157","v":"netaik."},{"$f":"Translations!$B$157","v":"netaik."},{"$f":"Translations!$B$157","v":"netaik."},{"$f":"Translations!$B$157","v":"netaik."},{"$f":"Translations!$B$157","v":"netaik."},{"$f":"Translations!$B$157","v":"netaik."},{"$f":"Translations!$B$157","v":"netaik."},{"$f":"Translations!$B$157","v":"netaik."},{"$f":"Translations!$B$157","v":"netaik."},{"$f":"Translations!$B$157","v":"netaik."},{"$f":"Translations!$B$157","v":"netaik."},{"$f":"Translations!$B$157","v":"netaik."},{"$f":"Translations!$B$157","v":"netaik."},{"$f":"Translations!$B$157","v":"netaik."},{"$f":"Translations!$B$157","v":"netaik."},{"$f":"Translations!$B$157","v":"netaik."},{"$f":"Translations!$B$157","v":"netaik."},{"$f":"Translations!$B$157","v":"netaik."},{"$f":"Translations!$B$157","v":"netaik."},{"$f":"Translations!$B$157","v":"netaik."},{"$f":"Translations!$B$157","v":"netaik."},{"$f":"Translations!$B$157","v":"netaik."},{"$f":"Translations!$B$157","v":"netaik."},{"$f":"Translations!$B$157","v":"netaik."},{"$f":"Translations!$B$157","v":"netaik."},{"$f":"Translations!$B$157","v":"netaik."},{"$f":"Translations!$B$157","v":"netaik."},{"$f":"Translations!$B$157","v":"netaik."},{"$f":"Translations!$B$157","v":"netaik."},{"$f":"Translations!$B$157","v":"netaik."},{"$f":"Translations!$B$157","v":"netaik."},{"$f":"Translations!$B$157","v":"netaik."},{"$f":"Translations!$B$157","v":"netaik."},{"$f":"Translations!$B$157","v":"netaik."},{"$f":"Translations!$B$157","v":"netaik."},{"$f":"Translations!$B$157","v":"netaik."},{"$f":"Translations!$B$157","v":"netaik."},{"$f":"Translations!$B$157","v":"netaik."},{"$f":"Translations!$B$157","v":"netaik."},{"$f":"Translations!$B$157","v":"netaik."},{"$f":"Translations!$B$157","v":"netaik."},{"$f":"Translations!$B$157","v":"netaik."},{"$f":"Translations!$B$157","v":"netaik."},{"$f":"Translations!$B$157","v":"netaik."},{"$f":"Translations!$B$157","v":"netaik."},{"$f":"Translations!$B$157","v":"netaik."},{"$f":"Translations!$B$157","v":"netaik."},{"$f":"Translations!$B$157","v":"netaik."},{"$f":"Translations!$B$157","v":"netaik."},{"$f":"Translations!$B$157","v":"netaik."},{"$f":"Translations!$B$157","v":"netaik."},{"$f":"Translations!$B$157","v":"netaik."},{"$f":"Translations!$B$157","v":"netaik."},{"$f":"Translations!$B$157","v":"netaik."},{"$f":"Translations!$B$157","v":"netaik."},{"$f":"Translations!$B$157","v":"netaik."},{"$f":"Translations!$B$157","v":"netaik."},{"$f":"Translations!$B$157","v":"netaik."},{"$f":"Translations!$B$157","v":"netaik."},{"$f":"Translations!$B$157","v":"netaik."},{"$f":"Translations!$B$157","v":"netaik."}]
[31,"Celiuliozė ir popierius: Sudėtinės cheminės medžiagos",null,null,"MSParameters!$G$48:$Z$48",null,{"$f":"Translations!$B$1065","v":"Medžiaga – Kalkakmenis"},{"$f":"Translations!$B$1066","v":"Medžiaga – Dolomitas"},{"$f":"Translations!$B$1067","v":"Medžiaga – Natrio vandenilio karbonatas"},{"$f":"Translations!$B$1110","v":"Medžiaga – Kalkės"},{"$f":"Translations!$B$1068","v":"Medžiaga – Natrio karbonatas"},{"$f":"Translations!$B$1069","v":"Medžiaga – Kalio karbonatas (potašas)"},{"$f":"Translations!$B$1070","v":"Medžiaga – CaCO3"},{"$f":"Translations!$B$1071","v":"Medžiaga – MgCO3"},{"$f":"Translations!$B$1072","v":"Medžiaga – Na2CO3"},{"$f":"Translations!$B$1073","v":"Medžiaga – BaCO3"},{"$f":"Translations!$B$1074","v":"Medžiaga – Li2CO3"},{"$f":"Translations!$B$1075","v":"Medžiaga – K2CO3"},{"$f":"Translations!$B$1076","v":"Medžiaga – SrCO3"},{"$f":"Translations!$B$1077","v":"Medžiaga – NaHCO3"},{"$f":"Translations!$B$1078","v":"Medžiaga – FeCO3"},{"$f":"Translations!$B$1082","v":"Medžiaga – CaO"},{"$f":"Translations!$B$1083","v":"Medžiaga – MgO"},{"$f":"Translations!$B$1084","v":"Medžiaga – BaO"},{"$f":"Translations!$B$1115","v":"Medžiaga – Kitos cheminės medžiagos"},{"$f":"Translations!$B$1079","v":"Medžiaga – Kiti karbonatai"},{"$f":"Translations!$B$157","v":"netaik."},{"$f":"Translations!$B$157","v":"netaik."},{"$f":"Translations!$B$157","v":"netaik."},{"$f":"Translations!$B$157","v":"netaik."},{"$f":"Translations!$B$157","v":"netaik."},{"$f":"Translations!$B$157","v":"netaik."},{"$f":"Translations!$B$157","v":"netaik."},{"$f":"Translations!$B$157","v":"netaik."},{"$f":"Translations!$B$157","v":"netaik."},{"$f":"Translations!$B$157","v":"netaik."},{"$f":"Translations!$B$157","v":"netaik."},{"$f":"Translations!$B$157","v":"netaik."},{"$f":"Translations!$B$157","v":"netaik."},{"$f":"Translations!$B$157","v":"netaik."},{"$f":"Translations!$B$157","v":"netaik."},{"$f":"Translations!$B$157","v":"netaik."},{"$f":"Translations!$B$157","v":"netaik."},{"$f":"Translations!$B$157","v":"netaik."},{"$f":"Translations!$B$157","v":"netaik."},{"$f":"Translations!$B$157","v":"netaik."},{"$f":"Translations!$B$157","v":"netaik."},{"$f":"Translations!$B$157","v":"netaik."},{"$f":"Translations!$B$157","v":"netaik."},{"$f":"Translations!$B$157","v":"netaik."},{"$f":"Translations!$B$157","v":"netaik."},{"$f":"Translations!$B$157","v":"netaik."},{"$f":"Translations!$B$157","v":"netaik."},{"$f":"Translations!$B$157","v":"netaik."},{"$f":"Translations!$B$157","v":"netaik."},{"$f":"Translations!$B$157","v":"netaik."},{"$f":"Translations!$B$157","v":"netaik."},{"$f":"Translations!$B$157","v":"netaik."},{"$f":"Translations!$B$157","v":"netaik."},{"$f":"Translations!$B$157","v":"netaik."},{"$f":"Translations!$B$157","v":"netaik."},{"$f":"Translations!$B$157","v":"netaik."},{"$f":"Translations!$B$157","v":"netaik."},{"$f":"Translations!$B$157","v":"netaik."},{"$f":"Translations!$B$157","v":"netaik."},{"$f":"Translations!$B$157","v":"netaik."},{"$f":"Translations!$B$157","v":"netaik."},{"$f":"Translations!$B$157","v":"netaik."},{"$f":"Translations!$B$157","v":"netaik."},{"$f":"Translations!$B$157","v":"netaik."},{"$f":"Translations!$B$157","v":"netaik."},{"$f":"Translations!$B$157","v":"netaik."},{"$f":"Translations!$B$157","v":"netaik."},{"$f":"Translations!$B$157","v":"netaik."},{"$f":"Translations!$B$157","v":"netaik."},{"$f":"Translations!$B$157","v":"netaik."},{"$f":"Translations!$B$157","v":"netaik."},{"$f":"Translations!$B$157","v":"netaik."},{"$f":"Translations!$B$157","v":"netaik."},{"$f":"Translations!$B$157","v":"netaik."},{"$f":"Translations!$B$157","v":"netaik."},{"$f":"Translations!$B$157","v":"netaik."},{"$f":"Translations!$B$157","v":"netaik."},{"$f":"Translations!$B$157","v":"netaik."},{"$f":"Translations!$B$157","v":"netaik."},{"$f":"Translations!$B$157","v":"netaik."},{"$f":"Translations!$B$157","v":"netaik."},{"$f":"Translations!$B$157","v":"netaik."},{"$f":"Translations!$B$157","v":"netaik."},{"$f":"Translations!$B$157","v":"netaik."},{"$f":"Translations!$B$157","v":"netaik."},{"$f":"Translations!$B$157","v":"netaik."},{"$f":"Translations!$B$157","v":"netaik."},{"$f":"Translations!$B$157","v":"netaik."},{"$f":"Translations!$B$157","v":"netaik."},{"$f":"Translations!$B$157","v":"netaik."},{"$f":"Translations!$B$157","v":"netaik."},{"$f":"Translations!$B$157","v":"netaik."},{"$f":"Translations!$B$157","v":"netaik."},{"$f":"Translations!$B$157","v":"netaik."},{"$f":"Translations!$B$157","v":"netaik."},{"$f":"Translations!$B$157","v":"netaik."},{"$f":"Translations!$B$157","v":"netaik."},{"$f":"Translations!$B$157","v":"netaik."},{"$f":"Translations!$B$157","v":"netaik."},{"$f":"Translations!$B$157","v":"netaik."}]
[32,"Padengtas kartonas Suodžiai: Masės balanso metodika",null,null,"MSParameters!$G$49:$CN$49",null,{"$f":"Translations!$B$1065","v":"Medžiaga – Kalkakmenis"},{"$f":"Translations!$B$1066","v":"Medžiaga – Dolomitas"},{"$f":"Translations!$B$1067","v":"Medžiaga – Natrio vandenilio karbonatas"},{"$f":"Translations!$B$1068","v":"Medžiaga – Natrio karbonatas"},{"$f":"Translations!$B$1069","v":"Medžiaga – Kalio karbonatas (potašas)"},{"$f":"Translations!$B$1070","v":"Medžiaga – CaCO3"},{"$f":"Translations!$B$1071","v":"Medžiaga – MgCO3"},{"$f":"Translations!$B$1072","v":"Medžiaga – Na2CO3"},{"$f":"Translations!$B$1073","v":"Medžiaga – BaCO3"},{"$f":"Translations!$B$1074","v":"Medžiaga – Li2CO3"},{"$f":"Translations!$B$1075","v":"Medžiaga – K2CO3"},{"$f":"Translations!$B$1076","v":"Medžiaga – SrCO3"},{"$f":"Translations!$B$1077","v":"Medžiaga – NaHCO3"},{"$f":"Translations!$B$1078","v":"Medžiaga – FeCO3"},{"$f":"Translations!$B$1082","v":"Medžiaga – CaO"},{"$f":"Translations!$B$1083","v":"Medžiaga – MgO"},{"$f":"Translations!$B$1084","v":"Medžiaga – BaO"},{"$f":"Translations!$B$1079","v":"Medžiaga – Kiti karbonatai"},{"$f":"Translations!$B$1064","v":"Medžiaga – Kitos medžiagos"},{"$f":"Translations!$B$999","v":"Dujinis – Gamtinės dujos"},{"$f":"Translations!$B$1000","v":"Dujinis – Dujų gamyklos dujos"},{"$f":"Translations!$B$1001","v":"Dujinis – Koksavimo dujos"},{"$f":"Translations!$B$1002","v":"Dujinis – Aukštakrosnių dujos"},{"$f":"Translations!$B$1003","v":"Dujinis – Deguoninių plieno aukštakrosnių dujos"},{"$f":"Translations!$B$1004","v":"Dujinis – Biodujos"},{"$f":"Translations!$B$1005","v":"Dujinis – Dumblo dujos"},{"$f":"Translations!$B$1006","v":"Dujinis – Sąvartynų dujos"},{"$f":"Translations!$B$1007","v":"Dujinis – Anglies monoksidas"},{"$f":"Translations!$B$1008","v":"Dujinis – Metanas"},{"$f":"Translations!$B$988","v":"Dujinis – Etanas"},{"$f":"Translations!$B$989","v":"Dujinis – Propanas"},{"$f":"Translations!$B$990","v":"Dujinis – Butanas"},{"$f":"Translations!$B$1009","v":"Dujinis – Kitų rūšių dujinis kuras"},{"$f":"Translations!$B$1010","v":"Dujinis – Kitų rūšių dujinė biomasė"},{"$f":"Translations!$B$991","v":"Skystasis – Dyzelinis krosnių kuras"},{"$f":"Translations!$B$1011","v":"Skystasis – Labai lengvos distiliacijos kuras"},{"$f":"Translations!$B$1012","v":"Skystasis – Vidutinės distiliacijos kuras"},{"$f":"Translations!$B$1013","v":"Skystasis – Sunkusis mazutas"},{"$f":"Translations!$B$992","v":"Skystasis – Gazolis"},{"$f":"Translations!$B$993","v":"Skystasis – Gazolinas"},{"$f":"Translations!$B$994","v":"Skystasis – Valytas žibalas"},{"$f":"Translations!$B$995","v":"Skystasis – Žibalas"},{"$f":"Translations!$B$996","v":"Skystasis – Reaktyvinis žibalas (Jet A1 arba Jet A)"},{"$f":"Translations!$B$997","v":"Skystasis – Reaktyvinis gazolinas (benzinas) (Jet B)"},{"$f":"Translations!$B$998","v":"Skystasis – Aviacinis gazolinas (benzinas) (AvGas)"},{"$f":"Translations!$B$1014","v":"Skystasis – Suskystintosios naftos dujos"},{"$f":"Translations!$B$1016","v":"Skystasis – Orimulsija"},{"$f":"Translations!$B$1017","v":"Skystasis – Gamtinių dujų kondensatai"},{"$f":"Translations!$B$1018","v":"Skystasis – Automobilinis benzinas"},{"$f":"Translations!$B$1020","v":"Skystasis – Dujos ir (arba) dyzelinas"},{"$f":"Translations!$B$1021","v":"Skystasis – Mazuto distiliavimo likutis"},{"$f":"Translations!$B$1022","v":"Skystasis – Pirminis benzinas"},{"$f":"Translations!$B$1023","v":"Skystasis – Tepalai"},{"$f":"Translations!$B$1024","v":"Skystasis – Vaitspiritas ir SBP"},{"$f":"Translations!$B$1025","v":"Skystasis – Skalūnų alyva ir gudoniniai smėliai"},{"$f":"Translations!$B$1026","v":"Skystasis – Akmens anglių briketai"},{"$f":"Translations!$B$1027","v":"Skystasis – Alyvų atliekos"},{"$f":"Translations!$B$1028","v":"Skystasis – Biobenzinas"},{"$f":"Translations!$B$1029","v":"Skystasi – Biodyzelinas"},{"$f":"Translations!$B$1030","v":"Skystasis – Bitumas"},{"$f":"Translations!$B$1032","v":"Skystasis – Kitų rūšių skystasis kuras"},{"$f":"Translations!$B$1033","v":"Skystasis – Kitų rūšių skystoji biomasė"},{"$f":"Translations!$B$1040","v":"Kietasis – Koksas"},{"$f":"Translations!$B$1041","v":"Kietasis – Naftos koksas"},{"$f":"Translations!$B$1042","v":"Kietasis – Akmens anglys"},{"$f":"Translations!$B$1043","v":"Kietasis – Lignitas"},{"$f":"Translations!$B$1044","v":"Kietasis – Antracitas"},{"$f":"Translations!$B$1045","v":"Kietasis – Koksinės anglys"},{"$f":"Translations!$B$1046","v":"Kietasis – Subbituminės akmens anglys"},{"$f":"Translations!$B$1047","v":"Kietasis – Kitos bituminės akmens anglys"},{"$f":"Translations!$B$1048","v":"Kietasis – Dujinis koksas"},{"$f":"Translations!$B$1049","v":"Kietasis – Parafinas"},{"$f":"Translations!$B$1050","v":"Kietasis – Sulfatinės išviros"},{"$f":"Translations!$B$1051","v":"Kietasis – Malkos"},{"$f":"Translations!$B$1052","v":"Kietasis – Mediena (ne atliekos)"},{"$f":"Translations!$B$1053","v":"Kietasis – Mediena (atliekos)"},{"$f":"Translations!$B$1054","v":"Kietasis – Durpės"},{"$f":"Translations!$B$1055","v":"Kietasis – Kanalizacijos dumblas"},{"$f":"Translations!$B$1056","v":"Kietasis – Komunalinių nuotekų dumblas"},{"$f":"Translations!$B$1057","v":"Kietasis – Akmens anglių degutas"},{"$f":"Translations!$B$1058","v":"Kietasis – Medžio anglys"},{"$f":"Translations!$B$1059","v":"Kietasis – Panaudos padangos"},{"$f":"Translations!$B$1060","v":"Kietasis – Kitų rūšių kietasis kuras"},{"$f":"Translations!$B$1061","v":"Kietasis – Kitų rūšių kietoji biomasė"},{"$f":"Translations!$B$1034","v":"Atliekos – Komunalinės ir pramoninės atliekos"},{"$f":"Translations!$B$1035","v":"Atliekos – Pramoninės atliekos"},{"$f":"Translations!$B$157","v":"netaik."},{"$f":"Translations!$B$157","v":"netaik."},{"$f":"Translations!$B$157","v":"netaik."},{"$f":"Translations!$B$157","v":"netaik."},{"$f":"Translations!$B$157","v":"netaik."},{"$f":"Translations!$B$157","v":"netaik."},{"$f":"Translations!$B$157","v":"netaik."},{"$f":"Translations!$B$157","v":"netaik."},{"$f":"Translations!$B$157","v":"netaik."},{"$f":"Translations!$B$157","v":"netaik."},{"$f":"Translations!$B$157","v":"netaik."},{"$f":"Translations!$B$157","v":"netaik."},{"$f":"Translations!$B$157","v":"netaik."},{"$f":"Translations!$B$157","v":"netaik."}]
[33,"Amoniakas: Kuras kaip proceso žaliava",null,null,"MSParameters!$G$50:$BX$50",null,{"$f":"Translations!$B$999","v":"Dujinis – Gamtinės dujos"},{"$f":"Translations!$B$1000","v":"Dujinis – Dujų gamyklos dujos"},{"$f":"Translations!$B$1001","v":"Dujinis – Koksavimo dujos"},{"$f":"Translations!$B$1002","v":"Dujinis – Aukštakrosnių dujos"},{"$f":"Translations!$B$1003","v":"Dujinis – Deguoninių plieno aukštakrosnių dujos"},{"$f":"Translations!$B$1004","v":"Dujinis – Biodujos"},{"$f":"Translations!$B$1005","v":"Dujinis – Dumblo dujos"},{"$f":"Translations!$B$1006","v":"Dujinis – Sąvartynų dujos"},{"$f":"Translations!$B$1007","v":"Dujinis – Anglies monoksidas"},{"$f":"Translations!$B$1008","v":"Dujinis – Metanas"},{"$f":"Translations!$B$988","v":"Dujinis – Etanas"},{"$f":"Translations!$B$989","v":"Dujinis – Propanas"},{"$f":"Translations!$B$990","v":"Dujinis – Butanas"},{"$f":"Translations!$B$1009","v":"Dujinis – Kitų rūšių dujinis kuras"},{"$f":"Translations!$B$1010","v":"Dujinis – Kitų rūšių dujinė biomasė"},{"$f":"Translations!$B$991","v":"Skystasis – Dyzelinis krosnių kuras"},{"$f":"Translations!$B$1011","v":"Skystasis – Labai lengvos distiliacijos kuras"},{"$f":"Translations!$B$1012","v":"Skystasis – Vidutinės distiliacijos kuras"},{"$f":"Translations!$B$1013","v":"Skystasis – Sunkusis mazutas"},{"$f":"Translations!$B$992","v":"Skystasis – Gazolis"},{"$f":"Translations!$B$993","v":"Skystasis – Gazolinas"},{"$f":"Translations!$B$994","v":"Skystasis – Valytas žibalas"},{"$f":"Translations!$B$995","v":"Skystasis – Žibalas"},{"$f":"Translations!$B$996","v":"Skystasis – Reaktyvinis žibalas (Jet A1 arba Jet A)"},{"$f":"Translations!$B$997","v":"Skystasis – Reaktyvinis gazolinas (benzinas) (Jet B)"},{"$f":"Translations!$B$998","v":"Skystasis – Aviacinis gazolinas (benzinas) (AvGas)"},{"$f":"Translations!$B$1014","v":"Skystasis – Suskystintosios naftos dujos"},{"$f":"Translations!$B$1015","v":"Skystasis – Žalia nafta"},{"$f":"Translations!$B$1016","v":"Skystasis – Orimulsija"},{"$f":"Translations!$B$1017","v":"Skystasis – Gamtinių dujų kondensatai"},{"$f":"Translations!$B$1018","v":"Skystasis – Automobilinis benzinas"},{"$f":"Translations!$B$1019","v":"Skystasis – Skalūnų alyva"},{"$f":"Translations!$B$1020","v":"Skystasis – Dujos ir (arba) dyzelinas"},{"$f":"Translations!$B$1021","v":"Skystasis – Mazuto distiliavimo likutis"},{"$f":"Translations!$B$1022","v":"Skystasis – Pirminis benzinas"},{"$f":"Translations!$B$1023","v":"Skystasis – Tepalai"},{"$f":"Translations!$B$1024","v":"Skystasis – Vaitspiritas ir SBP"},{"$f":"Translations!$B$1025","v":"Skystasis – Skalūnų alyva ir gudoniniai smėliai"},{"$f":"Translations!$B$1026","v":"Skystasis – Akmens anglių briketai"},{"$f":"Translations!$B$1027","v":"Skystasis – Alyvų atliekos"},{"$f":"Translations!$B$1028","v":"Skystasis – Biobenzinas"},{"$f":"Translations!$B$1029","v":"Skystasi – Biodyzelinas"},{"$f":"Translations!$B$1030","v":"Skystasis – Bitumas"},{"$f":"Translations!$B$1032","v":"Skystasis – Kitų rūšių skystasis kuras"},{"$f":"Translations!$B$1033","v":"Skystasis – Kitų rūšių skystoji biomasė"},{"$f":"Translations!$B$1040","v":"Kietasis – Koksas"},{"$f":"Translations!$B$1041","v":"Kietasis – Naftos koksas"},{"$f":"Translations!$B$1042","v":"Kietasis – Akmens anglys"},{"$f":"Translations!$B$1043","v":"Kietasis – Lignitas"},{"$f":"Translations!$B$1044","v":"Kietasis – Antracitas"},{"$f":"Translations!$B$1045","v":"Kietasis – Koksinės anglys"},{"$f":"Translations!$B$1046","v":"Kietasis – Subbituminės akmens anglys"},{"$f":"Translations!$B$1047","v":"Kietasis – Kitos bituminės akmens anglys"},{"$f":"Translations!$B$1048","v":"Kietasis – Dujinis koksas"},{"$f":"Translations!$B$1049","v":"Kietasis – Parafinas"},{"$f":"Translations!$B$1050","v":"Kietasis – Sulfatinės išviros"},{"$f":"Translations!$B$1051","v":"Kietasis – Malkos"},{"$f":"Translations!$B$1052","v":"Kietasis – Mediena (ne atliekos)"},{"$f":"Translations!$B$1053","v":"Kietasis – Mediena (atliekos)"},{"$f":"Translations!$B$1054","v":"Kietasis – Durpės"},{"$f":"Translations!$B$1055","v":"Kietasis – Kanalizacijos dumblas"},{"$f":"Translations!$B$1056","v":"Kietasis – Komunalinių nuotekų dumblas"},{"$f":"Translations!$B$1057","v":"Kietasis – Akmens anglių degutas"},{"$f":"Translations!$B$1058","v":"Kietasis – Medžio anglys"},{"$f":"Translations!$B$1059","v":"Kietasis – Panaudos padangos"},{"$f":"Translations!$B$1060","v":"Kietasis – Kitų rūšių kietasis kuras"},{"$f":"Translations!$B$1061","v":"Kietasis – Kitų rūšių kietoji biomasė"},{"$f":"Translations!$B$1034","v":"Atliekos – Komunalinės ir pramoninės atliekos"},{"$f":"Translations!$B$1035","v":"Atliekos – Pramoninės atliekos"},{"$f":"Translations!$B$1036","v":"Naftos perdirbimo įmonių žaliava – Naftos perdirbimo įmonių dujos"},{"$f":"Translations!$B$157","v":"netaik."},{"$f":"Translations!$B$157","v":"netaik."},{"$f":"Translations!$B$157","v":"netaik."},{"$f":"Translations!$B$157","v":"netaik."},{"$f":"Translations!$B$157","v":"netaik."},{"$f":"Translations!$B$157","v":"netaik."},{"$f":"Translations!$B$157","v":"netaik."},{"$f":"Translations!$B$157","v":"netaik."},{"$f":"Translations!$B$157","v":"netaik."},{"$f":"Translations!$B$157","v":"netaik."},{"$f":"Translations!$B$157","v":"netaik."},{"$f":"Translations!$B$157","v":"netaik."},{"$f":"Translations!$B$157","v":"netaik."},{"$f":"Translations!$B$157","v":"netaik."},{"$f":"Translations!$B$157","v":"netaik."},{"$f":"Translations!$B$157","v":"netaik."},{"$f":"Translations!$B$157","v":"netaik."},{"$f":"Translations!$B$157","v":"netaik."},{"$f":"Translations!$B$157","v":"netaik."},{"$f":"Translations!$B$157","v":"netaik."},{"$f":"Translations!$B$157","v":"netaik."},{"$f":"Translations!$B$157","v":"netaik."},{"$f":"Translations!$B$157","v":"netaik."},{"$f":"Translations!$B$157","v":"netaik."},{"$f":"Translations!$B$157","v":"netaik."},{"$f":"Translations!$B$157","v":"netaik."},{"$f":"Translations!$B$157","v":"netaik."},{"$f":"Translations!$B$157","v":"netaik."},{"$f":"Translations!$B$157","v":"netaik."},{"$f":"Translations!$B$157","v":"netaik."}]
[34,"Vandenilis ir sintezės dujos: Kuras kaip proceso žaliava",null,null,"MSParameters!$G$51:$BX$51",null,{"$f":"Translations!$B$999","v":"Dujinis – Gamtinės dujos"},{"$f":"Translations!$B$1000","v":"Dujinis – Dujų gamyklos dujos"},{"$f":"Translations!$B$1001","v":"Dujinis – Koksavimo dujos"},{"$f":"Translations!$B$1002","v":"Dujinis – Aukštakrosnių dujos"},{"$f":"Translations!$B$1003","v":"Dujinis – Deguoninių plieno aukštakrosnių dujos"},{"$f":"Translations!$B$1004","v":"Dujinis – Biodujos"},{"$f":"Translations!$B$1005","v":"Dujinis – Dumblo dujos"},{"$f":"Translations!$B$1006","v":"Dujinis – Sąvartynų dujos"},{"$f":"Translations!$B$1007","v":"Dujinis – Anglies monoksidas"},{"$f":"Translations!$B$1008","v":"Dujinis – Metanas"},{"$f":"Translations!$B$988","v":"Dujinis – Etanas"},{"$f":"Translations!$B$989","v":"Dujinis – Propanas"},{"$f":"Translations!$B$990","v":"Dujinis – Butanas"},{"$f":"Translations!$B$1009","v":"Dujinis – Kitų rūšių dujinis kuras"},{"$f":"Translations!$B$1010","v":"Dujinis – Kitų rūšių dujinė biomasė"},{"$f":"Translations!$B$991","v":"Skystasis – Dyzelinis krosnių kuras"},{"$f":"Translations!$B$1011","v":"Skystasis – Labai lengvos distiliacijos kuras"},{"$f":"Translations!$B$1012","v":"Skystasis – Vidutinės distiliacijos kuras"},{"$f":"Translations!$B$1013","v":"Skystasis – Sunkusis mazutas"},{"$f":"Translations!$B$992","v":"Skystasis – Gazolis"},{"$f":"Translations!$B$993","v":"Skystasis – Gazolinas"},{"$f":"Translations!$B$994","v":"Skystasis – Valytas žibalas"},{"$f":"Translations!$B$995","v":"Skystasis – Žibalas"},{"$f":"Translations!$B$996","v":"Skystasis – Reaktyvinis žibalas (Jet A1 arba Jet A)"},{"$f":"Translations!$B$997","v":"Skystasis – Reaktyvinis gazolinas (benzinas) (Jet B)"},{"$f":"Translations!$B$998","v":"Skystasis – Aviacinis gazolinas (benzinas) (AvGas)"},{"$f":"Translations!$B$1014","v":"Skystasis – Suskystintosios naftos dujos"},{"$f":"Translations!$B$1015","v":"Skystasis – Žalia nafta"},{"$f":"Translations!$B$1016","v":"Skystasis – Orimulsija"},{"$f":"Translations!$B$1017","v":"Skystasis – Gamtinių dujų kondensatai"},{"$f":"Translations!$B$1018","v":"Skystasis – Automobilinis benzinas"},{"$f":"Translations!$B$1019","v":"Skystasis – Skalūnų alyva"},{"$f":"Translations!$B$1020","v":"Skystasis – Dujos ir (arba) dyzelinas"},{"$f":"Translations!$B$1021","v":"Skystasis – Mazuto distiliavimo likutis"},{"$f":"Translations!$B$1022","v":"Skystasis – Pirminis benzinas"},{"$f":"Translations!$B$1023","v":"Skystasis – Tepalai"},{"$f":"Translations!$B$1024","v":"Skystasis – Vaitspiritas ir SBP"},{"$f":"Translations!$B$1025","v":"Skystasis – Skalūnų alyva ir gudoniniai smėliai"},{"$f":"Translations!$B$1026","v":"Skystasis – Akmens anglių briketai"},{"$f":"Translations!$B$1027","v":"Skystasis – Alyvų atliekos"},{"$f":"Translations!$B$1028","v":"Skystasis – Biobenzinas"},{"$f":"Translations!$B$1029","v":"Skystasi – Biodyzelinas"},{"$f":"Translations!$B$1030","v":"Skystasis – Bitumas"},{"$f":"Translations!$B$1032","v":"Skystasis – Kitų rūšių skystasis kuras"},{"$f":"Translations!$B$1033","v":"Skystasis – Kitų rūšių skystoji biomasė"},{"$f":"Translations!$B$1040","v":"Kietasis – Koksas"},{"$f":"Translations!$B$1041","v":"Kietasis – Naftos koksas"},{"$f":"Translations!$B$1042","v":"Kietasis – Akmens anglys"},{"$f":"Translations!$B$1043","v":"Kietasis – Lignitas"},{"$f":"Translations!$B$1044","v":"Kietasis – Antracitas"},{"$f":"Translations!$B$1045","v":"Kietasis – Koksinės anglys"},{"$f":"Translations!$B$1046","v":"Kietasis – Subbituminės akmens anglys"},{"$f":"Translations!$B$1047","v":"Kietasis – Kitos bituminės akmens anglys"},{"$f":"Translations!$B$1048","v":"Kietasis – Dujinis koksas"},{"$f":"Translations!$B$1049","v":"Kietasis – Parafinas"},{"$f":"Translations!$B$1050","v":"Kietasis – Sulfatinės išviros"},{"$f":"Translations!$B$1051","v":"Kietasis – Malkos"},{"$f":"Translations!$B$1052","v":"Kietasis – Mediena (ne atliekos)"},{"$f":"Translations!$B$1053","v":"Kietasis – Mediena (atliekos)"},{"$f":"Translations!$B$1054","v":"Kietasis – Durpės"},{"$f":"Translations!$B$1055","v":"Kietasis – Kanalizacijos dumblas"},{"$f":"Translations!$B$1056","v":"Kietasis – Komunalinių nuotekų dumblas"},{"$f":"Translations!$B$1057","v":"Kietasis – Akmens anglių degutas"},{"$f":"Translations!$B$1058","v":"Kietasis – Medžio anglys"},{"$f":"Translations!$B$1059","v":"Kietasis – Panaudos padangos"},{"$f":"Translations!$B$1060","v":"Kietasis – Kitų rūšių kietasis kuras"},{"$f":"Translations!$B$1061","v":"Kietasis – Kitų rūšių kietoji biomasė"},{"$f":"Translations!$B$1034","v":"Atliekos – Komunalinės ir pramoninės atliekos"},{"$f":"Translations!$B$1035","v":"Atliekos – Pramoninės atliekos"},{"$f":"Translations!$B$1036","v":"Naftos perdirbimo įmonių žaliava – Naftos perdirbimo įmonių dujos"},{"$f":"Translations!$B$157","v":"netaik."},{"$f":"Translations!$B$157","v":"netaik."},{"$f":"Translations!$B$157","v":"netaik."},{"$f":"Translations!$B$157","v":"netaik."},{"$f":"Translations!$B$157","v":"netaik."},{"$f":"Translations!$B$157","v":"netaik."},{"$f":"Translations!$B$157","v":"netaik."},{"$f":"Translations!$B$157","v":"netaik."},{"$f":"Translations!$B$157","v":"netaik."},{"$f":"Translations!$B$157","v":"netaik."},{"$f":"Translations!$B$157","v":"netaik."},{"$f":"Translations!$B$157","v":"netaik."},{"$f":"Translations!$B$157","v":"netaik."},{"$f":"Translations!$B$157","v":"netaik."},{"$f":"Translations!$B$157","v":"netaik."},{"$f":"Translations!$B$157","v":"netaik."},{"$f":"Translations!$B$157","v":"netaik."},{"$f":"Translations!$B$157","v":"netaik."},{"$f":"Translations!$B$157","v":"netaik."},{"$f":"Translations!$B$157","v":"netaik."},{"$f":"Translations!$B$157","v":"netaik."},{"$f":"Translations!$B$157","v":"netaik."},{"$f":"Translations!$B$157","v":"netaik."},{"$f":"Translations!$B$157","v":"netaik."},{"$f":"Translations!$B$157","v":"netaik."},{"$f":"Translations!$B$157","v":"netaik."},{"$f":"Translations!$B$157","v":"netaik."},{"$f":"Translations!$B$157","v":"netaik."},{"$f":"Translations!$B$157","v":"netaik."},{"$f":"Translations!$B$157","v":"netaik."}]
[35,"Vandenilis ir sintezės dujos: Masės balanso metodika",null,null,"MSParameters!$G$52:$CP$52",null,{"$f":"Translations!$B$1065","v":"Medžiaga – Kalkakmenis"},{"$f":"Translations!$B$1066","v":"Medžiaga – Dolomitas"},{"$f":"Translations!$B$1067","v":"Medžiaga – Natrio vandenilio karbonatas"},{"$f":"Translations!$B$1068","v":"Medžiaga – Natrio karbonatas"},{"$f":"Translations!$B$1069","v":"Medžiaga – Kalio karbonatas (potašas)"},{"$f":"Translations!$B$1070","v":"Medžiaga – CaCO3"},{"$f":"Translations!$B$1071","v":"Medžiaga – MgCO3"},{"$f":"Translations!$B$1072","v":"Medžiaga – Na2CO3"},{"$f":"Translations!$B$1073","v":"Medžiaga – BaCO3"},{"$f":"Translations!$B$1074","v":"Medžiaga – Li2CO3"},{"$f":"Translations!$B$1075","v":"Medžiaga – K2CO3"},{"$f":"Translations!$B$1076","v":"Medžiaga – SrCO3"},{"$f":"Translations!$B$1077","v":"Medžiaga – NaHCO3"},{"$f":"Translations!$B$1078","v":"Medžiaga – FeCO3"},{"$f":"Translations!$B$1082","v":"Medžiaga – CaO"},{"$f":"Translations!$B$1083","v":"Medžiaga – MgO"},{"$f":"Translations!$B$1084","v":"Medžiaga – BaO"},{"$f":"Translations!$B$1079","v":"Medžiaga – Kiti karbonatai"},{"$f":"Translations!$B$1064","v":"Medžiaga – Kitos medžiagos"},{"$f":"Translations!$B$999","v":"Dujinis – Gamtinės dujos"},{"$f":"Translations!$B$1000","v":"Dujinis – Dujų gamyklos dujos"},{"$f":"Translations!$B$1001","v":"Dujinis – Koksavimo dujos"},{"$f":"Translations!$B$1002","v":"Dujinis – Aukštakrosnių dujos"},{"$f":"Translations!$B$1003","v":"Dujinis – Deguoninių plieno aukštakrosnių dujos"},{"$f":"Translations!$B$1004","v":"Dujinis – Biodujos"},{"$f":"Translations!$B$1005","v":"Dujinis – Dumblo dujos"},{"$f":"Translations!$B$1006","v":"Dujinis – Sąvartynų dujos"},{"$f":"Translations!$B$1007","v":"Dujinis – Anglies monoksidas"},{"$f":"Translations!$B$1008","v":"Dujinis – Metanas"},{"$f":"Translations!$B$988","v":"Dujinis – Etanas"},{"$f":"Translations!$B$989","v":"Dujinis – Propanas"},{"$f":"Translations!$B$990","v":"Dujinis – Butanas"},{"$f":"Translations!$B$1009","v":"Dujinis – Kitų rūšių dujinis kuras"},{"$f":"Translations!$B$1010","v":"Dujinis – Kitų rūšių dujinė biomasė"},{"$f":"Translations!$B$991","v":"Skystasis – Dyzelinis krosnių kuras"},{"$f":"Translations!$B$1011","v":"Skystasis – Labai lengvos distiliacijos kuras"},{"$f":"Translations!$B$1012","v":"Skystasis – Vidutinės distiliacijos kuras"},{"$f":"Translations!$B$1013","v":"Skystasis – Sunkusis mazutas"},{"$f":"Translations!$B$992","v":"Skystasis – Gazolis"},{"$f":"Translations!$B$993","v":"Skystasis – Gazolinas"},{"$f":"Translations!$B$994","v":"Skystasis – Valytas žibalas"},{"$f":"Translations!$B$995","v":"Skystasis – Žibalas"},{"$f":"Translations!$B$996","v":"Skystasis – Reaktyvinis žibalas (Jet A1 arba Jet A)"},{"$f":"Translations!$B$997","v":"Skystasis – Reaktyvinis gazolinas (benzinas) (Jet B)"},{"$f":"Translations!$B$998","v":"Skystasis – Aviacinis gazolinas (benzinas) (AvGas)"},{"$f":"Translations!$B$1014","v":"Skystasis – Suskystintosios naftos dujos"},{"$f":"Translations!$B$1015","v":"Skystasis – Žalia nafta"},{"$f":"Translations!$B$1016","v":"Skystasis – Orimulsija"},{"$f":"Translations!$B$1017","v":"Skystasis – Gamtinių dujų kondensatai"},{"$f":"Translations!$B$1018","v":"Skystasis – Automobilinis benzinas"},{"$f":"Translations!$B$1019","v":"Skystasis – Skalūnų alyva"},{"$f":"Translations!$B$1020","v":"Skystasis – Dujos ir (arba) dyzelinas"},{"$f":"Translations!$B$1021","v":"Skystasis – Mazuto distiliavimo likutis"},{"$f":"Translations!$B$1022","v":"Skystasis – Pirminis benzinas"},{"$f":"Translations!$B$1023","v":"Skystasis – Tepalai"},{"$f":"Translations!$B$1024","v":"Skystasis – Vaitspiritas ir SBP"},{"$f":"Translations!$B$1025","v":"Skystasis – Skalūnų alyva ir gudoniniai smėliai"},{"$f":"Translations!$B$1026","v":"Skystasis – Akmens anglių briketai"},{"$f":"Translations!$B$1027","v":"Skystasis – Alyvų atliekos"},{"$f":"Translations!$B$1028","v":"Skystasis – Biobenzinas"},{"$f":"Translations!$B$1029","v":"Skystasi – Biodyzelinas"},{"$f":"Translations!$B$1030","v":"Skystasis – Bitumas"},{"$f":"Translations!$B$1032","v":"Skystasis – Kitų rūšių skystasis kuras"},{"$f":"Translations!$B$1033","v":"Skystasis – Kitų rūšių skystoji biomasė"},{"$f":"Translations!$B$1040","v":"Kietasis – Koksas"},{"$f":"Translations!$B$1041","v":"Kietasis – Naftos koksas"},{"$f":"Translations!$B$1042","v":"Kietasis – Akmens anglys"},{"$f":"Translations!$B$1043","v":"Kietasis – Lignitas"},{"$f":"Translations!$B$1044","v":"Kietasis – Antracitas"},{"$f":"Translations!$B$1045","v":"Kietasis – Koksinės anglys"},{"$f":"Translations!$B$1046","v":"Kietasis – Subbituminės akmens anglys"},{"$f":"Translations!$B$1047","v":"Kietasis – Kitos bituminės akmens anglys"},{"$f":"Translations!$B$1048","v":"Kietasis – Dujinis koksas"},{"$f":"Translations!$B$1049","v":"Kietasis – Parafinas"},{"$f":"Translations!$B$1050","v":"Kietasis – Sulfatinės išviros"},{"$f":"Translations!$B$1051","v":"Kietasis – Malkos"},{"$f":"Translations!$B$1052","v":"Kietasis – Mediena (ne atliekos)"},{"$f":"Translations!$B$1053","v":"Kietasis – Mediena (atliekos)"},{"$f":"Translations!$B$1054","v":"Kietasis – Durpės"},{"$f":"Translations!$B$1055","v":"Kietasis – Kanalizacijos dumblas"},{"$f":"Translations!$B$1056","v":"Kietasis – Komunalinių nuotekų dumblas"},{"$f":"Translations!$B$1057","v":"Kietasis – Akmens anglių degutas"},{"$f":"Translations!$B$1058","v":"Kietasis – Medžio anglys"},{"$f":"Translations!$B$1059","v":"Kietasis – Panaudos padangos"},{"$f":"Translations!$B$1060","v":"Kietasis – Kitų rūšių kietasis kuras"},{"$f":"Translations!$B$1061","v":"Kietasis – Kitų rūšių kietoji biomasė"},{"$f":"Translations!$B$1034","v":"Atliekos – Komunalinės ir pramoninės atliekos"},{"$f":"Translations!$B$1035","v":"Atliekos – Pramoninės atliekos"},{"$f":"Translations!$B$157","v":"netaik."},{"$f":"Translations!$B$157","v":"netaik."},{"$f":"Translations!$B$157","v":"netaik."},{"$f":"Translations!$B$157","v":"netaik."},{"$f":"Translations!$B$157","v":"netaik."},{"$f":"Translations!$B$157","v":"netaik."},{"$f":"Translations!$B$157","v":"netaik."},{"$f":"Translations!$B$157","v":"netaik."},{"$f":"Translations!$B$157","v":"netaik."},{"$f":"Translations!$B$157","v":"netaik."},{"$f":"Translations!$B$157","v":"netaik."},{"$f":"Translations!$B$157","v":"netaik."}]
[36,"Didelio masto organinių cheminių medžiagų gamyba: Masės balanso metodika",null,null,"MSParameters!$G$53:$AG$53",null,{"$f":"Translations!$B$1116","v":"Medžiaga – Acetonitrilas"},{"$f":"Translations!$B$1117","v":"Medžiaga – Akrilonitrilas"},{"$f":"Translations!$B$1118","v":"Medžiaga – Butadienas"},{"$f":"Translations!$B$1119","v":"Medžiaga – Suodžiai"},{"$f":"Translations!$B$1120","v":"Medžiaga – Etilenas"},{"$f":"Translations!$B$1121","v":"Medžiaga – Etileno dichloridas"},{"$f":"Translations!$B$1122","v":"Medžiaga – Etilenglikolis"},{"$f":"Translations!$B$1123","v":"Medžiaga – Oksiranas"},{"$f":"Translations!$B$1124","v":"Medžiaga – Vandenilio cianidas"},{"$f":"Translations!$B$1125","v":"Medžiaga – Metanolis"},{"$f":"Translations!$B$1126","v":"Medžiaga – Propilenas"},{"$f":"Translations!$B$1127","v":"Medžiaga – Vinilchlorido monomeras"},{"$f":"Translations!$B$1128","v":"Medžiaga – Maleino rūgšties anhidridas"},{"$f":"Translations!$B$1129","v":"Medžiaga – Ftalio rūgšties anhidridas"},{"$f":"Translations!$B$1130","v":"Medžiaga – Aromatiniai angliavandeniliai"},{"$f":"Translations!$B$1131","v":"Medžiaga – Tereftalio rūgštis"},{"$f":"Translations!$B$1132","v":"Medžiaga – Fenolis"},{"$f":"Translations!$B$1133","v":"Medžiaga – Acetonas"},{"$f":"Translations!$B$1134","v":"Medžiaga – Kumenas"},{"$f":"Translations!$B$1135","v":"Medžiaga – Skruzdžių rūgštis"},{"$f":"Translations!$B$1136","v":"Medžiaga – Acto rūgštis"},{"$f":"Translations!$B$1137","v":"Medžiaga – Formaldehidas"},{"$f":"Translations!$B$1138","v":"Medžiaga – Acto anhidridas"},{"$f":"Translations!$B$1139","v":"Medžiaga – Ftalio rūgštis"},{"$f":"Translations!$B$1140","v":"Medžiaga – Akrilo rūgštis"},{"$f":"Translations!$B$1062","v":"Medžiaga – Kitų rūšių žaliavos"},{"$f":"Translations!$B$1063","v":"Medžiaga – Kitų rūšių produktai"},{"$f":"Translations!$B$157","v":"netaik."},{"$f":"Translations!$B$157","v":"netaik."},{"$f":"Translations!$B$157","v":"netaik."},{"$f":"Translations!$B$157","v":"netaik."},{"$f":"Translations!$B$157","v":"netaik."},{"$f":"Translations!$B$157","v":"netaik."},{"$f":"Translations!$B$157","v":"netaik."},{"$f":"Translations!$B$157","v":"netaik."},{"$f":"Translations!$B$157","v":"netaik."},{"$f":"Translations!$B$157","v":"netaik."},{"$f":"Translations!$B$157","v":"netaik."},{"$f":"Translations!$B$157","v":"netaik."},{"$f":"Translations!$B$157","v":"netaik."},{"$f":"Translations!$B$157","v":"netaik."},{"$f":"Translations!$B$157","v":"netaik."},{"$f":"Translations!$B$157","v":"netaik."},{"$f":"Translations!$B$157","v":"netaik."},{"$f":"Translations!$B$157","v":"netaik."},{"$f":"Translations!$B$157","v":"netaik."},{"$f":"Translations!$B$157","v":"netaik."},{"$f":"Translations!$B$157","v":"netaik."},{"$f":"Translations!$B$157","v":"netaik."},{"$f":"Translations!$B$157","v":"netaik."},{"$f":"Translations!$B$157","v":"netaik."},{"$f":"Translations!$B$157","v":"netaik."},{"$f":"Translations!$B$157","v":"netaik."},{"$f":"Translations!$B$157","v":"netaik."},{"$f":"Translations!$B$157","v":"netaik."},{"$f":"Translations!$B$157","v":"netaik."},{"$f":"Translations!$B$157","v":"netaik."},{"$f":"Translations!$B$157","v":"netaik."},{"$f":"Translations!$B$157","v":"netaik."},{"$f":"Translations!$B$157","v":"netaik."},{"$f":"Translations!$B$157","v":"netaik."},{"$f":"Translations!$B$157","v":"netaik."},{"$f":"Translations!$B$157","v":"netaik."},{"$f":"Translations!$B$157","v":"netaik."},{"$f":"Translations!$B$157","v":"netaik."},{"$f":"Translations!$B$157","v":"netaik."},{"$f":"Translations!$B$157","v":"netaik."},{"$f":"Translations!$B$157","v":"netaik."},{"$f":"Translations!$B$157","v":"netaik."},{"$f":"Translations!$B$157","v":"netaik."},{"$f":"Translations!$B$157","v":"netaik."},{"$f":"Translations!$B$157","v":"netaik."},{"$f":"Translations!$B$157","v":"netaik."},{"$f":"Translations!$B$157","v":"netaik."},{"$f":"Translations!$B$157","v":"netaik."},{"$f":"Translations!$B$157","v":"netaik."},{"$f":"Translations!$B$157","v":"netaik."},{"$f":"Translations!$B$157","v":"netaik."},{"$f":"Translations!$B$157","v":"netaik."},{"$f":"Translations!$B$157","v":"netaik."},{"$f":"Translations!$B$157","v":"netaik."},{"$f":"Translations!$B$157","v":"netaik."},{"$f":"Translations!$B$157","v":"netaik."},{"$f":"Translations!$B$157","v":"netaik."},{"$f":"Translations!$B$157","v":"netaik."},{"$f":"Translations!$B$157","v":"netaik."},{"$f":"Translations!$B$157","v":"netaik."},{"$f":"Translations!$B$157","v":"netaik."},{"$f":"Translations!$B$157","v":"netaik."},{"$f":"Translations!$B$157","v":"netaik."},{"$f":"Translations!$B$157","v":"netaik."},{"$f":"Translations!$B$157","v":"netaik."},{"$f":"Translations!$B$157","v":"netaik."},{"$f":"Translations!$B$157","v":"netaik."},{"$f":"Translations!$B$157","v":"netaik."},{"$f":"Translations!$B$157","v":"netaik."},{"$f":"Translations!$B$157","v":"netaik."},{"$f":"Translations!$B$157","v":"netaik."},{"$f":"Translations!$B$157","v":"netaik."},{"$f":"Translations!$B$157","v":"netaik."}]
[37,"(Ne)spalvotieji, antrinis aliuminis: Proceso metu išsiskiriančios ŠESD",null,null,"MSParameters!$G$54:$CW$54",null,{"$f":"Translations!$B$1065","v":"Medžiaga – Kalkakmenis"},{"$f":"Translations!$B$1066","v":"Medžiaga – Dolomitas"},{"$f":"Translations!$B$1067","v":"Medžiaga – Natrio vandenilio karbonatas"},{"$f":"Translations!$B$1086","v":"Medžiaga – Rūdos"},{"$f":"Translations!$B$1087","v":"Medžiaga – Priedai"},{"$f":"Translations!$B$1088","v":"Medžiaga – Metalo laužas"},{"$f":"Translations!$B$1089","v":"Medžiaga – Geležies rūdos"},{"$f":"Translations!$B$1101","v":"Medžiaga – Lydžiosios sudedamosios dalys"},{"$f":"Translations!$B$1090","v":"Medžiaga – Aukštakrosnių šlakas"},{"$f":"Translations!$B$1091","v":"Medžiaga – Kitų rūšių šlakas"},{"$f":"Translations!$B$1108","v":"Medžiaga – Kitos medžiagos, kurių sudėtyje yra anglies"},{"$f":"Translations!$B$1068","v":"Medžiaga – Natrio karbonatas"},{"$f":"Translations!$B$1069","v":"Medžiaga – Kalio karbonatas (potašas)"},{"$f":"Translations!$B$1070","v":"Medžiaga – CaCO3"},{"$f":"Translations!$B$1071","v":"Medžiaga – MgCO3"},{"$f":"Translations!$B$1072","v":"Medžiaga – Na2CO3"},{"$f":"Translations!$B$1073","v":"Medžiaga – BaCO3"},{"$f":"Translations!$B$1074","v":"Medžiaga – Li2CO3"},{"$f":"Translations!$B$1075","v":"Medžiaga – K2CO3"},{"$f":"Translations!$B$1076","v":"Medžiaga – SrCO3"},{"$f":"Translations!$B$1077","v":"Medžiaga – NaHCO3"},{"$f":"Translations!$B$1078","v":"Medžiaga – FeCO3"},{"$f":"Translations!$B$1079","v":"Medžiaga – Kiti karbonatai"},{"$f":"Translations!$B$1092","v":"Medžiaga – Kitų rūšių reduktoriai"},{"$f":"Translations!$B$1064","v":"Medžiaga – Kitos medžiagos"},{"$f":"Translations!$B$999","v":"Dujinis – Gamtinės dujos"},{"$f":"Translations!$B$1000","v":"Dujinis – Dujų gamyklos dujos"},{"$f":"Translations!$B$1001","v":"Dujinis – Koksavimo dujos"},{"$f":"Translations!$B$1002","v":"Dujinis – Aukštakrosnių dujos"},{"$f":"Translations!$B$1003","v":"Dujinis – Deguoninių plieno aukštakrosnių dujos"},{"$f":"Translations!$B$1004","v":"Dujinis – Biodujos"},{"$f":"Translations!$B$1005","v":"Dujinis – Dumblo dujos"},{"$f":"Translations!$B$1006","v":"Dujinis – Sąvartynų dujos"},{"$f":"Translations!$B$1007","v":"Dujinis – Anglies monoksidas"},{"$f":"Translations!$B$1008","v":"Dujinis – Metanas"},{"$f":"Translations!$B$988","v":"Dujinis – Etanas"},{"$f":"Translations!$B$989","v":"Dujinis – Propanas"},{"$f":"Translations!$B$990","v":"Dujinis – Butanas"},{"$f":"Translations!$B$1009","v":"Dujinis – Kitų rūšių dujinis kuras"},{"$f":"Translations!$B$1010","v":"Dujinis – Kitų rūšių dujinė biomasė"},{"$f":"Translations!$B$991","v":"Skystasis – Dyzelinis krosnių kuras"},{"$f":"Translations!$B$1011","v":"Skystasis – Labai lengvos distiliacijos kuras"},{"$f":"Translations!$B$1012","v":"Skystasis – Vidutinės distiliacijos kuras"},{"$f":"Translations!$B$1013","v":"Skystasis – Sunkusis mazutas"},{"$f":"Translations!$B$992","v":"Skystasis – Gazolis"},{"$f":"Translations!$B$993","v":"Skystasis – Gazolinas"},{"$f":"Translations!$B$994","v":"Skystasis – Valytas žibalas"},{"$f":"Translations!$B$995","v":"Skystasis – Žibalas"},{"$f":"Translations!$B$996","v":"Skystasis – Reaktyvinis žibalas (Jet A1 arba Jet A)"},{"$f":"Translations!$B$997","v":"Skystasis – Reaktyvinis gazolinas (benzinas) (Jet B)"},{"$f":"Translations!$B$998","v":"Skystasis – Aviacinis gazolinas (benzinas) (AvGas)"},{"$f":"Translations!$B$1014","v":"Skystasis – Suskystintosios naftos dujos"},{"$f":"Translations!$B$1015","v":"Skystasis – Žalia nafta"},{"$f":"Translations!$B$1016","v":"Skystasis – Orimulsija"},{"$f":"Translations!$B$1017","v":"Skystasis – Gamtinių dujų kondensatai"},{"$f":"Translations!$B$1018","v":"Skystasis – Automobilinis benzinas"},{"$f":"Translations!$B$1019","v":"Skystasis – Skalūnų alyva"},{"$f":"Translations!$B$1020","v":"Skystasis – Dujos ir (arba) dyzelinas"},{"$f":"Translations!$B$1021","v":"Skystasis – Mazuto distiliavimo likutis"},{"$f":"Translations!$B$1022","v":"Skystasis – Pirminis benzinas"},{"$f":"Translations!$B$1023","v":"Skystasis – Tepalai"},{"$f":"Translations!$B$1024","v":"Skystasis – Vaitspiritas ir SBP"},{"$f":"Translations!$B$1025","v":"Skystasis – Skalūnų alyva ir gudoniniai smėliai"},{"$f":"Translations!$B$1026","v":"Skystasis – Akmens anglių briketai"},{"$f":"Translations!$B$1027","v":"Skystasis – Alyvų atliekos"},{"$f":"Translations!$B$1028","v":"Skystasis – Biobenzinas"},{"$f":"Translations!$B$1029","v":"Skystasi – Biodyzelinas"},{"$f":"Translations!$B$1030","v":"Skystasis – Bitumas"},{"$f":"Translations!$B$1032","v":"Skystasis – Kitų rūšių skystasis kuras"},{"$f":"Translations!$B$1033","v":"Skystasis – Kitų rūšių skystoji biomasė"},{"$f":"Translations!$B$1040","v":"Kietasis – Koksas"},{"$f":"Translations!$B$1041","v":"Kietasis – Naftos koksas"},{"$f":"Translations!$B$1042","v":"Kietasis – Akmens anglys"},{"$f":"Translations!$B$1043","v":"Kietasis – Lignitas"},{"$f":"Translations!$B$1044","v":"Kietasis – Antracitas"},{"$f":"Translations!$B$1045","v":"Kietasis – Koksinės anglys"},{"$f":"Translations!$B$1046","v":"Kietasis – Subbituminės akmens anglys"},{"$f":"Translations!$B$1047","v":"Kietasis – Kitos bituminės akmens anglys"},{"$f":"Translations!$B$1048","v":"Kietasis – Dujinis koksas"},{"$f":"Translations!$B$1049","v":"Kietasis – Parafinas"},{"$f":"Translations!$B$1050","v":"Kietasis – Sulfatinės išviros"},{"$f":"Translations!$B$1051","v":"Kietasis – Malkos"},{"$f":"Translations!$B$1052","v":"Kietasis – Mediena (ne atliekos)"},{"$f":"Translations!$B$1053","v":"Kietasis – Mediena (atliekos)"},{"$f":"Translations!$B$1054","v":"Kietasis – Durpės"},{"$f":"Translations!$B$1055","v":"Kietasis – Kanalizacijos dumblas"},{"$f":"Translations!$B$1056","v":"Kietasis – Komunalinių nuotekų dumblas"},{"$f":"Translations!$B$1057","v":"Kietasis – Akmens anglių degutas"},{"$f":"Translations!$B$1058","v":"Kietasis – Medžio anglys"},{"$f":"Translations!$B$1059","v":"Kietasis – Panaudos padangos"},{"$f":"Translations!$B$1060","v":"Kietasis – Kitų rūšių kietasis kuras"},{"$f":"Translations!$B$1061","v":"Kietasis – Kitų rūšių kietoji biomasė"},{"$f":"Translations!$B$1034","v":"Atliekos – Komunalinės ir pramoninės atliekos"},{"$f":"Translations!$B$1035","v":"Atliekos – Pramoninės atliekos"},{"$f":"Translations!$B$1036","v":"Naftos perdirbimo įmonių žaliava – Naftos perdirbimo įmonių dujos"},{"$f":"Translations!$B$157","v":"netaik."},{"$f":"Translations!$B$157","v":"netaik."},{"$f":"Translations!$B$157","v":"netaik."},{"$f":"Translations!$B$157","v":"netaik."},{"$f":"Translations!$B$157","v":"netaik."}]
[38,"(Ne)spalvotieji, antrinis aliuminis: Masės balanso metodika",null,null,"MSParameters!$G$55:$CU$55",null,{"$f":"Translations!$B$1065","v":"Medžiaga – Kalkakmenis"},{"$f":"Translations!$B$1066","v":"Medžiaga – Dolomitas"},{"$f":"Translations!$B$1067","v":"Medžiaga – Natrio vandenilio karbonatas"},{"$f":"Translations!$B$1086","v":"Medžiaga – Rūdos"},{"$f":"Translations!$B$1087","v":"Medžiaga – Priedai"},{"$f":"Translations!$B$1088","v":"Medžiaga – Metalo laužas"},{"$f":"Translations!$B$1089","v":"Medžiaga – Geležies rūdos"},{"$f":"Translations!$B$1101","v":"Medžiaga – Lydžiosios sudedamosios dalys"},{"$f":"Translations!$B$1090","v":"Medžiaga – Aukštakrosnių šlakas"},{"$f":"Translations!$B$1091","v":"Medžiaga – Kitų rūšių šlakas"},{"$f":"Translations!$B$1068","v":"Medžiaga – Natrio karbonatas"},{"$f":"Translations!$B$1069","v":"Medžiaga – Kalio karbonatas (potašas)"},{"$f":"Translations!$B$1070","v":"Medžiaga – CaCO3"},{"$f":"Translations!$B$1071","v":"Medžiaga – MgCO3"},{"$f":"Translations!$B$1072","v":"Medžiaga – Na2CO3"},{"$f":"Translations!$B$1073","v":"Medžiaga – BaCO3"},{"$f":"Translations!$B$1074","v":"Medžiaga – Li2CO3"},{"$f":"Translations!$B$1075","v":"Medžiaga – K2CO3"},{"$f":"Translations!$B$1076","v":"Medžiaga – SrCO3"},{"$f":"Translations!$B$1077","v":"Medžiaga – NaHCO3"},{"$f":"Translations!$B$1078","v":"Medžiaga – FeCO3"},{"$f":"Translations!$B$1082","v":"Medžiaga – CaO"},{"$f":"Translations!$B$1083","v":"Medžiaga – MgO"},{"$f":"Translations!$B$1084","v":"Medžiaga – BaO"},{"$f":"Translations!$B$1079","v":"Medžiaga – Kiti karbonatai"},{"$f":"Translations!$B$1092","v":"Medžiaga – Kitų rūšių reduktoriai"},{"$f":"Translations!$B$999","v":"Dujinis – Gamtinės dujos"},{"$f":"Translations!$B$1000","v":"Dujinis – Dujų gamyklos dujos"},{"$f":"Translations!$B$1001","v":"Dujinis – Koksavimo dujos"},{"$f":"Translations!$B$1002","v":"Dujinis – Aukštakrosnių dujos"},{"$f":"Translations!$B$1003","v":"Dujinis – Deguoninių plieno aukštakrosnių dujos"},{"$f":"Translations!$B$1004","v":"Dujinis – Biodujos"},{"$f":"Translations!$B$1005","v":"Dujinis – Dumblo dujos"},{"$f":"Translations!$B$1006","v":"Dujinis – Sąvartynų dujos"},{"$f":"Translations!$B$1007","v":"Dujinis – Anglies monoksidas"},{"$f":"Translations!$B$1008","v":"Dujinis – Metanas"},{"$f":"Translations!$B$988","v":"Dujinis – Etanas"},{"$f":"Translations!$B$989","v":"Dujinis – Propanas"},{"$f":"Translations!$B$990","v":"Dujinis – Butanas"},{"$f":"Translations!$B$1009","v":"Dujinis – Kitų rūšių dujinis kuras"},{"$f":"Translations!$B$1010","v":"Dujinis – Kitų rūšių dujinė biomasė"},{"$f":"Translations!$B$991","v":"Skystasis – Dyzelinis krosnių kuras"},{"$f":"Translations!$B$1011","v":"Skystasis – Labai lengvos distiliacijos kuras"},{"$f":"Translations!$B$1012","v":"Skystasis – Vidutinės distiliacijos kuras"},{"$f":"Translations!$B$1013","v":"Skystasis – Sunkusis mazutas"},{"$f":"Translations!$B$992","v":"Skystasis – Gazolis"},{"$f":"Translations!$B$993","v":"Skystasis – Gazolinas"},{"$f":"Translations!$B$994","v":"Skystasis – Valytas žibalas"},{"$f":"Translations!$B$995","v":"Skystasis – Žibalas"},{"$f":"Translations!$B$996","v":"Skystasis – Reaktyvinis žibalas (Jet A1 arba Jet A)"},{"$f":"Translations!$B$997","v":"Skystasis – Reaktyvinis gazolinas (benzinas) (Jet B)"},{"$f":"Translations!$B$998","v":"Skystasis – Aviacinis gazolinas (benzinas) (AvGas)"},{"$f":"Translations!$B$1014","v":"Skystasis – Suskystintosios naftos dujos"},{"$f":"Translations!$B$1016","v":"Skystasis – Orimulsija"},{"$f":"Translations!$B$1017","v":"Skystasis – Gamtinių dujų kondensatai"},{"$f":"Translations!$B$1018","v":"Skystasis – Automobilinis benzinas"},{"$f":"Translations!$B$1020","v":"Skystasis – Dujos ir (arba) dyzelinas"},{"$f":"Translations!$B$1021","v":"Skystasis – Mazuto distiliavimo likutis"},{"$f":"Translations!$B$1022","v":"Skystasis – Pirminis benzinas"},{"$f":"Translations!$B$1023","v":"Skystasis – Tepalai"},{"$f":"Translations!$B$1024","v":"Skystasis – Vaitspiritas ir SBP"},{"$f":"Translations!$B$1025","v":"Skystasis – Skalūnų alyva ir gudoniniai smėliai"},{"$f":"Translations!$B$1026","v":"Skystasis – Akmens anglių briketai"},{"$f":"Translations!$B$1027","v":"Skystasis – Alyvų atliekos"},{"$f":"Translations!$B$1028","v":"Skystasis – Biobenzinas"},{"$f":"Translations!$B$1029","v":"Skystasi – Biodyzelinas"},{"$f":"Translations!$B$1030","v":"Skystasis – Bitumas"},{"$f":"Translations!$B$1032","v":"Skystasis – Kitų rūšių skystasis kuras"},{"$f":"Translations!$B$1033","v":"Skystasis – Kitų rūšių skystoji biomasė"},{"$f":"Translations!$B$1040","v":"Kietasis – Koksas"},{"$f":"Translations!$B$1041","v":"Kietasis – Naftos koksas"},{"$f":"Translations!$B$1042","v":"Kietasis – Akmens anglys"},{"$f":"Translations!$B$1043","v":"Kietasis – Lignitas"},{"$f":"Translations!$B$1044","v":"Kietasis – Antracitas"},{"$f":"Translations!$B$1045","v":"Kietasis – Koksinės anglys"},{"$f":"Translations!$B$1046","v":"Kietasis – Subbituminės akmens anglys"},{"$f":"Translations!$B$1047","v":"Kietasis – Kitos bituminės akmens anglys"},{"$f":"Translations!$B$1048","v":"Kietasis – Dujinis koksas"},{"$f":"Translations!$B$1049","v":"Kietasis – Parafinas"},{"$f":"Translations!$B$1050","v":"Kietasis – Sulfatinės išviros"},{"$f":"Translations!$B$1051","v":"Kietasis – Malkos"},{"$f":"Translations!$B$1052","v":"Kietasis – Mediena (ne atliekos)"},{"$f":"Translations!$B$1053","v":"Kietasis – Mediena (atliekos)"},{"$f":"Translations!$B$1054","v":"Kietasis – Durpės"},{"$f":"Translations!$B$1055","v":"Kietasis – Kanalizacijos dumblas"},{"$f":"Translations!$B$1056","v":"Kietasis – Komunalinių nuotekų dumblas"},{"$f":"Translations!$B$1057","v":"Kietasis – Akmens anglių degutas"},{"$f":"Translations!$B$1058","v":"Kietasis – Medžio anglys"},{"$f":"Translations!$B$1059","v":"Kietasis – Panaudos padangos"},{"$f":"Translations!$B$1060","v":"Kietasis – Kitų rūšių kietasis kuras"},{"$f":"Translations!$B$1061","v":"Kietasis – Kitų rūšių kietoji biomasė"},{"$f":"Translations!$B$1034","v":"Atliekos – Komunalinės ir pramoninės atliekos"},{"$f":"Translations!$B$1035","v":"Atliekos – Pramoninės atliekos"},{"$f":"Translations!$B$157","v":"netaik."},{"$f":"Translations!$B$157","v":"netaik."},{"$f":"Translations!$B$157","v":"netaik."},{"$f":"Translations!$B$157","v":"netaik."},{"$f":"Translations!$B$157","v":"netaik."},{"$f":"Translations!$B$157","v":"netaik."},{"$f":"Translations!$B$157","v":"netaik."}]
[39,"Natrio karbonatas / natrio hidrokarbonatas: Masės balanso metodika",null,null,"MSParameters!$G$56:$CQ$56",null,{"$f":"Translations!$B$1065","v":"Medžiaga – Kalkakmenis"},{"$f":"Translations!$B$1066","v":"Medžiaga – Dolomitas"},{"$f":"Translations!$B$1067","v":"Medžiaga – Natrio vandenilio karbonatas"},{"$f":"Translations!$B$1108","v":"Medžiaga – Kitos medžiagos, kurių sudėtyje yra anglies"},{"$f":"Translations!$B$1068","v":"Medžiaga – Natrio karbonatas"},{"$f":"Translations!$B$1069","v":"Medžiaga – Kalio karbonatas (potašas)"},{"$f":"Translations!$B$1070","v":"Medžiaga – CaCO3"},{"$f":"Translations!$B$1071","v":"Medžiaga – MgCO3"},{"$f":"Translations!$B$1072","v":"Medžiaga – Na2CO3"},{"$f":"Translations!$B$1073","v":"Medžiaga – BaCO3"},{"$f":"Translations!$B$1074","v":"Medžiaga – Li2CO3"},{"$f":"Translations!$B$1075","v":"Medžiaga – K2CO3"},{"$f":"Translations!$B$1076","v":"Medžiaga – SrCO3"},{"$f":"Translations!$B$1077","v":"Medžiaga – NaHCO3"},{"$f":"Translations!$B$1078","v":"Medžiaga – FeCO3"},{"$f":"Translations!$B$1082","v":"Medžiaga – CaO"},{"$f":"Translations!$B$1083","v":"Medžiaga – MgO"},{"$f":"Translations!$B$1084","v":"Medžiaga – BaO"},{"$f":"Translations!$B$1079","v":"Medžiaga – Kiti karbonatai"},{"$f":"Translations!$B$1064","v":"Medžiaga – Kitos medžiagos"},{"$f":"Translations!$B$999","v":"Dujinis – Gamtinės dujos"},{"$f":"Translations!$B$1000","v":"Dujinis – Dujų gamyklos dujos"},{"$f":"Translations!$B$1001","v":"Dujinis – Koksavimo dujos"},{"$f":"Translations!$B$1002","v":"Dujinis – Aukštakrosnių dujos"},{"$f":"Translations!$B$1003","v":"Dujinis – Deguoninių plieno aukštakrosnių dujos"},{"$f":"Translations!$B$1004","v":"Dujinis – Biodujos"},{"$f":"Translations!$B$1005","v":"Dujinis – Dumblo dujos"},{"$f":"Translations!$B$1006","v":"Dujinis – Sąvartynų dujos"},{"$f":"Translations!$B$1007","v":"Dujinis – Anglies monoksidas"},{"$f":"Translations!$B$1008","v":"Dujinis – Metanas"},{"$f":"Translations!$B$988","v":"Dujinis – Etanas"},{"$f":"Translations!$B$989","v":"Dujinis – Propanas"},{"$f":"Translations!$B$990","v":"Dujinis – Butanas"},{"$f":"Translations!$B$1009","v":"Dujinis – Kitų rūšių dujinis kuras"},{"$f":"Translations!$B$1010","v":"Dujinis – Kitų rūšių dujinė biomasė"},{"$f":"Translations!$B$991","v":"Skystasis – Dyzelinis krosnių kuras"},{"$f":"Translations!$B$1011","v":"Skystasis – Labai lengvos distiliacijos kuras"},{"$f":"Translations!$B$1012","v":"Skystasis – Vidutinės distiliacijos kuras"},{"$f":"Translations!$B$1013","v":"Skystasis – Sunkusis mazutas"},{"$f":"Translations!$B$992","v":"Skystasis – Gazolis"},{"$f":"Translations!$B$993","v":"Skystasis – Gazolinas"},{"$f":"Translations!$B$994","v":"Skystasis – Valytas žibalas"},{"$f":"Translations!$B$995","v":"Skystasis – Žibalas"},{"$f":"Translations!$B$996","v":"Skystasis – Reaktyvinis žibalas (Jet A1 arba Jet A)"},{"$f":"Translations!$B$997","v":"Skystasis – Reaktyvinis gazolinas (benzinas) (Jet B)"},{"$f":"Translations!$B$998","v":"Skystasis – Aviacinis gazolinas (benzinas) (AvGas)"},{"$f":"Translations!$B$1014","v":"Skystasis – Suskystintosios naftos dujos"},{"$f":"Translations!$B$1015","v":"Skystasis – Žalia nafta"},{"$f":"Translations!$B$1016","v":"Skystasis – Orimulsija"},{"$f":"Translations!$B$1017","v":"Skystasis – Gamtinių dujų kondensatai"},{"$f":"Translations!$B$1018","v":"Skystasis – Automobilinis benzinas"},{"$f":"Translations!$B$1019","v":"Skystasis – Skalūnų alyva"},{"$f":"Translations!$B$1020","v":"Skystasis – Dujos ir (arba) dyzelinas"},{"$f":"Translations!$B$1021","v":"Skystasis – Mazuto distiliavimo likutis"},{"$f":"Translations!$B$1022","v":"Skystasis – Pirminis benzinas"},{"$f":"Translations!$B$1023","v":"Skystasis – Tepalai"},{"$f":"Translations!$B$1024","v":"Skystasis – Vaitspiritas ir SBP"},{"$f":"Translations!$B$1025","v":"Skystasis – Skalūnų alyva ir gudoniniai smėliai"},{"$f":"Translations!$B$1026","v":"Skystasis – Akmens anglių briketai"},{"$f":"Translations!$B$1027","v":"Skystasis – Alyvų atliekos"},{"$f":"Translations!$B$1028","v":"Skystasis – Biobenzinas"},{"$f":"Translations!$B$1029","v":"Skystasi – Biodyzelinas"},{"$f":"Translations!$B$1030","v":"Skystasis – Bitumas"},{"$f":"Translations!$B$1032","v":"Skystasis – Kitų rūšių skystasis kuras"},{"$f":"Translations!$B$1033","v":"Skystasis – Kitų rūšių skystoji biomasė"},{"$f":"Translations!$B$1040","v":"Kietasis – Koksas"},{"$f":"Translations!$B$1041","v":"Kietasis – Naftos koksas"},{"$f":"Translations!$B$1042","v":"Kietasis – Akmens anglys"},{"$f":"Translations!$B$1043","v":"Kietasis – Lignitas"},{"$f":"Translations!$B$1044","v":"Kietasis – Antracitas"},{"$f":"Translations!$B$1045","v":"Kietasis – Koksinės anglys"},{"$f":"Translations!$B$1046","v":"Kietasis – Subbituminės akmens anglys"},{"$f":"Translations!$B$1047","v":"Kietasis – Kitos bituminės akmens anglys"},{"$f":"Translations!$B$1048","v":"Kietasis – Dujinis koksas"},{"$f":"Translations!$B$1049","v":"Kietasis – Parafinas"},{"$f":"Translations!$B$1050","v":"Kietasis – Sulfatinės išviros"},{"$f":"Translations!$B$1051","v":"Kietasis – Malkos"},{"$f":"Translations!$B$1052","v":"Kietasis – Mediena (ne atliekos)"},{"$f":"Translations!$B$1053","v":"Kietasis – Mediena (atliekos)"},{"$f":"Translations!$B$1054","v":"Kietasis – Durpės"},{"$f":"Translations!$B$1055","v":"Kietasis – Kanalizacijos dumblas"},{"$f":"Translations!$B$1056","v":"Kietasis – Komunalinių nuotekų dumblas"},{"$f":"Translations!$B$1057","v":"Kietasis – Akmens anglių degutas"},{"$f":"Translations!$B$1058","v":"Kietasis – Medžio anglys"},{"$f":"Translations!$B$1059","v":"Kietasis – Panaudos padangos"},{"$f":"Translations!$B$1060","v":"Kietasis – Kitų rūšių kietasis kuras"},{"$f":"Translations!$B$1061","v":"Kietasis – Kitų rūšių kietoji biomasė"},{"$f":"Translations!$B$1034","v":"Atliekos – Komunalinės ir pramoninės atliekos"},{"$f":"Translations!$B$1035","v":"Atliekos – Pramoninės atliekos"},{"$f":"Translations!$B$157","v":"netaik."},{"$f":"Translations!$B$157","v":"netaik."},{"$f":"Translations!$B$157","v":"netaik."},{"$f":"Translations!$B$157","v":"netaik."},{"$f":"Translations!$B$157","v":"netaik."},{"$f":"Translations!$B$157","v":"netaik."},{"$f":"Translations!$B$157","v":"netaik."},{"$f":"Translations!$B$157","v":"netaik."},{"$f":"Translations!$B$157","v":"netaik."},{"$f":"Translations!$B$157","v":"netaik."},{"$f":"Translations!$B$157","v":"netaik."}]
[40,"Pirminis aliuminis: Masės balanso metodika",null,null,"MSParameters!$G$57:$N$57",null,{"$f":"Translations!$B$859","v":"Medžiaga – Tiekimas į vonių su termiškai apdorotais perforuotais anodais centrą (CWPB)"},{"$f":"Translations!$B$860","v":"Medžiaga – Sioderbergo vonia su vertikaliais strypais (VSS)"},{"$f":"Translations!$B$861","v":"Medžiaga – Tiekimas į vonių su termiškai apdorotais perforuotais anodais kraštą (SWPB)"},{"$f":"Translations!$B$862","v":"Medžiaga – Sioderbergo vonia su horizontaliais strypais (HSS)"},{"$f":"Translations!$B$1062","v":"Medžiaga – Kitų rūšių žaliavos"},{"$f":"Translations!$B$1063","v":"Medžiaga – Kitų rūšių produktai"},{"$f":"Translations!$B$1141","v":"Medžiaga – Kiti elektrodai"},{"$f":"Translations!$B$1064","v":"Medžiaga – Kitos medžiagos"},{"$f":"Translations!$B$157","v":"netaik."},{"$f":"Translations!$B$157","v":"netaik."},{"$f":"Translations!$B$157","v":"netaik."},{"$f":"Translations!$B$157","v":"netaik."},{"$f":"Translations!$B$157","v":"netaik."},{"$f":"Translations!$B$157","v":"netaik."},{"$f":"Translations!$B$157","v":"netaik."},{"$f":"Translations!$B$157","v":"netaik."},{"$f":"Translations!$B$157","v":"netaik."},{"$f":"Translations!$B$157","v":"netaik."},{"$f":"Translations!$B$157","v":"netaik."},{"$f":"Translations!$B$157","v":"netaik."},{"$f":"Translations!$B$157","v":"netaik."},{"$f":"Translations!$B$157","v":"netaik."},{"$f":"Translations!$B$157","v":"netaik."},{"$f":"Translations!$B$157","v":"netaik."},{"$f":"Translations!$B$157","v":"netaik."},{"$f":"Translations!$B$157","v":"netaik."},{"$f":"Translations!$B$157","v":"netaik."},{"$f":"Translations!$B$157","v":"netaik."},{"$f":"Translations!$B$157","v":"netaik."},{"$f":"Translations!$B$157","v":"netaik."},{"$f":"Translations!$B$157","v":"netaik."},{"$f":"Translations!$B$157","v":"netaik."},{"$f":"Translations!$B$157","v":"netaik."},{"$f":"Translations!$B$157","v":"netaik."},{"$f":"Translations!$B$157","v":"netaik."},{"$f":"Translations!$B$157","v":"netaik."},{"$f":"Translations!$B$157","v":"netaik."},{"$f":"Translations!$B$157","v":"netaik."},{"$f":"Translations!$B$157","v":"netaik."},{"$f":"Translations!$B$157","v":"netaik."},{"$f":"Translations!$B$157","v":"netaik."},{"$f":"Translations!$B$157","v":"netaik."},{"$f":"Translations!$B$157","v":"netaik."},{"$f":"Translations!$B$157","v":"netaik."},{"$f":"Translations!$B$157","v":"netaik."},{"$f":"Translations!$B$157","v":"netaik."},{"$f":"Translations!$B$157","v":"netaik."},{"$f":"Translations!$B$157","v":"netaik."},{"$f":"Translations!$B$157","v":"netaik."},{"$f":"Translations!$B$157","v":"netaik."},{"$f":"Translations!$B$157","v":"netaik."},{"$f":"Translations!$B$157","v":"netaik."},{"$f":"Translations!$B$157","v":"netaik."},{"$f":"Translations!$B$157","v":"netaik."},{"$f":"Translations!$B$157","v":"netaik."},{"$f":"Translations!$B$157","v":"netaik."},{"$f":"Translations!$B$157","v":"netaik."},{"$f":"Translations!$B$157","v":"netaik."},{"$f":"Translations!$B$157","v":"netaik."},{"$f":"Translations!$B$157","v":"netaik."},{"$f":"Translations!$B$157","v":"netaik."},{"$f":"Translations!$B$157","v":"netaik."},{"$f":"Translations!$B$157","v":"netaik."},{"$f":"Translations!$B$157","v":"netaik."},{"$f":"Translations!$B$157","v":"netaik."},{"$f":"Translations!$B$157","v":"netaik."},{"$f":"Translations!$B$157","v":"netaik."},{"$f":"Translations!$B$157","v":"netaik."},{"$f":"Translations!$B$157","v":"netaik."},{"$f":"Translations!$B$157","v":"netaik."},{"$f":"Translations!$B$157","v":"netaik."},{"$f":"Translations!$B$157","v":"netaik."},{"$f":"Translations!$B$157","v":"netaik."},{"$f":"Translations!$B$157","v":"netaik."},{"$f":"Translations!$B$157","v":"netaik."},{"$f":"Translations!$B$157","v":"netaik."},{"$f":"Translations!$B$157","v":"netaik."},{"$f":"Translations!$B$157","v":"netaik."},{"$f":"Translations!$B$157","v":"netaik."},{"$f":"Translations!$B$157","v":"netaik."},{"$f":"Translations!$B$157","v":"netaik."},{"$f":"Translations!$B$157","v":"netaik."},{"$f":"Translations!$B$157","v":"netaik."},{"$f":"Translations!$B$157","v":"netaik."},{"$f":"Translations!$B$157","v":"netaik."},{"$f":"Translations!$B$157","v":"netaik."},{"$f":"Translations!$B$157","v":"netaik."},{"$f":"Translations!$B$157","v":"netaik."},{"$f":"Translations!$B$157","v":"netaik."},{"$f":"Translations!$B$157","v":"netaik."},{"$f":"Translations!$B$157","v":"netaik."},{"$f":"Translations!$B$157","v":"netaik."},{"$f":"Translations!$B$157","v":"netaik."},{"$f":"Translations!$B$157","v":"netaik."},{"$f":"Translations!$B$157","v":"netaik."},{"$f":"Translations!$B$157","v":"netaik."},{"$f":"Translations!$B$157","v":"netaik."},{"$f":"Translations!$B$157","v":"netaik."},{"$f":"Translations!$B$157","v":"netaik."},{"$f":"Translations!$B$157","v":"netaik."}]
[41,"Pirminis aliuminis: Išmetamas PFC kiekis (nuolydžio metodas)",null,null,"MSParameters!$G$58:$K$58",null,{"$f":"Translations!$B$859","v":"Medžiaga – Tiekimas į vonių su termiškai apdorotais perforuotais anodais centrą (CWPB)"},{"$f":"Translations!$B$860","v":"Medžiaga – Sioderbergo vonia su vertikaliais strypais (VSS)"},{"$f":"Translations!$B$861","v":"Medžiaga – Tiekimas į vonių su termiškai apdorotais perforuotais anodais kraštą (SWPB)"},{"$f":"Translations!$B$862","v":"Medžiaga – Sioderbergo vonia su horizontaliais strypais (HSS)"},{"$f":"Translations!$B$1142","v":"Medžiaga – Kitos"},{"$f":"Translations!$B$157","v":"netaik."},{"$f":"Translations!$B$157","v":"netaik."},{"$f":"Translations!$B$157","v":"netaik."},{"$f":"Translations!$B$157","v":"netaik."},{"$f":"Translations!$B$157","v":"netaik."},{"$f":"Translations!$B$157","v":"netaik."},{"$f":"Translations!$B$157","v":"netaik."},{"$f":"Translations!$B$157","v":"netaik."},{"$f":"Translations!$B$157","v":"netaik."},{"$f":"Translations!$B$157","v":"netaik."},{"$f":"Translations!$B$157","v":"netaik."},{"$f":"Translations!$B$157","v":"netaik."},{"$f":"Translations!$B$157","v":"netaik."},{"$f":"Translations!$B$157","v":"netaik."},{"$f":"Translations!$B$157","v":"netaik."},{"$f":"Translations!$B$157","v":"netaik."},{"$f":"Translations!$B$157","v":"netaik."},{"$f":"Translations!$B$157","v":"netaik."},{"$f":"Translations!$B$157","v":"netaik."},{"$f":"Translations!$B$157","v":"netaik."},{"$f":"Translations!$B$157","v":"netaik."},{"$f":"Translations!$B$157","v":"netaik."},{"$f":"Translations!$B$157","v":"netaik."},{"$f":"Translations!$B$157","v":"netaik."},{"$f":"Translations!$B$157","v":"netaik."},{"$f":"Translations!$B$157","v":"netaik."},{"$f":"Translations!$B$157","v":"netaik."},{"$f":"Translations!$B$157","v":"netaik."},{"$f":"Translations!$B$157","v":"netaik."},{"$f":"Translations!$B$157","v":"netaik."},{"$f":"Translations!$B$157","v":"netaik."},{"$f":"Translations!$B$157","v":"netaik."},{"$f":"Translations!$B$157","v":"netaik."},{"$f":"Translations!$B$157","v":"netaik."},{"$f":"Translations!$B$157","v":"netaik."},{"$f":"Translations!$B$157","v":"netaik."},{"$f":"Translations!$B$157","v":"netaik."},{"$f":"Translations!$B$157","v":"netaik."},{"$f":"Translations!$B$157","v":"netaik."},{"$f":"Translations!$B$157","v":"netaik."},{"$f":"Translations!$B$157","v":"netaik."},{"$f":"Translations!$B$157","v":"netaik."},{"$f":"Translations!$B$157","v":"netaik."},{"$f":"Translations!$B$157","v":"netaik."},{"$f":"Translations!$B$157","v":"netaik."},{"$f":"Translations!$B$157","v":"netaik."},{"$f":"Translations!$B$157","v":"netaik."},{"$f":"Translations!$B$157","v":"netaik."},{"$f":"Translations!$B$157","v":"netaik."},{"$f":"Translations!$B$157","v":"netaik."},{"$f":"Translations!$B$157","v":"netaik."},{"$f":"Translations!$B$157","v":"netaik."},{"$f":"Translations!$B$157","v":"netaik."},{"$f":"Translations!$B$157","v":"netaik."},{"$f":"Translations!$B$157","v":"netaik."},{"$f":"Translations!$B$157","v":"netaik."},{"$f":"Translations!$B$157","v":"netaik."},{"$f":"Translations!$B$157","v":"netaik."},{"$f":"Translations!$B$157","v":"netaik."},{"$f":"Translations!$B$157","v":"netaik."},{"$f":"Translations!$B$157","v":"netaik."},{"$f":"Translations!$B$157","v":"netaik."},{"$f":"Translations!$B$157","v":"netaik."},{"$f":"Translations!$B$157","v":"netaik."},{"$f":"Translations!$B$157","v":"netaik."},{"$f":"Translations!$B$157","v":"netaik."},{"$f":"Translations!$B$157","v":"netaik."},{"$f":"Translations!$B$157","v":"netaik."},{"$f":"Translations!$B$157","v":"netaik."},{"$f":"Translations!$B$157","v":"netaik."},{"$f":"Translations!$B$157","v":"netaik."},{"$f":"Translations!$B$157","v":"netaik."},{"$f":"Translations!$B$157","v":"netaik."},{"$f":"Translations!$B$157","v":"netaik."},{"$f":"Translations!$B$157","v":"netaik."},{"$f":"Translations!$B$157","v":"netaik."},{"$f":"Translations!$B$157","v":"netaik."},{"$f":"Translations!$B$157","v":"netaik."},{"$f":"Translations!$B$157","v":"netaik."},{"$f":"Translations!$B$157","v":"netaik."},{"$f":"Translations!$B$157","v":"netaik."},{"$f":"Translations!$B$157","v":"netaik."},{"$f":"Translations!$B$157","v":"netaik."},{"$f":"Translations!$B$157","v":"netaik."},{"$f":"Translations!$B$157","v":"netaik."},{"$f":"Translations!$B$157","v":"netaik."},{"$f":"Translations!$B$157","v":"netaik."},{"$f":"Translations!$B$157","v":"netaik."},{"$f":"Translations!$B$157","v":"netaik."},{"$f":"Translations!$B$157","v":"netaik."},{"$f":"Translations!$B$157","v":"netaik."},{"$f":"Translations!$B$157","v":"netaik."},{"$f":"Translations!$B$157","v":"netaik."},{"$f":"Translations!$B$157","v":"netaik."},{"$f":"Translations!$B$157","v":"netaik."}]
[42,"Pirminis aliuminis: Išmetamas PFC kiekis (viršįtampio metodas)",null,null,"MSParameters!$G$59:$K$59",null,{"$f":"Translations!$B$859","v":"Medžiaga – Tiekimas į vonių su termiškai apdorotais perforuotais anodais centrą (CWPB)"},{"$f":"Translations!$B$860","v":"Medžiaga – Sioderbergo vonia su vertikaliais strypais (VSS)"},{"$f":"Translations!$B$861","v":"Medžiaga – Tiekimas į vonių su termiškai apdorotais perforuotais anodais kraštą (SWPB)"},{"$f":"Translations!$B$862","v":"Medžiaga – Sioderbergo vonia su horizontaliais strypais (HSS)"},{"$f":"Translations!$B$1142","v":"Medžiaga – Kitos"},{"$f":"Translations!$B$157","v":"netaik."},{"$f":"Translations!$B$157","v":"netaik."},{"$f":"Translations!$B$157","v":"netaik."},{"$f":"Translations!$B$157","v":"netaik."},{"$f":"Translations!$B$157","v":"netaik."},{"$f":"Translations!$B$157","v":"netaik."},{"$f":"Translations!$B$157","v":"netaik."},{"$f":"Translations!$B$157","v":"netaik."},{"$f":"Translations!$B$157","v":"netaik."},{"$f":"Translations!$B$157","v":"netaik."},{"$f":"Translations!$B$157","v":"netaik."},{"$f":"Translations!$B$157","v":"netaik."},{"$f":"Translations!$B$157","v":"netaik."},{"$f":"Translations!$B$157","v":"netaik."},{"$f":"Translations!$B$157","v":"netaik."},{"$f":"Translations!$B$157","v":"netaik."},{"$f":"Translations!$B$157","v":"netaik."},{"$f":"Translations!$B$157","v":"netaik."},{"$f":"Translations!$B$157","v":"netaik."},{"$f":"Translations!$B$157","v":"netaik."},{"$f":"Translations!$B$157","v":"netaik."},{"$f":"Translations!$B$157","v":"netaik."},{"$f":"Translations!$B$157","v":"netaik."},{"$f":"Translations!$B$157","v":"netaik."},{"$f":"Translations!$B$157","v":"netaik."},{"$f":"Translations!$B$157","v":"netaik."},{"$f":"Translations!$B$157","v":"netaik."},{"$f":"Translations!$B$157","v":"netaik."},{"$f":"Translations!$B$157","v":"netaik."},{"$f":"Translations!$B$157","v":"netaik."},{"$f":"Translations!$B$157","v":"netaik."},{"$f":"Translations!$B$157","v":"netaik."},{"$f":"Translations!$B$157","v":"netaik."},{"$f":"Translations!$B$157","v":"netaik."},{"$f":"Translations!$B$157","v":"netaik."},{"$f":"Translations!$B$157","v":"netaik."},{"$f":"Translations!$B$157","v":"netaik."},{"$f":"Translations!$B$157","v":"netaik."},{"$f":"Translations!$B$157","v":"netaik."},{"$f":"Translations!$B$157","v":"netaik."},{"$f":"Translations!$B$157","v":"netaik."},{"$f":"Translations!$B$157","v":"netaik."},{"$f":"Translations!$B$157","v":"netaik."},{"$f":"Translations!$B$157","v":"netaik."},{"$f":"Translations!$B$157","v":"netaik."},{"$f":"Translations!$B$157","v":"netaik."},{"$f":"Translations!$B$157","v":"netaik."},{"$f":"Translations!$B$157","v":"netaik."},{"$f":"Translations!$B$157","v":"netaik."},{"$f":"Translations!$B$157","v":"netaik."},{"$f":"Translations!$B$157","v":"netaik."},{"$f":"Translations!$B$157","v":"netaik."},{"$f":"Translations!$B$157","v":"netaik."},{"$f":"Translations!$B$157","v":"netaik."},{"$f":"Translations!$B$157","v":"netaik."},{"$f":"Translations!$B$157","v":"netaik."},{"$f":"Translations!$B$157","v":"netaik."},{"$f":"Translations!$B$157","v":"netaik."},{"$f":"Translations!$B$157","v":"netaik."},{"$f":"Translations!$B$157","v":"netaik."},{"$f":"Translations!$B$157","v":"netaik."},{"$f":"Translations!$B$157","v":"netaik."},{"$f":"Translations!$B$157","v":"netaik."},{"$f":"Translations!$B$157","v":"netaik."},{"$f":"Translations!$B$157","v":"netaik."},{"$f":"Translations!$B$157","v":"netaik."},{"$f":"Translations!$B$157","v":"netaik."},{"$f":"Translations!$B$157","v":"netaik."},{"$f":"Translations!$B$157","v":"netaik."},{"$f":"Translations!$B$157","v":"netaik."},{"$f":"Translations!$B$157","v":"netaik."},{"$f":"Translations!$B$157","v":"netaik."},{"$f":"Translations!$B$157","v":"netaik."},{"$f":"Translations!$B$157","v":"netaik."},{"$f":"Translations!$B$157","v":"netaik."},{"$f":"Translations!$B$157","v":"netaik."},{"$f":"Translations!$B$157","v":"netaik."},{"$f":"Translations!$B$157","v":"netaik."},{"$f":"Translations!$B$157","v":"netaik."},{"$f":"Translations!$B$157","v":"netaik."},{"$f":"Translations!$B$157","v":"netaik."},{"$f":"Translations!$B$157","v":"netaik."},{"$f":"Translations!$B$157","v":"netaik."},{"$f":"Translations!$B$157","v":"netaik."},{"$f":"Translations!$B$157","v":"netaik."},{"$f":"Translations!$B$157","v":"netaik."},{"$f":"Translations!$B$157","v":"netaik."},{"$f":"Translations!$B$157","v":"netaik."},{"$f":"Translations!$B$157","v":"netaik."},{"$f":"Translations!$B$157","v":"netaik."},{"$f":"Translations!$B$157","v":"netaik."},{"$f":"Translations!$B$157","v":"netaik."},{"$f":"Translations!$B$157","v":"netaik."},{"$f":"Translations!$B$157","v":"netaik."},{"$f":"Translations!$B$157","v":"netaik."}]
[]
[]
["MS Fuel and Material Category list (List is taken from Annex VI of the MRR, where availabe)"]
["Please note: When this list is amended by the MS competent authority, the following technicalities are to be respected:"]
["1. Each line contains tier 1 and tier 2b calculation factors for one fuel or material"]
["2. Grey cells can be changed by each MS individually. Cells in white should not be changed as they are taken from the MRR. Values entered in the white cells will be displayed automatically for each source stream in sheet E whenever the relevant fuel/material and tier 1 is selected."]
["3. Column MSPara_NameOptional: Entering \"TRUE\" here means that the \"source stream name\" column in section 7(b) will be optional for that fuel/material. Entering \"FALSE\" will make entries there mandatory."]
["4. Column MSPara_IsFossil: Entering \"TRUE\" here means that entries for biomass fractions (BioC and non-sust. BioC) in sheet E.SourceStreams will be greyed out, i.e. \"zero\" by default for that fuel/material"]
["5. Each MS can change calculation factors in the second table (Tier 2a) individually. Values entered there will be displayed automatically for each source stream in sheet E whenever the relevant fuel/material and tier 2a is selected."]
["6. If the list is too short, you can replace any line containing \"n.a.\" in the first column by a specific fuel or material. If the list still is too short it can be extended by inserting additional rows (not individual cells) BEFORE the \"<end of list>\" marker"]
["7. As a final step it should be checked if the area from C75 to cell in column \"U\" and the row including <END of list>  is identical to the defined Name: MSPara_CalcFactorsMatrix"]
[]
[null,"Tier 1",null,null,null,null,null,null,null,null,null,"Tier 2a"]
[null,"Factors according to Annex VI MRR",null,null,null,null,null,null,null,null,null,"Factors for Articles 31 (b) and (c) "]
["Fuel/material type description",null,"Unit AD","EF",null,"NCV",null,"CarbC",null,null,null,"AD","NCV",null,"EF",null,"OxF","ConvF","CarbC",null,"BioC"]
[null,null,"Unit","Value","Unit","Value","Unit","Value","Unit",null,null,"Unit","Value","Unit","Value","Unit","Value (-)","Value (-)","Value","Unit","Value (-)"]
["MSPara_SourceStreamCategory","Source",{"$f":"EUconst_CNTR_ActivityData&EUconst_Unit&\"_\"&1","v":"ActivityData_Vienetas_1"},{"$f":"EUconst_CNTR_EF&EUconst_Value&\"_\"&1","v":"EF_Vertė_1"},{"$f":"EUconst_CNTR_EF&EUconst_Unit&\"_\"&1","v":"EF_Vienetas_1"},{"$f":"EUconst_CNTR_NCV&EUconst_Value&\"_\"&1","v":"NCV_Vertė_1"},{"$f":"EUconst_CNTR_NCV&EUconst_Unit&\"_\"&1","v":"NCV_Vienetas_1"},{"$f":"EUconst_CNTR_CarbonContent&EUconst_Value&\"_\"&1","v":"CarbC_Vertė_1"},{"$f":"EUconst_CNTR_CarbonContent&EUconst_Unit&\"_\"&1","v":"CarbC_Vienetas_1"},"MSPara_NameOptional","MSPara_IsFossil",{"$f":"EUconst_CNTR_ActivityData&EUconst_Unit&\"_\"&2","v":"ActivityData_Vienetas_2"},{"$f":"EUconst_CNTR_NCV&EUconst_Value&\"_\"&2","v":"NCV_Vertė_2"},{"$f":"EUconst_CNTR_NCV&EUconst_Unit&\"_\"&2","v":"NCV_Vienetas_2"},{"$f":"EUconst_CNTR_EF&EUconst_Value&\"_\"&2","v":"EF_Vertė_2"},{"$f":"EUconst_CNTR_EF&EUconst_Unit&\"_\"&2","v":"EF_Vienetas_2"},{"$f":"EUconst_CNTR_OxidationFactor&EUconst_Value&\"_\"&2","v":"OxF_Vertė_2"},{"$f":"EUconst_CNTR_ConversionFactor&EUconst_Value&\"_\"&2","v":"ConvF_Vertė_2"},{"$f":"EUconst_CNTR_CarbonContent&EUconst_Value&\"_\"&2","v":"CarbC_Vertė_2"},{"$f":"EUconst_CNTR_CarbonContent&EUconst_Unit&\"_\"&2","v":"CarbC_Vienetas_2"},{"$f":"EUconst_CNTR_BiomassContent&EUconst_Value&\"_\"&2","v":"BioC_Vertė_2"},"MSPara_CalcFactors"]
[{"$f":"Translations!$B$1015","v":"Skystasis – Žalia nafta"},"Annex VI MRR",{"$f":"EUconst_t","v":"t"},73.3,{"$f":"EUconst_tCO2pTJ","v":"tCO2/TJ"},42.3,{"$f":"EUconst_GJpt","v":"GJ/t"},{"$f":"EUconst_NA","v":"netaik."},"netaik.",{"$f":"FALSE","v":false},{"$f":"TRUE","v":true},{"$f":"EUconst_NA","v":"netaik."},"netaik.",{"$f":"IF(OR(L77=\"\",L77=EUconst_NA),EUconst_NA,IF(L77=EUconst_t,EUconst_GJpt,EUconst_GJpkNm3))","v":"netaik."},{"$f":"EUconst_NA","v":"netaik."},{"$f":"EUconst_tCO2pTJ","v":"tCO2/TJ"},1,1,{"$f":"EUconst_NA","v":"netaik."},"netaik.","netaik.",null,null,null,null,null,null,null,null,null,null,null,null,null,null,null,null,null,null,null,null,null,null,null,null,null,null,null,null,null,null,null,null,null,null,null,null,null,null,null,null,null,null,null,null,null,null,null,null,null,null,null,null,null,null,null,null,null,null,null,null,null,null,null,null,null,null,null,null,null,null,null,null,null,null,null,null,null,null,null,null,null,null,null,null,null,null,null,null,null,null,1]
[{"$f":"Translations!$B$1016","v":"Skystasis – Orimulsija"},"Annex VI MRR","t",77,"tCO2/TJ",27.5,"GJ/t","netaik.","netaik.",{"$f":"FALSE","v":false},{"$f":"TRUE","v":true},"netaik.","netaik.","netaik.","netaik.","tCO2/TJ",1,1,"netaik.","netaik.","netaik.",null,null,null,null,null,null,null,null,null,null,null,null,null,null,null,null,null,null,null,null,null,null,null,null,null,null,null,null,null,null,null,null,null,null,null,null,null,null,null,null,null,null,null,null,null,null,null,null,null,null,null,null,null,null,null,null,null,null,null,null,null,null,null,null,null,null,null,null,null,null,null,null,null,null,null,null,null,null,null,null,null,null,null,null,null,null,null,null,null,null,2]
[{"$f":"Translations!$B$1017","v":"Skystasis – Gamtinių dujų kondensatai"},"Annex VI MRR","t",64.2,"tCO2/TJ",44.2,"GJ/t","netaik.","netaik.",{"$f":"FALSE","v":false},{"$f":"TRUE","v":true},"netaik.","netaik.","netaik.","netaik.","tCO2/TJ",1,1,"netaik.","netaik.","netaik."]
[{"$f":"Translations!$B$1018","v":"Skystasis – Automobilinis benzinas"},"Annex VI MRR","t",69.3,"tCO2/TJ",44.3,"GJ/t","netaik.","netaik.",{"$f":"FALSE","v":false},{"$f":"TRUE","v":true},"netaik.","netaik.","netaik.","netaik.","tCO2/TJ",1,1,"netaik.","netaik.","netaik."]
[{"$f":"Translations!$B$995","v":"Skystasis – Žibalas"},"Annex VI MRR","t",71.900000000000006,"tCO2/TJ",43.8,"GJ/t","netaik.","netaik.",{"$f":"TRUE","v":true},{"$f":"TRUE","v":true},"netaik.","netaik.","netaik.","netaik.","tCO2/TJ",1,1,"netaik.","netaik.","netaik."]
[{"$f":"Translations!$B$998","v":"Skystasis – Aviacinis gazolinas (benzinas) (AvGas)"},"Annex VI MRR","t",70,"tCO2/TJ",44.3,"GJ/t","netaik.","netaik.",{"$f":"TRUE","v":true},{"$f":"TRUE","v":true},"netaik.","netaik.","netaik.","netaik.","tCO2/TJ",1,1,"netaik.","netaik.","netaik."]
[{"$f":"Translations!$B$997","v":"Skystasis – Reaktyvinis gazolinas (benzinas) (Jet B)"},"Annex VI MRR","t",70,"tCO2/TJ",44.3,"GJ/t","netaik.","netaik.",{"$f":"TRUE","v":true},{"$f":"TRUE","v":true},"netaik.","netaik.","netaik.","netaik.","tCO2/TJ",1,1,"netaik.","netaik.","netaik."]
[{"$f":"Translations!$B$996","v":"Skystasis – Reaktyvinis žibalas (Jet A1 arba Jet A)"},"Annex VI MRR","t",71.5,"tCO2/TJ",44.1,"GJ/t","netaik.","netaik.",{"$f":"TRUE","v":true},{"$f":"TRUE","v":true},"netaik.","netaik.","netaik.","netaik.","tCO2/TJ",1,1,"netaik.","netaik.","netaik."]
[{"$f":"Translations!$B$1019","v":"Skystasis – Skalūnų alyva"},"Annex VI MRR","t",73.3,"tCO2/TJ",38.1,"GJ/t","netaik.","netaik.",{"$f":"FALSE","v":false},{"$f":"TRUE","v":true},"netaik.","netaik.","netaik.","netaik.","tCO2/TJ",1,1,"netaik.","netaik.","netaik."]
[{"$f":"Translations!$B$1020","v":"Skystasis – Dujos ir (arba) dyzelinas"},"Annex VI MRR","t",74.099999999999994,"tCO2/TJ",43,"GJ/t","netaik.","netaik.",{"$f":"FALSE","v":false},{"$f":"TRUE","v":true},"netaik.","netaik.","netaik.","netaik.","tCO2/TJ",1,1,"netaik.","netaik.","netaik."]
[{"$f":"Translations!$B$1021","v":"Skystasis – Mazuto distiliavimo likutis"},"Annex VI MRR","t",77.400000000000006,"tCO2/TJ",40.4,"GJ/t","netaik.","netaik.",{"$f":"FALSE","v":false},{"$f":"TRUE","v":true},"netaik.","netaik.","netaik.","netaik.","tCO2/TJ",1,1,"netaik.","netaik.","netaik."]
[{"$f":"Translations!$B$1014","v":"Skystasis – Suskystintosios naftos dujos"},"Annex VI MRR","t",63.1,"tCO2/TJ",47.3,"GJ/t","netaik.","netaik.",{"$f":"TRUE","v":true},{"$f":"TRUE","v":true},"netaik.","netaik.","netaik.","netaik.","tCO2/TJ",1,1,"netaik.","netaik.","netaik."]
[{"$f":"Translations!$B$988","v":"Dujinis – Etanas"},"Annex VI MRR","t",61.6,"tCO2/TJ",46.4,"GJ/t","netaik.","netaik.",{"$f":"TRUE","v":true},{"$f":"TRUE","v":true},"netaik.","netaik.","netaik.","netaik.","tCO2/TJ",1,1,"netaik.","netaik.","netaik."]
[{"$f":"Translations!$B$1022","v":"Skystasis – Pirminis benzinas"},"Annex VI MRR","t",73.3,"tCO2/TJ",44.5,"GJ/t","netaik.","netaik.",{"$f":"FALSE","v":false},{"$f":"TRUE","v":true},"netaik.","netaik.","netaik.","netaik.","tCO2/TJ",1,1,"netaik.","netaik.","netaik."]
[{"$f":"Translations!$B$1030","v":"Skystasis – Bitumas"},"Annex VI MRR","t",80.7,"tCO2/TJ",40.200000000000003,"GJ/t","netaik.","netaik.",{"$f":"FALSE","v":false},{"$f":"TRUE","v":true},"netaik.","netaik.","netaik.","netaik.","tCO2/TJ",1,1,"netaik.","netaik.","netaik."]
[{"$f":"Translations!$B$1023","v":"Skystasis – Tepalai"},"Annex VI MRR","t",73.3,"tCO2/TJ",40.200000000000003,"GJ/t","netaik.","netaik.",{"$f":"FALSE","v":false},{"$f":"TRUE","v":true},"netaik.","netaik.","netaik.","netaik.","tCO2/TJ",1,1,"netaik.","netaik.","netaik."]
[{"$f":"Translations!$B$1041","v":"Kietasis – Naftos koksas"},"Annex VI MRR","t",97.5,"tCO2/TJ",32.5,"GJ/t",0.87060000000000004,{"$f":"EUconst_tCpt","v":"t C/t"},{"$f":"TRUE","v":true},{"$f":"TRUE","v":true},{"$f":"EUconst_NA","v":"netaik."},{"$f":"EUconst_NA","v":"netaik."},"netaik.","netaik.","tCO2/TJ",1,1,{"$f":"EUconst_NA","v":"netaik."},"netaik.","netaik."]
[{"$f":"Translations!$B$1143","v":"Naftos perdirbimo įmonių žaliava – Kita naftos perdirbimo įmonių žaliava"},"Annex VI MRR","t",73.3,"tCO2/TJ",43,"GJ/t","netaik.","netaik.",{"$f":"FALSE","v":false},{"$f":"TRUE","v":true},"netaik.","netaik.","netaik.","netaik.","tCO2/TJ",1,1,"netaik.","netaik.","netaik."]
[{"$f":"Translations!$B$1036","v":"Naftos perdirbimo įmonių žaliava – Naftos perdirbimo įmonių dujos"},"Annex VI MRR","t",57.6,"tCO2/TJ",49.5,"GJ/t","netaik.","netaik.",{"$f":"FALSE","v":false},{"$f":"TRUE","v":true},"netaik.","netaik.","netaik.","netaik.","tCO2/TJ",1,1,"netaik.","netaik.","netaik."]
[{"$f":"Translations!$B$1049","v":"Kietasis – Parafinas"},"Annex VI MRR","t",73.3,"tCO2/TJ",40.200000000000003,"GJ/t","netaik.","netaik.",{"$f":"FALSE","v":false},{"$f":"TRUE","v":true},"netaik.","netaik.","netaik.","netaik.","tCO2/TJ",1,1,"netaik.","netaik.","netaik."]
[{"$f":"Translations!$B$1024","v":"Skystasis – Vaitspiritas ir SBP"},"Annex VI MRR","t",73.3,"tCO2/TJ",40.200000000000003,"GJ/t",{"$f":"EUconst_NA","v":"netaik."},"netaik.",{"$f":"FALSE","v":false},{"$f":"TRUE","v":true},"netaik.","netaik.","netaik.","netaik.","tCO2/TJ",1,1,"netaik.","netaik.","netaik."]
[{"$f":"Translations!$B$1039","v":"Naftos perdirbimo įmonių žaliava – Kiti naftos produktai"},"Annex VI MRR","t",73.3,"tCO2/TJ",40.200000000000003,"GJ/t","netaik.","netaik.",{"$f":"FALSE","v":false},{"$f":"TRUE","v":true},"netaik.","netaik.","netaik.","netaik.","tCO2/TJ",1,1,"netaik.","netaik.","netaik."]
[{"$f":"Translations!$B$1044","v":"Kietasis – Antracitas"},"Annex VI MRR","t",98.3,"tCO2/TJ",26.7,"GJ/t","netaik.","netaik.",{"$f":"TRUE","v":true},{"$f":"TRUE","v":true},"netaik.","netaik.","netaik.","netaik.","tCO2/TJ",1,1,"netaik.","netaik.","netaik."]
[{"$f":"Translations!$B$1045","v":"Kietasis – Koksinės anglys"},"Annex VI MRR","t",94.6,"tCO2/TJ",28.2,"GJ/t","netaik.","netaik.",{"$f":"TRUE","v":true},{"$f":"TRUE","v":true},"netaik.","netaik.","netaik.","netaik.","tCO2/TJ",1,1,"netaik.","netaik.","netaik."]
[{"$f":"Translations!$B$1047","v":"Kietasis – Kitos bituminės akmens anglys"},"Annex VI MRR","t",94.6,"tCO2/TJ",25.8,"GJ/t","netaik.","netaik.",{"$f":"FALSE","v":false},{"$f":"TRUE","v":true},"netaik.","netaik.","netaik.","netaik.","tCO2/TJ",1,1,"netaik.","netaik.","netaik."]
[{"$f":"Translations!$B$1046","v":"Kietasis – Subbituminės akmens anglys"},"Annex VI MRR","t",96.1,"tCO2/TJ",18.899999999999999,"GJ/t","netaik.","netaik.",{"$f":"TRUE","v":true},{"$f":"TRUE","v":true},"netaik.","netaik.","netaik.","netaik.","tCO2/TJ",1,1,"netaik.","netaik.","netaik."]
[{"$f":"Translations!$B$1043","v":"Kietasis – Lignitas"},"Annex VI MRR","t",101,"tCO2/TJ",11.9,"GJ/t","netaik.","netaik.",{"$f":"TRUE","v":true},{"$f":"TRUE","v":true},"netaik.","netaik.","netaik.","netaik.","tCO2/TJ",1,1,"netaik.","netaik.","netaik."]
[{"$f":"Translations!$B$1025","v":"Skystasis – Skalūnų alyva ir gudoniniai smėliai"},"Annex VI MRR","t",107,"tCO2/TJ",8.9,"GJ/t","netaik.","netaik.",{"$f":"FALSE","v":false},{"$f":"TRUE","v":true},"netaik.","netaik.","netaik.","netaik.","tCO2/TJ",1,1,"netaik.","netaik.","netaik."]
[{"$f":"Translations!$B$1026","v":"Skystasis – Akmens anglių briketai"},"Annex VI MRR","t",97.5,"tCO2/TJ",20.7,"GJ/t","netaik.","netaik.",{"$f":"FALSE","v":false},{"$f":"TRUE","v":true},"netaik.","netaik.","netaik.","netaik.","tCO2/TJ",1,1,{"$f":"EUconst_NA","v":"netaik."},"netaik.","netaik."]
[{"$f":"Translations!$B$1144","v":"Kietasis – Kokso krosnių koksas ir lignito koksas"},"Annex VI MRR","t",107,"tCO2/TJ",28.2,"GJ/t","netaik.","netaik.",{"$f":"FALSE","v":false},{"$f":"TRUE","v":true},"netaik.","netaik.","netaik.","netaik.","tCO2/TJ",1,1,"netaik.","netaik.","netaik."]
[{"$f":"Translations!$B$1048","v":"Kietasis – Dujinis koksas"},"Annex VI MRR","t",107,"tCO2/TJ",28.2,"GJ/t","netaik.","netaik.",{"$f":"FALSE","v":false},{"$f":"TRUE","v":true},"netaik.","netaik.","netaik.","netaik.","tCO2/TJ",1,1,"netaik.","netaik.","netaik."]
[{"$f":"Translations!$B$1057","v":"Kietasis – Akmens anglių degutas"},"Annex VI MRR","t",80.7,"tCO2/TJ",28,"GJ/t","netaik.","netaik.",{"$f":"FALSE","v":false},{"$f":"TRUE","v":true},"netaik.","netaik.","netaik.","netaik.","tCO2/TJ",1,1,"netaik.","netaik.","netaik."]
[{"$f":"Translations!$B$1000","v":"Dujinis – Dujų gamyklos dujos"},"Annex VI MRR",{"$f":"EUconst_t","v":"t"},44.4,{"$f":"EUconst_tCO2pTJ","v":"tCO2/TJ"},38.700000000000003,{"$f":"EUconst_GJpt","v":"GJ/t"},"netaik.","netaik.",{"$f":"FALSE","v":false},{"$f":"TRUE","v":true},"netaik.","netaik.",{"$f":"IF(OR(L109=\"\",L109=EUconst_NA),EUconst_NA,IF(L109=EUconst_t,EUconst_GJpt,EUconst_GJpkNm3))","v":"netaik."},"netaik.",{"$f":"EUconst_tCO2pTJ","v":"tCO2/TJ"},1,1,"netaik.","netaik.","netaik."]
[{"$f":"Translations!$B$1001","v":"Dujinis – Koksavimo dujos"},"Annex VI MRR","t",44.4,"tCO2/TJ",38.700000000000003,"GJ/t","netaik.","netaik.",{"$f":"FALSE","v":false},{"$f":"TRUE","v":true},"netaik.","netaik.","netaik.","netaik.","tCO2/TJ",1,1,"netaik.","netaik.","netaik."]
[{"$f":"Translations!$B$1002","v":"Dujinis – Aukštakrosnių dujos"},"Annex VI MRR","t",260,"tCO2/TJ",2.4700000000000002,"GJ/t","netaik.","netaik.",{"$f":"FALSE","v":false},{"$f":"TRUE","v":true},"netaik.","netaik.","netaik.","netaik.","tCO2/TJ",1,1,"netaik.","netaik.","netaik."]
[{"$f":"Translations!$B$1003","v":"Dujinis – Deguoninių plieno aukštakrosnių dujos"},"Annex VI MRR","t",182,"tCO2/TJ",7.06,"GJ/t",0.3493,{"$f":"EUconst_tCpt","v":"t C/t"},{"$f":"FALSE","v":false},{"$f":"TRUE","v":true},"netaik.","netaik.","netaik.","netaik.","tCO2/TJ",1,1,"netaik.","netaik.","netaik."]
[{"$f":"Translations!$B$999","v":"Dujinis – Gamtinės dujos"},"Annex VI MRR","t",56.1,"tCO2/TJ",48,"GJ/t",{"$f":"EUconst_NA","v":"netaik."},"netaik.",{"$f":"TRUE","v":true},{"$f":"TRUE","v":true},"netaik.","netaik.","netaik.","netaik.","tCO2/TJ",1,1,{"$f":"EUconst_NA","v":"netaik."},"netaik.","netaik."]
[{"$f":"Translations!$B$1035","v":"Atliekos – Pramoninės atliekos"},"Annex VI MRR","t",143,"tCO2/TJ",{"$f":"EUconst_NA","v":"netaik."},"GJ/t","netaik.","netaik.",{"$f":"FALSE","v":false},false,"netaik.",{"$f":"EUconst_NA","v":"netaik."},"netaik.",{"$f":"EUconst_NA","v":"netaik."},"tCO2/TJ",1,1,"netaik.","netaik.","netaik."]
[{"$f":"Translations!$B$1027","v":"Skystasis – Alyvų atliekos"},"Annex VI MRR","t",73.3,"tCO2/TJ",40.200000000000003,"GJ/t","netaik.","netaik.",{"$f":"FALSE","v":false},false,"netaik.","netaik.","netaik.",{"$f":"EUconst_NA","v":"netaik."},"tCO2/TJ",1,1,"netaik.","netaik.","netaik."]
[{"$f":"Translations!$B$1054","v":"Kietasis – Durpės"},"Annex VI MRR","t",106,"tCO2/TJ",9.76,"GJ/t","netaik.","netaik.",{"$f":"FALSE","v":false},{"$f":"TRUE","v":true},"netaik.","netaik.","netaik.",{"$f":"EUconst_NA","v":"netaik."},"tCO2/TJ",1,1,"netaik.","netaik.","netaik."]
[{"$f":"Translations!$B$1052","v":"Kietasis – Mediena (ne atliekos)"},"Annex VI MRR","t",0,"tCO2/TJ",15.6,"GJ/t","netaik.","netaik.",{"$f":"FALSE","v":false},false,"netaik.","netaik.","netaik.",{"$f":"EUconst_NA","v":"netaik."},"tCO2/TJ",1,1,"netaik.","netaik.","netaik."]
[{"$f":"Translations!$B$1053","v":"Kietasis – Mediena (atliekos)"},"Annex VI MRR","t",0,"tCO2/TJ",15.6,"GJ/t","netaik.","netaik.",{"$f":"FALSE","v":false},false,"netaik.","netaik.","netaik.",{"$f":"EUconst_NA","v":"netaik."},"tCO2/TJ",1,1,"netaik.","netaik.","netaik."]
[{"$f":"Translations!$B$1145","v":"Kietasis – Kitų rūšių kietoji biomasė"},"Annex VI MRR","t",0,"tCO2/TJ",11.6,"GJ/t","netaik.","netaik.",{"$f":"FALSE","v":false},false,"netaik.","netaik.","netaik.",{"$f":"EUconst_NA","v":"netaik."},"tCO2/TJ",1,1,"netaik.","netaik.","netaik."]
[{"$f":"Translations!$B$1058","v":"Kietasis – Medžio anglys"},"Annex VI MRR","t",0,"tCO2/TJ",29.5,"GJ/t","netaik.","netaik.",{"$f":"FALSE","v":false},false,"netaik.","netaik.","netaik.","netaik.","tCO2/TJ",1,1,"netaik.","netaik.","netaik."]
[{"$f":"Translations!$B$1028","v":"Skystasis – Biobenzinas"},"Annex VI MRR","t",0,"tCO2/TJ",27,"GJ/t","netaik.","netaik.",{"$f":"FALSE","v":false},false,"netaik.","netaik.","netaik.","netaik.","tCO2/TJ",1,1,"netaik.","netaik.","netaik."]
[{"$f":"Translations!$B$1029","v":"Skystasi – Biodyzelinas"},"Annex VI MRR","t",0,"tCO2/TJ",27,"GJ/t","netaik.","netaik.",{"$f":"FALSE","v":false},false,"netaik.","netaik.","netaik.","netaik.","tCO2/TJ",1,1,"netaik.","netaik.","netaik."]
[{"$f":"Translations!$B$1146","v":"Skystasis – Kitų rūšių skystoji biomasė"},"Annex VI MRR","t",0,"tCO2/TJ",27.4,"GJ/t","netaik.","netaik.",{"$f":"FALSE","v":false},false,"netaik.","netaik.","netaik.","netaik.","tCO2/TJ",1,1,"netaik.","netaik.","netaik."]
[{"$f":"Translations!$B$1006","v":"Dujinis – Sąvartynų dujos"},"Annex VI MRR","t",0,"tCO2/TJ",50.4,"GJ/t","netaik.","netaik.",{"$f":"FALSE","v":false},false,"netaik.","netaik.","netaik.","netaik.","tCO2/TJ",1,1,"netaik.","netaik.","netaik."]
[{"$f":"Translations!$B$1005","v":"Dujinis – Dumblo dujos"},"Annex VI MRR","t",0,"tCO2/TJ",50.4,"GJ/t","netaik.","netaik.",{"$f":"FALSE","v":false},false,"netaik.","netaik.","netaik.","netaik.","tCO2/TJ",1,1,"netaik.","netaik.","netaik."]
[{"$f":"Translations!$B$1147","v":"Dujinis – Kitų rūšių dujinė biomasė"},"Annex VI MRR","t",0,"tCO2/TJ",50.4,"GJ/t","netaik.","netaik.",{"$f":"FALSE","v":false},false,"netaik.","netaik.","netaik.","netaik.","tCO2/TJ",1,1,"netaik.","netaik.","netaik."]
[{"$f":"Translations!$B$1059","v":"Kietasis – Panaudos padangos"},"Annex VI MRR","t",85,"tCO2/TJ",{"$f":"EUconst_NA","v":"netaik."},"GJ/t","netaik.","netaik.",{"$f":"FALSE","v":false},false,"netaik.","netaik.","netaik.","netaik.","tCO2/TJ",1,1,"netaik.","netaik.","netaik."]
[{"$f":"Translations!$B$1007","v":"Dujinis – Anglies monoksidas"},"Annex VI MRR","t",155.19999999999999,"tCO2/TJ",10.1,"GJ/t","netaik.","netaik.",{"$f":"TRUE","v":true},true,"netaik.","netaik.","netaik.","netaik.","tCO2/TJ",1,1,"netaik.","netaik.","netaik."]
[{"$f":"Translations!$B$1008","v":"Dujinis – Metanas"},"Annex VI MRR","t",54.9,"tCO2/TJ",50,"GJ/t",0.749,{"$f":"EUconst_tCpt","v":"t C/t"},{"$f":"TRUE","v":true},true,"netaik.","netaik.","netaik.","netaik.","tCO2/TJ",1,1,"netaik.","netaik.","netaik."]
[{"$f":"EUconst_NA","v":"netaik."},"netaik.","t",{"$f":"EUconst_NA","v":"netaik."},"netaik.","netaik.","netaik.","netaik.","netaik.",{"$f":"TRUE","v":true},{"$f":"TRUE","v":true},"netaik.","netaik.","netaik.","netaik.",{"$f":"EUconst_NA","v":"netaik."},"netaik.","netaik.","netaik.","netaik.","netaik."]
["netaik.","netaik.","t","netaik.","netaik.","netaik.","netaik.",{"$f":"EUconst_NA","v":"netaik."},"netaik.",{"$f":"FALSE","v":false},{"$f":"TRUE","v":true},"netaik.","netaik.","netaik.","netaik.","netaik.","netaik.","netaik.","netaik.","netaik.","netaik."]
["netaik.","netaik.","t","netaik.","netaik.","netaik.","netaik.","netaik.","netaik.",{"$f":"FALSE","v":false},{"$f":"TRUE","v":true},"netaik.","netaik.","netaik.","netaik.","netaik.","netaik.","netaik.","netaik.","netaik.","netaik."]
["netaik.","netaik.","t","netaik.","netaik.","netaik.","netaik.","netaik.","netaik.",{"$f":"FALSE","v":false},{"$f":"TRUE","v":true},"netaik.","netaik.","netaik.","netaik.","netaik.","netaik.","netaik.","netaik.","netaik.","netaik."]
["netaik.","netaik.","t","netaik.","netaik.","netaik.","netaik.","netaik.","netaik.",{"$f":"FALSE","v":false},{"$f":"TRUE","v":true},"netaik.","netaik.","netaik.","netaik.","netaik.","netaik.","netaik.","netaik.","netaik.","netaik."]
["netaik.","netaik.","t","netaik.","netaik.","netaik.","netaik.","netaik.","netaik.",{"$f":"FALSE","v":false},{"$f":"TRUE","v":true},"netaik.","netaik.","netaik.","netaik.","netaik.","netaik.","netaik.","netaik.","netaik.","netaik."]
["netaik.","netaik.","t","netaik.","netaik.","netaik.","netaik.","netaik.","netaik.",{"$f":"FALSE","v":false},{"$f":"TRUE","v":true},"netaik.","netaik.","netaik.","netaik.","netaik.","netaik.","netaik.","netaik.","netaik.","netaik."]
["netaik.","netaik.","t","netaik.","netaik.","netaik.","netaik.","netaik.","netaik.",{"$f":"FALSE","v":false},{"$f":"TRUE","v":true},"netaik.","netaik.","netaik.","netaik.","netaik.","netaik.","netaik.","netaik.","netaik.","netaik."]
["netaik.","netaik.","t","netaik.","netaik.","netaik.","netaik.","netaik.","netaik.",{"$f":"FALSE","v":false},{"$f":"TRUE","v":true},"netaik.","netaik.","netaik.","netaik.","netaik.","netaik.","netaik.","netaik.","netaik.","netaik."]
["netaik.","netaik.","t","netaik.","netaik.","netaik.","netaik.","netaik.","netaik.",{"$f":"FALSE","v":false},{"$f":"TRUE","v":true},"netaik.","netaik.","netaik.","netaik.","netaik.","netaik.","netaik.","netaik.","netaik.","netaik."]
[{"$f":"Translations!$B$1070","v":"Medžiaga – CaCO3"},"Annex VI MRR","t",0.44,{"$f":"EUconst_tCO2pt","v":"tCO2/t"},{"$f":"EUconst_NA","v":"netaik."},"netaik.","netaik.","netaik.",{"$f":"TRUE","v":true},{"$f":"TRUE","v":true},"t","netaik.","GJ/t","netaik.",{"$f":"EUconst_tCO2pt","v":"tCO2/t"},{"$f":"EUconst_NA","v":"netaik."},1,"netaik.","netaik.",{"$f":"EUconst_NA","v":"netaik."}]
[{"$f":"Translations!$B$1071","v":"Medžiaga – MgCO3"},"Annex VI MRR","t",0.52200000000000002,"tCO2/t","netaik.","netaik.","netaik.","netaik.",{"$f":"TRUE","v":true},{"$f":"TRUE","v":true},"t","netaik.",{"$f":"IF(OR(L141=\"\",L141=EUconst_NA),EUconst_NA,IF(L141=EUconst_t,EUconst_GJpt,EUconst_GJpkNm3))","v":"GJ/t"},"netaik.","tCO2/t","netaik.",1,{"$f":"EUconst_NA","v":"netaik."},"netaik.","netaik."]
[{"$f":"Translations!$B$1072","v":"Medžiaga – Na2CO3"},"Annex VI MRR","t",0.41499999999999998,"tCO2/t","netaik.","netaik.","netaik.","netaik.",{"$f":"TRUE","v":true},{"$f":"TRUE","v":true},"t","netaik.","GJ/t","netaik.","tCO2/t","netaik.",1,"netaik.","netaik.","netaik."]
[{"$f":"Translations!$B$1073","v":"Medžiaga – BaCO3"},"Annex VI MRR","t",0.223,"tCO2/t","netaik.","netaik.","netaik.","netaik.",{"$f":"TRUE","v":true},{"$f":"TRUE","v":true},"t","netaik.","GJ/t","netaik.","tCO2/t","netaik.",1,"netaik.","netaik.","netaik."]
[{"$f":"Translations!$B$1074","v":"Medžiaga – Li2CO3"},"Annex VI MRR","t",0.59599999999999997,"tCO2/t","netaik.","netaik.","netaik.","netaik.",{"$f":"TRUE","v":true},{"$f":"TRUE","v":true},"t","netaik.","GJ/t","netaik.","tCO2/t","netaik.",1,"netaik.","netaik.","netaik."]
[{"$f":"Translations!$B$1075","v":"Medžiaga – K2CO3"},"Annex VI MRR","t",0.318,"tCO2/t","netaik.","netaik.","netaik.","netaik.",{"$f":"TRUE","v":true},{"$f":"TRUE","v":true},"t","netaik.","GJ/t","netaik.","tCO2/t","netaik.",1,"netaik.","netaik.","netaik."]
[{"$f":"Translations!$B$1076","v":"Medžiaga – SrCO3"},"Annex VI MRR","t",0.29799999999999999,"tCO2/t","netaik.","netaik.","netaik.","netaik.",{"$f":"TRUE","v":true},{"$f":"TRUE","v":true},"t","netaik.","GJ/t","netaik.","tCO2/t","netaik.",1,"netaik.","netaik.","netaik."]
[{"$f":"Translations!$B$1077","v":"Medžiaga – NaHCO3"},"Annex VI MRR","t",0.52400000000000002,"tCO2/t","netaik.","netaik.","netaik.","netaik.",{"$f":"TRUE","v":true},{"$f":"TRUE","v":true},"t","netaik.","GJ/t","netaik.","tCO2/t","netaik.",1,"netaik.","netaik.","netaik."]
[{"$f":"Translations!$B$1078","v":"Medžiaga – FeCO3"},"Annex VI MRR","t",0.38,"tCO2/t","netaik.","netaik.","netaik.","netaik.",{"$f":"TRUE","v":true},{"$f":"TRUE","v":true},"t","netaik.","GJ/t","netaik.","tCO2/t","netaik.",1,"netaik.","netaik.","netaik."]
[{"$f":"Translations!$B$1082","v":"Medžiaga – CaO"},"Annex VI MRR","t",0.78500000000000003,"tCO2/t","netaik.","netaik.","netaik.","netaik.",{"$f":"TRUE","v":true},{"$f":"TRUE","v":true},"t","netaik.","GJ/t","netaik.","tCO2/t","netaik.",1,"netaik.","netaik.","netaik."]
[{"$f":"Translations!$B$1083","v":"Medžiaga – MgO"},"Annex VI MRR","t",1.0920000000000001,"tCO2/t","netaik.","netaik.","netaik.","netaik.",{"$f":"TRUE","v":true},{"$f":"TRUE","v":true},"t","netaik.","GJ/t","netaik.","tCO2/t","netaik.",1,"netaik.","netaik.","netaik."]
[{"$f":"Translations!$B$1084","v":"Medžiaga – BaO"},"Annex VI MRR",{"$f":"EUconst_t","v":"t"},0.28699999999999998,"tCO2/t","netaik.","netaik.","netaik.","netaik.",{"$f":"TRUE","v":true},{"$f":"TRUE","v":true},"t","netaik.","GJ/t","netaik.","tCO2/t","netaik.",1,"netaik.","netaik.","netaik."]
[{"$f":"EUconst_NA","v":"netaik."},"netaik.","t",{"$f":"EUconst_NA","v":"netaik."},"netaik.","netaik.","netaik.","netaik.","netaik.",{"$f":"FALSE","v":false},{"$f":"TRUE","v":true},{"$f":"EUconst_NA","v":"netaik."},"netaik.","netaik.","netaik.",{"$f":"EUconst_NA","v":"netaik."},"netaik.","netaik.","netaik.","netaik.","netaik."]
["netaik.","netaik.","t","netaik.","netaik.","netaik.","netaik.","netaik.","netaik.",{"$f":"FALSE","v":false},{"$f":"TRUE","v":true},"netaik.","netaik.","netaik.","netaik.","netaik.","netaik.","netaik.","netaik.","netaik.","netaik."]
["netaik.","netaik.","t","netaik.","netaik.","netaik.","netaik.","netaik.","netaik.",{"$f":"FALSE","v":false},{"$f":"TRUE","v":true},"netaik.","netaik.","netaik.","netaik.","netaik.",{"$f":"EUconst_NA","v":"netaik."},{"$f":"EUconst_NA","v":"netaik."},"netaik.","netaik.","netaik."]
["netaik.","netaik.","t","netaik.","netaik.","netaik.","netaik.","netaik.","netaik.",{"$f":"FALSE","v":false},{"$f":"TRUE","v":true},"netaik.","netaik.","netaik.","netaik.","netaik.","netaik.","netaik.","netaik.","netaik.","netaik."]
["netaik.","netaik.","t","netaik.","netaik.","netaik.","netaik.","netaik.","netaik.",{"$f":"FALSE","v":false},{"$f":"TRUE","v":true},"netaik.","netaik.","netaik.","netaik.","netaik.",{"$f":"EUconst_NA","v":"netaik."},"netaik.","netaik.","netaik.","netaik."]
["netaik.","netaik.","t","netaik.","netaik.","netaik.","netaik.","netaik.","netaik.",{"$f":"FALSE","v":false},{"$f":"TRUE","v":true},"netaik.","netaik.","netaik.","netaik.","netaik.","netaik.","netaik.","netaik.","netaik.","netaik."]
["netaik.","netaik.","t","netaik.","netaik.","netaik.","netaik.","netaik.","netaik.",{"$f":"FALSE","v":false},{"$f":"TRUE","v":true},"netaik.","netaik.","netaik.","netaik.","netaik.","netaik.","netaik.","netaik.","netaik.","netaik."]
["netaik.","netaik.","t","netaik.","netaik.","netaik.","netaik.","netaik.","netaik.",{"$f":"FALSE","v":false},{"$f":"TRUE","v":true},"netaik.","netaik.","netaik.","netaik.","netaik.","netaik.","netaik.","netaik.","netaik.","netaik."]
["netaik.","netaik.","t","netaik.","netaik.","netaik.","netaik.","netaik.","netaik.",{"$f":"FALSE","v":false},{"$f":"TRUE","v":true},"netaik.","netaik.","netaik.","netaik.","netaik.","netaik.","netaik.","netaik.","netaik.","netaik."]
["netaik.","netaik.","t","netaik.","netaik.","netaik.","netaik.","netaik.","netaik.",{"$f":"FALSE","v":false},{"$f":"TRUE","v":true},"netaik.","netaik.","netaik.","netaik.","netaik.","netaik.","netaik.","netaik.","netaik.","netaik."]
[{"$f":"Translations!$B$1093","v":"Medžiaga – Tiesiogiai redukuojama geležis"},"Annex VI MRR","t",7.0000000000000007E-2,{"$f":"EUconst_tCO2pt","v":"tCO2/t"},{"$f":"EUconst_NA","v":"netaik."},"netaik.",1.9099999999999999E-2,{"$f":"EUconst_tCpt","v":"t C/t"},{"$f":"TRUE","v":true},false,"t","netaik.","GJ/t","netaik.",{"$f":"EUconst_tCO2pt","v":"tCO2/t"},1,1,"netaik.","netaik.","netaik."]
[{"$f":"Translations!$B$1094","v":"Medžiaga – EAF anglies elektrodai"},"Annex VI MRR","t",3,"tCO2/t","netaik.","netaik.",0.81879999999999997,"t C/t",{"$f":"TRUE","v":true},false,"t","netaik.","GJ/t","netaik.","tCO2/t",1,1,"netaik.","netaik.","netaik."]
[{"$f":"Translations!$B$1095","v":"Medžiaga – EAF krūvio anglis"},"Annex VI MRR","t",3.04,"tCO2/t","netaik.","netaik.",0.82969999999999999,"t C/t",{"$f":"TRUE","v":true},false,"t","netaik.","GJ/t","netaik.","tCO2/t",1,1,"netaik.","netaik.","netaik."]
[{"$f":"Translations!$B$1096","v":"Medžiaga – Karštojo briketavimo geležis"},"Annex VI MRR","t",7.0000000000000007E-2,"tCO2/t","netaik.","netaik.",1.9099999999999999E-2,"t C/t",{"$f":"TRUE","v":true},false,"t",{"$f":"EUconst_NA","v":"netaik."},"GJ/t",{"$f":"EUconst_NA","v":"netaik."},"tCO2/t",1,1,"netaik.","netaik.","netaik."]
[{"$f":"Translations!$B$1003","v":"Dujinis – Deguoninių plieno aukštakrosnių dujos"},"Annex VI MRR","t",1.28,"tCO2/t","netaik.","netaik.",0.3493,"t C/t",{"$f":"TRUE","v":true},false,"t","netaik.","GJ/t","netaik.","tCO2/t",1,1,"netaik.","netaik.","netaik."]
[{"$f":"Translations!$B$1041","v":"Kietasis – Naftos koksas"},"Annex VI MRR","t",3.19,"tCO2/t","netaik.","netaik.",0.87060000000000004,"t C/t",{"$f":"TRUE","v":true},false,"t","netaik.","GJ/t","netaik.","tCO2/t",1,1,"netaik.","netaik.","netaik."]
[{"$f":"Translations!$B$1097","v":"Medžiaga – Perkama geležis luitais"},"Annex VI MRR","t",0.15,"tCO2/t","netaik.","netaik.",4.0899999999999999E-2,"t C/t",{"$f":"TRUE","v":true},false,"t","netaik.","GJ/t","netaik.","tCO2/t",1,1,"netaik.","netaik.","netaik."]
[{"$f":"Translations!$B$1088","v":"Medžiaga – Metalo laužas"},"Annex VI MRR","t",0.15,"tCO2/t","netaik.","netaik.",4.0899999999999999E-2,"t C/t",{"$f":"TRUE","v":true},false,"t","netaik.","GJ/t","netaik.","tCO2/t",1,1,"netaik.","netaik.",{"$f":"EUconst_NA","v":"netaik."}]
[{"$f":"Translations!$B$1098","v":"Medžiaga – Plienas"},"Annex VI MRR","t",0.04,"tCO2/t","netaik.","netaik.",1.09E-2,"t C/t",{"$f":"TRUE","v":true},{"$f":"TRUE","v":true},"t","netaik.","GJ/t","netaik.","tCO2/t",1,1,"netaik.","netaik.","netaik."]
[{"$f":"EUconst_NA","v":"netaik."},"netaik.","t",{"$f":"EUconst_NA","v":"netaik."},"netaik.","netaik.","netaik.","netaik.","netaik.",{"$f":"FALSE","v":false},{"$f":"TRUE","v":true},{"$f":"EUconst_NA","v":"netaik."},"netaik.","netaik.","netaik.","netaik.","netaik.","netaik.","netaik.","netaik.","netaik."]
["netaik.","netaik.","t","netaik.","netaik.","netaik.","netaik.","netaik.","netaik.",{"$f":"FALSE","v":false},{"$f":"TRUE","v":true},"netaik.","netaik.","netaik.","netaik.","netaik.","netaik.","netaik.","netaik.","netaik.","netaik."]
["netaik.","netaik.","t","netaik.","netaik.","netaik.","netaik.","netaik.","netaik.",{"$f":"FALSE","v":false},{"$f":"TRUE","v":true},"netaik.","netaik.",{"$f":"IF(OR(L173=\"\",L173=EUconst_NA),EUconst_NA,IF(L173=EUconst_t,EUconst_GJpt,EUconst_GJpkNm3))","v":"netaik."},"netaik.","netaik.","netaik.","netaik.","netaik.","netaik.","netaik."]
["netaik.","netaik.","t","netaik.","netaik.","netaik.","netaik.","netaik.","netaik.",{"$f":"FALSE","v":false},{"$f":"TRUE","v":true},"netaik.","netaik.","netaik.","netaik.","netaik.","netaik.","netaik.","netaik.","netaik.","netaik."]
["netaik.","netaik.","t","netaik.","netaik.","netaik.","netaik.","netaik.","netaik.",{"$f":"FALSE","v":false},{"$f":"TRUE","v":true},"netaik.","netaik.","netaik.","netaik.","netaik.","netaik.","netaik.","netaik.","netaik.","netaik."]
["netaik.","netaik.","t","netaik.","netaik.","netaik.","netaik.","netaik.","netaik.",{"$f":"FALSE","v":false},{"$f":"TRUE","v":true},"netaik.","netaik.","netaik.","netaik.","netaik.","netaik.","netaik.","netaik.","netaik.","netaik."]
["netaik.","netaik.","t","netaik.","netaik.","netaik.","netaik.","netaik.","netaik.",{"$f":"FALSE","v":false},{"$f":"TRUE","v":true},"netaik.","netaik.","netaik.","netaik.","netaik.","netaik.","netaik.","netaik.","netaik.","netaik."]
["netaik.","netaik.","t","netaik.","netaik.","netaik.","netaik.","netaik.","netaik.",{"$f":"FALSE","v":false},{"$f":"TRUE","v":true},"netaik.","netaik.","netaik.","netaik.","netaik.","netaik.","netaik.","netaik.","netaik.","netaik."]
["netaik.","netaik.","t","netaik.","netaik.","netaik.","netaik.","netaik.","netaik.",{"$f":"FALSE","v":false},{"$f":"TRUE","v":true},"netaik.","netaik.","netaik.","netaik.","netaik.","netaik.","netaik.","netaik.","netaik.","netaik."]
["netaik.","netaik.","t","netaik.","netaik.","netaik.","netaik.",{"$f":"EUconst_NA","v":"netaik."},{"$f":"EUconst_NA","v":"netaik."},{"$f":"FALSE","v":false},{"$f":"TRUE","v":true},"netaik.","netaik.","netaik.","netaik.",{"$f":"EUconst_NA","v":"netaik."},{"$f":"EUconst_NA","v":"netaik."},{"$f":"EUconst_NA","v":"netaik."},"netaik.","netaik.","netaik."]
[{"$f":"Translations!$B$1116","v":"Medžiaga – Acetonitrilas"},"Annex VI MRR","t",2.1440000000000001,"tCO2/t","netaik.","netaik.",0.58520000000000005,{"$f":"EUconst_tCpt","v":"t C/t"},{"$f":"TRUE","v":true},{"$f":"TRUE","v":true},"t","netaik.","GJ/t","netaik.",{"$f":"EUconst_tCO2pt","v":"tCO2/t"},1,1,"netaik.","netaik.","netaik."]
[{"$f":"Translations!$B$1117","v":"Medžiaga – Akrilonitrilas"},"Annex VI MRR","t",2.4420000000000002,"tCO2/t","netaik.","netaik.",0.66639999999999999,"t C/t",{"$f":"TRUE","v":true},{"$f":"TRUE","v":true},"t","netaik.","GJ/t","netaik.","tCO2/t",1,1,"netaik.","netaik.","netaik."]
[{"$f":"Translations!$B$1118","v":"Medžiaga – Butadienas"},"Annex VI MRR","t",3.254,"tCO2/t","netaik.","netaik.",0.88800000000000001,"t C/t",{"$f":"TRUE","v":true},{"$f":"TRUE","v":true},"t","netaik.","GJ/t","netaik.","tCO2/t",1,1,"netaik.","netaik.","netaik."]
[{"$f":"Translations!$B$1119","v":"Medžiaga – Suodžiai"},"Annex VI MRR","t",3.5539999999999998,"tCO2/t","netaik.","netaik.",0.97,"t C/t",{"$f":"TRUE","v":true},{"$f":"TRUE","v":true},"t","netaik.","GJ/t","netaik.","tCO2/t",1,1,"netaik.","netaik.","netaik."]
[{"$f":"Translations!$B$1120","v":"Medžiaga – Etilenas"},"Annex VI MRR","t",3.1360000000000001,"tCO2/t","netaik.","netaik.",0.85599999999999998,"t C/t",{"$f":"TRUE","v":true},{"$f":"TRUE","v":true},"t","netaik.","GJ/t","netaik.","tCO2/t",1,1,"netaik.","netaik.","netaik."]
[{"$f":"Translations!$B$1121","v":"Medžiaga – Etileno dichloridas"},"Annex VI MRR","t",0.89800000000000002,"tCO2/t","netaik.","netaik.",0.245,"t C/t",{"$f":"TRUE","v":true},{"$f":"TRUE","v":true},"t","netaik.","GJ/t","netaik.","tCO2/t",1,1,"netaik.","netaik.","netaik."]
[{"$f":"Translations!$B$1122","v":"Medžiaga – Etilenglikolis"},"Annex VI MRR","t",1.4179999999999999,"tCO2/t","netaik.","netaik.",0.38700000000000001,"t C/t",{"$f":"TRUE","v":true},{"$f":"TRUE","v":true},"t","netaik.","GJ/t","netaik.","tCO2/t",1,1,"netaik.","netaik.","netaik."]
[{"$f":"Translations!$B$1123","v":"Medžiaga – Oksiranas"},"Annex VI MRR","t",1.9970000000000001,"tCO2/t","netaik.","netaik.",0.54500000000000004,"t C/t",{"$f":"TRUE","v":true},{"$f":"TRUE","v":true},"t","netaik.","GJ/t","netaik.","tCO2/t",1,1,"netaik.","netaik.","netaik."]
[{"$f":"Translations!$B$1124","v":"Medžiaga – Vandenilio cianidas"},"Annex VI MRR","t",1.6279999999999999,"tCO2/t","netaik.","netaik.",0.44440000000000002,"t C/t",{"$f":"TRUE","v":true},{"$f":"TRUE","v":true},"t","netaik.","GJ/t","netaik.","tCO2/t",1,1,"netaik.","netaik.","netaik."]
[{"$f":"Translations!$B$1125","v":"Medžiaga – Metanolis"},"Annex VI MRR","t",1.3740000000000001,"tCO2/t","netaik.","netaik.",0.375,"t C/t",{"$f":"TRUE","v":true},{"$f":"TRUE","v":true},"t","netaik.","GJ/t","netaik.","tCO2/t",1,1,"netaik.","netaik.","netaik."]
[{"$f":"Translations!$B$1008","v":"Dujinis – Metanas"},"Annex VI MRR","t",2.7440000000000002,"tCO2/t","netaik.","netaik.",0.749,"t C/t",{"$f":"TRUE","v":true},{"$f":"TRUE","v":true},"t","netaik.","GJ/t","netaik.","tCO2/t",1,1,"netaik.","netaik.","netaik."]
[{"$f":"Translations!$B$989","v":"Dujinis – Propanas"},"Annex VI MRR","t",2.9929999999999999,"tCO2/t","netaik.","netaik.",0.81699999999999995,"t C/t",{"$f":"TRUE","v":true},{"$f":"TRUE","v":true},"t","netaik.","GJ/t","netaik.","tCO2/t",1,1,"netaik.","netaik.","netaik."]
[{"$f":"Translations!$B$1126","v":"Medžiaga – Propilenas"},"Annex VI MRR","t",3.137,"tCO2/t","netaik.","netaik.",0.85629999999999995,"t C/t",{"$f":"TRUE","v":true},{"$f":"TRUE","v":true},"t","netaik.","GJ/t","netaik.","tCO2/t",1,1,"netaik.","netaik.","netaik."]
[{"$f":"Translations!$B$1127","v":"Medžiaga – Vinilchlorido monomeras"},"Annex VI MRR","t",1.407,"tCO2/t","netaik.","netaik.",0.38400000000000001,"t C/t",{"$f":"TRUE","v":true},{"$f":"TRUE","v":true},"t","netaik.","GJ/t","netaik.","tCO2/t",1,1,"netaik.","netaik.","netaik."]
[{"$f":"EUconst_NA","v":"netaik."},"netaik.","t",{"$f":"EUconst_NA","v":"netaik."},"netaik.","netaik.","netaik.","netaik.","netaik.",{"$f":"FALSE","v":false},{"$f":"TRUE","v":true},{"$f":"EUconst_NA","v":"netaik."},"netaik.","netaik.","netaik.","netaik.","netaik.","netaik.","netaik.","netaik.","netaik."]
["netaik.","netaik.","t","netaik.","netaik.","netaik.","netaik.","netaik.","netaik.",{"$f":"FALSE","v":false},{"$f":"TRUE","v":true},"netaik.","netaik.","netaik.","netaik.","netaik.","netaik.","netaik.","netaik.","netaik.","netaik."]
["netaik.","netaik.","t","netaik.","netaik.","netaik.","netaik.","netaik.","netaik.",{"$f":"FALSE","v":false},{"$f":"TRUE","v":true},"netaik.","netaik.","netaik.","netaik.","netaik.","netaik.","netaik.","netaik.","netaik.","netaik."]
["netaik.","netaik.","t","netaik.","netaik.","netaik.","netaik.","netaik.","netaik.",{"$f":"FALSE","v":false},{"$f":"TRUE","v":true},"netaik.","netaik.","netaik.","netaik.","netaik.","netaik.","netaik.","netaik.","netaik.","netaik."]
["netaik.","netaik.","t","netaik.","netaik.","netaik.","netaik.","netaik.","netaik.",{"$f":"FALSE","v":false},{"$f":"TRUE","v":true},"netaik.","netaik.","netaik.","netaik.","netaik.","netaik.","netaik.","netaik.","netaik.","netaik."]
["netaik.","netaik.","t","netaik.","netaik.","netaik.","netaik.","netaik.","netaik.",{"$f":"FALSE","v":false},{"$f":"TRUE","v":true},"netaik.","netaik.","netaik.","netaik.","netaik.","netaik.","netaik.","netaik.","netaik.","netaik."]
["netaik.","netaik.","t","netaik.","netaik.","netaik.","netaik.","netaik.","netaik.",{"$f":"FALSE","v":false},{"$f":"TRUE","v":true},"netaik.","netaik.","netaik.","netaik.","netaik.","netaik.","netaik.","netaik.","netaik.","netaik."]
["netaik.","netaik.","t","netaik.","netaik.","netaik.","netaik.","netaik.","netaik.",{"$f":"FALSE","v":false},{"$f":"TRUE","v":true},"netaik.","netaik.","netaik.","netaik.","netaik.","netaik.","netaik.","netaik.","netaik.","netaik."]
["netaik.","netaik.","t","netaik.","netaik.","netaik.","netaik.","netaik.","netaik.",{"$f":"FALSE","v":false},{"$f":"TRUE","v":true},"netaik.","netaik.","netaik.","netaik.","netaik.","netaik.","netaik.","netaik.","netaik.","netaik."]
["netaik.","netaik.","t",{"$f":"EUconst_NA","v":"netaik."},"netaik.","netaik.","netaik.","netaik.","netaik.",{"$f":"FALSE","v":false},{"$f":"TRUE","v":true},"netaik.","netaik.","netaik.","netaik.",{"$f":"EUconst_NA","v":"netaik."},{"$f":"EUconst_NA","v":"netaik."},{"$f":"EUconst_NA","v":"netaik."},"netaik.","netaik.","netaik.",null,null,null,null,null,{"$f":"IF(A204=EUconst_NA,\"\",COUNTIF($A$77:$A$204,A204)>1)","v":""}]
[{"$f":"Translations!$B$1148","v":"<Sąrašo PABAIGA>"}]
[]
[null,null,{"$f":"Translations!$B$238","v":"A metodas"},null,{"$f":"Translations!$B$239","v":"B Metodas"}]
[null,null,{"$f":"Translations!$B$1149","v":"ITF (NITFCF4)"},{"$f":"Translations!$B$1150","v":"ITF (C2F6)"},{"$f":"Translations!$B$1149","v":"ITF (NITFCF4)"},{"$f":"Translations!$B$1150","v":"ITF (C2F6)"}]
[{"$f":"Translations!$B$288","v":"PFCCellTypes"},{"$f":"Translations!$B$1151","v":"Šaltinis"},{"$f":"INDEX(PFCUnits,3)","v":"(kg CF4/t Al)/(min./vienoje elektrolizės vonioje per parą)"},{"$f":"INDEX(PFCUnits,7)","v":"t C2F6/t CF4"},{"$f":"INDEX(PFCUnits,6)","v":"(kg CF4)/(t Al mV)"},{"$f":"INDEX(PFCUnits,7)","v":"t C2F6/t CF4"}]
[{"$f":"Translations!$B$859","v":"Medžiaga – Tiekimas į vonių su termiškai apdorotais perforuotais anodais centrą (CWPB)"},"Annex IV MRR",0.14299999999999999,0.121,1.1599999999999999,0.121]
[{"$f":"Translations!$B$860","v":"Medžiaga – Sioderbergo vonia su vertikaliais strypais (VSS)"},"Annex IV MRR",9.1999999999999998E-2,5.2999999999999999E-2,{"$f":"EUconst_NA","v":"netaik."},5.2999999999999999E-2]
[{"$f":"Translations!$B$861","v":"Medžiaga – Tiekimas į vonių su termiškai apdorotais perforuotais anodais kraštą (SWPB)"},"Annex IV MRR",{"$f":"EUconst_NA","v":"netaik."},"netaik.",{"$f":"EUconst_NA","v":"netaik."},{"$f":"EUconst_NA","v":"netaik."}]
[{"$f":"Translations!$B$862","v":"Medžiaga – Sioderbergo vonia su horizontaliais strypais (HSS)"},"Annex IV MRR","netaik.","netaik.",{"$f":"EUconst_NA","v":"netaik."},{"$f":"EUconst_NA","v":"netaik."}]
[{"$f":"EUconst_NA","v":"netaik."},{"$f":"EUconst_NA","v":"netaik."},"netaik.","netaik.",{"$f":"EUconst_NA","v":"netaik."},{"$f":"EUconst_NA","v":"netaik."}]
[null,null,"MSPara_PFCMethA",null,"MSPara_PFCMethB"]
[]
[]
[{"$f":"Translations!$B$1062","v":"Medžiaga – Kitų rūšių žaliavos"}]
[{"$f":"Translations!$B$1063","v":"Medžiaga – Kitų rūšių produktai"}]
[{"$f":"Translations!$B$1064","v":"Medžiaga – Kitos medžiagos"}]
[{"$f":"Translations!$B$1065","v":"Medžiaga – Kalkakmenis"}]
[{"$f":"Translations!$B$1066","v":"Medžiaga – Dolomitas"}]
[{"$f":"Translations!$B$1067","v":"Medžiaga – Natrio vandenilio karbonatas"}]
[{"$f":"Translations!$B$1068","v":"Medžiaga – Natrio karbonatas"}]
[{"$f":"Translations!$B$1069","v":"Medžiaga – Kalio karbonatas (potašas)"}]
[{"$f":"Translations!$B$1070","v":"Medžiaga – CaCO3"}]
[{"$f":"Translations!$B$1071","v":"Medžiaga – MgCO3"}]
[{"$f":"Translations!$B$1072","v":"Medžiaga – Na2CO3"}]
[{"$f":"Translations!$B$1073","v":"Medžiaga – BaCO3"}]
[{"$f":"Translations!$B$1074","v":"Medžiaga – Li2CO3"}]
[{"$f":"Translations!$B$1075","v":"Medžiaga – K2CO3"}]
[{"$f":"Translations!$B$1076","v":"Medžiaga – SrCO3"}]
[{"$f":"Translations!$B$1077","v":"Medžiaga – NaHCO3"}]
[{"$f":"Translations!$B$1078","v":"Medžiaga – FeCO3"}]
[{"$f":"Translations!$B$1079","v":"Medžiaga – Kiti karbonatai"}]
[{"$f":"Translations!$B$1080","v":"Medžiaga – Gipsas"}]
[{"$f":"Translations!$B$1081","v":"Medžiaga – Proceso medžiaga"}]
[{"$f":"Translations!$B$1082","v":"Medžiaga – CaO"}]
[{"$f":"Translations!$B$1083","v":"Medžiaga – MgO"}]
[{"$f":"Translations!$B$1084","v":"Medžiaga – BaO"}]
[{"$f":"Translations!$B$1085","v":"Medžiaga – Kiti produktai"}]
[{"$f":"Translations!$B$1086","v":"Medžiaga – Rūdos"}]
[{"$f":"Translations!$B$1087","v":"Medžiaga – Priedai"}]
[{"$f":"Translations!$B$1088","v":"Medžiaga – Metalo laužas"}]
[{"$f":"Translations!$B$1089","v":"Medžiaga – Geležies rūdos"}]
[{"$f":"Translations!$B$1090","v":"Medžiaga – Aukštakrosnių šlakas"}]
[{"$f":"Translations!$B$1091","v":"Medžiaga – Kitų rūšių šlakas"}]
[{"$f":"Translations!$B$1092","v":"Medžiaga – Kitų rūšių reduktoriai"}]
[{"$f":"Translations!$B$1093","v":"Medžiaga – Tiesiogiai redukuojama geležis"}]
[{"$f":"Translations!$B$1094","v":"Medžiaga – EAF anglies elektrodai"}]
[{"$f":"Translations!$B$1095","v":"Medžiaga – EAF krūvio anglis"}]
[{"$f":"Translations!$B$1096","v":"Medžiaga – Karštojo briketavimo geležis"}]
[{"$f":"Translations!$B$1097","v":"Medžiaga – Perkama geležis luitais"}]
[{"$f":"Translations!$B$1098","v":"Medžiaga – Plienas"}]
[{"$f":"Translations!$B$1099","v":"Medžiaga – Plieno laužas"}]
[{"$f":"Translations!$B$1100","v":"Medžiaga – Išlydytas metalas"}]
[{"$f":"Translations!$B$1101","v":"Medžiaga – Lydžiosios sudedamosios dalys"}]
[{"$f":"Translations!$B$1102","v":"Medžiaga – Žaliavinis mišinys"}]
[{"$f":"Translations!$B$1103","v":"Medžiaga – Cemento klinkeris"}]
[{"$f":"Translations!$B$1104","v":"Medžiaga – Pašalinės dulkės"}]
[{"$f":"Translations!$B$1105","v":"Medžiaga – Pašaliniai miltai"}]
[{"$f":"Translations!$B$1106","v":"Medžiaga – Kitos pašalinės medžiagos"}]
[{"$f":"Translations!$B$1107","v":"Medžiaga – Lakieji pelenai"}]
[{"$f":"Translations!$B$1108","v":"Medžiaga – Kitos medžiagos, kurių sudėtyje yra anglies"}]
[{"$f":"Translations!$B$1109","v":"Medžiaga – Žaliavinis magnezitas"}]
[{"$f":"Translations!$B$1110","v":"Medžiaga – Kalkės"}]
[{"$f":"Translations!$B$1111","v":"Medžiaga – Magnio oksidas"}]
[{"$f":"Translations!$B$1112","v":"Medžiaga – Degimo krosnies dulkės"}]
[{"$f":"Translations!$B$1113","v":"Medžiaga – Molis"}]
[{"$f":"Translations!$B$1114","v":"Medžiaga – Plytos"}]
[{"$f":"Translations!$B$1115","v":"Medžiaga – Kitos cheminės medžiagos"}]
[{"$f":"Translations!$B$1116","v":"Medžiaga – Acetonitrilas"}]
[{"$f":"Translations!$B$1117","v":"Medžiaga – Akrilonitrilas"}]
[{"$f":"Translations!$B$1118","v":"Medžiaga – Butadienas"}]
[{"$f":"Translations!$B$1119","v":"Medžiaga – Suodžiai"}]
[{"$f":"Translations!$B$1120","v":"Medžiaga – Etilenas"}]
[{"$f":"Translations!$B$1121","v":"Medžiaga – Etileno dichloridas"}]
[{"$f":"Translations!$B$1122","v":"Medžiaga – Etilenglikolis"}]
[{"$f":"Translations!$B$1123","v":"Medžiaga – Oksiranas"}]
[{"$f":"Translations!$B$1124","v":"Medžiaga – Vandenilio cianidas"}]
[{"$f":"Translations!$B$1125","v":"Medžiaga – Metanolis"}]
[{"$f":"Translations!$B$1126","v":"Medžiaga – Propilenas"}]
[{"$f":"Translations!$B$1127","v":"Medžiaga – Vinilchlorido monomeras"}]
[{"$f":"Translations!$B$1128","v":"Medžiaga – Maleino rūgšties anhidridas"}]
[{"$f":"Translations!$B$1129","v":"Medžiaga – Ftalio rūgšties anhidridas"}]
[{"$f":"Translations!$B$1130","v":"Medžiaga – Aromatiniai angliavandeniliai"}]
[{"$f":"Translations!$B$1131","v":"Medžiaga – Tereftalio rūgštis"}]
[{"$f":"Translations!$B$1132","v":"Medžiaga – Fenolis"}]
[{"$f":"Translations!$B$1133","v":"Medžiaga – Acetonas"}]
[{"$f":"Translations!$B$1134","v":"Medžiaga – Kumenas"}]
[{"$f":"Translations!$B$1135","v":"Medžiaga – Skruzdžių rūgštis"}]
[{"$f":"Translations!$B$1136","v":"Medžiaga – Acto rūgštis"}]
[{"$f":"Translations!$B$1137","v":"Medžiaga – Formaldehidas"}]
[{"$f":"Translations!$B$1138","v":"Medžiaga – Acto anhidridas"}]
[{"$f":"Translations!$B$1139","v":"Medžiaga – Ftalio rūgštis"}]
[{"$f":"Translations!$B$1140","v":"Medžiaga – Akrilo rūgštis"}]
[{"$f":"Translations!$B$859","v":"Medžiaga – Tiekimas į vonių su termiškai apdorotais perforuotais anodais centrą (CWPB)"}]
[{"$f":"Translations!$B$860","v":"Medžiaga – Sioderbergo vonia su vertikaliais strypais (VSS)"}]
[{"$f":"Translations!$B$861","v":"Medžiaga – Tiekimas į vonių su termiškai apdorotais perforuotais anodais kraštą (SWPB)"}]
[{"$f":"Translations!$B$862","v":"Medžiaga – Sioderbergo vonia su horizontaliais strypais (HSS)"}]
[{"$f":"Translations!$B$1141","v":"Medžiaga – Kiti elektrodai"}]
[{"$f":"Translations!$B$1142","v":"Medžiaga – Kitos"}]
[{"$f":"Translations!$B$988","v":"Dujinis – Etanas"}]
[{"$f":"Translations!$B$989","v":"Dujinis – Propanas"}]
[{"$f":"Translations!$B$990","v":"Dujinis – Butanas"}]
[{"$f":"Translations!$B$999","v":"Dujinis – Gamtinės dujos"}]
[{"$f":"Translations!$B$1000","v":"Dujinis – Dujų gamyklos dujos"}]
[{"$f":"Translations!$B$1001","v":"Dujinis – Koksavimo dujos"}]
[{"$f":"Translations!$B$1002","v":"Dujinis – Aukštakrosnių dujos"}]
[{"$f":"Translations!$B$1003","v":"Dujinis – Deguoninių plieno aukštakrosnių dujos"}]
[{"$f":"Translations!$B$1004","v":"Dujinis – Biodujos"}]
[{"$f":"Translations!$B$1005","v":"Dujinis – Dumblo dujos"}]
[{"$f":"Translations!$B$1006","v":"Dujinis – Sąvartynų dujos"}]
[{"$f":"Translations!$B$1007","v":"Dujinis – Anglies monoksidas"}]
[{"$f":"Translations!$B$1008","v":"Dujinis – Metanas"}]
[{"$f":"Translations!$B$1009","v":"Dujinis – Kitų rūšių dujinis kuras"}]
[{"$f":"Translations!$B$1010","v":"Dujinis – Kitų rūšių dujinė biomasė"}]
[{"$f":"Translations!$B$991","v":"Skystasis – Dyzelinis krosnių kuras"}]
[{"$f":"Translations!$B$992","v":"Skystasis – Gazolis"}]
[{"$f":"Translations!$B$993","v":"Skystasis – Gazolinas"}]
[{"$f":"Translations!$B$994","v":"Skystasis – Valytas žibalas"}]
[{"$f":"Translations!$B$995","v":"Skystasis – Žibalas"}]
[{"$f":"Translations!$B$996","v":"Skystasis – Reaktyvinis žibalas (Jet A1 arba Jet A)"}]
[{"$f":"Translations!$B$997","v":"Skystasis – Reaktyvinis gazolinas (benzinas) (Jet B)"}]
[{"$f":"Translations!$B$998","v":"Skystasis – Aviacinis gazolinas (benzinas) (AvGas)"}]
[{"$f":"Translations!$B$1011","v":"Skystasis – Labai lengvos distiliacijos kuras"}]
[{"$f":"Translations!$B$1012","v":"Skystasis – Vidutinės distiliacijos kuras"}]
[{"$f":"Translations!$B$1013","v":"Skystasis – Sunkusis mazutas"}]
[{"$f":"Translations!$B$1014","v":"Skystasis – Suskystintosios naftos dujos"}]
[{"$f":"Translations!$B$1015","v":"Skystasis – Žalia nafta"}]
[{"$f":"Translations!$B$1016","v":"Skystasis – Orimulsija"}]
[{"$f":"Translations!$B$1017","v":"Skystasis – Gamtinių dujų kondensatai"}]
[{"$f":"Translations!$B$1018","v":"Skystasis – Automobilinis benzinas"}]
[{"$f":"Translations!$B$1019","v":"Skystasis – Skalūnų alyva"}]
[{"$f":"Translations!$B$1020","v":"Skystasis – Dujos ir (arba) dyzelinas"}]
[{"$f":"Translations!$B$1021","v":"Skystasis – Mazuto distiliavimo likutis"}]
[{"$f":"Translations!$B$1022","v":"Skystasis – Pirminis benzinas"}]
[{"$f":"Translations!$B$1023","v":"Skystasis – Tepalai"}]
[{"$f":"Translations!$B$1024","v":"Skystasis – Vaitspiritas ir SBP"}]
[{"$f":"Translations!$B$1025","v":"Skystasis – Skalūnų alyva ir gudoniniai smėliai"}]
[{"$f":"Translations!$B$1026","v":"Skystasis – Akmens anglių briketai"}]
[{"$f":"Translations!$B$1027","v":"Skystasis – Alyvų atliekos"}]
[{"$f":"Translations!$B$1028","v":"Skystasis – Biobenzinas"}]
[{"$f":"Translations!$B$1029","v":"Skystasi – Biodyzelinas"}]
[{"$f":"Translations!$B$1030","v":"Skystasis – Bitumas"}]
[{"$f":"Translations!$B$1031","v":"Skystasis – Organiniai tirpikliai"}]
[{"$f":"Translations!$B$1032","v":"Skystasis – Kitų rūšių skystasis kuras"}]
[{"$f":"Translations!$B$1033","v":"Skystasis – Kitų rūšių skystoji biomasė"}]
[{"$f":"Translations!$B$1040","v":"Kietasis – Koksas"}]
[{"$f":"Translations!$B$1041","v":"Kietasis – Naftos koksas"}]
[{"$f":"Translations!$B$1042","v":"Kietasis – Akmens anglys"}]
[{"$f":"Translations!$B$1043","v":"Kietasis – Lignitas"}]
[{"$f":"Translations!$B$1044","v":"Kietasis – Antracitas"}]
[{"$f":"Translations!$B$1045","v":"Kietasis – Koksinės anglys"}]
[{"$f":"Translations!$B$1046","v":"Kietasis – Subbituminės akmens anglys"}]
[{"$f":"Translations!$B$1047","v":"Kietasis – Kitos bituminės akmens anglys"}]
[{"$f":"Translations!$B$1048","v":"Kietasis – Dujinis koksas"}]
[{"$f":"Translations!$B$1049","v":"Kietasis – Parafinas"}]
[{"$f":"Translations!$B$1050","v":"Kietasis – Sulfatinės išviros"}]
[{"$f":"Translations!$B$1051","v":"Kietasis – Malkos"}]
[{"$f":"Translations!$B$1052","v":"Kietasis – Mediena (ne atliekos)"}]
[{"$f":"Translations!$B$1053","v":"Kietasis – Mediena (atliekos)"}]
[{"$f":"Translations!$B$1054","v":"Kietasis – Durpės"}]
[{"$f":"Translations!$B$1055","v":"Kietasis – Kanalizacijos dumblas"}]
[{"$f":"Translations!$B$1056","v":"Kietasis – Komunalinių nuotekų dumblas"}]
[{"$f":"Translations!$B$1057","v":"Kietasis – Akmens anglių degutas"}]
[{"$f":"Translations!$B$1058","v":"Kietasis – Medžio anglys"}]
[{"$f":"Translations!$B$1059","v":"Kietasis – Panaudos padangos"}]
[{"$f":"Translations!$B$1060","v":"Kietasis – Kitų rūšių kietasis kuras"}]
[{"$f":"Translations!$B$1061","v":"Kietasis – Kitų rūšių kietoji biomasė"}]
[{"$f":"Translations!$B$1034","v":"Atliekos – Komunalinės ir pramoninės atliekos"}]
[{"$f":"Translations!$B$1035","v":"Atliekos – Pramoninės atliekos"}]
[{"$f":"Translations!$B$1036","v":"Naftos perdirbimo įmonių žaliava – Naftos perdirbimo įmonių dujos"}]
[{"$f":"Translations!$B$1037","v":"Naftos perdirbimo įmonių žaliava – Liekanos"}]
[{"$f":"Translations!$B$1038","v":"Naftos perdirbimo įmonių žaliava – Kita naftos perdirbimo įmonių žaliava"}]
[{"$f":"Translations!$B$1039","v":"Naftos perdirbimo įmonių žaliava – Kiti naftos produktai"}]

{"sheet":"Translations","index":14,"n_rows":1151,"n_cols":2,"rows_kept":1151,"cut":false,"hidden":true,"merged":[]}
[null,"TEXT (Language Version)"]
[3,"Lapų pavadinimai yra pusjuodžiu, o skirsnių pavadinimai – įprastu šriftu."]
[4,"a_Contents"]
[5,"b_Guidelines and conditions"]
[9,"Apie veiklos vykdytoją"]
[11,"Kontaktiniai duomenys "]
[14,"Apie įrenginio išmetamąsias ŠESD"]
[28,"Išmetamo PFC kiekio nustatymas"]
[39,"Vartojamų sąvokų ir santrumpų sąrašas"]
[40,"Papildoma informacija"]
[43,"Pastabos"]
[44,"Informacija apie šią rinkmeną"]
[46,"Įrenginio pavadinimas"]
[47,"Unikalus įrenginio kodas"]
[50,"Data"]
[51,"Teisiškai atsakingo asmens asmenvardis ir parašas"]
[52,"Informacija apie šablono versiją"]
[53,"Šabloną pateikė"]
[54,"Paskelbimo data"]
[55,"Kalba"]
[56,"Failo pavadinimas"]
[57,"b.\nGuide-lines"]
[58,"Naršymo laukas"]
[59,"Turinys"]
[60,"Ankstesnis lapas"]
[61,"Kitas lapas"]
[62,"Lapo viršus"]
[63,"Lapo galas"]
[64,"GAIRĖS IR SĄLYGOS"]
[66,"Direktyvos tekstą galima atsisiųsti iš"]
[67,"http://eur-lex.europa.eu/LexUriServ/LexUriServ.do?uri=CONSLEG:2003L0087:20090625:LT:PDF"]
[68,"Stebėsenos ir ataskaitų reglamente (2012 m. birželio 21 d. Komisijos reglamentas (ES) Nr. 601/2012) (toliau – „SAR“) išsamiau nustatyti stebėsenos ir atskaitų teikimo reikalavimai. SAR tekstą galima atsisiųsti iš"]
[69,"http://eur-lex.europa.eu/LexUriServ/LexUriServ.do?uri=OJ:L:2012:181:0030:0104:LT:PDF"]
[72,"Be to, 74 str. 1 dalyje teigiama:"]
[73,"Valstybės narės gali reikalauti, kad pateikdamas stebėsenos planus ir stebėsenos plano keitimus bei metines išmetamųjų ŠESD kiekio ataskaitas, tonkilometrių duomenų ataskaitas, patikros ataskaitas bei patobulinimo ataskaitas veiklos vykdytojas ir orlaivio naudotojas naudotų elektroninius šablonus ar tam tikrus failų formatus. \nTokie valstybių narių nustatomi šablonai arba failų formatų specifikacijos apima bent tą informaciją, kuri numatyta Komisijos skelbiamuose elektroniniuose šablonuose arba failų formatų specifikacijose."]
[79,"Visi Komisijos rekomendaciniai dokumentai dėl SAR pateikiami"]
[80,"http://ec.europa.eu/clima/policies/ets/monitoring/index_en.htm"]
[81,"Prieš pradėdami naudotis šiuo failu, atlikite tokius veiksmus:"]
[82,"Atidžiai perskaitykite šablono pildymo instrukcijas."]
[83,"Išsiaiškinkite, kuri kompetentinga institucija (KI) yra atsakinga už jūsų įrenginį toje valstybėje narėje, kur yra jūsų įrenginys (vienoje valstybėje narėje gali būti daugiau negu viena KI). Atkreipkite dėmesį, kad „valstybė narė“ čia reiškia visas ATLPS valstybes, ne tik ES valstybes nares."]
[84,"Patikrinkite KI tinklalapyje arba tiesiogiai susisiekite su KI ir sužinokite, ar turite reikiamą šablono versiją. Šablono versija (ypač failo pavadinimas) yra aiškiai nurodyta šio failo tituliniame puslapyje."]
[85,"Kai kurios valstybės narės gali reikalauti, kad naudotumėte kitą sistemą, pavyzdžiui, internete esančias formas, o ne elektronines lenteles. Pasitikrinkite, kokius reikalavimus kelia jūsų valstybė narė. Apie tai išsamesnės informacijos jums suteiks KI."]
[87,"Išsamų adresą pateikia valstybė narė."]
[93,"Informacijos šaltiniai:"]
[94,"ES tinklalapiai:"]
[95,"ES teisės aktai:"]
[96,"http://eur-lex.europa.eu/en/index.htm"]
[97,"Bendroji informacija apie ES ATLPS"]
[98,"http://ec.europa.eu/clima/policies/ets/index_en.htm"]
[99,"Stebėsena ir ataskaitų teikimas pagal ES ATLPS "]
[100,"Kitos interneto svetainės"]
[101,"<pateikia valstybės narės>"]
[102,"Pagalbos tarnyba"]
[103,"<jei taikoma, nurodo valstybės narės>"]
[104,"Kaip naudotis šiuo failu"]
[106,"Rekomenduojame pildyti failą nuo pradžios. Yra kelios pildyti formą padėsiančios funkcijos, kurios priklauso nuo to, kas buvo įrašyta pirmiau, pavyzdžiui, laukelių spalva pasikeis, jei į juos nieko nereikia įrašyti (žr. spalvų kodus toliau)."]
[107,"Keliuose laukeliuose duomenis galite pasirinkti iš jau nustatytų duomenų. Norėdami pasirinkti iš tokio išskleidžiamojo sąrašo, spustelėkite pelės mygtuku dešiniajame laukelio krašte arba pasirinkite laukelį ir laikydami paspaudę klavišą „Alt“ slinkite žymikliu žemyn. Į kai kuriuos laukelius galėsite įrašyti savo tekstą, net jei ir yra toks išskleidžiamasis sąrašas. Tai galima padaryti tada, kai išskleidžiamajame sąraše yra tuščių vietų."]
[108,"Spalvų kodai ir šriftai"]
[109,"Juodas paryškintas tekstas."]
[110,"Toks tekstas – tai Komisijos šablono tekstas. Jis turi likti toks, koks yra."]
[111,"Smulkesnis  tekstas pasviruoju šriftu:"]
[112,"Tokio šrifto tekstu pateikiama daugiau paaiškinimų. Valstybės narės gali įrašyti daugiau paaiškinimų savo šablono versijose."]
[114,"Šviesiai geltonų laukelių pildyti neprivaloma."]
[118,"Šviesiai pilkos vietos skirtos naršyti ir hipersaitams nurodyti."]
[120,"Šis šablonas yra apsaugotas taip, kad duomenis būtų galima įrašyti tik į geltonus laukelius. Tačiau siekiant skaidrumo nenustatyta jokio slaptažodžio. Todėl galima matyti visas formules. Naudojant šį failą duomenims rinkti, patariama apsaugą palikti. Apsauga turėtų būti panaikinama tik siekiant patikrinti, ar veikia formulės. Patariama tai daryti atskirame faile."]
[121,"Siekiant, kad formulės netyčia nepasikeistų (dėl to dažniausiai jų rezultatai tampa neteisingi), \nlabai svarbu NENAUDOTI funkcijų IŠKIRPTI ir ĮKLIJUOTI.\nJei norite perkelti duomenis, pirmiau juos NUKOPIJUOKITE ir ĮKLIJUOKITE, o tik po to ištrinkite duomenis senoje (netinkamoje) vietoje."]
[122,"Duomenų laukai nebuvo optimizuoti konkretiems skaitmeniniams ir kitiems formatams. Tačiau lapų apsauga yra ribota, kad galėtumėte naudotis savo formatais. Visų pirma, galite patys nuspręsti, kiek dešimtainių trupmenų skaitmenų norite matyti. Iš esmės skaičiavimo tikslumas nepriklauso nuo skaitmenų po kablelio skaičiaus. MS Excel pasirinktis „Precision as displayed“ (Rodomų duomenų tikslumu) iš esmės turėtų būti neaktyvi. Daugiau informacijos apie tai rasite paspaudę MS Excel „Help“ funkciją."]
[123,"ATSAKOMYBĖS APRIBOJIMAS. Visos formulės yra parengtos atidžiai ir kruopščiai. Tačiau klaidos tikimybės visiškai atmesti negalima.\nKaip paaiškinta pirmiau, yra visos galimybės patikrinti skaičiavimų teisingumą. Nei šios rinkmenos kūrėjai, nei Europos Komisija neatsako už galimą žalą, padarytą dėl neteisingų ar klaidinančių pateiktų skaičiavimų rezultatų. \nVisa atsakomybė už kompetentingai institucijai pateikiamų duomenų teisingumą tenka šio failo naudotojui (t. y. ATLPS įrenginio veiklos vykdytojui)."]
[126,"Kompetentinga institucija gali nustatyti failų formato apribojimus. Naudokite tik standartinius raštinės failų tipus, kaip antai doc, xls, pdf. Dėl kitų priimtinų failų formatų atsiklauskite kompetentingos institucijos arba paieškokite informacijos jos interneto svetainėje."]
[128,"Čia išvardijamos konkrečios valstybės narės gairės:"]
[139,"pateiktas kompetentingai institucijai"]
[141,"grąžintas su pastabomis"]
[144,"patvirtintas kompetentingos institucijos"]
[148,"Veiklos vykdytojas"]
[149,"Įrenginys"]
[152,"Valstybė narė"]
[153,"Leidimo prekiauti taršos leidimais numeris"]
[154,"Valstybė narė / KI prefiksas"]
[155,"Veiklos vykdytojo pavadinimas"]
[158,"Įrenginio pavadinimas ir jo teritorijos pavadinimas"]
[159,"Teritorijos pavadinimas"]
[162,"Čia pateikite konkrečias valstybės narės gaires dėl įrenginių pavadinimų."]
[163,"Įrenginio adresas arba jo buvimo vieta"]
[164,"1 adreso eilutė"]
[165,"2 adreso eilutė"]
[166,"Miestas:"]
[167,"Valstybė / provincija / regionas"]
[169,"Šalis"]
[171,"Čia pateikite konkrečias valstybės narės gaires dėl koordinačių nuorodų teikimo."]
[175,"Pareigos:"]
[177,"Pavardė:"]
[178,"Pareigos"]
[179,"Organizacijos pavadinimas (jei kita nei veiklos vykdytojas)"]
[180,"Telefono numeris"]
[181,"El. paštas"]
[185,"Stebėsenos metodai"]
[187,"Matavimo taškai"]
[188,"Sukėlikliai"]
[199,"Apie kiekvieną jūsų įrenginyje vykdomą į ES ATLPS direktyvos I priedą įtrauktą veiklos rūšį pateikite šias technines detales."]
[200,"Taip pat nurodykite kiekvienos jūsų įrenginyje vykdomos į I priedą įtrauktos veiklos pajėgumą."]
[201,"Atkreipkite dėmesį, kad šiame kontekste „pajėgumas“ reiškia:"]
[202,"Nominalus šiluminis našumas (tuo atveju, jei ATLPS taikymo veiklai slenkstinė riba yra 20MW), kuris yra sparta, kuria gali būti deginamas kuras įrenginiui nuolat dirbant didžiausiu pajėgumu, padauginta iš kuro šilumingumo vertės ir išreikšta šilumos megavatais. "]
[203,"Gamybos pajėgumas tų I priede nurodytų veiklos rūšių atveju, kai ATLPS taikymas priklauso nuo gamybos pajėgumo. "]
[204,"Įrenginio ribas prašome nurodyti  teisingai ir taip, kad jos atitiktų ES ATLPS direktyvos I priedą. Daugiau informacijos rasite Komisijos gairių dėl I priedo aiškinimo atitinkamuose skirsniuose. Tas dokumentas pateikiamas adresu"]
[205,"http://ec.europa.eu/clima/policies/ets/docs/guidance_interpretation_en.pdf "]
[206,"Čia įrašytas sąrašas toliau lentelėse, kuriose aprašant įrenginį reikia pateikti veiklos nuorodą, bus pateiktas kaip išskleidžiamasis sąrašas."]
[208,"I priedo veikla"]
[209,"Bendras veiklos pajėgumas "]
[210,"Pajėgumo vienetai"]
[211,"Išmestos ŠESD"]
[212,"Cemento klinkerio gamyba"]
[213,"t per dieną"]
[214,"Kuro deginimas"]
[215,"MW(šil)"]
[233,"Remiantis 21 str., išmetamųjų ŠESD kiekis gali būti nustatomas skaičiavimu grindžiama metodika (skaičiavimas) arba matavimu grindžiama metodika (matavimas), išskyrus atvejus, kai SAR nustatyta, kurią metodiką privaloma taikyti."]
[236,"CO2 skaičiavimo metodas:"]
[237,"CO2 matavimo metodas:"]
[238,"Alternatyvus metodas (22 str.):"]
[239,"Išmetamųjų N2O stebėsena"]
[240,"Išmetamųjų PFC stebėsena"]
[241,"Perduoto / būdingojo CO2 ir CCS stebėsena"]
[264,"Matavimo taškai, kuriuose įrengtos nuolatinio matavimo sistemos:"]
[266,"Išvardykite ir apibūdinkite visus matavimo taškus, kuriuose ŠESD matuojamos nuolatinio išmetamųjų ŠESD kiekio matavimo sistemomis (CEMS). Tai apima matavimo taškus vamzdynuose, naudojamuose CO2 transportui į geologinio saugojimo vietą."]
[272,"matavimo taško nuoroda M1, M2,..."]
[273,"Apibūdinimas"]
[277,"Išmatuotas ŠESD kiekis"]
[278,"Anglimis kūrenamo katilo kaminas, A matavimo platforma"]
[283,"Sukėliklio tipas – tai tam tikrų pagal SAR taikytinų taisyklių rinkinys. Šia klasifikacija paremti tolesni įpareigojimai, pvz., taikytinos pakopos."]
[287,"Sukėliklio pavadinimas"]
[288,"Sukėliklio tipas"]
[289,"Žaliavinis mišinys"]
[290,"Cemento klinkeris: Grindžiamas krosnies žaliava (A metodas)"]
[294,"Mazutas"]
[295,"Degimas: Kitas dujinis ir skystasis kuras"]
[312,"Didelis"]
[365,"Sukusis skaitiklis"]
[366,"Tiltinės svarstyklės"]
[388,"Parametras"]
[393,"C-turinys"]
[396,"Biomasės kiekis"]
[441,"Kuro kiekis [t] arba [Nm3]"]
[456,"Nuolatinio matavimo"]
[493,"I tipo numatytosios vertės: Arba standartiniai faktoriai, išvardyti VI priede (t. y., iš esmės TKKK (IPCC) vertės), arba kitos pastovios vertės laikantis 31 str. 1 dalies d arba e punkto, t. y. tiekėjo garantuotos vertės, arba praeityje atlikti ir tebegaliojantys tyrimai."]
[497,"Tai empirinėmis koreliacijomis pagrįsti metodai, kaip nustatyta bent kartą per metus pagal laboratoriniams tyrimams taikomus reikalavimus. Tačiau tie tyrimai atliekami tik kartą per metus, todėl ši pakopa laikoma žemesnio lygio negu išsamūs tyrimai. Pakaitiniai dydžiai gali būti pagrįsti:"]
[498,"konkrečių naftos ar dujų rūšių, įskaitant įprastas naftos perdirbimo arba plieno pramonėje, tankio matavimu; arba"]
[499,"konkrečių anglių rūšių grynąja šilumingumo verte."]
[501,"Grynojo šilumingumo vertė gali būti pirkimo dokumentuose kuro tiekėjo nurodyta vertė, jei ji nustatyta remiantis pripažintais nacionaliniais ar tarptautiniais standartais. (Taikoma tik komerciniu būdu įsigyjama kurui)."]
[503,"Šiuo atveju taikomi visi 32–35 str. reikalavimai tyrimams."]
[505,"Taikomas vienas iš toliau nurodytų metodų (jie laikomi lygiaverčiais):"]
[506,"Numatytosios vertės arba pagal 39 str. 2 dalį Komisijos paskelbto nustatymo metodo naudojimas;"]
[507,"Naudoti vertę, nustatytą pagal 39 str. 2 dalies 2 pastraipą, t. y. daryti prielaidą, kad medžiaga yra tik iškastinė (BF=0), arba naudoti kompetentingos institucijos patvirtintą matavimo metodą;"]
[510,"Biomasės dalis nustatoma pagal 39 str. 1 dalį, t.y. laboratoriniais tyrimais. Tokiu atveju kompetentinga institucija turi aiškiai patvirtinti atitinkamus standartus ir tam naudosimus tyrimo metodus."]
[521,"Oksidacijos faktorius"]
[522,"Perskaičiavimo koeficientas"]
[523,"Anglies kiekis"]
[526,"Laboratoriniai tyrimai"]
[529,"netaik."]
[535,"Vienetas"]
[541,"kartą per savaitę"]
[545,"Pastabos:"]
[583,"Įprastas ir neįprastas režimas"]
[595,"Naudojama pakopa."]
[641,"Sukėliklių, kurie turi būti stebimi dėl PFC, sąrašas:"]
[645,"Šis sąrašas bus naudojamas tolesniame skirsnyje nustatant kitus kiekvieno sukėliklio duomenis."]
[646,"Elektrolizės vonios tipas"]
[651,"Veiklos duomenys"]
[667,"Surinkimo efektyvumas"]
[682,"Įrenginio pavadinimas"]
[687,"Perdavimo tipas"]
[693,"Įrenginio pavadinimas"]
[694,"Įrenginio unikalus ID"]
[768,"Santrumpa"]
[769,"Apibrėžtis"]
[773,"Rinkmenos pavadinimas / nuoroda"]
[774,"Dokumento aprašymas"]
[781,"Vieta tolesnėms pastaboms:"]
[784,"<<< Į kitą lapą pereisite paspaudę čia >>> "]
[785,"Sukėliklis"]
[786,"Matavimo vieta"]
[787,"Prekybos partneris"]
[788,"Partija"]
[790,"svarbu"]
[791,"nesvarbu"]
[792,"Netaikoma!"]
[794,"(netaik.; naudoti geriausia patirtimi grįstą apskaičiavimą)"]
[795,"Įvesti duomenis į šį skirsnį"]
[796,"Prašome pildyti tolesnius punktus"]
[797,"Pateisinti, kodėl nėra istorinių duomenų ar jie netinka"]
[798,"Nėra pakopos"]
[799,"Ši taisyklė netaikoma įrenginiams, kurių veikla siejasi su N2O!"]
[800,"Viršyta labai mažo sukėliklio riba!"]
[801,"Viršyta mažo sukėliklio riba!"]
[802,"Nesumuoti, jei mažiau nei 5% metinio išmetimo (6.c skirsnis)!"]
[803,"Pildo tik kompetentinga institucija"]
[804,"Pildo veiklos vykdytojas"]
[805,"Austrija"]
[806,"Belgija"]
[807,"Bulgarija"]
[808,"Kroatija"]
[809,"Kipras"]
[810,"Čekija"]
[811,"Danija"]
[812,"Estija"]
[813,"Suomija"]
[814,"Prancūzija"]
[815,"Vokietija"]
[816,"Graikija"]
[817,"Vengrija"]
[818,"Islandija"]
[819,"Airija"]
[820,"Italija"]
[821,"Latvija"]
[822,"Lichtenšteinas"]
[823,"Lietuva"]
[824,"Liuksemburgas"]
[825,"Lenkija"]
[826,"Nyderlandai"]
[827,"Norvegija"]
[828,"Lenkija"]
[829,"Portugalija"]
[830,"Rumunija"]
[831,"Slovakija"]
[832,"Slovėnija"]
[833,"Ispanija"]
[834,"Švedija"]
[835,"Jungtinė Karalystė"]
[836,"kompetentingos institucijos atmesta"]
[837,"darbinis juodraštis"]
[844,"CO2 perdavimas"]
[846,"Būdingojo CO2 priėmimas"]
[847,"Būdingojo CO2 perkėlimas į ATLPS įrenginį"]
[848,"Būdingojo CO2 perkėlimas vartotojui, kuriam ATLPS netaikoma"]
[849,"Perduoto būdingojo CO2 priėmimas"]
[850,"Perduoto būdingojo CO2 perkėlimas"]
[851,"Savų priemonių naudojimas"]
[852,"kito įrenginių priemonių naudojimas"]
[853,"Abiejų partnerių instrumentų naudojimas"]
[854,"A metodas"]
[855,"B Metodas"]
[856,"I priedo veikla"]
[857,"Naftos perdirbimas "]
[858,"Kokso gamyba"]
[859,"Metalo rūdų deginimas arba kepinimas"]
[860,"Ketaus arba plieno gamyba"]
[861,"Juodųjų metalų gamyba ar apdirbimas"]
[862,"Pirminio aliuminio gamyba"]
[863,"Antrinio aliuminio gamyba"]
[864,"Spalvotųjų metalų gamyba ar apdirbimas"]
[865,"Kalkių gamyba arba dolomito ar magnezito kalcinavimas"]
[866,"Stiklo gamyba"]
[867,"Keraminių gaminių gamyba"]
[868,"Akmens vatos gamyba"]
[869,"Gipso ir gipso kartoninių plokščių gamyba ar apdirbimas"]
[870,"Celiuliozės gamyba"]
[871,"Popieriaus ir kartono gamyba"]
[872,"Suodžių gamyba"]
[873,"Azoto rūgšties gamyba"]
[874,"Adipo rūgšties gamyba"]
[875,"Glioksilo ir glioksilo rūgšties gamyba"]
[876,"Amoniako gamyba"]
[877,"Biriųjų cheminių medžiagų gamyba"]
[878,"Vandenilio ar sintezės dujų gamyba"]
[879,"Natrio karbonato ir natrio hidrokarbonato gamyba"]
[880,"ŠESD gaudymas pagal Direktyvą 2009/31/EB"]
[881,"ŠESD transportavimas pagal Direktyvą 2009/31/EB"]
[882,"ŠESD saugojimas pagal Direktyvą 2009/31/EB"]
[883,"SpecifiedEmissions2"]
[884,"PFC"]
[885,"CO2 ir N2O"]
[886,"CO2 ir PFC"]
[887,"SourceCategory"]
[888,"Mažas"]
[889,"Labai mažas"]
[890,"SourceCategoryCEMS"]
[891,"AnalysisFrequency"]
[892,"Nuolat"]
[893,"kasdien"]
[894,"kas mėnesį"]
[895,"kas ketvirtį"]
[896,"Dukart per metus"]
[897,"kasmet"]
[898,"OperationType"]
[899,"Įprastas režimas"]
[900,"Neįprastas režimas"]
[901,"PFCMethods"]
[902,"A metodas = nuolydžio metodas"]
[903,"B metodas = viršįtampio metodas"]
[904,"PFCCellTypes"]
[909,"MeteringDevices"]
[910,"Turbininis skaitiklis"]
[911,"Dumblinis skaitiklis"]
[912,"Matavimas tūta"]
[913,"Venturi debitmatis"]
[914,"Ultragarsinis skaitiklis"]
[915,"Sukūrinis skaitiklis"]
[916,"Coriolis matuoklis"]
[918,"Elektroninė tūrio konvertavimo priemonė (EVCI)"]
[919,"dujų chromatografas"]
[920,"Sveriančioji konvejerio juosta"]
[921,"MeasurementTiers"]
[922,"PFCTiers"]
[923,"BiomassTiers"]
[924,"ConversionFactorTiers"]
[925,"ActivityDataTiers"]
[926,"NCVTiers"]
[927,"2b"]
[928,"EFTiers"]
[929,"CarbonContentTiers"]
[930,"Directive Annex I"]
[931,"Special activities"]
[932,"Kuro deginimas įrenginiuose, kurių visas nominalus šiluminis našumas didesnis nei 20 MW (išskyrus pavojingų arba komunalinių atliekų deginimo įrenginius)"]
[933,"Metalo rūdos (įskaitant sulfidinę rūdą) deginimas arba kaitinimas, įskaitant granuliavimą "]
[934,"Luitinio ketaus arba plieno gamyba (pirminis arba antrinis liejimas), įskaitant tolydinį liejimą, kai pajėgumas didesnis nei 2,5 tonos per valandą "]
[935,"Juodųjų metalų (įskaitant juodojo metalo lydinius) gamyba ar perdirbimas, kai eksploatuojami kuro deginimo įrenginiai, kurių visas nominalus šiluminis našumas didesnis nei 20 MW. Perdirbimas, inter alia, apima apdorojimą valcavimo staklynuose, atkaitinimo krosnyse, kalvėse, liejyklose, dengimo ir dekapiravimo įrenginiuose"]
[936,"Antrinio aliuminio gamyba, kai eksploatuojami kuro deginimo įrenginiai, kurių visas nominalus šiluminis našumas didesnis nei 20 MW"]
[937,"Spalvotųjų metalų gamyba ar perdirbimas, įskaitant lydinių gamybą, taurinimą, liejimą ir kt., kai eksploatuojami kuro deginimo įrenginiai, kurių visas nominalus šiluminis našumas (įskaitant kurą, naudojamą kaip redukcinis reagentas) didesnis nei 20 MW"]
[938,"Cemento klinkerio gamyba rotacinėse krosnyse, kurių gamybos pajėgumas didesnis kaip 500 tonų per dieną, arba kitose krosnyse, kurių gamybos pajėgumas didesnis kaip 50 tonų per dieną "]
[939,"Kalkių gamyba arba dolomito ar magnezito kalcinavimas rotacinėse krosnyse arba kitose krosnyse, kurių gamybos pajėgumas didesnis kaip 50 tonų per dieną "]
[940,"Stiklo, įskaitant stiklo pluoštą, gamyba, kai lydymo pajėgumas didesnis kaip 20 tonų per dieną "]
[941,"Keraminių gaminių, visų pirma stogų čerpių, plytų, ugniai atsparių plytų, čerpių, molio dirbinių arba porceliano, gamyba degimo būdu, kai gamybos pajėgumas didesnis kaip 75 tonos per dieną "]
[942,"Akmens vatos gamyba, naudojant stiklą, uolienas arba šlaką, kai lydymo pajėgumas didesnis kaip 20 tonų per dieną "]
[943,"Gipso džiovinimas arba kalcinavimas, arba gipso plokščių ir kitų gipso produktų gamyba, kai eksploatuojami kuro deginimo įrenginiai, kurių visas nominalus šiluminis našumas didesnis nei 20 MW "]
[944,"Celiuliozės iš medienos arba kitų pluoštinių medžiagų gamyba "]
[945,"Popieriaus ir kartono gamyba, kai gamybos pajėgumas yra didesnis nei 20 tonų per dieną "]
[946,"Suodžių gamyba, įskaitant organinių medžiagų (alyvų, deguto, krekingo, distiliacijos likučių) karbonizaciją, kai eksploatuojami kuro deginimo įrenginiai, kurių visas nominalus šiluminis našumas didesnis nei 20 MW "]
[947,"Didelio masto organinių cheminių medžiagų gamyba, taikant krekingą, riformingą, dalinę arba visišką oksidaciją arba kitus panašius metodus, kai gamybos pajėgumas didesnis nei 100 tonų per dieną "]
[948,"Vandenilio (H2) ir sintezės dujų gamyba taikant riformingą arba dalinę oksidaciją, kai gamybos pajėgumas didesnis nei 25 tonos per dieną "]
[949,"Natrio karbonato ((Na2CO3) ir natrio hidrokarbonato (NaHCO3) gamyba "]
[950,"Įrenginių, kuriems taikoma ši direktyva, išmetamų šiltnamio efektą sukeliančių dujų rinkimas, kad jos galėtų būti transportuojamos ir geologiškai saugomos pagal Direktyvą 2009/31/EB patvirtintoje saugojimo vietoje"]
[951,"ŠESD transportavimas vamzdynais geologiniam saugojimui į saugojimo vietą, patvirtintą pagal Direktyvą 2009/31/EB"]
[952,"ŠESD geologinis saugojimas pagal Direktyvą 2009/31/EB patvirtintoje saugojimo vietoje"]
[953,"Veiklos duomenys"]
[954,"Pakopa"]
[955,"Veikla"]
[956,"Trumpas pavadinimas"]
[957,"Veiklos pogrupis"]
[958,"Šaltinio tipas"]
[959,"Mažiausiai"]
[960,"Didžiausia"]
[961,"Nudažyti pilkai?"]
[962,"Kuro deginimas ir kaip proceso žaliava naudojamas kuras"]
[963,"Degimas"]
[964,"Komercinis standartinių rūšių kuras"]
[965,"± 7,5%"]
[966,"± 5,0%"]
[967,"± 2,5%"]
[968,"± 1,5%"]
[969,"Kitas dujinis ir skystasis kuras"]
[970,"Kietasis kuras"]
[971,"Kuro kiekis [t]"]
[972,"Dujų perdirbimo terminalai"]
[973,"Kiekviena žaliava ir išeigos medžiaga [t]"]
[974,"Fakelai"]
[975,"Fakelo dujų kiekis [Nm3]"]
[976,"± 17,5%"]
[977,"± 12,5%"]
[978,"Dujų plovimas (karbonatai)"]
[979,"Sunaudotų karbonatų kiekis [t]"]
[980,"Dujų plovimas (gipsas)"]
[981,"Pagaminto gipso kiekis [t]"]
[982,"Naftos perdirbimo įrenginiai"]
[983,"Masės balansas"]
[984,"Regeneravimas katalizinio krekingo įrenginiu"]
[985,"Neapibrėžties reikalavimai taikomi atskirai kiekvienam taršos šaltiniui"]
[990,"Vandenilio gamyba"]
[991,"Angliavandenilių žaliava [t]"]
[992,"Koksas"]
[993,"Kuras kaip proceso žaliava"]
[994,"Karbonatų sąnaudos (A metodas)"]
[995,"Karbonatų sąnaudų medžiaga [t]"]
[996,"Oksido išeiga (B metodas)"]
[997,"Oksido išeiga [t]"]
[998,"Metalo rūdų deginimas ir kepinimas"]
[999,"Metalų rūda"]
[1000,"Karbonatų sąnaudos"]
[1001,"Karbonatų žaliava ir proceso liekanos [t]"]
[1002,"Geležies ir plieno gamyba"]
[1003,"Geležis ir plienas"]
[1004,"Kiekvienas masės srautas į įrenginį ir iš jo [t]"]
[1005,"Cemento klinkeriai"]
[1006,"Grindžiamas krosnies žaliava (A metodas)"]
[1007,"Kiekvienos atitinkamos krosnies žaliava [t]"]
[1008,"Klinkerio išeiga (B metodas)"]
[1009,"Pagamintas klinkeris [t]"]
[1010,"Cemento degimo krosnių dulkės"]
[1011,"Cemento degimo krosnių dulkės arba pašalinės dulkės [t]"]
[1012,"Nekarbonatinė anglis"]
[1013,"Kiekviena žaliava [t]"]
[1014,"± 15,0%"]
[1015,"Kalkių gamyba ir dolomitų bei magnezitų kalcinavimas"]
[1016,"Kalkės, dolomitas, magnezitas"]
[1017,"Karbonatai (A metodas)"]
[1018,"Šarminių žemių metalų oksidas (B metodas)"]
[1019,"Pagamintos kalkės [t]"]
[1020,"Degimo krosnių dulkės (B metodas)"]
[1021,"Degimo krosnių dulkės [t]"]
[1022,"Stiklo ir mineralinės vatos gamyba"]
[1023,"Stiklas ir mineralinė vata"]
[1024,"Karbonatai (žaliava)"]
[1025,"Visos su išmetamu CO2 kiekiu susijusios karbonatinės žaliavos arba priedai [t]"]
[1026,"Keramikos produktų gamyba"]
[1027,"Keramikos dirbiniai."]
[1028,"Anglies sąnaudos (A metodas)"]
[1030,"Šarminių metalų oksidas (B metodas)"]
[1031,"Bendra produkcija, įskaitant iš krosnių ir tiekiant atmestus produktus ir šukes [t]"]
[1032,"Dujų plovimas"]
[1033,"Sunaudoto sauso CaCO3 kiekis [t]"]
[1034,"Celiuliozės ir popieriaus gamyba"]
[1035,"Celiuliozė ir popierius"]
[1036,"Sudėtinės cheminės medžiagos"]
[1037,"CaCO3 ir Na2CO3 kiekis [t]"]
[1038,"Padengtas kartonas Suodžiai"]
[1039,"Masės balanso metodika"]
[1040,"Amoniakas"]
[1041,"Kuro, naudoto kaip proceso žaliava, kiekis [t] arba [Nm3]"]
[1042,"Vandenilis ir sintezės dujos"]
[1043,"Kuro, naudoto kaip proceso žaliava gaminant vandenilį, kiekis [t] arba [Nm3]"]
[1044,"Biriųjų organinių cheminių medžiagų gamyba"]
[1045,"Didelio masto organinių cheminių medžiagų gamyba"]
[1046,"Juodųjų ir spalvotųjų metalų, įskaitant antrinį aliuminį, gamyba ar apdirbimas"]
[1047,"(Ne)spalvotieji, antrinis aliuminis"]
[1048,"Proceso metu išsiskiriančios ŠESD"]
[1049,"Kiekviena žaliava ar proceso atliekos, naudotos kaip proceso žaliava [t]"]
[1050,"Natrio karbonatas / natrio hidrokarbonatas"]
[1051,"Pirminio aliuminio gamyba"]
[1052,"Pirminis aliuminis"]
[1053,"Išmetamas PFC kiekis (nuolydžio metodas)"]
[1054,"Pirminio aliuminio gamyba [t], anodinio efekto trukmė [anodinių efektų skaičius / vonios diena] ir [anodinių efektų trukmė / atvejis]"]
[1055,"Išmetamas PFC kiekis (viršįtampio metodas)"]
[1056,"pirminio aliuminio gamyba [t], anodinio efekto viršįtampis [mV] ir srovės išnaudojimo koeficientas [-]"]
[1057,"masių balansas"]
[1058,"Išmetamųjų teršalų faktorius"]
[1059,"numatytoji vertė?"]
[1061,"veiklos vykdytojas taiko vieną iš šių dalykų:\na) VI priedo 1 skirsnyje išvardytus standartinius faktorius;\nb) kitas pastovias vertes pagal 31 str. 1 dalies d ar e punktą, jeigu VI priedo 1 skirsnyje nenurodyta jokia taikytina vertė."]
[1062,"2a pakopa: Veiklos vykdytojas atitinkamam kurui ar medžiagai taiko atitinkamos šalies išmetamųjų teršalų faktorius pagal 31 str. 1 dalies b ir c punktus."]
[1063,"2b pakopa: Kuro išmetamųjų teršalų faktorius veiklos vykdytojas nustato remdamasis \nvienu iš toliau pateiktų nustatytų pakaitinių matų ir empirine koreliacija,\nnustatoma bent kartą per metus pagal 32–35 ir 39 straipsnius:"]
[1064,"Veiklos vykdytojas išmetamųjų teršalų faktorių nustato pagal atitinkamas \n32–35 straipsnių nuostatas."]
[1065,"0,00393 t CO2/Nm3"]
[1067,"Veiklos vykdytojas naudoja pamatinį išmetamųjų teršalų faktorių 0,00393 t CO2/Nm3, išvestą pagal sudegusio gryno etano kiekį, naudojamą kaip pakaitinį konservatyviai nustatytą fakelo dujų matą."]
[1068,"2b pakopa: Konkrečiam įrenginiui skirti išmetamųjų teršalų faktoriai gaunami įvertinus fakelo \nsrauto molekulinę masę modeliuojant procesą pagal standartinius pramonės modelius.  Įvertinant atitinkamas kiekvieno iš sudėtinių srautų santykines dalis ir molekulinę masę \ngaunama fakelo dujų masės svertinio metinio vidurkio vertė."]
[1069,"I tipo nustatytoji vertė ir geriausia patirtis"]
[1070,"Išmetamųjų teršalų faktorius nustatomas remiantis VI priedo 2 skirsnyje nustatytais \nstechiometriniais koeficientais. Atitinkamoje žaliavoje esančio CaCO3 ir MgCO3 kiekis \nnustatomas pagal sektoriaus geriausios patirties gaires."]
[1072,"Išmetamųjų teršalų faktorius yra sauso gipso (CaSO4.2H2O) ir išmesto CO2 stechiometrinis koeficientas – 0,2558 t CO2/t gipso."]
[1074,"Veiklos vykdytojas tonai perdirbtos žaliavos taiko etaloninę atsargią 2,9 t CO2 vertę,\ngrindžiamą etanu."]
[1075,"Veiklos vykdytojas naudoja su konkrečia veikla susijusį išmetamųjų teršalų faktorių,\napskaičiuotą atsižvelgiant į anglies kiekį žaliavinėse dujose, nustatomą pagal 32–35 str."]
[1077,"0,525 t CO2/t klinkerio."]
[1078,"Veiklos vykdytojas taiko 0,525 t CO2/t klinkerio išmetamųjų teršalų faktorių."]
[1079,"Atitinkamų metalo oksidų, susidarančių yrant produkte esantiems karbonatams, kiekis\nnustatomas pagal 32–35 str. Sudėties duomenis perskaičiuojant į išmetamųjų teršalų faktorius naudojami VI priedo 2 skirsnio 3 lentelėje nurodyti stechiometriniai koeficientai,\ndarant prielaidą, kad visi atitinkami metalų oksidai buvo gauti iš atitinkamų karbonatų."]
[1081,"0,525 t CO2/t gipso."]
[1082,"Veiklos vykdytojas taiko 0,525 t CO2 / t dulkių išmetamųjų teršalų faktorių."]
[1083,"Veiklos vykdytojas bent kartą per metus nustato išmetamųjų teršalų faktorių (ITF) \npagal 32–35 str. ir naudoja šią formulę:"]
[1084,"Geriausia praktika"]
[1085,"Nekarbonatinės anglies kiekis atitinkamoje žaliavoje įvertinamas pagal\npramonės geriausios praktikos gaires."]
[1086,"Nekarbonatinės anglies kiekis atitinkamoje žaliavoje įvertinamas ne rečiau nei \nkartą per metus pagal 32–35 str."]
[1087,"Atitinkamų karbonatų kiekis kiekvienoje atitinkamoje žaliavoje nustatomas pagal 32–35 str. Sudėties duomenims perskaičiuoti į išmetamųjų teršalų faktorius taikomi VI priedo 2 skirsnyje pateikti stechiometriniai koeficientai. "]
[1088,"Veiklos vykdytojas taiko standartinius VI priedo 2 skirsnio 3 lentelėje išvardytus faktorius."]
[1089,"Veiklos vykdytojas atitinkamos šalies išmetamųjų teršalų faktorių taiko pagal 31 str. \n1 dalies b arba c punktą."]
[1090,"Taikomi VI priedo 2 skirsnyje išvardyti stechiometriniai koeficientai. \nAtitinkamų sunaudojamų žaliavų grynumas nustatomas pagal geriausią sektoriaus praktiką."]
[1091,"Atitinkamų karbonatų kiekis kiekvienoje atitinkamoje žaliavoje nustatomas pagal 32–35 str."]
[1093,"Apskaičiuojant išmetamųjų teršalų faktorių vietoje tyrimų rezultatų taikoma 0,2 \ntonos CaCO3 konservatyvi vertė (atitinkanti 0,08794 tonos CO2) sauso molio tonai."]
[1094,"Kiekvieno sukėliklio išmetamųjų teršalų faktorius nustatomas ir atnaujinamas bent kartą per \nmetus šiuo tikslu naudojant sektoriaus geriausią patirtį, atitinkančią konkrečias vietos sąlygas\nir įrenginyje naudojamą produktų mišinį."]
[1097,"Veiklos vykdytojas taiko CaCO3 stechiometrinį koeficientą, kaip nurodyta VI priedo \n2 skirsnyje."]
[1099,"Taikomi VI priedo 2 skirsnyje išvardyti stechiometriniai koeficientai. \nAtitinkamų sunaudojamų žaliavų grynumas nustatomas pagal geriausią sektoriaus praktiką. Gautos vertės perskaičiuojamos pagal naudojamų karbonatinių \nmedžiagų drėgnumą ir uolienų priemaišų kiekį."]
[1101,"Veiklos vykdytojas taiko IV priedo 8 skirsnio 1 lentelėje nustatytus konkrečių technologijų \nišmetamųjų teršalų faktorius."]
[1102,"Veiklos vykdytojas naudoja konkrečių įrenginių CF4 ir C2F6 išmetamųjų teršalų faktorius, kurie nustatyti atliekant nuolatinius arba pertraukiamus matavimus. Nustatydamas šiuos išmetamųjų teršalų faktorius veiklos vykdytojas naudojasi naujausia 2006 m. TKKK gairių 4.4.2.4. skirsnio 3 pakopai skirtoje dalyje nurodytų rekomendacijų versija. Kiekvieną išmetamųjų teršalų\nfaktorių veiklos vykdytojas nustato su ne didesne kaip ± 15 % neapibrėžtimi."]
[1104,"Veiklos vykdytojas naudoja nuolatiniu arba pertraukiamu matavimu nustatytus konkrečių\nįrenginių CF4 [(kg CF4/t Al) / (mV)] ir C2F6 [t C2F6/t CF4] išmetamųjų teršalų faktorius. Nustatydamas šiuos išmetamųjų teršalų faktorius veiklos vykdytojas naudojasi \nnaujausia 2006 m. TKKK gairių 4.4.2.4. skirsnio 3 pakopai skirtoje dalyje nurodytų\nrekomendacijų versija. Veiklos vykdytojas kiekvieną išmetamųjų teršalų faktorių nustato su ne didesne kaip ± 15 % neapibrėžtimi."]
[1106,"Atitinkamų karbonatų kiekis kiekvienoje atitinkamoje žaliavoje nustatomas pagal 32–35 str. Sudėties duomenims perskaičiuoti į išmetamųjų teršalų faktorius taikomi VI priedo \n2 skirsnyje pateikti stechiometriniai koeficientai."]
[1107,"GŠV"]
[1109,"2a pakopa: Veiklos vykdytojas atitinkamam kurui taiko atitinkamos šalies išmetamųjų teršalų faktorius \npagal 31 str. 1 dalies b arba c punktą."]
[1110,"2b pakopa: Komercinio kuro grynojo šilumingumo vertė turi būti atitinkamo kuro pirkimo \ndokumentuose kuro tiekėjo nurodyta vertė, jei ji nustatyta remiantis pripažintais nacionaliniais\nar tarptautiniais standartais."]
[1111,"Veiklos vykdytojas grynojo šilumingumo vertę nustato pagal 32–35 str."]
[1112,"Anglies kiekis"]
[1113,"Veiklos vykdytojas taiko vieną iš šių dalykų:\na) anglies kiekį, nustatytą taikant VI priedo 1 ir 2 skirsniuose išvardytus standartinius faktorius;\nb) kitas pastovias vertes pagal 31 str. 1 dalies d ar e punktą, jeigu VI priedo\n1 ir 2 skirsniuose nenurodyta jokia taikytina vertė."]
[1114,"2a pakopa: Veiklos vykdytojas anglies kiekį nustato taikydamas atitinkamo kuro ar medžiagos \natitinkamos šalies išmetamųjų teršalų faktorius pagal 31 str. 1 dalies b arba c punktą."]
[1115,"2b pakopa: Veiklos vykdytojas anglies kiekį nustato pagal kuro išmetamųjų teršalų faktorius,\nremdamasis vienu iš toliau pateiktų nustatytų pakaitinių dydžių ir empirine koreliacija, nustatoma bent kartą per metus pagal 32–35 str.:\na) konkrečių naftos ar dujų rūšių, įprastų, pvz., naftos perdirbimo arba plieno\npramonėje, tankio matavimu;\nb) konkrečių anglių rūšių grynuoju šilumingumu,"]
[1116,"Veiklos vykdytojas anglies kiekį nustato pagal atitinkamas 32–35 str. nuostatas."]
[1117,"Biomasės kiekis"]
[1118,"Veiklos vykdytojas taiko vieną iš verčių, paskelbtų pagal 39 str. 2 dalies pirmą \npastraipą, arba vertę, nustatytą pagal 39 str. 2 dalies antrą pastraipą arba 39 str. 3 dalį."]
[1119,"Veiklos vykdytojas konkrečius faktorius nustato pagal 39 str. 1 dalį."]
[1120,"Veiklos vykdytojas taiko oksidacijos faktorių, kurio vertė 1."]
[1121,"Veiklos vykdytojas taiko vieną iš verčių, paskelbtų pagal 39 str. 2 dalies pirmą pastraipą,\narba vertę, nustatytą pagal 39 str. 2 dalies antrą pastraipą arba 39 str. 3 dalį."]
[1122,"Kuro atveju veiklos vykdytojas nustato tam tikrai veiklai taikomus oksidacijos faktorius remdamasis pelenuose, nuotekose ir kitose atliekose bei šalutiniuose produktuose esančios anglies kiekiu, taip pat kitomis atitinkamomis ne iki galo oksidavusiosiomis dujinėmis išmestos anglies formomis, išskyrus CO. \nSudėties duomenys nustatomi pagal 32–35 str."]
[1124,"Konversijos koeficientas apskaičiuojamas pagal sektoriaus geriausios patirties gaires."]
[1127,"Naudojamas konversijos koeficientas, kurio vertė 1."]
[1128,"Karbonatai ir kita iš proceso pašalinama anglis įvertinami taikant konversijos koeficientą, kurio vertė nuo 0 iki 1. Veiklos vykdytojas gali daryti prielaidą,\nkad vienos ar keleto žaliavos rūšių virsmas įvyksta visiškai, o nepakitusias medžiagas ar kitą \nanglį priskirti likusioms žaliavoms. Papildomi produktų atitinkami cheminiai parametrai nustatomi pagal 32–35 str."]
[1129,"Atitinkamų metalų ne karbonatų junginių kiekis žaliavose, įskaitant grįžtamąsias dulkes ar \nlakiuosius pelenus ar kitas jau kalcinuotas medžiagas, yra perteikiamas naudojant konversijos\nkoeficientus, kurių vertė nuo 0 iki 1, kai vertė 1 atitinka visišką žaliavos karbonatų virtimą į oksidus. Papildomi proceso žaliavų atitinkami cheminiai parametrai nustatomi pagal 32–35 str."]
[1130,"Matavimas"]
[1131,"± 10,0%"]
[1132,"Pakopa"]
[2000,"METINIŲ IŠMETAMŲJŲ ŠESD KIEKIO ATASKAITŲ TEIKIMAS"]
[2001,"A. Veiklos vykdytojų ir įrenginių tapatybė"]
[2002,"Ataskaitiniai metai"]
[2003,"Informacija apie veiklos vykdytoją"]
[2004,"Informacija apie įrenginį"]
[2005,"Vertintojo kontaktiniai duomenys"]
[2006,"B. Įrenginio aprašas"]
[2007,"I priede nurodyta veikla"]
[2008,"C. Sukėlikliai"]
[2009,"D. Matavimu grindžiami metodai"]
[2010,"E. Alternatyvus metodas"]
[2011,"F. Gaminant pirminį aliuminį išmetamo PFC kiekio nustatymas"]
[2012,"G. Duomenų spragos"]
[2013,"H. Papildoma informacija"]
[2014,"Išsami informacija apie gamybą"]
[2015,"Apibrėžtys ir santrumpos"]
[2016,"I. Santrauka"]
[2017,"J. Apskaita"]
[2018,"Šią metinę išmetamųjų ŠESD kiekio ataskaitą pateikė:"]
[2019,"Jeigu Jūsų kompetentinga institucija reikalauja, kad Jūs pateiktumėte pasirašytą popierinę metinės išmetamųjų ŠESD kiekio ataskaitos kopiją, ją pasirašykite žemiau paliktoje vietoje:"]
[2020,"Direktyvoje 2003/87/EB (ATLPS direktyva) reikalaujama, kad įrenginių, įtrauktų į Sąjungos šiltnamio efektą sukeliančių dujų apyvartinių taršos leidimų prekybos sistemą (ES ŠESD ATLPS), veiklos vykdytojai turėtų galiojantį atitinkamos kompetentingos institucijos išduotą leidimą išmesti ŠESD, stebėtų savo išmetamą ŠESD kiekį ir teiktų apie jį ataskaitas, kurios turėtų būti patikrintos pagal ES ATLPS direktyvos 15 straipsnį ir tame straipsnyje nurodytą reglamentą."]
[2021,"Stebėsenos ir ataskaitų reglamento (SAR) 67 straipsnio 3 dalyje reikalaujama:"]
[2022,"„Metinėse išmetamųjų ŠESD kiekio ataskaitose ir tonkilometrių duomenų ataskaitose pateikiama bent X priede nurodyta informacija.“"]
[2023,"X priede nustatytas būtinasis metinių išmetamųjų ŠESD kiekio ataskaitų turinys."]
[2024,"Ši rinkmena yra minėtasis Komisijos tarnybų parengtas ataskaitos šablonas, skirtas įrenginiams. Jis parengtas atsižvelgiant į X priede nustatytus reikalavimus ir kitus reikalavimus, kuriais siekiama padėti veiklos vykdytojui įrodyti, kad jis laikosi SAR. Tam tikromis toliau išdėstytomis sąlygomis valstybės narės kompetentinga institucija gali šiek tiek pakeisti šį šabloną. "]
[2025,"Ataskaitos šablonas turi būti parengtas neperžengiant SAR reikalavimų. Todėl reikėtų atsižvelgti ir į toliau pateiktame šablone naudojamą spalvinį žymėjimą."]
[2026,"Šis ataskaitos šablonas parengtas atsižvelgiant į Komisijos tarnybų nuomonę, išreikštą paskelbimo metu. "]
[2027,"Užpildžius metinės išmetamųjų ŠESD kiekio ataskaitos šabloną, būtina atlikti šiuos veiksmus:"]
[2028,"perduoti šabloną vertintojui, kad šis jį patikrintų pagal SAR 67 straipsnio 1 dalį;"]
[2029,"vertintojo pagal Reglamentą (ES) Nr. 600/2012 patikrinta versija pateikiama kompetentingai institucijai iki kiekvienų metų kovo 31 d., jeigu ta institucija nepareikalauja pateikti patikrintą išmetamųjų ŠESD kiekio ataskaitą anksčiau."]
[2030,"Tai galutinė įrenginiams skirto išmetamųjų ŠESD kiekio ataskaitos šablono versija, Klimato kaitos komiteto patvirtinta 2013 m. balandžio 18 d. posėdyje."]
[2031,"http://ec.europa.eu/clima/policies/ets/monitoring/documentation_en.htm"]
[2032,"Šis ataskaitos šablonas turi būti pateiktas Jūsų kompetentingai institucijai šiuo adresu:"]
[2033,"Jeigu Jums reikia pagalbos rengiant metinę ataskaitą, kreipkitės į savo kompetentingą instituciją. Kai kurios valstybės narės yra parengusios rekomendacinius dokumentus, kurie Jums gali būti naudingi kaip papildantys pirmiau minėtas Komisijos gaires."]
[2034,"Pareiškimas dėl konfidencialumo. Šioje ataskaitoje pateiktai informacijai gali būti taikomi viešinimo reikalavimai, įskaitant nustatytąjį Direktyva 2003/4/EB dėl visuomenės galimybės susipažinti su informacija apie aplinką. Jeigu manote, kad kokia nors informacija, kurią teikiate savo ataskaitoje, turėtų būti laikoma konfidencialia komercine informacija, apie tai praneškite savo kompetentingai institucijai. Reikėtų žinoti, kad pagal Direktyvos 2003/4/EB nuostatas kompetentinga institucija gali būti įpareigota atskleisti informaciją net ir tuo atveju, kai pareiškėjas prašo, kad ji būtų saugoma kaip konfidenciali."]
[2035,"Šis šablonas parengtas taip, kad apimtų būtinąjį pagal SAR privalomą metinės išmetamųjų ŠESD kiekio ataskaitos turinį. Todėl veiklos vykdytojai, pildydami šį šabloną, turėtų vadovautis SAR ir papildomais valstybių narių reikalavimais (jeigu tokių yra)."]
[2036,"Geltona spalva pažymėti laukai, kuriuos privaloma užpildyti. Tačiau, jeigu dalykas įrenginiui neaktualus, nereikia nieko įvesti. Be to, pateikus informaciją pirmesnėse dalyse, kai kurios dalys gali tapti neaktualios arba neprivalomos. Tokiais atvejais laukas bus žymimas kitokia spalva."]
[2037,"Žaliuose laukeliuose pateikiami automatiškai apskaičiuoti rezultatai. Raudonu tekstu pateikiami pranešimai apie klaidas (trūksta duomenų ir kt.)."]
[2038,"Patamsinti laukeliai reiškia, kad dėl įrašo kitame laukelyje čia nieko įrašyti nebereikia."]
[2039,"Valstybės narės, prieš paskelbdamos individualizuotą šablono versiją, turėtų užpildyti pilka spalva patamsintus laukus."]
[2040,"Kiekvieno lapo viršuje yra naršymo juostos, kuriose pateiktos sparčiosios nuorodos į atskiras duomenų įvedimo dalis. Pirmoji eilutė („Turinys“, „Pirmesnis lapas“, „Kitas lapas“) ir nuorodos „Lapo viršus“ ir „Lapo apačia“ yra vienodos visuose lapuose. Atsižvelgiant į konkretų lapą, įterpiamas atitinkamas papildomas meniu."]
[2041,"Svarbu! Nuoseklumo sumetimais visus duomenis (pvz., sukėliklių identifikatorius) įveskite tokia pat eilės tvarka, kaip pateikta Jūsų naujausiame patvirtintame stebėsenos plane (tokia pat eilės tvarka ir naudodami tokius pat identifikatorius)."]
[2042,"A.\nOperatorInst ID (Veiklos vykd. / įreng. tapatybė)"]
[2043,"Išsami informacija apie vertintoją"]
[2044,"A. Veiklos vykdytojo, įrenginio ir vertintojo tapatybės duomenys"]
[2045,"Atkreipkite dėmesį, kad, atsižvelgiant į valstybėje narėje nusistovėjusią administracinę tvarką, pagal ES ATLPS direktyvos 7 straipsnį kompetentingai institucijai turi būti oficialiai pranešama apie veiklos vykdytojo pavadinimo ar tapatybės, įrenginio pavadinimo ir kitos informacijos, kuri yra svarbi suteikiant leidimą, pasikeitimus."]
[2046,"Paprastai neužteks pranešti apie tokius pakeitimus šiame lape. Tačiau čia turi būti pateikti naujausi duomenys."]
[2047,"Pateikti su konkrečia valstybe nare susijusias rekomendacijas."]
[2048,"Kompetentinga institucija ataskaitų teikimo klausimams"]
[2049,"Veiklos vykdytojo duomenys:"]
[2050,"Veiklos vykdytojas yra [fizinis arba juridinis] asmuo, eksploatuojantis arba valdantis įrenginį, arba, jeigu tai numatyta nacionalinės teisės aktais, asmuo, kuriam suteikti įgaliojimai priimti ekonominius sprendimus, susijusius su įrenginio techniniu veikimu."]
[2051,"Veiklos vykdytojo pavadinimas:"]
[2052,"Gatvė, numeris:"]
[2053,"Pašto kodas:"]
[2054,"Įgaliotojo atstovo pavadinimas (vardas, pavardė):"]
[2055,"El. paštas:"]
[2056,"Telefonas:"]
[2057,"Faksas:"]
[2058,"Informacija apie Jūsų įrenginį ir stebėsenos planą"]
[2059,"Unikalus įrenginio identifikatorius:"]
[2060,"Pagrindinio patekimo į objektą geografinės koordinatės:"]
[2061,"Ataskaitų teikimas pagal Reglamentą (EB) Nr. 166/2006 (EIPTR):"]
[2062,"Įrenginys privalo teikti ataskaitas pagal reglamentą dėl EIPTR:"]
[2063,"EIPTR identifikatorius:"]
[2064,"Pagrindinė veikla pagal reglamento dėl EIPTR I priedą:"]
[2065,"Kita veikla pagal reglamento dėl EIPTR I priedą:"]
[2066,"Kompetentinga institucija leidimų suteikimo klausimams"]
[2067,"Naujausios patvirtintos stebėsenos plano versijos numeris"]
[2068,"Ar padaryta stebėsenos plano pakeitimų, palyginti su ankstesniais metais?"]
[2069,"Jeigu ataskaitiniu laikotarpiu įvyko svarbių įrenginio veiklos pasikeitimų arba kompetentingos institucijos patvirtinto stebėsenos plano pakeitimų arba laikinų nuokrypių, įskaitant laikinus arba ilgalaikius pakopų pasikeitimus, apibūdinkite šiuos pasikeitimus ir pateikite jų priežastis, nurodykite pasikeitimų pradžios datas ir laikinųjų pasikeitimų pradžios bei pabaigos datas."]
[2070,"Atkreipkite dėmesį, kad dėl pasikeitimų pateiktos pastabos šiuo atveju negali būti laikomos oficialia stebėsenos plano pakeitimo paraiška. Apie visus čia nurodytus pasikeitimus ir nuokrypius kompetentingai institucijai turi būti pranešta pagal įprastas procedūras."]
[2071,"Šiam reikalui paskirkite asmenis, į kuriuos kompetentinga institucija galėtų kreiptis kilus klausimų dėl šios ataskaitos. Jūsų paskirtas asmuo turėtų būti įgaliotas atstovauti veiklos vykdytojui. "]
[2072,"Pagrindinis kontaktinis asmuo techniniams klausimams dėl įrenginio duomenų:"]
[2073,"Vardas"]
[2074,"Pakaitinis kontaktinis asmuo:"]
[2075,"Vertintojo kontaktiniai duomenys"]
[2076,"Vertintojo vardas, pavardė ir adresas:"]
[2077,"Įmonės pavadinimas:"]
[2078,"Vertintojo kontaktinis asmuo:"]
[2079,"Paskirtasis asmuo turėtų būti susipažinęs su šia ataskaita. Šis asmuo turi būti ES ATLPS vyriausiasis auditorius."]
[2080,"Vardas ir pavardė:"]
[2081,"Informacija apie vertintojo akreditavimą arba sertifikavimą:"]
[2082,"Atkreipkite dėmesį, kad pagal Akreditavimo ir patikros reglamento (Reglamentas (ES) Nr. 600/2012) 54 straipsnio 2 dalį valstybė narė gali nuspręsti pavesti fizinių asmenų, kaip vertintojų, sertifikavimą nacionalinei valdžios institucijai, kuri nėra nacionalinė akreditavimo įstaiga."]
[2083,"Tokiais atvejais akreditavimas turėtų būti suprantamas kaip sertifikavimas, o akreditavimo įstaiga turėtų būti laikoma nacionaline valdžios institucija."]
[2084,"Tai, ar yra tokios registravimo informacijos, gali priklausyti nuo administruojančios valstybės narės taikomos vertintojų akreditavimo tvarkos."]
[2085,"Akreditacijos valstybė narė:"]
[2086,"Akreditacijos įstaigos suteiktas registracijos numeris:"]
[2087,"B.\nInstallation Description (Įrenginio aprašas)"]
[2088,"Veiklos sritys"]
[2089,"Stebėsenos metodas"]
[2090,"Sukėlikliai"]
[2091,"Veiklos sritys pagal ES ATLPS direktyvos I priedą"]
[2092,"Atkreipkite dėmesį, kad, atsižvelgiant į čia padarytus įrašus, tam tikrais atvejais gali būti pateikiami iš 7 dalies b punkto iškleidžiamojo sąrašo paimti veiklai būdingi sukėliklių tipai."]
[2093,"Atminkite, kad, teikiant ataskaitas pagal BAF kategorijas, gali reikėti nurodyti su energija susijusį (1 kategorija) išmetamųjų ŠESD kiekį ir su procesu susijusį (pvz., karbonatų skilimas, 2 kategorija) išmetamųjų ŠESD kiekį."]
[2094,"Nr."]
[2095,"BAF 1 kategorija (energija)"]
[2096,"BAF 2 kategorija (proceso metu išsiskiriančios ŠESD)"]
[2097,"1A2f – Energija – Kitos pramonės šakos"]
[2098,"2A1 – Procesas – Cemento gamyba"]
[2099,"1A1a – Energija – Valstybinė elektros energijos ir šilumos gamyba"]
[2100,"Stebėsenos metodai:"]
[2101,"Patvirtinkite, kurie iš toliau nurodytų stebėsenos metodų yra taikomi:"]
[2102,"Svarbu! Šioje dalyje Jūsų padaryti įrašai padės Jums nustatyti, kurios ataskaitos dalys yra aktualios Jūsų įrenginiui. Remiantis šiais įrašais bus vykdomas sąlyginis formatavimas, padėsiantis Jums visose dokumento dalyse. Jokiu būdu nepalikite šių laukų tuščių. Kad galėtumėte pereiti į kitas šio šablono dalis, privalote užpildyti visus aktualius punktus."]
[2103,"Jeigu dėl kurio nors kitų dalių punkto negalėsite užpildyti dalies, kurią, Jūsų įsitikinimu, privaloma užpildyti atsižvelgiant į Jūsų veiklą, dar kartą patikrinkite, ar išsamiai užpildyta 7 dalis."]
[2104,"Atminkite, kad čia daromi įrašai turi derėti su atitinkamomis Jūsų naujausio patvirtinto stebėsenos plano dalimis."]
[2105,"Aktualūs sukėlikliai:"]
[2106,"Čia nurodykite visus sukėliklius (kuro rūšis, medžiagas, produktus ir kt.), kurie stebimi Jūsų įrenginyje taikant skaičiavimu grindžiamus metodus (t. y. standartinę arba masės balanso metodiką). Sukėliklio sąvoka apibrėžta rekomendaciniame dokumente Nr. 1 („Bendrosios įrenginių gairės“)."]
[2107,"Kiekvienas sukėliklis turėtų būti identifikuojamas atliekant šiuos veiksmus:"]
[2108,"Iš išskleidžiamojo sąrašo pasirinkite sukėliklio tipą."]
[2109,"Išskleidžiamasis sąrašas, iš kurio pasirenkamas sukėliklio tipas, grindžiamas veiklos rūšimis, jau pasirinktomis 6 dalyje."]
[2110,"Atminkite, kad, remiantis 6 dalyje įrašytomis veiklos rūšimis, paimtomis iš I priede pateikto veiklos rūšių sąrašo, gali tapti aktualūs tam tikri veiklai būdingi sukėliklių tipai, kurie bus pateikti išskleidžiamajame sąraše „Sukėliklio tipas“."]
[2111,"Šie veiklai būdingi sukėliklių tipai gali būti susiję su proceso metu išsiskiriančiomis ŠESD arba – tam tikrais atvejais – su taikytinais masės balanso metodais."]
[2112,"Iš išskleidžiamojo sąrašo pasirinkite sukėliklio kategoriją."]
[2113,"Sukėliklio kategorija priklauso nuo pasirinkto sukėliklio tipo ir gali būti, pvz., „dujinis – gamtinės dujos“, „skystasis – sunkusis mazutas“, „medžiaginis – žaliavinis mišinys“ ir t. t."]
[2114,"Svarbu! Atkreipkite dėmesį, kad išskleidžiamajame sąraše visada bus galima pasirinkti „kitą“ kuro rūšį arba medžiagą. Nuoseklumo sumetimais pasirūpinkite, kad „kita“ būtų pasirenkama tik tada, kai išskleidžiamajame sąraše tikrai nėra tinkamos kuro rūšies arba medžiagos."]
[2115,"Jeigu taikytina, įveskite sukėliklio pavadinimą."]
[2116,"Jeigu sukėliklio kategorija vis dar rodo sudėtinių kuro rūšių arba medžiagų klasę, galite tiksliau apibūdinti sukėliklį įvesdami jo pavadinimą. Atsižvelgiant į sukėliklio kategoriją, šis duomenų įvedimo laukas gali būti privalomas arba neprivalomas."]
[2117,"Svarbu! Nuoseklumo sumetimais sukėliklius įveskite tokia pat eilės tvarka, kaip pateikta Jūsų naujausiame patvirtintame stebėsenos plane (tokia pat eilės tvarka ir naudodami tokius pat identifikatorius)."]
[2118,"Identifikatorius"]
[2119,"Sukėliklio kategorija"]
[2120,"klaida"]
[2121,"Kitos dujos"]
[2122,"Proceso metu išsiskiriančios dujos"]
[2123,"Geležis ir plienas: masės balanso metodas"]
[2124,"Metalo laužas"]
[2125,"Jeigu pirmiau esate nurodę, kad netaikoma jokių matavimu grindžiamų metodų, nieko įrašyti nereikia."]
[2126,"Svarbu! Nuoseklumo sumetimais matavimo taškus įveskite tokia pat eilės tvarka, kaip pateikta Jūsų naujausiame patvirtintame stebėsenos plane (tokia pat eilės tvarka ir naudodami tokius pat identifikatorius)."]
[2127,"Pavyzdys M01"]
[2128,"C.\nSource streams (Sukėlikliai)"]
[2129,"Pagal sukėliklius išmetamas ŠESD kiekis"]
[2130,"Svarbu! Nuoseklumo sumetimais sukėliklius įveskite tokia pat eilės tvarka, kaip pateikta 7 dalies b punkte ir Jūsų naujausiame patvirtintame stebėsenos plane (tokia pat eilės tvarka ir naudodami tokius pat identifikatorius)."]
[2131,"Santrumpos:"]
[2132,"VD:"]
[2133,"Veiklos duomenys – tai duomenys apie vykstant procesui sunaudotą arba pagamintą kuro arba medžiagų kiekį, gauti taikant skaičiavimu grindžiamą stebėsenos metodiką, atitinkamai išreikšti teradžauliais (TJ), mase tonomis (t) arba, jeigu tai dujos, tūriu normaliaisiais kubiniais metrais (Nm3)."]
[2134,"Jeigu sukėlikliui taikoma masės balanso metodika, veiklos duomenys pagal kiekvieną pagaminamą medžiagą turėtų būti įvedami kaip neigiamas skaičius, pvz., „-10 000“."]
[2135,"Jeigu veiklos duomenys gaunami sudedant atskirai išmatuotus kiekius, nustatytus atsižvelgiant į atitinkamus atsargų pokyčius (27 straipsnio 1 dalies b punktas), toliau i punkte pasirinkite „TAIP“). Tokiu atveju svarbūs šie parametrai:"]
[2136,"Pradinis kiekis"]
[2137,"Kuro arba medžiagos atsargų kiekis ataskaitinio laikotarpio pradžioje."]
[2138,"Galutinis kiekis"]
[2139,"Kuro arba medžiagos atsargų kiekis ataskaitinio laikotarpio pabaigoje."]
[2140,"Įsigytas kiekis"]
[2141,"Per ataskaitinį laikotarpį įsigytas kuro arba medžiagos kiekis."]
[2142,"Perduotas kiekis"]
[2143,"Iš įrenginio perduotas kuro arba medžiagos kiekis."]
[2144,"(prelim.) ITF:"]
[2145,"„Preliminarus“ išmetamųjų teršalų faktorius yra remiantis visu anglies kiekiu, sudarytu iš biomasės dalies ir iškastinio kuro dalies, mišriajam kurui arba medžiagai nustatytas bendras išmetamųjų teršalų faktorius, prieš jį dauginant iš iškastinio kuro anglies dalies, kad būtų apskaičiuotas išmetamųjų teršalų faktorius."]
[2146,"GŠV:"]
[2147,"Grynojo šilumingumo vertė yra tam tikras kaip šiluma išskirtos energijos kiekis, kai kuras ar medžiaga visiškai sudega reaguodami su deguonimi įprastomis sąlygomis, atėmus bet kokio susidariusio vandens garavimo šilumą."]
[2148,"OksK:"]
[2149,"KonvK:"]
[2150,"AnglK:"]
[2151,"BioC:"]
[2152,"Biomasės dalis – trupmena išreikštas iš biomasės susidariusios anglies kiekio ir kuro arba medžiagos viso anglies kiekio santykis."]
[2153,"Ši vertė turėtų būti susijusi su visa biomase, atitinkančia šias sąlygas:"]
[2154,"jai netaikomi tvarumo kriterijai (pvz., jeigu tai kietasis kuras) ARBA"]
[2155,"jai taikomi tvarumo kriterijai ir ji tuos kriterijus atitinka."]
[2156,"Daugiau informacijos pateikta rekomendaciniame dokumente Nr. 3 „Biomasės aspektai“ (žr. toliau pateiktą nuorodą)."]
[2157,"Netvar. BioC:"]
[2158,"„Netvarios“ biomasės dalis – trupmena išreikštas iš netvarios biomasės susidariusios anglies kiekio ir kuro arba medžiagos viso anglies kiekio santykis."]
[2159,"Ši vertė turėtų būti susijusi tik su tokia biomase, kuriai taikomi tvarumo kriterijai ir kuri tų kriterijų neatitinka."]
[2160,"Apskaičiavimo faktorių pakopos:"]
[2161,"Pagal 30 straipsnio 1 dalį apskaičiavimo faktoriai gali būti nustatomi kaip numatytosios vertės arba laboratorinės analizės būdu. Tai, kuris variantas turėtų būti taikomas, priklauso nuo taikomos pakopos."]
[2162,"Galima rinktis iš šių pakopų kategorijų (pagal rekomendacinį dokumentą Nr. 1):"]
[2163,"I tipas"]
[2164,"II tipas"]
[2165,"II tipo numatytosios vertės: konkrečioms šalims nustatyti išmetamųjų teršalų faktoriai pagal 31 straipsnio 1 dalies b ir c punktus, t. y. vertės, skirtos nacionaliniam ŠESD inventoriui, kitos vertės, kurias apie atskiras degalų rūšis paskelbė kompetentinga institucija, arba kitos su kompetentinga institucija suderintos tam tikroje literatūroje pateiktos vertės."]
[2166,"Jos taip pat apima grynojo šilumingumo vertes ir išmetamųjų teršalų faktorius, taikomus kuro rūšims, dėl kurių pagal 31 straipsnio 4 dalį pateikta įrodymų, kad per paskutiniuosius trejus metus buvo laikytasi nustatytos šilumingumo vertės 1 proc. intervalo, ir jeigu kompetentinga institucija leido naudoti tokias pat pakopas, kokias privaloma taikyti tiekiamam komerciniam standartiniam kurui."]
[2167,"Pakaitinės vertės"]
[2168,"Pirkimo dokumentai"]
[2169,"I tipas, biol."]
[2170,"39 straipsnio 3 dalies taikymas, jeigu tai gamtinių dujų tinklas, į kurį įšvirkšta biologinių dujų, t. y. pagal Direktyvos 2009/28/EB (Atsinaujinančiųjų energijos išteklių direktyva) 2 straipsnio j punktą ir 15 straipsnį nustatytos kilmės garantijų sistemos, jeigu tokių yra, taikymas. "]
[2171,"II tipas, biol."]
[2172,"Pranešimai apie klaidas:"]
[2173,"Šis pranešimas apie klaidą reiškia, kad įrašai šioje eilutėje yra privalomi, bet jų nėra."]
[2174,"Šis pranešimas apie klaidą reiškia, kad įrašai nenuoseklūs. Galimos neatitiktys gali būti susijusios su naudojamais matavimo vienetais, su duomenų įvedimu faktoriams, kurie neaktualūs šiems sukėlikliams, arba procentinėmis vertėmis, viršijančiomis 100 proc."]
[2175,"CO2, iškastinio kuro kilmės:"]
[2176,"CO2, biomasės kilmės.:"]
[2177,"Ar veiklos duomenys gaunami sudedant išmatuotus kiekius (t. y. ne atliekant nuolatinius matavimus)?"]
[2178,"Pradinis kiekis:"]
[2179,"Galutinis kiekis:"]
[2180,"Įsigytas kiekis:"]
[2181,"Perduotas kiekis:"]
[2182,"pakopos aprašas"]
[2183,"Vertė"]
[2184,"Pakopos galioja nuo:"]
[2185,"iki:"]
[2186,"Atliekų katalogo numeris (jeigu taikytina):"]
[2187,"Stebėsenos plane šiam sukėlikliui suteiktas identifikatorius:"]
[2188,"D.\nMeasurement Approach (Matavimo metodas)"]
[2189,"Išmetamųjų ŠESD kiekis pagal taršos šaltinius (matavimo taškus)"]
[2190,"ŠESD koncentracija:"]
[2191,"Ši vertė – atitinkamų ŠESD (CO2 arba N2O) metinis valandinis vidurkis kaminų dujose."]
[2192,"Biomasės dalis:"]
[2193,"netvarios biomasės dalis:"]
[2194,"VAP:"]
[2195,"atitinkamų ŠESD visuotinio atšilimo potencialas."]
[2196,"Bendras deginant iškastinį kurą išmestas ŠESD kiekis:"]
[2197,"Bendras deginant biomasę išmestas ŠESD kiekis:"]
[2198,"Bendra iškastinio kuro energetinė vertė:"]
[2199,"Bendra biomasės energetinė vertė:"]
[2200,"Skaičiavimai"]
[2201,"Informacija apie susijusius sukėliklius, jeigu taikytina:"]
[2202,"Patvirtinamųjų skaičiavimų rezultatas (iškastinis kuras):"]
[2203,"Patvirtinamųjų skaičiavimų rezultatas (biomasė):"]
[2204,"ŠESD koncentracija (metinis valandinis vidurkis):"]
[2205,"Veikimo valandos:"]
[2206,"(CO2(e) tonos / ŠESD tonos)"]
[2207,"Kaminų dujų srautas (metinis valandinis vidurkis):"]
[2208,"Kaminų dujų srautas (bendras metinis kiekis):"]
[2209,"Metinis deginant iškastinį kurą išmestas ŠESD kiekis"]
[2210,"Perduotasis / būdingasis CO2"]
[2211,"Pastabos (pvz., patvirtinamųjų skaičiavimų aprašas arba ar trūksta didelės duomenų dalies):"]
[2212,"E. Fall-back approaches (Alternatyvūs metodai)"]
[2213,"E. Alternatyvūs metodai"]
[2214,"Išmetamųjų ŠESD kiekio nustatymas taikant alternatyvius metodus"]
[2215,"Ši vertė turėtų būti susijusi su visu išmetamųjų ŠESD kiekiu, atitinkančiu šias sąlygas:"]
[2216,"išmetamųjų ŠESD šaltinis yra iškastinis kuras arba medžiagos, įskaitant iškastinio kuro dalį mišriose medžiagose, sudarytose iš iškastinio kuro ir biomasės;"]
[2217,"išmetamųjų ŠESD šaltinis yra biomasė, kuriai taikomi tvarumo kriterijai ir kuri tų kriterijų neatitinka."]
[2218,"Ši vertė turėtų būti susijusi tik su iškastinio kuro išteklių, įtraukiamų skaičiuojant „bendrą deginant biomasę išmestą ŠESD kiekį“, energetine verte."]
[2219,"Ši vertė turėtų būti susijusi tik su biomasės, įtraukiamos skaičiuojant „bendrą deginant biomasę išmestą ŠESD kiekį“, t. y. ne biomasės, kuriai taikomi tvarumo kriterijai ir kuri tų kriterijų neatitinka, energetine verte."]
[2220,"Bendras deginant netvarią biomasę išmestas ŠESD kiekis:"]
[2221,"Taikyto alternatyvaus metodo aprašas:"]
[2222,"Metinis neapibrėžties įvertinimas:"]
[2223,"SAR 22 straipsnio b punkte reikalaujama kiekvienais metais įvertinti ir kiekybiškai nustatyti visų parametrų, kurie pagal alternatyvų metodą naudojami apibrėžiant metinį išmetamųjų ŠESD kiekį, neapibrėžtį. Šio vertinimo rezultatai turi būti įtraukti į metinę išmetamųjų ŠESD kiekio ataskaitą."]
[2224,"Pridėkite šį neapibrėžties vertinimą, aiškiai nurodydami, kodėl bent vieno sukėliklio arba taršos šaltinio atveju galima nepasiekti I pakopos. "]
[2225,"Nuoroda į rinkmeną, kurioje pateiktas neapibrėžties vertinimas."]
[2226,"F. PFC emissions (Išmetamas PFC kiekis)"]
[2227,"Nustatant išmetamą PFC kiekį gali būti taikomi du metodai (A – nuolydžio metodas, B – viršįtampio metodas). Įrenginyje gali būti naudojamos kelių tipų elektrolizės vonios (pvz., skirtingų technologijų arba surinkimo metų), kurioms gali būti būdingos skirtingos taršos charakteristikos."]
[2228,"Tokiu pat metodu stebimos elektrolizės vonių grupės su vienodomis taršos charakteristikomis (tokiais pat išmetamųjų teršalų faktoriais) turėtų būti laikomos „vienu sukėlikliu\" (t. y. stebėtinu objektu), kaip ir taikant kitus skaičiavimu grindžiamus stebėsenos metodus. "]
[2229,"Šiame Jūsų įrenginio sukėliklių sąraše nurodykite stebėsenos metodiką ir, jeigu taikytina, elektrolizės vonios ir (arba) anodo tipą. Šis sąrašas automatiškai paimamas iš lapo „B_InstallationDescription“ („B. Įrenginio aprašas“) 7 dalies b punkto."]
[2230,"Išmetamųjų PFC sukėlikliai"]
[2231,"Veiklos duomenys – per metus pagaminamas pirminio aliuminio kiekis."]
[2232,"A. Dažnis"]
[2233,"Anodinių efektų dažnis (anodinių efektų skaičius vienoje elektrolizės vonioje per parą)"]
[2234,"A. Trukmė"]
[2235,"Vidutinė anodinių efektų trukmė (anodinių efektų trukmės minutėmis ir dažnio santykis)"]
[2236,"A. NITF(CF4)"]
[2237,"Išmetamųjų teršalų faktorius pagal nuolydžio metodą."]
[2238,"B. AEV"]
[2239,"Vienos elektrolizės vonios anodinio efekto viršįtampis."]
[2240,"B. EN"]
[2241,"Vidutinis esamas našumas."]
[2242,"B. VĮK"]
[2243,"Viršįtampio koeficientas (išmetamųjų teršalų faktorius)."]
[2244,"F(C2F6)"]
[2245,"C2F6 svorio dalis."]
[2246,"VAP(CF4)"]
[2247,"CF4 visuotinio atšilimo potencialas."]
[2248,"VAP(C2F6)"]
[2249,"C2F6 visuotinio atšilimo potencialas."]
[2250,"A metodas, I tipas"]
[2251,"I tipo numatytoji vertė: SAR IV priedo 8 skirsnio 1 lentelėje konkrečioms technologijoms nustatyti išmetamųjų teršalų faktoriai."]
[2252,"B metodas, I tipas"]
[2253,"I tipo numatytoji vertė: SAR IV priedo 8 skirsnio 2 lentelėje konkrečioms technologijoms nustatyti išmetamųjų teršalų faktoriai."]
[2254,"Konkretus ITF"]
[2255,"Iš konkretaus įrenginio išmetamiems CF4 ir C2F6 taikomi išmetamųjų teršalų faktoriai, nustatyti taikant nuolatinius arba pertraukiamus matavimus. Šie faktoriai nustatomi remiantis naujausia 2006 m. TKKK gairių 4.4.2.4 skirsnyje 3 pakopai nurodytų gairių versija, ne didesne kaip ± 15 proc. neapibrėžtimi."]
[2256,"Šis pranešimas apie klaidą reiškia, kad įrašai nenuoseklūs. Galimos neatitiktys gali būti susijusios su duomenų įvedimu faktoriams, kurie neaktualūs šiems sukėlikliams, arba procentinėmis vertėmis, viršijančiomis 100 proc."]
[2257,"Išmetamųjų teršalų kiekis:"]
[2258,"Išmestas CF4 kiekis"]
[2259,"Išmestas C2F6 kiekis"]
[2260,"G. Data Gaps (Duomenų spragos)"]
[2261,"Ataskaitiniais metais nustatytos duomenų spragos"]
[2262,"Sukėliklio pavadinimas arba kitoks identifikatorius"]
[2263,"Iš išskleidžiamojo sąrašo pasirinkite sukėliklį arba įveskite kitokius tapatybės duomenis, kuriais būtų nurodyta (pvz., „su alternatyviu metodu susijusios spragos“), su kokiu kuru, medžiaga, procesu arba stebėsenos metodu susijusi duomenų spraga."]
[2264,"Taršos šaltinio pavadinimas arba kitoks identifikatorius"]
[2265,"Iš išskleidžiamojo sąrašo pasirinkite taršos šaltinį (jeigu taikomi matavimu grindžiami metodai) arba įveskite kitokius tapatybės duomenis, kuriais būtų nurodyta (pvz., „su alternatyviu metodu susijusios spragos“), su kokiu kuru, medžiaga, procesu arba stebėsenos metodu susijusi duomenų spraga."]
[2266,"nuo/iki"]
[2267,"Įveskite kiekvienos duomenų spragos pradžios ir pabaigos datą."]
[2268,"Aprašas, priežastys ir metodai"]
[2269,"Čia glaustai apibūdinkite, kokių duomenų spragų atsirado, pateikite jų atsiradimo priežastis ir aprašykite, kaip šios spragos buvo užpildytos laikantis 65 straipsnio 1 dalies. Jeigu reikia daugiau vietos, lape „H_AdditionalInformation“ („H. Papildoma informacija“) galite pateikti daugiau priežasčių ir aprašų."]
[2270,"Jeigu pakaitinių duomenų apytikslio nustatymo metodas dar neįtrauktas į stebėsenos planą, pateikite išsamų apytikslio nustatymo metodo aprašą su įrodymais, kad taikant tokią metodiką atitinkamu laikotarpiu nebus nustatytas per mažas išmetamųjų ŠESD kiekis."]
[2271,"Apytiksliai nustatytas išmetamųjų ŠESD kiekis"]
[2272,"Čia įrašykite išmetamųjų ŠESD kiekį, apskaičiuotą remiantis pakaitiniais duomenimis. Atkreipkite dėmesį, kad čia įrašytas apytiksliai nustatytas išmetamųjų ŠESD kiekis bus naudojamas tik kaip papildoma informacija ir nebus įtrauktas į kituose lapuose pateikiamą išmetamųjų ŠESD kiekį. Tai reiškia, kad į išmetamųjų ŠESD kiekį, įrašomą pirmesniuose lapuose, turi būti ĮTRAUKTI pakaitiniai duomenys."]
[2273,"Pavyzdys. Prarasti vienos sukėliklio partijos ITF duomenys (pvz., proceso metu išsiskiriančios ŠESD). Pakaitinis šios partijos ITF nustatytas remiantis konservatyviais įverčiais. Lape „C_SourceStreams“ („C. Sukėlikliai“) įvedamas ITF bus svertinis visų partijų, įskaitant tą partiją, apie kurią trūksta duomenų) ITF vidurkis. Be to, užpildant duomenų spragas čia įrašomas apytiksliai nustatytas išmetamųjų ŠESD kiekis turėtų būti susijęs tik su partija, apie kurią trūksta duomenų. T. y. išmetamųjų ŠESD kiekis (duomenų spraga) = VD (partijos, apie kurią trūksta duomenų, dydis) x ITF (apskaičiuotas remiantis pakaitiniais duomenimis)."]
[2274,"nuo"]
[2275,"iki"]
[2276,"Apytiksliai nustatytas išmetamųjų ŠESD kiekis \n(CO2(e) tonos)"]
[2277,"Išsami informacija apie gamybą"]
[2278,"Papildoma informacija"]
[2279,"H. Further Information on this report (Papildoma informacija apie šią ataskaitą)"]
[2280,"Čia pateikite informaciją apie produktus, įskaitant (centrinį) šildymą arba elektros energijos gamybą, kurie gaminami įrenginyje."]
[2281,"Pateikite su konkrečia valstybe nare susijusias rekomendacijas, ypač apie šios informacijos būklę, kiek tai susiję su įvertinimu."]
[2282,"Produkto identifikatorius (pavadinimas)"]
[2283,"PRODCOM kodas"]
[2284,"Veiklos lygis"]
[2285,"Pateikite santrumpų, akronimų arba apibrėžčių, kuriuos naudojote rengdami šią metinę išmetamųjų ŠESD kiekio ataskaitą, sąrašą."]
[2286,"Jeigu teikiate kokią nors kitą informaciją, į kurią Jūsų pageidavimu turėtume atsižvelgti vertindami Jūsų ataskaitą, nurodykite tai čia. Jeigu įmanoma, šią informaciją pateikite elektroniniu formatu. Informaciją galite teikti „Microsoft Word“, „Excel“ arba „Adobe Acrobat“ formatais."]
[2287,"Rekomenduojame neteikti nesvarbios informacijos, nes dėl to gali sulėtėti procesas. Teikiami papildomi dokumentai turėtų būti aiškiai nurodyti toliau, pateikiant rinkmenų pavadinimus (jeigu dokumentai elektroniniai) arba dokumentų numerius (jeigu jie popieriniai). Prireikus kreipkitės į kompetentingą instituciją."]
[2288,"Su konkrečia valstybe nare susijusi papildoma informacija"]
[2289,"Pagal Direktyvą 2003/87/EB teikiamos metinės išmetamųjų šiltnamio efektą sukeliančių dujų kiekio ataskaitos santrauka "]
[2290,"Ataskaitiniai metai:"]
[2291,"Papildoma informacija:"]
[2292,"Išmetamųjų ŠESD kiekis (iškastinis kuras)"]
[2293,"Energetinė vertė (iškastinis kuras)"]
[2294,"Išmetamųjų ŠESD kiekis (biomasė)"]
[2295,"Energetinė vertė (biomasė)"]
[2296,"Išmetamųjų ŠESD kiekis (netvari biomasė)"]
[2297,"Suma"]
[2298,"Bendras įrenginio išmetamųjų ŠESD kiekis:"]
[2299,"Tai veiklos vykdytojo atsisakytinų apyvartinių taršos leidimų kiekis."]
[2300,"Papildoma informacija: bendras deginant (tvarią) biomasę išmestas ŠESD kiekis"]
[2301,"Papildoma informacija: bendras deginant netvarią biomasę išmestas ŠESD kiekis"]
[2302,"Papildoma informacija: perduotas CO2 kiekis"]
[2303,"Įrenginių perduotas CO2 gautas iš"]
[2304,"Įrenginio identifikatorius"]
[2305,"Veiklos vykdytojo pavadinimas"]
[2306,"Įrenginių perduotas CO2 buvo perduotas"]
[2307,"Sukėlikliai (išskyrus išmetamą PFC kiekį)"]
[2308,"Metodas"]
[2309,"Pavadinimas"]
[2310,"VD mato vienetas"]
[2311,"GŠV mato vienetas"]
[2312,"ITF"]
[2313,"ITF mato vienetas"]
[2314,"C kiekio mato vienetas"]
[2315,"Oksid. koeficientas"]
[2316,"OksK mato vienetas"]
[2317,"Konv. koeficientas"]
[2318,"KonvK mato vienetas"]
[2319,"BioC mato vienetas"]
[2320,"netvarios BioC"]
[2321,"netvarios BioC mato vienetas"]
[2322,"valandinės ŠESD konc. vidurkis"]
[2323,"valandinės ŠESD konc. mato vienetas"]
[2324,"veikimo valandos"]
[2325,"veikimo valandų mato vienetas"]
[2326,"Kaminų dujos (vidurkis)"]
[2327,"Kaminų dujų (vidurkio) mato vienetas"]
[2328,"Kaminų dujos (iš viso)"]
[2329,"Kaminų dujų (viso kiekio) mato vienetas"]
[2330,"Metinis ŠESD kiekis"]
[2331,"Metinio ŠESD kiekio mato vienetas"]
[2332,"VAP (t CO2(e)/t)"]
[2333,"Išmestas CF4 kiekis (t CF4)"]
[2334,"Išmestas C2F6 kiekis (t C2F6)"]
[2335,"VAP (CF4) (t CO2(e)/t)"]
[2336,"VAP (C2F6) (t CO2(e)/t)"]
[2337,"Išmestas CF4 kiekis (CO2(e) tonos)"]
[2338,"Išmestas C2F6 kiekis (CO2(e) tonos)"]
[2339,"Surinkimo veiksmingumas, proc."]
[2340,"Iškastinio kuro kilmės CO2(e) (t)"]
[2341,"Biomasės kilmės CO2(e) (t)"]
[2342,"Netvarios biomasės kilmės CO2(e) (t)"]
[2343,"Energetinė vertė (iškast. kuras), TJ"]
[2344,"Energetinė vertė (biomasė), TJ"]
[2345,"PFC sukėlikliai"]
[2346,"Taršos šaltiniai (matavimu grindžiami metodai)"]
[2347,"Alternatyvus metodas"]
[2348,"Proceso metu išsiskiriančios ŠESD"]
[2349,"1 000 Nm3"]
[2350,"GJ/1 000 Nm3"]
[2351,"t C"]
[2352,"t C/t"]
[2353,"t C/1 000 Nm3"]
[2354,"val./metai"]
[2355,"1 000 Nm3/h"]
[2356,"g/Nm3"]
[2357,"1 000 Nm3/m."]
[2358,"Išsamios duomenų įvedimo naudojantis šia priemone instrukcijos pateiktos šio lapo viršuje. "]
[2359,"Neapibrėžtis"]
[2360,"Norėdami gauti išsamių rekomendacijų, spustelėkite čia ir Jums bus pateiktas lapo viršuje esantis tekstas!"]
[2361,"Pereikite į šiam sukėlikliui skirtą lapą „F_PFC“."]
[2362,"Nenuoseklu!"]
[2363,"Nebaigta!"]
[2364,"Aktualūs skirsniai: 7 skirsnio b punktas, 8 skirsnis."]
[2365,"Aktualūs skirsniai: 7 skirsnio c punktas, 9 skirsnis."]
[2366,"Aktualūs skirsniai: 10 skirsnis."]
[2367,"Aktualūs skirsniai: 7 skirsnio b punktas, 11 ir 12 skirsniai."]
[2368,"Išmetamas PFC kiekis"]
[2369,"Medžiaga – Tiekimas į vonių su termiškai apdorotais perforuotais anodais centrą (CWPB)"]
[2370,"Medžiaga – Sioderbergo vonia su vertikaliais strypais (VSS)"]
[2371,"Medžiaga – Tiekimas į vonių su termiškai apdorotais perforuotais anodais kraštą (SWPB)"]
[2372,"Medžiaga – Sioderbergo vonia su horizontaliais strypais (HSS)"]
[2373,"1/(vienoje elektrolizės vonioje per parą)"]
[2374,"min."]
[2375,"(kg CF4/t Al)/(min./vienoje elektrolizės vonioje per parą)"]
[2376,"(kg CF4)/(t Al mV)"]
[2377,"t C2F6/t CF4"]
[2378,"Ovalinių krumplinių pavarų matuoklis"]
[2379,"1A1b – Energija – Naftos perdirbimas"]
[2380,"2A2 – Procesas – Kalkių gamyba"]
[2381,"1A1c – Energija – Kietojo kuro gamybos ir kitos energetikos įmonės"]
[2382,"2A3 – Procesas – Kalkakmenio ir dolomito naudojimas"]
[2383,"CO2 svorinių tonų per parą"]
[2384,"1A2a – Energija – Geležis ir plienas"]
[2385,"2A4 – Procesas – Natrio karbonato gamyba ir naudojimas"]
[2386,"1A2b – Energija – Spalvotieji metalai"]
[2387,"2A5 – Procesas – Bituminės stogo dangos"]
[2388,"1A2c – Energija – Cheminės medžiagos"]
[2389,"2A6 – Procesas – Kelių asfaltavimas"]
[2390,"1A2d – Energija – Celiuliozė, popierius ir spauda"]
[2391,"2A7 – Procesas – Kiti neorganiniai produktai"]
[2392,"1A2e – Energija – Maisto perdirbimas, gėrimai ir tabakas"]
[2393,"2B1 – Procesas – Amoniako gamyba"]
[2394,"2B2 – Procesas – Azoto rūgšties gamyba "]
[2395,"1A4a – Energija – Komercinis, institucinis"]
[2396,"2B3 – Procesas – Adipo rūgšties gamyba"]
[2397,"1A4b – Energija – Gyvenamosios paskirties būstas"]
[2398,"2B4 – Procesas – Karbido gamyba"]
[2399,"1A4c – Energija – Žemės ūkis, miškų ūkis, žuvininkystė"]
[2400,"2B5 – Procesas – Kitos chemijos pramonės šakos"]
[2401,"1A5a – Energija – Kiti stacionarūs"]
[2402,"2C1 – Procesas – Geležies ir plieno gamyba"]
[2403,"1A5c – Energija – Kiti mobilūs"]
[2404,"2C2 – Procesas – Geležies lydinių gamyba"]
[2405,"1B1a – Energija – Nevaldomas išmetimas – Anglių gavyba ir tvarkymas"]
[2406,"2C3 – Procesas – Aliuminio gamyba"]
[2407,"1B1b – Energija – Nevaldomas išmetimas – Kietojo kuro transformavimas"]
[2408,"2C4 – Procesas – SF6 naudojimas aliuminio ir magnio liejyklose"]
[2409,"1B1c – Energija – Nevaldomas išmetimas – Kitos kietojo kuro rūšys"]
[2410,"2C5 – Procesas – Kiti metalai"]
[2411,"1B2a – Energija – Nevaldomas išmetimas – Nafta"]
[2412,"2D1 – Procesas – Celiuliozė ir popierius"]
[2413,"1B2b – Energija – Nevaldomas išmetimas – Gamtinės dujos"]
[2414,"2D2 – Procesas – Maistas ir gėrimai"]
[2415,"1B2c – Energija – Nevaldomas išmetimas – Dujų išleidimas"]
[2416,"1B2d – Energija – Nevaldomas išmetimas – Kitas skystasis kuras arba dujos"]
[2417,"± 10,0 % (t CO2)"]
[2418,"± 7,5 % (t CO2)"]
[2419,"± 5,0 % (t CO2)"]
[2420,"± 2,5 % (t CO2)"]
[2421,"Pakaitinės vertės"]
[2422,"Laboratoriniai tyrimai"]
[2423,"Specialieji koeficientai"]
[2424,"I tipas ir geriausioji patirtis"]
[2425,"0,2558 t CO2/t"]
[2426,"2,9 t CO2/t"]
[2427,"0,08794 t CO2/t"]
[2428,"0,09642 t CO2/t"]
[2429,"Veiklos vykdytojas privalo taikyti konkrečiai technologijai nustatytus išmetamųjų teršalų faktorius, pateiktus IV priedo 8 skirsnio 2 lentelėje."]
[2430,"Laboratoriniai ir stechiometriniai"]
[2431,"OksK = 1"]
[2432,"KonvK = 1"]
[2433,"1. a) Naftos ir dujų perdirbimo gamyklos"]
[2434,"1. b) Dujofikavimo ir skystinimo įrenginiai"]
[2435,"1. c) Šiluminės elektrinės ir kiti deginimo įrenginiai"]
[2436,"1. d) Koksavimo krosnys"]
[2437,"1. e) Anglių smulkinimo įrenginiai"]
[2438,"1. f) Anglių produktų ir kietojo bedūmio kuro\ngamybos įmonės"]
[2439,"2. a) Metalo rūdų (įskaitant sulfido rūdą) išdeginimo arba sukepinimo įrenginiai"]
[2440,"2. b) Ketaus ar plieno (pirminio ar\nantrinio lydymo) gamybos luitais įrenginiai, įskaitant nepertraukiamą liejimą"]
[2441,"2. c) i) Juodųjų metalų apdorojimo įrenginiai: karštojo valcavimo įmonės"]
[2442,"2. c) ii) Juodųjų metalų apdorojimo įrenginiai: kalvės, kuriose naudojami kūjai"]
[2443,"2. c) iii) Juodųjų metalų apdorojimo įrenginiai: dengimo lydalinėmis metalo dangomis įrenginiai"]
[2444,"2. d) Juodųjų metalų liejyklos"]
[2445,"2.e i) Spalvotųjų žaliavinių metalų gamybos iš rūdos,\nkoncentratų ar antrinių žaliavų metalurginiais,\ncheminiais ar elektrolizės procesais"]
[2446,"2.e ii) Spalvotųjų metalų lydymo, įskaitant legiravimą,\ntaip pat ir perdirbtų produktų (taurinimas, liejimas ir kt.)"]
[2447,"2. f) Metalų ir plastikų paviršiaus apdorojimo elektrolizės\nar cheminiais procesais įrenginiai"]
[2448,"3. a) Požeminė kasyba ir susijusios operacijos"]
[2449,"3. b) Atviroji kasyba ir karjerų eksploatavimas"]
[2450,"3. c) i) Įrenginiai, skirti gaminti: cemento klinkeriui sukamosiose krosnyse"]
[2451,"3. c) ii) Įrenginiai, skirti gaminti: kalkėms sukamosiose krosnyse"]
[2452,"3. c) iii) Įrenginiai, skirti gaminti: cemento klinkeriui ar kalkėms kitose krosnyse"]
[2453,"3. d) Asbesto ir asbestinių produktų gamybos įrenginiai"]
[2454,"3. e) Stiklo, įskaitant stiklo pluoštą, gamybos įrenginiai"]
[2455,"3. f) Mineralų lydymo įrenginiai, įskaitant mineralinio pluošto gamybą"]
[2456,"3. g) Keramikos gaminių gamybos degimo būdu,\nypač čerpių, plytų, ugniai atsparių plytų, plytelių,\nkeramikos ar porceliano, įrenginiai"]
[2457,"4. a) i) Chemijos įrenginiai, skirti šioms pagrindinėms organinėms\ncheminėms medžiagoms pramoniniu būdu gaminti: angliavandeniliams (linijiniams ar cikliniams, sotiesiems ar nesotiesiems,\nalifatiniams ar aromatiniams)"]
[2458,"4. a) ii) Chemijos įrenginiai, skirti šioms pagrindinėms organinėms\ncheminėms medžiagoms pramoniniu būdu gaminti: deguonies turintiems angliavandeniliams, pvz., spiritui, aldehidams,\nketonams, karboksilo rūgštims, esteriams, acetatams, eteriams,\nperoksidams, epoksidinei dervai"]
[2459,"4. a) iii) Chemijos įrenginiai, skirti šioms pagrindinėms organinėms\ncheminėms medžiagoms pramoniniu būdu gaminti: sieros angliavandeniliams"]
[2460,"4. a) iv) Chemijos įrenginiai, skirti šioms pagrindinėms organinėms\ncheminėms medžiagoms pramoniniu būdu gaminti: azoto turintiems angliavandeniliams, pvz., aminams, amidams\nnitritiniams junginiams, nitro junginiams ar nitrato junginiams,\nnitrilams, cianatams, izocianatams"]
[2461,"4. a) v) Chemijos įrenginiai, skirti šioms pagrindinėms organinėms\ncheminėms medžiagoms pramoniniu būdu gaminti: fosforo turintiems angliavandeniliams"]
[2462,"4. a) vi) Chemijos įrenginiai, skirti šioms pagrindinėms organinėms\ncheminėms medžiagoms pramoniniu būdu gaminti: halogeniniams angliavandeniliams"]
[2463,"4. a) vii) Chemijos įrenginiai, skirti šioms pagrindinėms organinėms\ncheminėms medžiagoms pramoniniu būdu gaminti: organometaliniams junginiams"]
[2464,"4. a) viii) Chemijos įrenginiai, skirti šioms pagrindinėms organinėms\ncheminėms medžiagoms pramoniniu būdu gaminti: pagrindinėms plastinėms medžiagoms (polimerams, sintetiniam pluoštui ir celiuliozės\npluoštui)"]
[2465,"4. a) ix) Chemijos įrenginiai, skirti šioms pagrindinėms organinėms\ncheminėms medžiagoms pramoniniu būdu gaminti: sintetinei gumai"]
[2466,"4. a) x) Chemijos įrenginiai, skirti šioms pagrindinėms organinėms\ncheminėms medžiagoms pramoniniu būdu gaminti: dažams ir pigmentams"]
[2467,"4. a) xi) Chemijos įrenginiai, skirti šioms pagrindinėms organinėms\ncheminėms medžiagoms pramoniniu būdu gaminti: paviršinio aktyvumo agentams ir medžiagoms"]
[2468,"4. b) i) Chemijos įrenginiai, skirti šioms pagrindinėms neorganinėms\ncheminėms medžiagoms pramoniniu būdu gaminti: dujoms, pvz., amoniakui, chlorui ar vandeninio chloridui,\nfluorui ar vandenilio fluoridui, anglies oksidams, sieros junginiams,\nazoto oksidams, vandeniliui, sieros dioksidui, karbonilo chloridui"]
[2469,"4. b) ii) Chemijos įrenginiai, skirti šioms pagrindinėms neorganinėms\ncheminėms medžiagoms pramoniniu būdu gaminti: rūgštims, pvz., chromo rūgščiai, fluoro vandenilio rūgščiai, fosforo\nrūgščiai, azoto rūgščiai, druskos rūgščiai, sieros rūgščiai,\noleumui, sulfitinėms rūgštims"]
[2470,"4. b) iii) Chemijos įrenginiai, skirti šioms pagrindinėms neorganinėms\ncheminėms medžiagoms pramoniniu būdu gaminti: bazėms, pvz., amonio hidroksidui, kalio hidroksidui,\nnatrio hidroksidui"]
[2471,"4. b) iv) Chemijos įrenginiai, skirti šioms pagrindinėms neorganinėms\ncheminėms medžiagoms pramoniniu būdu gaminti: druskoms, pvz., amonio chloridui, kalio chloratui,\nkalio karbonatui, natrio karbonatui, perboratui, sidabro\nnitratui"]
[2472,"4. b) v) Chemijos įrenginiai, skirti šioms pagrindinėms neorganinėms\ncheminėms medžiagoms pramoniniu būdu gaminti: ne metalams, metalų oksidams ar kitiems neorganiniams junginiams,\npvz., kalcio karbidui, siliciui, silicio karbidui"]
[2473,"4. c) Chemijos įrenginiai, skirti fosforo, azoto ar kalio trąšoms\n(paprastosioms ar mišriosioms trąšoms) pramoniniu būdu gaminti"]
[2474,"4. d) Chemijos įrenginiai, skirti pagrindiniams augalų apsaugos\nproduktams ir biocidams pramoniniu būdu gaminti"]
[2475,"4. e) Įrenginiai, skirti taikant cheminį ar biologinį procesą\npagrindiniams farmacijos produktams pramoniniu būdu gaminti"]
[2476,"4. f) Įrenginiai, skirti sprogmenims ir pirotechnikos gaminiams\npramoniniu būdu gaminti"]
[2477,"5. a) Pavojingų atliekų utilizavimo ar šalinimo įrenginiai"]
[2478,"5. b) Nepavojingų atliekų deginimo įrenginiai, kuriems taikoma\n2000 m. gruodžio 4 d. Europos Parlamento ir Tarybos direktyva\n2000/76/EB dėl atliekų deginimo"]
[2479,"5. c) Nepavojingų atliekų šalinimo įrenginiai"]
[2480,"5. d) Sąvartynai (išskyrus inertinių atliekų sąvartynus ir sąvartynus,\nkurie galutinai uždaryti iki 2001 m. liepos 16 d. arba kurių vėlesnės\npriežiūros etapas, kompetentingų institucijų nustatytas kaip\nprivalomas pagal 1999 m. balandžio 26 d. Tarybos direktyvos\n1999/31/EB dėl atliekų sąvartynų 13 straipsnį, yra pasibaigęs)"]
[2481,"5. e) Gyvūnų skerdenų ir gyvūninių atliekų šalinimo ar perdirbimo įrenginiai"]
[2482,"5. f) Miesto nuotekų valymo įrenginiai"]
[2483,"5. g) Nepriklausomai dirbantys pramonės nuotekų valymo įrenginiai, naudojami vienai ar kelioms šiame priede nurodytoms veiklos rūšims"]
[2484,"6. a) Celiuliozės gamybos iš medienos ar panašių pluoštinių\nmedžiagų pramoniniai įrenginiai"]
[2485,"6. b) Popieriaus bei kartono ir kitų pirminių medienos produktų\n(pvz., medienos drožlių plokščių, plaušo plokščių ir faneros)\ngamybos pramoniniai įrenginiai"]
[2486,"6. c) Medienos ir medienos produktų konservavimo\nchemikalais pramoniniai įrenginiai"]
[2487,"7. a) Intensyvaus paukščių arba kiaulių auginimo įrenginiai"]
[2488,"7. b) Intensyvi akvakultūra"]
[2489,"8. a) Skerdyklos"]
[2490,"8. b) i) Apdorojimas ir perdirbimas, skirti maistui ir gėrimams gaminti iš:\ngyvulinių žaliavų (išskyrus pieną)"]
[2491,"8. b) ii) Apdorojimas ir perdirbimas, skirti maistui ir gėrimams gaminti iš:\naugalinės kilmės žaliavų"]
[2492,"8. c) Pieno apdorojimas ir perdirbimas"]
[2493,"9. a) Pluošto ar tekstilės pirminio apdorojimo (tokiomis operacijomis\nkaip plovimas, balinimas, merserizavimas) ar dažymo įrenginiai"]
[2494,"9. b) Kailių ir odų rauginimo įrenginiai"]
[2495,"9. c) Medžiagų, daiktų arba gaminių paviršiaus apdorojimo naudojant\norganinius tirpiklius, ypač apdailos, spausdinimo, dengimo, riebalų\nšalinimo, hermetizavimo, klijavimo, dažymo, valymo ar\nimpregnavimo įrenginiai"]
[2496,"9. d) Anglies (perdegtos anglies) ar anglies grafito gamybos deginimo\nar grafitizacijos būdu įrenginiai"]
[2497,"9. e) Laivų statymo, dažymo ar dažų šalinimo įrenginiai"]
[2498,"Dujinis – Etanas"]
[2499,"Dujinis – Propanas"]
[2500,"Dujinis – Butanas"]
[2501,"Skystasis – Dyzelinis krosnių kuras"]
[2502,"Skystasis – Gazolis"]
[2503,"Skystasis – Gazolinas"]
[2504,"Skystasis – Valytas žibalas"]
[2505,"Skystasis – Žibalas"]
[2506,"Skystasis – Reaktyvinis žibalas (Jet A1 arba Jet A)"]
[2507,"Skystasis – Reaktyvinis gazolinas (benzinas) (Jet B)"]
[2508,"Skystasis – Aviacinis gazolinas (benzinas) (AvGas)"]
[2509,"Dujinis – Gamtinės dujos"]
[2510,"Dujinis – Dujų gamyklos dujos"]
[2511,"Dujinis – Koksavimo dujos"]
[2512,"Dujinis – Aukštakrosnių dujos"]
[2513,"Dujinis – Deguoninių plieno aukštakrosnių dujos"]
[2514,"Dujinis – Biodujos"]
[2515,"Dujinis – Dumblo dujos"]
[2516,"Dujinis – Sąvartynų dujos"]
[2517,"Dujinis – Anglies monoksidas"]
[2518,"Dujinis – Metanas"]
[2519,"Dujinis – Kitų rūšių dujinis kuras"]
[2520,"Dujinis – Kitų rūšių dujinė biomasė"]
[2521,"Skystasis – Labai lengvos distiliacijos kuras"]
[2522,"Skystasis – Vidutinės distiliacijos kuras"]
[2523,"Skystasis – Sunkusis mazutas"]
[2524,"Skystasis – Suskystintosios naftos dujos"]
[2525,"Skystasis – Žalia nafta"]
[2526,"Skystasis – Orimulsija"]
[2527,"Skystasis – Gamtinių dujų kondensatai"]
[2528,"Skystasis – Automobilinis benzinas"]
[2529,"Skystasis – Skalūnų alyva"]
[2530,"Skystasis – Dujos ir (arba) dyzelinas"]
[2531,"Skystasis – Mazuto distiliavimo likutis"]
[2532,"Skystasis – Pirminis benzinas"]
[2533,"Skystasis – Tepalai"]
[2534,"Skystasis – Vaitspiritas ir SBP"]
[2535,"Skystasis – Skalūnų alyva ir gudoniniai smėliai"]
[2536,"Skystasis – Akmens anglių briketai"]
[2537,"Skystasis – Alyvų atliekos"]
[2538,"Skystasis – Biobenzinas"]
[2539,"Skystasi – Biodyzelinas"]
[2540,"Skystasis – Bitumas"]
[2541,"Skystasis – Organiniai tirpikliai"]
[2542,"Skystasis – Kitų rūšių skystasis kuras"]
[2543,"Skystasis – Kitų rūšių skystoji biomasė"]
[2544,"Atliekos – Komunalinės ir pramoninės atliekos"]
[2545,"Atliekos – Pramoninės atliekos"]
[2546,"Naftos perdirbimo įmonių žaliava – Naftos perdirbimo įmonių dujos"]
[2547,"Naftos perdirbimo įmonių žaliava – Liekanos"]
[2548,"Naftos perdirbimo įmonių žaliava – Kita naftos perdirbimo įmonių žaliava"]
[2549,"Naftos perdirbimo įmonių žaliava – Kiti naftos produktai"]
[2550,"Kietasis – Koksas"]
[2551,"Kietasis – Naftos koksas"]
[2552,"Kietasis – Akmens anglys"]
[2553,"Kietasis – Lignitas"]
[2554,"Kietasis – Antracitas"]
[2555,"Kietasis – Koksinės anglys"]
[2556,"Kietasis – Subbituminės akmens anglys"]
[2557,"Kietasis – Kitos bituminės akmens anglys"]
[2558,"Kietasis – Dujinis koksas"]
[2559,"Kietasis – Parafinas"]
[2560,"Kietasis – Sulfatinės išviros"]
[2561,"Kietasis – Malkos"]
[2562,"Kietasis – Mediena (ne atliekos)"]
[2563,"Kietasis – Mediena (atliekos)"]
[2564,"Kietasis – Durpės"]
[2565,"Kietasis – Kanalizacijos dumblas"]
[2566,"Kietasis – Komunalinių nuotekų dumblas"]
[2567,"Kietasis – Akmens anglių degutas"]
[2568,"Kietasis – Medžio anglys"]
[2569,"Kietasis – Panaudos padangos"]
[2570,"Kietasis – Kitų rūšių kietasis kuras"]
[2571,"Kietasis – Kitų rūšių kietoji biomasė"]
[2572,"Medžiaga – Kitų rūšių žaliavos"]
[2573,"Medžiaga – Kitų rūšių produktai"]
[2574,"Medžiaga – Kitos medžiagos"]
[2575,"Medžiaga – Kalkakmenis"]
[2576,"Medžiaga – Dolomitas"]
[2577,"Medžiaga – Natrio vandenilio karbonatas"]
[2578,"Medžiaga – Natrio karbonatas"]
[2579,"Medžiaga – Kalio karbonatas (potašas)"]
[2580,"Medžiaga – CaCO3"]
[2581,"Medžiaga – MgCO3"]
[2582,"Medžiaga – Na2CO3"]
[2583,"Medžiaga – BaCO3"]
[2584,"Medžiaga – Li2CO3"]
[2585,"Medžiaga – K2CO3"]
[2586,"Medžiaga – SrCO3"]
[2587,"Medžiaga – NaHCO3"]
[2588,"Medžiaga – FeCO3"]
[2589,"Medžiaga – Kiti karbonatai"]
[2590,"Medžiaga – Gipsas"]
[2591,"Medžiaga – Proceso medžiaga"]
[2592,"Medžiaga – CaO"]
[2593,"Medžiaga – MgO"]
[2594,"Medžiaga – BaO"]
[2595,"Medžiaga – Kiti produktai"]
[2596,"Medžiaga – Rūdos"]
[2597,"Medžiaga – Priedai"]
[2598,"Medžiaga – Metalo laužas"]
[2599,"Medžiaga – Geležies rūdos"]
[2600,"Medžiaga – Aukštakrosnių šlakas"]
[2601,"Medžiaga – Kitų rūšių šlakas"]
[2602,"Medžiaga – Kitų rūšių reduktoriai"]
[2603,"Medžiaga – Tiesiogiai redukuojama geležis"]
[2604,"Medžiaga – EAF anglies elektrodai"]
[2605,"Medžiaga – EAF krūvio anglis"]
[2606,"Medžiaga – Karštojo briketavimo geležis"]
[2607,"Medžiaga – Perkama geležis luitais"]
[2608,"Medžiaga – Plienas"]
[2609,"Medžiaga – Plieno laužas"]
[2610,"Medžiaga – Išlydytas metalas"]
[2611,"Medžiaga – Lydžiosios sudedamosios dalys"]
[2612,"Medžiaga – Žaliavinis mišinys"]
[2613,"Medžiaga – Cemento klinkeris"]
[2614,"Medžiaga – Pašalinės dulkės"]
[2615,"Medžiaga – Pašaliniai miltai"]
[2616,"Medžiaga – Kitos pašalinės medžiagos"]
[2617,"Medžiaga – Lakieji pelenai"]
[2618,"Medžiaga – Kitos medžiagos, kurių sudėtyje yra anglies"]
[2619,"Medžiaga – Žaliavinis magnezitas"]
[2620,"Medžiaga – Kalkės"]
[2621,"Medžiaga – Magnio oksidas"]
[2622,"Medžiaga – Degimo krosnies dulkės"]
[2623,"Medžiaga – Molis"]
[2624,"Medžiaga – Plytos"]
[2625,"Medžiaga – Kitos cheminės medžiagos"]
[2626,"Medžiaga – Acetonitrilas"]
[2627,"Medžiaga – Akrilonitrilas"]
[2628,"Medžiaga – Butadienas"]
[2629,"Medžiaga – Suodžiai"]
[2630,"Medžiaga – Etilenas"]
[2631,"Medžiaga – Etileno dichloridas"]
[2632,"Medžiaga – Etilenglikolis"]
[2633,"Medžiaga – Oksiranas"]
[2634,"Medžiaga – Vandenilio cianidas"]
[2635,"Medžiaga – Metanolis"]
[2636,"Medžiaga – Propilenas"]
[2637,"Medžiaga – Vinilchlorido monomeras"]
[2638,"Medžiaga – Maleino rūgšties anhidridas"]
[2639,"Medžiaga – Ftalio rūgšties anhidridas"]
[2640,"Medžiaga – Aromatiniai angliavandeniliai"]
[2641,"Medžiaga – Tereftalio rūgštis"]
[2642,"Medžiaga – Fenolis"]
[2643,"Medžiaga – Acetonas"]
[2644,"Medžiaga – Kumenas"]
[2645,"Medžiaga – Skruzdžių rūgštis"]
[2646,"Medžiaga – Acto rūgštis"]
[2647,"Medžiaga – Formaldehidas"]
[2648,"Medžiaga – Acto anhidridas"]
[2649,"Medžiaga – Ftalio rūgštis"]
[2650,"Medžiaga – Akrilo rūgštis"]
[2651,"Medžiaga – Kiti elektrodai"]
[2652,"Medžiaga – Kitos"]
[2653,"Naftos perdirbimo įmonių žaliava – Kita naftos perdirbimo įmonių žaliava"]
[2654,"Kietasis – Kokso krosnių koksas ir lignito koksas"]
[2655,"Kietasis – Kitų rūšių kietoji biomasė"]
[2656,"Skystasis – Kitų rūšių skystoji biomasė"]
[2657,"Dujinis – Kitų rūšių dujinė biomasė"]
[2658,"<Sąrašo PABAIGA>"]
[2659,"ITF (NITFCF4)"]
[2660,"ITF (C2F6)"]
[2661,"Šaltinis"]

{"sheet":"VersionDocumentation","index":15,"n_rows":90,"n_cols":3,"rows_kept":90,"cut":false,"hidden":true,"merged":[]}
["Info for automatic Version detection"]
["Template type:","Phase 3 Installation Annual emissions Report"]
["Version:","2013-10-09",{"$f":"IF(ISNUMBER(MATCH(B3,A20:A28,0)),VLOOKUP(B3,A20:B28,2,FALSE),\"---\")","v":"P3 Inst AER_COM_lt_091013.xls"}]
["Issued by:","European Commission"]
["Language:","Lithuanian"]
[]
["Type list:"]
["Monitoring plan tonne-kilometre data",null,"MP TKM"]
["Monitoring plan annual emissions",null,"MP AEm"]
["Report tonne-kilometre data",null,"Report TKM"]
["Annual Emissions Report",null,"Report AER"]
["Phase 3 Installation Monitoring Plan",null,"MP P3 Inst"]
["Phase 3 Monitoring Plan Aircraft operators",null,"MP P3 Aircraft"]
["Phase 3 Monitoring Plan Aircraft t-km",null,"MP P3 TKM"]
["Phase 3 Installation Annual emissions Report",null,"P3 Inst AER"]
["Phase 3 Aircraft operators Emissions report",null,"P3 Aircraft AER"]
["Phase 3 Aircraft operators tonne-kilometre report",null,"P3 Aircraft TKM"]
[]
["Version list","Reference File Name","Version comments"]
["2012-10-31",{"$f":"IF(ISBLANK($A20),\"---\", VLOOKUP($B$2,$A$8:$C$17,3,0) & \"_\" & VLOOKUP($B$4,$A$31:$B$63,2,0)&\"_\"&VLOOKUP($B$5,$A$66:$B$90,2,0)&\"_\"& TEXT(DAY($A20),\"0#\")& TEXT(MONTH($A20),\"0#\")& TEXT(YEAR($A20)-2000,\"0#\")&\".xls\")","v":"P3 Inst AER_COM_lt_311012.xls"},"First Draft by UBA"]
["2012-11-21","P3 Inst AER_COM_lt_211112.xls","Version for TWG 1st draft"]
["2013-01-25","P3 Inst AER_COM_lt_250113.xls","Version for TWG 2nd draft"]
["2013-03-11","P3 Inst AER_COM_lt_110313.xls","Version for TWG 3rd draft"]
["2013-03-22","P3 Inst AER_COM_lt_220313.xls","Final Draft"]
["2013-04-26","P3 Inst AER_COM_lt_260413.xls","endorsed by CCC on 18.4.2013; sent to translation"]
["2013-06-25","P3 Inst AER_COM_lt_250613.xls","endorsed by CCC on 18.4.2013; sent to translation, CC steel updated"]
["2013-10-09","P3 Inst AER_COM_lt_091013.xls","endorsed by CCC on 18.4.2013; after translation; minor bug-fixing; GWP Update"]
[null,"---"]
[]
["Issued by:"]
["European Commission","COM"]
["Umweltbundesamt","UBA"]
["Austria","AT"]
["Belgium","BE"]
["Bulgaria","BG"]
["Croatia","HR"]
["Cyprus","CY"]
["Czech Republic","CZ"]
["Denmark","DK"]
["Estonia","EE"]
["Finland","FI"]
["France","FR"]
["Germany","DE"]
["Greece","EL"]
["Hungary","HU"]
["Iceland","IC"]
["Ireland","IE"]
["Italy","IT"]
["Latvia","LV"]
["Liechtenstein","LI"]
["Lithuania","LT"]
["Luxembourg","LU"]
["Malta","MT"]
["Netherlands","NL"]
["Norway","NO"]
["Poland","PL"]
["Portugal","PT"]
["Romania","RO"]
["Slovakia","SK"]
["Slovenia","SI"]
["Spain","ES"]
["Sweden","SE"]
["United Kingdom","UK"]
[]
["Languages list"]
["Bulgarian","bg"]
["Spanish","es"]
["Croatian","hr"]
["Czech","cs"]
["Danish","da"]
["German","de"]
["Estonian","et"]
["Greek","el"]
["English","en"]
["French","fr"]
["Icelandic","ic"]
["Italian","it"]
["Latvian","lv"]
["Lithuanian","lt"]
["Hungarian","hu"]
["Maltese","mt"]
["Norwegian","no"]
["Dutch","nl"]
["Polish","pl"]
["Portuguese","pt"]
["Romanian","ro"]
["Slovak","sk"]
["Slovenian","sl"]
["Finnish","fi"]
["Swedish","sv"]